{"text_format":"1","workbook":"xlsx","n_sheets":14,"sheets":["TITLE","CA","CoolingCurve_out","Parameter","Shape_edge","Shape_round","Vapor_Fluctuation_Magnitude","Tilt","Update","S","T1","T2","T3","Fractuation"],"not_rendered":{"charts":2,"images":5,"macros":1,"external_links":0,"defined_names":0,"comments":0,"pivot_tables":0},"unopened":[],"bounds":{"document_bytes":16777216,"sheet_cells":100000,"rows_first":2000,"rows_last":500,"rows_between":2000,"halvings":0,"cell_chars":16384,"cell_head_chars":4096},"cells_cut":0,"cells_raw":0,"read":"whole","date_system":"1900"}

{"sheet":"TITLE","index":0,"n_rows":27,"n_cols":13,"rows_kept":27,"cut":false,"hidden":false,"merged":[[6,8,6,9],[26,3,48,12],[23,3,23,4],[7,8,8,8],[9,8,9,9],[10,8,10,9],[11,8,11,9],[12,8,12,9],[13,8,13,9],[14,8,14,9],[15,8,15,9],[16,8,16,9],[17,8,17,9],[18,8,18,9]]}
[]
[]
[]
[]
[]
[]
[null,null,null,"SHEET NAME","TYPE","USAGE","HIDE",null,"PARAMETER NAME",null,"TYPE","USAGE","INTERNAL"]
[null,null,null,"TITLE","DESCRIPTION","This Sheet","N",null,"Temperature\nRange","Upper","DRAWING SCALE","MAX TEMPERATURE OF GLOBAL TEMP","N"]
[null,null,null,"CA","OUTPUT","Dynamic output","N",null,null,"Lower","DRAWING SCALE","MIN TEMPERATURE OF GLOBAL TEMP","N"]
[null,null,null,"CoolingCurve_out","OUTPUT","Histrical output","N",null,"Minimum Heat Flux",null,"COOLANT","MHF","N"]
[null,null,null,"Parameter","INPUT","Calculation and Coolant Parameter","N",null,"Boiling Temperature",null,"COOLANT","Boiling Temperature","N"]
[null,null,null,"Shape_edge","INPUT","Shape edge effect for vapor blanket broking down","N",null,"Coolant Temperature",null,"COOLANT","Coolant temperature","N"]
[null,null,null,"Shape_round","INPUT","Round shape effect for cooling","N",null,"Vapor Blanket Stage",null,"COOLANT","HTC of Vapor Blanket Stage","N"]
[null,null,null,"Vapor_Fluctuation","INPUT","Vapor film thicness fluctuation","N",null,"Boiling Stage",null,"COOLANT","HTC of Boiling Stage","N"]
[null,null,null,"Tilt","INPUT","Tilt angle","N",null,"Convection Stage",null,"COOLANT","HTC of Convection Stage","N"]
[null,null,null,"Update","AUXIALLY","NEXT CA","Y",null,"Heat Transfer with Neighborhood Cells",null,"CALCULATION","Magnitude of Heat Transfer form Neighborhood","N"]
[null,null,null,"S","AUXIALLY","Motivation for vapor film broking down","Y",null,"Propagation of vapor film collapse from Neighborhood cells",null,"CALCULATION","Effect of Vapor Film Thicnness of Neighborhood Cells","N"]
[null,null,null,"T1","AUXIALLY","Cooling by phase transformation of Coolant","Y",null,"Effect of Latent Heat",null,"CALCULATION","Effect of Latent Heat","N"]
[null,null,null,"T2","AUXIALLY","Cooling for plane direction","Y",null,"Iteration Number",null,"CALCULATION","Iteration Number","N"]
[null,null,null,"T3","AUXIALLY","Heat insulation by vapor blanket","Y",null,"Fitting Parameter",null,"CALCULATION","Fitting Parameter for Timle Scale & Cooling Speed","Y"]
[null,null,null,null,null,null,null,null,"Time Increment",null,"CALCULATION","Time increment for 1Step","N"]
[null,null,null,null,null,null,null,null,"Rotation(Upper/Lower)",null,"SHAPE","Rotational Shape for vertical direction","N"]
[null,null,null,null,null,null,null,null,"Rotation(Left/Right)",null,"SHAPE","Rotational Shape for horizontal direction","N"]
[null,null,null,"sheet & book password:"]
[]
[null,null,null,"History"]
[null,null,null,"0.90a 25th/Apr./2022 Ver0.90a Releas\n0.90b 01st/May/2022 Ver0.91a Increase Drawing Speed\n1.00a 6th/May/2022 Alignment with Real Cooling Phenomena by Additional Parameters, Add Rotational Shape ON/OFF\n1.10a 7th/Jan/2023 Add Control Parameter for Effect of  Neighborhood Cells\n1.20a 9th/Jan/2023 Take into Account about Marcov Propertied for Vapor Film Propagation\n1.21a 17th/Mar/2023 Modify Time Evolution of Marcov Property for Vapor Film Propagation\n1.22a-1.24a 26th/Apr/2023 Add Wave function of Vapor File\n2.00 27th/Apr/2023 Release Candidate with Caostic phenomena of Vapor Film \n2.10 2nd/May/2023 Add Randomize Function\n"]

{"sheet":"CA","index":1,"n_rows":65,"n_cols":66,"rows_kept":65,"cut":false,"hidden":false,"merged":[]}
[{"$f":"IF(AND(Parameter!$D$19=\"Y\", Parameter!$D$20=\"Y\"), CA!A31, B2)","v":0},{"$f":"IF(Parameter!$D$19=\"Y\", CA!B31, B2)","v":0},{"$f":"IF(Parameter!$D$19=\"Y\", CA!C31, C2)","v":0},{"$f":"IF(Parameter!$D$19=\"Y\", CA!D31, D2)","v":0},{"$f":"IF(Parameter!$D$19=\"Y\", CA!E31, E2)","v":0},{"$f":"IF(Parameter!$D$19=\"Y\", CA!F31, F2)","v":0},{"$f":"IF(Parameter!$D$19=\"Y\", CA!G31, G2)","v":0},{"$f":"IF(Parameter!$D$19=\"Y\", CA!H31, H2)","v":0},{"$f":"IF(Parameter!$D$19=\"Y\", CA!I31, I2)","v":0},{"$f":"IF(Parameter!$D$19=\"Y\", CA!J31, J2)","v":0},{"$f":"IF(Parameter!$D$19=\"Y\", CA!K31, K2)","v":0},{"$f":"IF(Parameter!$D$19=\"Y\", CA!L31, L2)","v":0},{"$f":"IF(Parameter!$D$19=\"Y\", CA!M31, M2)","v":0},{"$f":"IF(Parameter!$D$19=\"Y\", CA!N31, N2)","v":0},{"$f":"IF(Parameter!$D$19=\"Y\", CA!O31, O2)","v":0},{"$f":"IF(Parameter!$D$19=\"Y\", CA!P31, P2)","v":0},{"$f":"IF(Parameter!$D$19=\"Y\", CA!Q31, Q2)","v":0},{"$f":"IF(Parameter!$D$19=\"Y\", CA!R31, R2)","v":0},{"$f":"IF(Parameter!$D$19=\"Y\", CA!S31, S2)","v":0},{"$f":"IF(Parameter!$D$19=\"Y\", CA!T31, T2)","v":0},{"$f":"IF(Parameter!$D$19=\"Y\", CA!U31, U2)","v":0},{"$f":"IF(Parameter!$D$19=\"Y\", CA!V31, V2)","v":0},{"$f":"IF(Parameter!$D$19=\"Y\", CA!W31, W2)","v":0},{"$f":"IF(Parameter!$D$19=\"Y\", CA!X31, X2)","v":0},{"$f":"IF(Parameter!$D$19=\"Y\", CA!Y31, Y2)","v":0},{"$f":"IF(Parameter!$D$19=\"Y\", CA!Z31, Z2)","v":0},{"$f":"IF(Parameter!$D$19=\"Y\", CA!AA31, AA2)","v":0},{"$f":"IF(Parameter!$D$19=\"Y\", CA!AB31, AB2)","v":0},{"$f":"IF(Parameter!$D$19=\"Y\", CA!AC31, AC2)","v":0},{"$f":"IF(Parameter!$D$19=\"Y\", CA!AD31, AD2)","v":0},{"$f":"IF(Parameter!$D$19=\"Y\", CA!AE31, AE2)","v":0},{"$f":"IF(AND(Parameter!$D$19=\"Y\", Parameter!$D$20=\"Y\"), CA!AF31, AE2)","v":0}]
[{"$f":"IF(Parameter!$D$20=\"Y\",AE2,B2)","v":0},0,0,0,0,0,0,0,0,0,0,0,0,0,0,0,0,0,0,0,0,0,0,0,0,0,0,0,0,0,0,{"$f":"IF(Parameter!$D$20=\"Y\",B2, AE2)","v":0},null,null,null,null,null,null,null,null,null,null,"X","Y"]
[{"$f":"IF(Parameter!$D$20=\"Y\",AE3,B3)","v":0},0,0,0,0,0,0,0,0,0,0,0,0,0,0,0,0,0,0,0,0,0,0,0,0,0,0,0,0,0,0,{"$f":"IF(Parameter!$D$20=\"Y\",B3, AE3)","v":0},null,null,null,null,null,null,null,null,null,"P1",5,30]
[{"$f":"IF(Parameter!$D$20=\"Y\",AE4,B4)","v":0},0,0,0,0,0,0,0,0,0,0,0,0,0,0,0,0,0,0,0,0,0,0,0,0,0,0,0,0,0,0,{"$f":"IF(Parameter!$D$20=\"Y\",B4, AE4)","v":0}]
[{"$f":"IF(Parameter!$D$20=\"Y\",AE5,B5)","v":0},0,0,0,0,0,0,0,0,0,0,0,0,0,0,0,0,0,0,0,0,0,0,0,0,0,0,0,0,0,0,{"$f":"IF(Parameter!$D$20=\"Y\",B5, AE5)","v":0},null,null,null,null,null,null,null,null,null,"P2",11,30]
[{"$f":"IF(Parameter!$D$20=\"Y\",AE6,B6)","v":0},0,0,0,0,0,0,0,0,0,0,0,0,0,0,0,0,0,0,0,0,0,0,0,0,0,0,0,0,0,0,{"$f":"IF(Parameter!$D$20=\"Y\",B6, AE6)","v":0}]
[{"$f":"IF(Parameter!$D$20=\"Y\",AE7,B7)","v":0},0,0,0,0,0,0,0,0,0,0,0,0,0,0,0,0,0,0,0,0,0,0,0,0,0,0,0,0,0,0,{"$f":"IF(Parameter!$D$20=\"Y\",B7, AE7)","v":0},null,null,null,null,null,null,null,null,null,"P3",17,30]
[{"$f":"IF(Parameter!$D$20=\"Y\",AE8,B8)","v":0},0,0,0,0,0,0,0,0,0,0,0,0,0,0,0,0,0,0,0,0,0,0,0,0,0,0,0,0,0,0,{"$f":"IF(Parameter!$D$20=\"Y\",B8, AE8)","v":0}]
[{"$f":"IF(Parameter!$D$20=\"Y\",AE9,B9)","v":0},0,0,0,0,0,0,0,0,0,0,0,0,0,0,0,0,0,0,0,0,0,0,0,0,0,0,0,0,0,0,{"$f":"IF(Parameter!$D$20=\"Y\",B9, AE9)","v":0},null,null,null,null,null,null,null,null,null,"P4",23,30]
[{"$f":"IF(Parameter!$D$20=\"Y\",AE10,B10)","v":0},0,0,0,0,0,0,0,0,0,0,0,0,0,0,0,0,0,0,0,0,0,0,0,0,0,0,0,0,0,0,{"$f":"IF(Parameter!$D$20=\"Y\",B10, AE10)","v":0}]
[{"$f":"IF(Parameter!$D$20=\"Y\",AE11,B11)","v":0},0,0,0,0,0,0,0,0,0,0,0,0,0,0,0,0,0,0,0,0,0,0,0,0,0,0,0,0,0,0,{"$f":"IF(Parameter!$D$20=\"Y\",B11, AE11)","v":0},null,null,null,null,null,null,null,null,null,"P5",29,30,null,null,null,null,null,null,null,null," "]
[{"$f":"IF(Parameter!$D$20=\"Y\",AE12,B12)","v":0},0,0,0,0,0,0,0,0,0,0,0,0,0,0,0,0,0,0,0,0,0,0,0,0,0,0,0,0,0,0,{"$f":"IF(Parameter!$D$20=\"Y\",B12, AE12)","v":0}]
[{"$f":"IF(Parameter!$D$20=\"Y\",AE13,B13)","v":0},0,0,0,0,0,0,0,0,0,0,0,0,0,0,0,0,0,0,0,0,0,0,0,0,0,0,0,0,0,0,{"$f":"IF(Parameter!$D$20=\"Y\",B13, AE13)","v":0}]
[{"$f":"IF(Parameter!$D$20=\"Y\",AE14,B14)","v":0},0,0,0,0,0,0,0,0,0,0,0,0,0,0,0,0,0,0,0,0,0,0,0,0,0,0,0,0,0,0,{"$f":"IF(Parameter!$D$20=\"Y\",B14, AE14)","v":0}]
[{"$f":"IF(Parameter!$D$20=\"Y\",AE15,B15)","v":0},0,0,0,0,0,0,0,0,0,0,0,0,0,0,0,0,0,0,0,0,0,0,0,0,0,0,0,0,0,0,{"$f":"IF(Parameter!$D$20=\"Y\",B15, AE15)","v":0}]
[{"$f":"IF(Parameter!$D$20=\"Y\",AE16,B16)","v":0},0,0,0,0,0,0,0,0,0,0,0,0,0,0,0,0,0,0,0,0,0,0,0,0,0,0,0,0,0,0,{"$f":"IF(Parameter!$D$20=\"Y\",B16, AE16)","v":0}]
[{"$f":"IF(Parameter!$D$20=\"Y\",AE17,B17)","v":0},0,0,0,0,0,0,0,0,0,0,0,0,0,0,0,0,0,0,0,0,0,0,0,0,0,0,0,0,0,0,{"$f":"IF(Parameter!$D$20=\"Y\",B17, AE17)","v":0}]
[{"$f":"IF(Parameter!$D$20=\"Y\",AE18,B18)","v":0},0,0,0,0,0,0,0,0,0,0,0,0,0,0,0,0,0,0,0,0,0,0,0,0,0,0,0,0,0,0,{"$f":"IF(Parameter!$D$20=\"Y\",B18, AE18)","v":0}]
[{"$f":"IF(Parameter!$D$20=\"Y\",AE19,B19)","v":0},0,0,0,0,0,0,0,0,0,0,0,0,0,0,0,0,0,0,0,0,0,0,0,0,0,0,0,0,0,0,{"$f":"IF(Parameter!$D$20=\"Y\",B19, AE19)","v":0}]
[{"$f":"IF(Parameter!$D$20=\"Y\",AE20,B20)","v":0},0,0,0,0,0,0,0,0,0,0,0,0,0,0,0,0,0,0,0,0,0,0,0,0,0,0,0,0,0,0,{"$f":"IF(Parameter!$D$20=\"Y\",B20, AE20)","v":0}]
[{"$f":"IF(Parameter!$D$20=\"Y\",AE21,B21)","v":0},0,0,0,0,0,0,0,0,0,0,0,0,0,0,0,0,0,0,0,0,0,0,0,0,0,0,0,0,0,0,{"$f":"IF(Parameter!$D$20=\"Y\",B21, AE21)","v":0}]
[{"$f":"IF(Parameter!$D$20=\"Y\",AE22,B22)","v":0},0,0,0,0,0,0,0,0,0,0,0,0,0,0,0,0,0,0,0,0,0,0,0,0,0,0,0,0,0,0,{"$f":"IF(Parameter!$D$20=\"Y\",B22, AE22)","v":0}]
[{"$f":"IF(Parameter!$D$20=\"Y\",AE23,B23)","v":0},0,0,0,0,0,0,0,0,0,0,0,0,0,0,0,0,0,0,0,0,0,0,0,0,0,0,0,0,0,0,{"$f":"IF(Parameter!$D$20=\"Y\",B23, AE23)","v":0}]
[{"$f":"IF(Parameter!$D$20=\"Y\",AE24,B24)","v":0},0,0,0,0,0,0,0,0,0,0,0,0,0,0,0,0,0,0,0,0,0,0,0,0,0,0,0,0,0,0,{"$f":"IF(Parameter!$D$20=\"Y\",B24, AE24)","v":0}]
[{"$f":"IF(Parameter!$D$20=\"Y\",AE25,B25)","v":0},0,0,0,0,0,0,0,0,0,0,0,0,0,0,0,0,0,0,0,0,0,0,0,0,0,0,0,0,0,0,{"$f":"IF(Parameter!$D$20=\"Y\",B25, AE25)","v":0}]
[{"$f":"IF(Parameter!$D$20=\"Y\",AE26,B26)","v":0},0,0,0,0,0,0,0,0,0,0,0,0,0,0,0,0,0,0,0,0,0,0,0,0,0,0,0,0,0,0,{"$f":"IF(Parameter!$D$20=\"Y\",B26, AE26)","v":0}]
[{"$f":"IF(Parameter!$D$20=\"Y\",AE27,B27)","v":0},0,0,0,0,0,0,0,0,0,0,0,0,0,0,0,0,0,0,0,0,0,0,0,0,0,0,0,0,0,0,{"$f":"IF(Parameter!$D$20=\"Y\",B27, AE27)","v":0}]
[{"$f":"IF(Parameter!$D$20=\"Y\",AE28,B28)","v":0},0,0,0,0,0,0,0,0,0,0,0,0,0,0,0,0,0,0,0,0,0,0,0,0,0,0,0,0,0,0,{"$f":"IF(Parameter!$D$20=\"Y\",B28, AE28)","v":0}]
[{"$f":"IF(Parameter!$D$20=\"Y\",AE29,B29)","v":0},0,0,0,0,0,0,0,0,0,0,0,0,0,0,0,0,0,0,0,0,0,0,0,0,0,0,0,0,0,0,{"$f":"IF(Parameter!$D$20=\"Y\",B29, AE29)","v":0}]
[{"$f":"IF(Parameter!$D$20=\"Y\",AE30,B30)","v":0},0,0,0,0,0,0,0,0,0,0,0,0,0,0,0,0,0,0,0,0,0,0,0,0,0,0,0,0,0,0,{"$f":"IF(Parameter!$D$20=\"Y\",B30, AE30)","v":0}]
[{"$f":"IF(Parameter!$D$20=\"Y\",AE31,B31)","v":0},0,0,0,0,0,0,0,0,0,0,0,0,0,0,0,0,0,0,0,0,0,0,0,0,0,0,0,0,0,0,{"$f":"IF(Parameter!$D$20=\"Y\",B31, AE31)","v":0}]
[{"$f":"IF(AND(Parameter!$D$19=\"Y\", Parameter!$D$20=\"Y\"), CA!A2, B31)","v":0},{"$f":"IF(Parameter!$D$19=\"Y\", CA!B2, B31)","v":0},{"$f":"IF(Parameter!$D$19=\"Y\", CA!C2, C31)","v":0},{"$f":"IF(Parameter!$D$19=\"Y\", CA!D2, D31)","v":0},{"$f":"IF(Parameter!$D$19=\"Y\", CA!E2, E31)","v":0},{"$f":"IF(Parameter!$D$19=\"Y\", CA!F2, F31)","v":0},{"$f":"IF(Parameter!$D$19=\"Y\", CA!G2, G31)","v":0},{"$f":"IF(Parameter!$D$19=\"Y\", CA!H2, H31)","v":0},{"$f":"IF(Parameter!$D$19=\"Y\", CA!I2, I31)","v":0},{"$f":"IF(Parameter!$D$19=\"Y\", CA!J2, J31)","v":0},{"$f":"IF(Parameter!$D$19=\"Y\", CA!K2, K31)","v":0},{"$f":"IF(Parameter!$D$19=\"Y\", CA!L2, L31)","v":0},{"$f":"IF(Parameter!$D$19=\"Y\", CA!M2, M31)","v":0},{"$f":"IF(Parameter!$D$19=\"Y\", CA!N2, N31)","v":0},{"$f":"IF(Parameter!$D$19=\"Y\", CA!O2, O31)","v":0},{"$f":"IF(Parameter!$D$19=\"Y\", CA!P2, P31)","v":0},{"$f":"IF(Parameter!$D$19=\"Y\", CA!Q2, Q31)","v":0},{"$f":"IF(Parameter!$D$19=\"Y\", CA!R2, R31)","v":0},{"$f":"IF(Parameter!$D$19=\"Y\", CA!S2, S31)","v":0},{"$f":"IF(Parameter!$D$19=\"Y\", CA!T2, T31)","v":0},{"$f":"IF(Parameter!$D$19=\"Y\", CA!U2, U31)","v":0},{"$f":"IF(Parameter!$D$19=\"Y\", CA!V2, V31)","v":0},{"$f":"IF(Parameter!$D$19=\"Y\", CA!W2, W31)","v":0},{"$f":"IF(Parameter!$D$19=\"Y\", CA!X2, X31)","v":0},{"$f":"IF(Parameter!$D$19=\"Y\", CA!Y2, Y31)","v":0},{"$f":"IF(Parameter!$D$19=\"Y\", CA!Z2, Z31)","v":0},{"$f":"IF(Parameter!$D$19=\"Y\", CA!AA2, AA31)","v":0},{"$f":"IF(Parameter!$D$19=\"Y\", CA!AB2, AB31)","v":0},{"$f":"IF(Parameter!$D$19=\"Y\", CA!AC2, AC31)","v":0},{"$f":"IF(Parameter!$D$19=\"Y\", CA!AD2, AD31)","v":0},{"$f":"IF(Parameter!$D$19=\"Y\", CA!AE2, AE31)","v":0},{"$f":"IF(AND(Parameter!$D$19=\"Y\", Parameter!$D$20=\"Y\"), CA!AF2, AE31)","v":0}]
[]
[{"$f":"IF(AND(Parameter!$D$19=\"Y\", Parameter!$D$20=\"Y\"), CA!A64, B35)","v":-0.1},{"$f":"IF(Parameter!$D$19=\"Y\", CA!B64, CA!B35)","v":-0.1},{"$f":"IF(Parameter!$D$19=\"Y\", CA!C64, CA!C35)","v":-0.1},{"$f":"IF(Parameter!$D$19=\"Y\", CA!D64, CA!D35)","v":-0.1},{"$f":"IF(Parameter!$D$19=\"Y\", CA!E64, CA!E35)","v":-0.1},{"$f":"IF(Parameter!$D$19=\"Y\", CA!F64, CA!F35)","v":-0.1},{"$f":"IF(Parameter!$D$19=\"Y\", CA!G64, CA!G35)","v":-0.1},{"$f":"IF(Parameter!$D$19=\"Y\", CA!H64, CA!H35)","v":-0.1},{"$f":"IF(Parameter!$D$19=\"Y\", CA!I64, CA!I35)","v":-0.1},{"$f":"IF(Parameter!$D$19=\"Y\", CA!J64, CA!J35)","v":-0.1},{"$f":"IF(Parameter!$D$19=\"Y\", CA!K64, CA!K35)","v":-0.1},{"$f":"IF(Parameter!$D$19=\"Y\", CA!L64, CA!L35)","v":-0.1},{"$f":"IF(Parameter!$D$19=\"Y\", CA!M64, CA!M35)","v":-0.1},{"$f":"IF(Parameter!$D$19=\"Y\", CA!N64, CA!N35)","v":-0.1},{"$f":"IF(Parameter!$D$19=\"Y\", CA!O64, CA!O35)","v":-0.1},{"$f":"IF(Parameter!$D$19=\"Y\", CA!P64, CA!P35)","v":-0.1},{"$f":"IF(Parameter!$D$19=\"Y\", CA!Q64, CA!Q35)","v":-0.1},{"$f":"IF(Parameter!$D$19=\"Y\", CA!R64, CA!R35)","v":-0.1},{"$f":"IF(Parameter!$D$19=\"Y\", CA!S64, CA!S35)","v":-0.1},{"$f":"IF(Parameter!$D$19=\"Y\", CA!T64, CA!T35)","v":-0.1},{"$f":"IF(Parameter!$D$19=\"Y\", CA!U64, CA!U35)","v":-0.1},{"$f":"IF(Parameter!$D$19=\"Y\", CA!V64, CA!V35)","v":-0.1},{"$f":"IF(Parameter!$D$19=\"Y\", CA!W64, CA!W35)","v":-0.1},{"$f":"IF(Parameter!$D$19=\"Y\", CA!X64, CA!X35)","v":-0.1},{"$f":"IF(Parameter!$D$19=\"Y\", CA!Y64, CA!Y35)","v":-0.1},{"$f":"IF(Parameter!$D$19=\"Y\", CA!Z64, CA!Z35)","v":-0.1},{"$f":"IF(Parameter!$D$19=\"Y\", CA!AA64, CA!AA35)","v":-0.1},{"$f":"IF(Parameter!$D$19=\"Y\", CA!AB64, CA!AB35)","v":-0.1},{"$f":"IF(Parameter!$D$19=\"Y\", CA!AC64, CA!AC35)","v":-0.1},{"$f":"IF(Parameter!$D$19=\"Y\", CA!AD64, CA!AD35)","v":-0.1},{"$f":"IF(Parameter!$D$19=\"Y\", CA!AE64, CA!AE35)","v":-0.1},{"$f":"IF(AND(Parameter!$D$19=\"Y\", Parameter!$D$20=\"Y\"), CA!AF64, AE35)","v":-0.1}]
[{"$f":"IF(Parameter!$D$20=\"Y\",AE35,B35)","v":-0.1},-0.1,-0.1,-0.1,-0.1,-0.1,-0.1,-0.1,-0.1,-0.1,-0.1,-0.1,-0.1,-0.1,-0.1,-0.1,-0.1,-0.1,-0.1,-0.1,-0.1,-0.1,-0.1,-0.1,-0.1,-0.1,-0.1,-0.1,-0.1,-0.1,-0.1,{"$f":"IF(Parameter!$D$20=\"Y\",B35, AE35)","v":-0.1},null,null,null,null,{"$f":"(0.1-B35)/0.2*(Parameter!$D$2-Parameter!$D$3)+Parameter!$D$3","v":800},{"$f":"(0.1-C35)/0.2*(Parameter!$D$2-Parameter!$D$3)+Parameter!$D$3","v":800},{"$f":"(0.1-D35)/0.2*(Parameter!$D$2-Parameter!$D$3)+Parameter!$D$3","v":800},{"$f":"(0.1-E35)/0.2*(Parameter!$D$2-Parameter!$D$3)+Parameter!$D$3","v":800},{"$f":"(0.1-F35)/0.2*(Parameter!$D$2-Parameter!$D$3)+Parameter!$D$3","v":800},{"$f":"(0.1-G35)/0.2*(Parameter!$D$2-Parameter!$D$3)+Parameter!$D$3","v":800},{"$f":"(0.1-H35)/0.2*(Parameter!$D$2-Parameter!$D$3)+Parameter!$D$3","v":800},{"$f":"(0.1-I35)/0.2*(Parameter!$D$2-Parameter!$D$3)+Parameter!$D$3","v":800},{"$f":"(0.1-J35)/0.2*(Parameter!$D$2-Parameter!$D$3)+Parameter!$D$3","v":800},{"$f":"(0.1-K35)/0.2*(Parameter!$D$2-Parameter!$D$3)+Parameter!$D$3","v":800},{"$f":"(0.1-L35)/0.2*(Parameter!$D$2-Parameter!$D$3)+Parameter!$D$3","v":800},{"$f":"(0.1-M35)/0.2*(Parameter!$D$2-Parameter!$D$3)+Parameter!$D$3","v":800},{"$f":"(0.1-N35)/0.2*(Parameter!$D$2-Parameter!$D$3)+Parameter!$D$3","v":800},{"$f":"(0.1-O35)/0.2*(Parameter!$D$2-Parameter!$D$3)+Parameter!$D$3","v":800},{"$f":"(0.1-P35)/0.2*(Parameter!$D$2-Parameter!$D$3)+Parameter!$D$3","v":800},{"$f":"(0.1-Q35)/0.2*(Parameter!$D$2-Parameter!$D$3)+Parameter!$D$3","v":800},{"$f":"(0.1-R35)/0.2*(Parameter!$D$2-Parameter!$D$3)+Parameter!$D$3","v":800},{"$f":"(0.1-S35)/0.2*(Parameter!$D$2-Parameter!$D$3)+Parameter!$D$3","v":800},{"$f":"(0.1-T35)/0.2*(Parameter!$D$2-Parameter!$D$3)+Parameter!$D$3","v":800},{"$f":"(0.1-U35)/0.2*(Parameter!$D$2-Parameter!$D$3)+Parameter!$D$3","v":800},{"$f":"(0.1-V35)/0.2*(Parameter!$D$2-Parameter!$D$3)+Parameter!$D$3","v":800},{"$f":"(0.1-W35)/0.2*(Parameter!$D$2-Parameter!$D$3)+Parameter!$D$3","v":800},{"$f":"(0.1-X35)/0.2*(Parameter!$D$2-Parameter!$D$3)+Parameter!$D$3","v":800},{"$f":"(0.1-Y35)/0.2*(Parameter!$D$2-Parameter!$D$3)+Parameter!$D$3","v":800},{"$f":"(0.1-Z35)/0.2*(Parameter!$D$2-Parameter!$D$3)+Parameter!$D$3","v":800},{"$f":"(0.1-AA35)/0.2*(Parameter!$D$2-Parameter!$D$3)+Parameter!$D$3","v":800},{"$f":"(0.1-AB35)/0.2*(Parameter!$D$2-Parameter!$D$3)+Parameter!$D$3","v":800},{"$f":"(0.1-AC35)/0.2*(Parameter!$D$2-Parameter!$D$3)+Parameter!$D$3","v":800},{"$f":"(0.1-AD35)/0.2*(Parameter!$D$2-Parameter!$D$3)+Parameter!$D$3","v":800},{"$f":"(0.1-AE35)/0.2*(Parameter!$D$2-Parameter!$D$3)+Parameter!$D$3","v":800}]
[{"$f":"IF(Parameter!$D$20=\"Y\",AE36,B36)","v":-0.1},-0.1,-0.1,-0.1,-0.1,-0.1,-0.1,-0.1,-0.1,-0.1,-0.1,-0.1,-0.1,-0.1,-0.1,-0.1,-0.1,-0.1,-0.1,-0.1,-0.1,-0.1,-0.1,-0.1,-0.1,-0.1,-0.1,-0.1,-0.1,-0.1,-0.1,{"$f":"IF(Parameter!$D$20=\"Y\",B36, AE36)","v":-0.1},null,null,null,null,{"$f":"(0.1-B36)/0.2*(Parameter!$D$2-Parameter!$D$3)+Parameter!$D$3","v":800},{"$f":"(0.1-C36)/0.2*(Parameter!$D$2-Parameter!$D$3)+Parameter!$D$3","v":800},{"$f":"(0.1-D36)/0.2*(Parameter!$D$2-Parameter!$D$3)+Parameter!$D$3","v":800},{"$f":"(0.1-E36)/0.2*(Parameter!$D$2-Parameter!$D$3)+Parameter!$D$3","v":800},{"$f":"(0.1-F36)/0.2*(Parameter!$D$2-Parameter!$D$3)+Parameter!$D$3","v":800},{"$f":"(0.1-G36)/0.2*(Parameter!$D$2-Parameter!$D$3)+Parameter!$D$3","v":800},{"$f":"(0.1-H36)/0.2*(Parameter!$D$2-Parameter!$D$3)+Parameter!$D$3","v":800},{"$f":"(0.1-I36)/0.2*(Parameter!$D$2-Parameter!$D$3)+Parameter!$D$3","v":800},{"$f":"(0.1-J36)/0.2*(Parameter!$D$2-Parameter!$D$3)+Parameter!$D$3","v":800},{"$f":"(0.1-K36)/0.2*(Parameter!$D$2-Parameter!$D$3)+Parameter!$D$3","v":800},{"$f":"(0.1-L36)/0.2*(Parameter!$D$2-Parameter!$D$3)+Parameter!$D$3","v":800},{"$f":"(0.1-M36)/0.2*(Parameter!$D$2-Parameter!$D$3)+Parameter!$D$3","v":800},{"$f":"(0.1-N36)/0.2*(Parameter!$D$2-Parameter!$D$3)+Parameter!$D$3","v":800},{"$f":"(0.1-O36)/0.2*(Parameter!$D$2-Parameter!$D$3)+Parameter!$D$3","v":800},{"$f":"(0.1-P36)/0.2*(Parameter!$D$2-Parameter!$D$3)+Parameter!$D$3","v":800},{"$f":"(0.1-Q36)/0.2*(Parameter!$D$2-Parameter!$D$3)+Parameter!$D$3","v":800},{"$f":"(0.1-R36)/0.2*(Parameter!$D$2-Parameter!$D$3)+Parameter!$D$3","v":800},{"$f":"(0.1-S36)/0.2*(Parameter!$D$2-Parameter!$D$3)+Parameter!$D$3","v":800},{"$f":"(0.1-T36)/0.2*(Parameter!$D$2-Parameter!$D$3)+Parameter!$D$3","v":800},{"$f":"(0.1-U36)/0.2*(Parameter!$D$2-Parameter!$D$3)+Parameter!$D$3","v":800},{"$f":"(0.1-V36)/0.2*(Parameter!$D$2-Parameter!$D$3)+Parameter!$D$3","v":800},{"$f":"(0.1-W36)/0.2*(Parameter!$D$2-Parameter!$D$3)+Parameter!$D$3","v":800},{"$f":"(0.1-X36)/0.2*(Parameter!$D$2-Parameter!$D$3)+Parameter!$D$3","v":800},{"$f":"(0.1-Y36)/0.2*(Parameter!$D$2-Parameter!$D$3)+Parameter!$D$3","v":800},{"$f":"(0.1-Z36)/0.2*(Parameter!$D$2-Parameter!$D$3)+Parameter!$D$3","v":800},{"$f":"(0.1-AA36)/0.2*(Parameter!$D$2-Parameter!$D$3)+Parameter!$D$3","v":800},{"$f":"(0.1-AB36)/0.2*(Parameter!$D$2-Parameter!$D$3)+Parameter!$D$3","v":800},{"$f":"(0.1-AC36)/0.2*(Parameter!$D$2-Parameter!$D$3)+Parameter!$D$3","v":800},{"$f":"(0.1-AD36)/0.2*(Parameter!$D$2-Parameter!$D$3)+Parameter!$D$3","v":800},{"$f":"(0.1-AE36)/0.2*(Parameter!$D$2-Parameter!$D$3)+Parameter!$D$3","v":800}]
[{"$f":"IF(Parameter!$D$20=\"Y\",AE37,B37)","v":-0.1},-0.1,-0.1,-0.1,-0.1,-0.1,-0.1,-0.1,-0.1,-0.1,-0.1,-0.1,-0.1,-0.1,-0.1,-0.1,-0.1,-0.1,-0.1,-0.1,-0.1,-0.1,-0.1,-0.1,-0.1,-0.1,-0.1,-0.1,-0.1,-0.1,-0.1,{"$f":"IF(Parameter!$D$20=\"Y\",B37, AE37)","v":-0.1},null,null,null,null,{"$f":"(0.1-B37)/0.2*(Parameter!$D$2-Parameter!$D$3)+Parameter!$D$3","v":800},{"$f":"(0.1-C37)/0.2*(Parameter!$D$2-Parameter!$D$3)+Parameter!$D$3","v":800},{"$f":"(0.1-D37)/0.2*(Parameter!$D$2-Parameter!$D$3)+Parameter!$D$3","v":800},{"$f":"(0.1-E37)/0.2*(Parameter!$D$2-Parameter!$D$3)+Parameter!$D$3","v":800},{"$f":"(0.1-F37)/0.2*(Parameter!$D$2-Parameter!$D$3)+Parameter!$D$3","v":800},{"$f":"(0.1-G37)/0.2*(Parameter!$D$2-Parameter!$D$3)+Parameter!$D$3","v":800},{"$f":"(0.1-H37)/0.2*(Parameter!$D$2-Parameter!$D$3)+Parameter!$D$3","v":800},{"$f":"(0.1-I37)/0.2*(Parameter!$D$2-Parameter!$D$3)+Parameter!$D$3","v":800},{"$f":"(0.1-J37)/0.2*(Parameter!$D$2-Parameter!$D$3)+Parameter!$D$3","v":800},{"$f":"(0.1-K37)/0.2*(Parameter!$D$2-Parameter!$D$3)+Parameter!$D$3","v":800},{"$f":"(0.1-L37)/0.2*(Parameter!$D$2-Parameter!$D$3)+Parameter!$D$3","v":800},{"$f":"(0.1-M37)/0.2*(Parameter!$D$2-Parameter!$D$3)+Parameter!$D$3","v":800},{"$f":"(0.1-N37)/0.2*(Parameter!$D$2-Parameter!$D$3)+Parameter!$D$3","v":800},{"$f":"(0.1-O37)/0.2*(Parameter!$D$2-Parameter!$D$3)+Parameter!$D$3","v":800},{"$f":"(0.1-P37)/0.2*(Parameter!$D$2-Parameter!$D$3)+Parameter!$D$3","v":800},{"$f":"(0.1-Q37)/0.2*(Parameter!$D$2-Parameter!$D$3)+Parameter!$D$3","v":800},{"$f":"(0.1-R37)/0.2*(Parameter!$D$2-Parameter!$D$3)+Parameter!$D$3","v":800},{"$f":"(0.1-S37)/0.2*(Parameter!$D$2-Parameter!$D$3)+Parameter!$D$3","v":800},{"$f":"(0.1-T37)/0.2*(Parameter!$D$2-Parameter!$D$3)+Parameter!$D$3","v":800},{"$f":"(0.1-U37)/0.2*(Parameter!$D$2-Parameter!$D$3)+Parameter!$D$3","v":800},{"$f":"(0.1-V37)/0.2*(Parameter!$D$2-Parameter!$D$3)+Parameter!$D$3","v":800},{"$f":"(0.1-W37)/0.2*(Parameter!$D$2-Parameter!$D$3)+Parameter!$D$3","v":800},{"$f":"(0.1-X37)/0.2*(Parameter!$D$2-Parameter!$D$3)+Parameter!$D$3","v":800},{"$f":"(0.1-Y37)/0.2*(Parameter!$D$2-Parameter!$D$3)+Parameter!$D$3","v":800},{"$f":"(0.1-Z37)/0.2*(Parameter!$D$2-Parameter!$D$3)+Parameter!$D$3","v":800},{"$f":"(0.1-AA37)/0.2*(Parameter!$D$2-Parameter!$D$3)+Parameter!$D$3","v":800},{"$f":"(0.1-AB37)/0.2*(Parameter!$D$2-Parameter!$D$3)+Parameter!$D$3","v":800},{"$f":"(0.1-AC37)/0.2*(Parameter!$D$2-Parameter!$D$3)+Parameter!$D$3","v":800},{"$f":"(0.1-AD37)/0.2*(Parameter!$D$2-Parameter!$D$3)+Parameter!$D$3","v":800},{"$f":"(0.1-AE37)/0.2*(Parameter!$D$2-Parameter!$D$3)+Parameter!$D$3","v":800}]
[{"$f":"IF(Parameter!$D$20=\"Y\",AE38,B38)","v":-0.1},-0.1,-0.1,-0.1,-0.1,-0.1,-0.1,-0.1,-0.1,-0.1,-0.1,-0.1,-0.1,-0.1,-0.1,-0.1,-0.1,-0.1,-0.1,-0.1,-0.1,-0.1,-0.1,-0.1,-0.1,-0.1,-0.1,-0.1,-0.1,-0.1,-0.1,{"$f":"IF(Parameter!$D$20=\"Y\",B38, AE38)","v":-0.1},null,null,null,null,{"$f":"(0.1-B38)/0.2*(Parameter!$D$2-Parameter!$D$3)+Parameter!$D$3","v":800},{"$f":"(0.1-C38)/0.2*(Parameter!$D$2-Parameter!$D$3)+Parameter!$D$3","v":800},{"$f":"(0.1-D38)/0.2*(Parameter!$D$2-Parameter!$D$3)+Parameter!$D$3","v":800},{"$f":"(0.1-E38)/0.2*(Parameter!$D$2-Parameter!$D$3)+Parameter!$D$3","v":800},{"$f":"(0.1-F38)/0.2*(Parameter!$D$2-Parameter!$D$3)+Parameter!$D$3","v":800},{"$f":"(0.1-G38)/0.2*(Parameter!$D$2-Parameter!$D$3)+Parameter!$D$3","v":800},{"$f":"(0.1-H38)/0.2*(Parameter!$D$2-Parameter!$D$3)+Parameter!$D$3","v":800},{"$f":"(0.1-I38)/0.2*(Parameter!$D$2-Parameter!$D$3)+Parameter!$D$3","v":800},{"$f":"(0.1-J38)/0.2*(Parameter!$D$2-Parameter!$D$3)+Parameter!$D$3","v":800},{"$f":"(0.1-K38)/0.2*(Parameter!$D$2-Parameter!$D$3)+Parameter!$D$3","v":800},{"$f":"(0.1-L38)/0.2*(Parameter!$D$2-Parameter!$D$3)+Parameter!$D$3","v":800},{"$f":"(0.1-M38)/0.2*(Parameter!$D$2-Parameter!$D$3)+Parameter!$D$3","v":800},{"$f":"(0.1-N38)/0.2*(Parameter!$D$2-Parameter!$D$3)+Parameter!$D$3","v":800},{"$f":"(0.1-O38)/0.2*(Parameter!$D$2-Parameter!$D$3)+Parameter!$D$3","v":800},{"$f":"(0.1-P38)/0.2*(Parameter!$D$2-Parameter!$D$3)+Parameter!$D$3","v":800},{"$f":"(0.1-Q38)/0.2*(Parameter!$D$2-Parameter!$D$3)+Parameter!$D$3","v":800},{"$f":"(0.1-R38)/0.2*(Parameter!$D$2-Parameter!$D$3)+Parameter!$D$3","v":800},{"$f":"(0.1-S38)/0.2*(Parameter!$D$2-Parameter!$D$3)+Parameter!$D$3","v":800},{"$f":"(0.1-T38)/0.2*(Parameter!$D$2-Parameter!$D$3)+Parameter!$D$3","v":800},{"$f":"(0.1-U38)/0.2*(Parameter!$D$2-Parameter!$D$3)+Parameter!$D$3","v":800},{"$f":"(0.1-V38)/0.2*(Parameter!$D$2-Parameter!$D$3)+Parameter!$D$3","v":800},{"$f":"(0.1-W38)/0.2*(Parameter!$D$2-Parameter!$D$3)+Parameter!$D$3","v":800},{"$f":"(0.1-X38)/0.2*(Parameter!$D$2-Parameter!$D$3)+Parameter!$D$3","v":800},{"$f":"(0.1-Y38)/0.2*(Parameter!$D$2-Parameter!$D$3)+Parameter!$D$3","v":800},{"$f":"(0.1-Z38)/0.2*(Parameter!$D$2-Parameter!$D$3)+Parameter!$D$3","v":800},{"$f":"(0.1-AA38)/0.2*(Parameter!$D$2-Parameter!$D$3)+Parameter!$D$3","v":800},{"$f":"(0.1-AB38)/0.2*(Parameter!$D$2-Parameter!$D$3)+Parameter!$D$3","v":800},{"$f":"(0.1-AC38)/0.2*(Parameter!$D$2-Parameter!$D$3)+Parameter!$D$3","v":800},{"$f":"(0.1-AD38)/0.2*(Parameter!$D$2-Parameter!$D$3)+Parameter!$D$3","v":800},{"$f":"(0.1-AE38)/0.2*(Parameter!$D$2-Parameter!$D$3)+Parameter!$D$3","v":800}]
[{"$f":"IF(Parameter!$D$20=\"Y\",AE39,B39)","v":-0.1},-0.1,-0.1,-0.1,-0.1,-0.1,-0.1,-0.1,-0.1,-0.1,-0.1,-0.1,-0.1,-0.1,-0.1,-0.1,-0.1,-0.1,-0.1,-0.1,-0.1,-0.1,-0.1,-0.1,-0.1,-0.1,-0.1,-0.1,-0.1,-0.1,-0.1,{"$f":"IF(Parameter!$D$20=\"Y\",B39, AE39)","v":-0.1},null,null,null,null,{"$f":"(0.1-B39)/0.2*(Parameter!$D$2-Parameter!$D$3)+Parameter!$D$3","v":800},{"$f":"(0.1-C39)/0.2*(Parameter!$D$2-Parameter!$D$3)+Parameter!$D$3","v":800},{"$f":"(0.1-D39)/0.2*(Parameter!$D$2-Parameter!$D$3)+Parameter!$D$3","v":800},{"$f":"(0.1-E39)/0.2*(Parameter!$D$2-Parameter!$D$3)+Parameter!$D$3","v":800},{"$f":"(0.1-F39)/0.2*(Parameter!$D$2-Parameter!$D$3)+Parameter!$D$3","v":800},{"$f":"(0.1-G39)/0.2*(Parameter!$D$2-Parameter!$D$3)+Parameter!$D$3","v":800},{"$f":"(0.1-H39)/0.2*(Parameter!$D$2-Parameter!$D$3)+Parameter!$D$3","v":800},{"$f":"(0.1-I39)/0.2*(Parameter!$D$2-Parameter!$D$3)+Parameter!$D$3","v":800},{"$f":"(0.1-J39)/0.2*(Parameter!$D$2-Parameter!$D$3)+Parameter!$D$3","v":800},{"$f":"(0.1-K39)/0.2*(Parameter!$D$2-Parameter!$D$3)+Parameter!$D$3","v":800},{"$f":"(0.1-L39)/0.2*(Parameter!$D$2-Parameter!$D$3)+Parameter!$D$3","v":800},{"$f":"(0.1-M39)/0.2*(Parameter!$D$2-Parameter!$D$3)+Parameter!$D$3","v":800},{"$f":"(0.1-N39)/0.2*(Parameter!$D$2-Parameter!$D$3)+Parameter!$D$3","v":800},{"$f":"(0.1-O39)/0.2*(Parameter!$D$2-Parameter!$D$3)+Parameter!$D$3","v":800},{"$f":"(0.1-P39)/0.2*(Parameter!$D$2-Parameter!$D$3)+Parameter!$D$3","v":800},{"$f":"(0.1-Q39)/0.2*(Parameter!$D$2-Parameter!$D$3)+Parameter!$D$3","v":800},{"$f":"(0.1-R39)/0.2*(Parameter!$D$2-Parameter!$D$3)+Parameter!$D$3","v":800},{"$f":"(0.1-S39)/0.2*(Parameter!$D$2-Parameter!$D$3)+Parameter!$D$3","v":800},{"$f":"(0.1-T39)/0.2*(Parameter!$D$2-Parameter!$D$3)+Parameter!$D$3","v":800},{"$f":"(0.1-U39)/0.2*(Parameter!$D$2-Parameter!$D$3)+Parameter!$D$3","v":800},{"$f":"(0.1-V39)/0.2*(Parameter!$D$2-Parameter!$D$3)+Parameter!$D$3","v":800},{"$f":"(0.1-W39)/0.2*(Parameter!$D$2-Parameter!$D$3)+Parameter!$D$3","v":800},{"$f":"(0.1-X39)/0.2*(Parameter!$D$2-Parameter!$D$3)+Parameter!$D$3","v":800},{"$f":"(0.1-Y39)/0.2*(Parameter!$D$2-Parameter!$D$3)+Parameter!$D$3","v":800},{"$f":"(0.1-Z39)/0.2*(Parameter!$D$2-Parameter!$D$3)+Parameter!$D$3","v":800},{"$f":"(0.1-AA39)/0.2*(Parameter!$D$2-Parameter!$D$3)+Parameter!$D$3","v":800},{"$f":"(0.1-AB39)/0.2*(Parameter!$D$2-Parameter!$D$3)+Parameter!$D$3","v":800},{"$f":"(0.1-AC39)/0.2*(Parameter!$D$2-Parameter!$D$3)+Parameter!$D$3","v":800},{"$f":"(0.1-AD39)/0.2*(Parameter!$D$2-Parameter!$D$3)+Parameter!$D$3","v":800},{"$f":"(0.1-AE39)/0.2*(Parameter!$D$2-Parameter!$D$3)+Parameter!$D$3","v":800}]
[{"$f":"IF(Parameter!$D$20=\"Y\",AE40,B40)","v":-0.1},-0.1,-0.1,-0.1,-0.1,-0.1,-0.1,-0.1,-0.1,-0.1,-0.1,-0.1,-0.1,-0.1,-0.1,-0.1,-0.1,-0.1,-0.1,-0.1,-0.1,-0.1,-0.1,-0.1,-0.1,-0.1,-0.1,-0.1,-0.1,-0.1,-0.1,{"$f":"IF(Parameter!$D$20=\"Y\",B40, AE40)","v":-0.1},null,null,null,null,{"$f":"(0.1-B40)/0.2*(Parameter!$D$2-Parameter!$D$3)+Parameter!$D$3","v":800},{"$f":"(0.1-C40)/0.2*(Parameter!$D$2-Parameter!$D$3)+Parameter!$D$3","v":800},{"$f":"(0.1-D40)/0.2*(Parameter!$D$2-Parameter!$D$3)+Parameter!$D$3","v":800},{"$f":"(0.1-E40)/0.2*(Parameter!$D$2-Parameter!$D$3)+Parameter!$D$3","v":800},{"$f":"(0.1-F40)/0.2*(Parameter!$D$2-Parameter!$D$3)+Parameter!$D$3","v":800},{"$f":"(0.1-G40)/0.2*(Parameter!$D$2-Parameter!$D$3)+Parameter!$D$3","v":800},{"$f":"(0.1-H40)/0.2*(Parameter!$D$2-Parameter!$D$3)+Parameter!$D$3","v":800},{"$f":"(0.1-I40)/0.2*(Parameter!$D$2-Parameter!$D$3)+Parameter!$D$3","v":800},{"$f":"(0.1-J40)/0.2*(Parameter!$D$2-Parameter!$D$3)+Parameter!$D$3","v":800},{"$f":"(0.1-K40)/0.2*(Parameter!$D$2-Parameter!$D$3)+Parameter!$D$3","v":800},{"$f":"(0.1-L40)/0.2*(Parameter!$D$2-Parameter!$D$3)+Parameter!$D$3","v":800},{"$f":"(0.1-M40)/0.2*(Parameter!$D$2-Parameter!$D$3)+Parameter!$D$3","v":800},{"$f":"(0.1-N40)/0.2*(Parameter!$D$2-Parameter!$D$3)+Parameter!$D$3","v":800},{"$f":"(0.1-O40)/0.2*(Parameter!$D$2-Parameter!$D$3)+Parameter!$D$3","v":800},{"$f":"(0.1-P40)/0.2*(Parameter!$D$2-Parameter!$D$3)+Parameter!$D$3","v":800},{"$f":"(0.1-Q40)/0.2*(Parameter!$D$2-Parameter!$D$3)+Parameter!$D$3","v":800},{"$f":"(0.1-R40)/0.2*(Parameter!$D$2-Parameter!$D$3)+Parameter!$D$3","v":800},{"$f":"(0.1-S40)/0.2*(Parameter!$D$2-Parameter!$D$3)+Parameter!$D$3","v":800},{"$f":"(0.1-T40)/0.2*(Parameter!$D$2-Parameter!$D$3)+Parameter!$D$3","v":800},{"$f":"(0.1-U40)/0.2*(Parameter!$D$2-Parameter!$D$3)+Parameter!$D$3","v":800},{"$f":"(0.1-V40)/0.2*(Parameter!$D$2-Parameter!$D$3)+Parameter!$D$3","v":800},{"$f":"(0.1-W40)/0.2*(Parameter!$D$2-Parameter!$D$3)+Parameter!$D$3","v":800},{"$f":"(0.1-X40)/0.2*(Parameter!$D$2-Parameter!$D$3)+Parameter!$D$3","v":800},{"$f":"(0.1-Y40)/0.2*(Parameter!$D$2-Parameter!$D$3)+Parameter!$D$3","v":800},{"$f":"(0.1-Z40)/0.2*(Parameter!$D$2-Parameter!$D$3)+Parameter!$D$3","v":800},{"$f":"(0.1-AA40)/0.2*(Parameter!$D$2-Parameter!$D$3)+Parameter!$D$3","v":800},{"$f":"(0.1-AB40)/0.2*(Parameter!$D$2-Parameter!$D$3)+Parameter!$D$3","v":800},{"$f":"(0.1-AC40)/0.2*(Parameter!$D$2-Parameter!$D$3)+Parameter!$D$3","v":800},{"$f":"(0.1-AD40)/0.2*(Parameter!$D$2-Parameter!$D$3)+Parameter!$D$3","v":800},{"$f":"(0.1-AE40)/0.2*(Parameter!$D$2-Parameter!$D$3)+Parameter!$D$3","v":800}]
[{"$f":"IF(Parameter!$D$20=\"Y\",AE41,B41)","v":-0.1},-0.1,-0.1,-0.1,-0.1,-0.1,-0.1,-0.1,-0.1,-0.1,-0.1,-0.1,-0.1,-0.1,-0.1,-0.1,-0.1,-0.1,-0.1,-0.1,-0.1,-0.1,-0.1,-0.1,-0.1,-0.1,-0.1,-0.1,-0.1,-0.1,-0.1,{"$f":"IF(Parameter!$D$20=\"Y\",B41, AE41)","v":-0.1},null,null,null,null,{"$f":"(0.1-B41)/0.2*(Parameter!$D$2-Parameter!$D$3)+Parameter!$D$3","v":800},{"$f":"(0.1-C41)/0.2*(Parameter!$D$2-Parameter!$D$3)+Parameter!$D$3","v":800},{"$f":"(0.1-D41)/0.2*(Parameter!$D$2-Parameter!$D$3)+Parameter!$D$3","v":800},{"$f":"(0.1-E41)/0.2*(Parameter!$D$2-Parameter!$D$3)+Parameter!$D$3","v":800},{"$f":"(0.1-F41)/0.2*(Parameter!$D$2-Parameter!$D$3)+Parameter!$D$3","v":800},{"$f":"(0.1-G41)/0.2*(Parameter!$D$2-Parameter!$D$3)+Parameter!$D$3","v":800},{"$f":"(0.1-H41)/0.2*(Parameter!$D$2-Parameter!$D$3)+Parameter!$D$3","v":800},{"$f":"(0.1-I41)/0.2*(Parameter!$D$2-Parameter!$D$3)+Parameter!$D$3","v":800},{"$f":"(0.1-J41)/0.2*(Parameter!$D$2-Parameter!$D$3)+Parameter!$D$3","v":800},{"$f":"(0.1-K41)/0.2*(Parameter!$D$2-Parameter!$D$3)+Parameter!$D$3","v":800},{"$f":"(0.1-L41)/0.2*(Parameter!$D$2-Parameter!$D$3)+Parameter!$D$3","v":800},{"$f":"(0.1-M41)/0.2*(Parameter!$D$2-Parameter!$D$3)+Parameter!$D$3","v":800},{"$f":"(0.1-N41)/0.2*(Parameter!$D$2-Parameter!$D$3)+Parameter!$D$3","v":800},{"$f":"(0.1-O41)/0.2*(Parameter!$D$2-Parameter!$D$3)+Parameter!$D$3","v":800},{"$f":"(0.1-P41)/0.2*(Parameter!$D$2-Parameter!$D$3)+Parameter!$D$3","v":800},{"$f":"(0.1-Q41)/0.2*(Parameter!$D$2-Parameter!$D$3)+Parameter!$D$3","v":800},{"$f":"(0.1-R41)/0.2*(Parameter!$D$2-Parameter!$D$3)+Parameter!$D$3","v":800},{"$f":"(0.1-S41)/0.2*(Parameter!$D$2-Parameter!$D$3)+Parameter!$D$3","v":800},{"$f":"(0.1-T41)/0.2*(Parameter!$D$2-Parameter!$D$3)+Parameter!$D$3","v":800},{"$f":"(0.1-U41)/0.2*(Parameter!$D$2-Parameter!$D$3)+Parameter!$D$3","v":800},{"$f":"(0.1-V41)/0.2*(Parameter!$D$2-Parameter!$D$3)+Parameter!$D$3","v":800},{"$f":"(0.1-W41)/0.2*(Parameter!$D$2-Parameter!$D$3)+Parameter!$D$3","v":800},{"$f":"(0.1-X41)/0.2*(Parameter!$D$2-Parameter!$D$3)+Parameter!$D$3","v":800},{"$f":"(0.1-Y41)/0.2*(Parameter!$D$2-Parameter!$D$3)+Parameter!$D$3","v":800},{"$f":"(0.1-Z41)/0.2*(Parameter!$D$2-Parameter!$D$3)+Parameter!$D$3","v":800},{"$f":"(0.1-AA41)/0.2*(Parameter!$D$2-Parameter!$D$3)+Parameter!$D$3","v":800},{"$f":"(0.1-AB41)/0.2*(Parameter!$D$2-Parameter!$D$3)+Parameter!$D$3","v":800},{"$f":"(0.1-AC41)/0.2*(Parameter!$D$2-Parameter!$D$3)+Parameter!$D$3","v":800},{"$f":"(0.1-AD41)/0.2*(Parameter!$D$2-Parameter!$D$3)+Parameter!$D$3","v":800},{"$f":"(0.1-AE41)/0.2*(Parameter!$D$2-Parameter!$D$3)+Parameter!$D$3","v":800}]
[{"$f":"IF(Parameter!$D$20=\"Y\",AE42,B42)","v":-0.1},-0.1,-0.1,-0.1,-0.1,-0.1,-0.1,-0.1,-0.1,-0.1,-0.1,-0.1,-0.1,-0.1,-0.1,-0.1,-0.1,-0.1,-0.1,-0.1,-0.1,-0.1,-0.1,-0.1,-0.1,-0.1,-0.1,-0.1,-0.1,-0.1,-0.1,{"$f":"IF(Parameter!$D$20=\"Y\",B42, AE42)","v":-0.1},null,null,null,null,{"$f":"(0.1-B42)/0.2*(Parameter!$D$2-Parameter!$D$3)+Parameter!$D$3","v":800},{"$f":"(0.1-C42)/0.2*(Parameter!$D$2-Parameter!$D$3)+Parameter!$D$3","v":800},{"$f":"(0.1-D42)/0.2*(Parameter!$D$2-Parameter!$D$3)+Parameter!$D$3","v":800},{"$f":"(0.1-E42)/0.2*(Parameter!$D$2-Parameter!$D$3)+Parameter!$D$3","v":800},{"$f":"(0.1-F42)/0.2*(Parameter!$D$2-Parameter!$D$3)+Parameter!$D$3","v":800},{"$f":"(0.1-G42)/0.2*(Parameter!$D$2-Parameter!$D$3)+Parameter!$D$3","v":800},{"$f":"(0.1-H42)/0.2*(Parameter!$D$2-Parameter!$D$3)+Parameter!$D$3","v":800},{"$f":"(0.1-I42)/0.2*(Parameter!$D$2-Parameter!$D$3)+Parameter!$D$3","v":800},{"$f":"(0.1-J42)/0.2*(Parameter!$D$2-Parameter!$D$3)+Parameter!$D$3","v":800},{"$f":"(0.1-K42)/0.2*(Parameter!$D$2-Parameter!$D$3)+Parameter!$D$3","v":800},{"$f":"(0.1-L42)/0.2*(Parameter!$D$2-Parameter!$D$3)+Parameter!$D$3","v":800},{"$f":"(0.1-M42)/0.2*(Parameter!$D$2-Parameter!$D$3)+Parameter!$D$3","v":800},{"$f":"(0.1-N42)/0.2*(Parameter!$D$2-Parameter!$D$3)+Parameter!$D$3","v":800},{"$f":"(0.1-O42)/0.2*(Parameter!$D$2-Parameter!$D$3)+Parameter!$D$3","v":800},{"$f":"(0.1-P42)/0.2*(Parameter!$D$2-Parameter!$D$3)+Parameter!$D$3","v":800},{"$f":"(0.1-Q42)/0.2*(Parameter!$D$2-Parameter!$D$3)+Parameter!$D$3","v":800},{"$f":"(0.1-R42)/0.2*(Parameter!$D$2-Parameter!$D$3)+Parameter!$D$3","v":800},{"$f":"(0.1-S42)/0.2*(Parameter!$D$2-Parameter!$D$3)+Parameter!$D$3","v":800},{"$f":"(0.1-T42)/0.2*(Parameter!$D$2-Parameter!$D$3)+Parameter!$D$3","v":800},{"$f":"(0.1-U42)/0.2*(Parameter!$D$2-Parameter!$D$3)+Parameter!$D$3","v":800},{"$f":"(0.1-V42)/0.2*(Parameter!$D$2-Parameter!$D$3)+Parameter!$D$3","v":800},{"$f":"(0.1-W42)/0.2*(Parameter!$D$2-Parameter!$D$3)+Parameter!$D$3","v":800},{"$f":"(0.1-X42)/0.2*(Parameter!$D$2-Parameter!$D$3)+Parameter!$D$3","v":800},{"$f":"(0.1-Y42)/0.2*(Parameter!$D$2-Parameter!$D$3)+Parameter!$D$3","v":800},{"$f":"(0.1-Z42)/0.2*(Parameter!$D$2-Parameter!$D$3)+Parameter!$D$3","v":800},{"$f":"(0.1-AA42)/0.2*(Parameter!$D$2-Parameter!$D$3)+Parameter!$D$3","v":800},{"$f":"(0.1-AB42)/0.2*(Parameter!$D$2-Parameter!$D$3)+Parameter!$D$3","v":800},{"$f":"(0.1-AC42)/0.2*(Parameter!$D$2-Parameter!$D$3)+Parameter!$D$3","v":800},{"$f":"(0.1-AD42)/0.2*(Parameter!$D$2-Parameter!$D$3)+Parameter!$D$3","v":800},{"$f":"(0.1-AE42)/0.2*(Parameter!$D$2-Parameter!$D$3)+Parameter!$D$3","v":800}]
[{"$f":"IF(Parameter!$D$20=\"Y\",AE43,B43)","v":-0.1},-0.1,-0.1,-0.1,-0.1,-0.1,-0.1,-0.1,-0.1,-0.1,-0.1,-0.1,-0.1,-0.1,-0.1,-0.1,-0.1,-0.1,-0.1,-0.1,-0.1,-0.1,-0.1,-0.1,-0.1,-0.1,-0.1,-0.1,-0.1,-0.1,-0.1,{"$f":"IF(Parameter!$D$20=\"Y\",B43, AE43)","v":-0.1},null,null,null,null,{"$f":"(0.1-B43)/0.2*(Parameter!$D$2-Parameter!$D$3)+Parameter!$D$3","v":800},{"$f":"(0.1-C43)/0.2*(Parameter!$D$2-Parameter!$D$3)+Parameter!$D$3","v":800},{"$f":"(0.1-D43)/0.2*(Parameter!$D$2-Parameter!$D$3)+Parameter!$D$3","v":800},{"$f":"(0.1-E43)/0.2*(Parameter!$D$2-Parameter!$D$3)+Parameter!$D$3","v":800},{"$f":"(0.1-F43)/0.2*(Parameter!$D$2-Parameter!$D$3)+Parameter!$D$3","v":800},{"$f":"(0.1-G43)/0.2*(Parameter!$D$2-Parameter!$D$3)+Parameter!$D$3","v":800},{"$f":"(0.1-H43)/0.2*(Parameter!$D$2-Parameter!$D$3)+Parameter!$D$3","v":800},{"$f":"(0.1-I43)/0.2*(Parameter!$D$2-Parameter!$D$3)+Parameter!$D$3","v":800},{"$f":"(0.1-J43)/0.2*(Parameter!$D$2-Parameter!$D$3)+Parameter!$D$3","v":800},{"$f":"(0.1-K43)/0.2*(Parameter!$D$2-Parameter!$D$3)+Parameter!$D$3","v":800},{"$f":"(0.1-L43)/0.2*(Parameter!$D$2-Parameter!$D$3)+Parameter!$D$3","v":800},{"$f":"(0.1-M43)/0.2*(Parameter!$D$2-Parameter!$D$3)+Parameter!$D$3","v":800},{"$f":"(0.1-N43)/0.2*(Parameter!$D$2-Parameter!$D$3)+Parameter!$D$3","v":800},{"$f":"(0.1-O43)/0.2*(Parameter!$D$2-Parameter!$D$3)+Parameter!$D$3","v":800},{"$f":"(0.1-P43)/0.2*(Parameter!$D$2-Parameter!$D$3)+Parameter!$D$3","v":800},{"$f":"(0.1-Q43)/0.2*(Parameter!$D$2-Parameter!$D$3)+Parameter!$D$3","v":800},{"$f":"(0.1-R43)/0.2*(Parameter!$D$2-Parameter!$D$3)+Parameter!$D$3","v":800},{"$f":"(0.1-S43)/0.2*(Parameter!$D$2-Parameter!$D$3)+Parameter!$D$3","v":800},{"$f":"(0.1-T43)/0.2*(Parameter!$D$2-Parameter!$D$3)+Parameter!$D$3","v":800},{"$f":"(0.1-U43)/0.2*(Parameter!$D$2-Parameter!$D$3)+Parameter!$D$3","v":800},{"$f":"(0.1-V43)/0.2*(Parameter!$D$2-Parameter!$D$3)+Parameter!$D$3","v":800},{"$f":"(0.1-W43)/0.2*(Parameter!$D$2-Parameter!$D$3)+Parameter!$D$3","v":800},{"$f":"(0.1-X43)/0.2*(Parameter!$D$2-Parameter!$D$3)+Parameter!$D$3","v":800},{"$f":"(0.1-Y43)/0.2*(Parameter!$D$2-Parameter!$D$3)+Parameter!$D$3","v":800},{"$f":"(0.1-Z43)/0.2*(Parameter!$D$2-Parameter!$D$3)+Parameter!$D$3","v":800},{"$f":"(0.1-AA43)/0.2*(Parameter!$D$2-Parameter!$D$3)+Parameter!$D$3","v":800},{"$f":"(0.1-AB43)/0.2*(Parameter!$D$2-Parameter!$D$3)+Parameter!$D$3","v":800},{"$f":"(0.1-AC43)/0.2*(Parameter!$D$2-Parameter!$D$3)+Parameter!$D$3","v":800},{"$f":"(0.1-AD43)/0.2*(Parameter!$D$2-Parameter!$D$3)+Parameter!$D$3","v":800},{"$f":"(0.1-AE43)/0.2*(Parameter!$D$2-Parameter!$D$3)+Parameter!$D$3","v":800}]
[{"$f":"IF(Parameter!$D$20=\"Y\",AE44,B44)","v":-0.1},-0.1,-0.1,-0.1,-0.1,-0.1,-0.1,-0.1,-0.1,-0.1,-0.1,-0.1,-0.1,-0.1,-0.1,-0.1,-0.1,-0.1,-0.1,-0.1,-0.1,-0.1,-0.1,-0.1,-0.1,-0.1,-0.1,-0.1,-0.1,-0.1,-0.1,{"$f":"IF(Parameter!$D$20=\"Y\",B44, AE44)","v":-0.1},null,null,null,null,{"$f":"(0.1-B44)/0.2*(Parameter!$D$2-Parameter!$D$3)+Parameter!$D$3","v":800},{"$f":"(0.1-C44)/0.2*(Parameter!$D$2-Parameter!$D$3)+Parameter!$D$3","v":800},{"$f":"(0.1-D44)/0.2*(Parameter!$D$2-Parameter!$D$3)+Parameter!$D$3","v":800},{"$f":"(0.1-E44)/0.2*(Parameter!$D$2-Parameter!$D$3)+Parameter!$D$3","v":800},{"$f":"(0.1-F44)/0.2*(Parameter!$D$2-Parameter!$D$3)+Parameter!$D$3","v":800},{"$f":"(0.1-G44)/0.2*(Parameter!$D$2-Parameter!$D$3)+Parameter!$D$3","v":800},{"$f":"(0.1-H44)/0.2*(Parameter!$D$2-Parameter!$D$3)+Parameter!$D$3","v":800},{"$f":"(0.1-I44)/0.2*(Parameter!$D$2-Parameter!$D$3)+Parameter!$D$3","v":800},{"$f":"(0.1-J44)/0.2*(Parameter!$D$2-Parameter!$D$3)+Parameter!$D$3","v":800},{"$f":"(0.1-K44)/0.2*(Parameter!$D$2-Parameter!$D$3)+Parameter!$D$3","v":800},{"$f":"(0.1-L44)/0.2*(Parameter!$D$2-Parameter!$D$3)+Parameter!$D$3","v":800},{"$f":"(0.1-M44)/0.2*(Parameter!$D$2-Parameter!$D$3)+Parameter!$D$3","v":800},{"$f":"(0.1-N44)/0.2*(Parameter!$D$2-Parameter!$D$3)+Parameter!$D$3","v":800},{"$f":"(0.1-O44)/0.2*(Parameter!$D$2-Parameter!$D$3)+Parameter!$D$3","v":800},{"$f":"(0.1-P44)/0.2*(Parameter!$D$2-Parameter!$D$3)+Parameter!$D$3","v":800},{"$f":"(0.1-Q44)/0.2*(Parameter!$D$2-Parameter!$D$3)+Parameter!$D$3","v":800},{"$f":"(0.1-R44)/0.2*(Parameter!$D$2-Parameter!$D$3)+Parameter!$D$3","v":800},{"$f":"(0.1-S44)/0.2*(Parameter!$D$2-Parameter!$D$3)+Parameter!$D$3","v":800},{"$f":"(0.1-T44)/0.2*(Parameter!$D$2-Parameter!$D$3)+Parameter!$D$3","v":800},{"$f":"(0.1-U44)/0.2*(Parameter!$D$2-Parameter!$D$3)+Parameter!$D$3","v":800},{"$f":"(0.1-V44)/0.2*(Parameter!$D$2-Parameter!$D$3)+Parameter!$D$3","v":800},{"$f":"(0.1-W44)/0.2*(Parameter!$D$2-Parameter!$D$3)+Parameter!$D$3","v":800},{"$f":"(0.1-X44)/0.2*(Parameter!$D$2-Parameter!$D$3)+Parameter!$D$3","v":800},{"$f":"(0.1-Y44)/0.2*(Parameter!$D$2-Parameter!$D$3)+Parameter!$D$3","v":800},{"$f":"(0.1-Z44)/0.2*(Parameter!$D$2-Parameter!$D$3)+Parameter!$D$3","v":800},{"$f":"(0.1-AA44)/0.2*(Parameter!$D$2-Parameter!$D$3)+Parameter!$D$3","v":800},{"$f":"(0.1-AB44)/0.2*(Parameter!$D$2-Parameter!$D$3)+Parameter!$D$3","v":800},{"$f":"(0.1-AC44)/0.2*(Parameter!$D$2-Parameter!$D$3)+Parameter!$D$3","v":800},{"$f":"(0.1-AD44)/0.2*(Parameter!$D$2-Parameter!$D$3)+Parameter!$D$3","v":800},{"$f":"(0.1-AE44)/0.2*(Parameter!$D$2-Parameter!$D$3)+Parameter!$D$3","v":800}]
[{"$f":"IF(Parameter!$D$20=\"Y\",AE45,B45)","v":-0.1},-0.1,-0.1,-0.1,-0.1,-0.1,-0.1,-0.1,-0.1,-0.1,-0.1,-0.1,-0.1,-0.1,-0.1,-0.1,-0.1,-0.1,-0.1,-0.1,-0.1,-0.1,-0.1,-0.1,-0.1,-0.1,-0.1,-0.1,-0.1,-0.1,-0.1,{"$f":"IF(Parameter!$D$20=\"Y\",B45, AE45)","v":-0.1},null,null,null,null,{"$f":"(0.1-B45)/0.2*(Parameter!$D$2-Parameter!$D$3)+Parameter!$D$3","v":800},{"$f":"(0.1-C45)/0.2*(Parameter!$D$2-Parameter!$D$3)+Parameter!$D$3","v":800},{"$f":"(0.1-D45)/0.2*(Parameter!$D$2-Parameter!$D$3)+Parameter!$D$3","v":800},{"$f":"(0.1-E45)/0.2*(Parameter!$D$2-Parameter!$D$3)+Parameter!$D$3","v":800},{"$f":"(0.1-F45)/0.2*(Parameter!$D$2-Parameter!$D$3)+Parameter!$D$3","v":800},{"$f":"(0.1-G45)/0.2*(Parameter!$D$2-Parameter!$D$3)+Parameter!$D$3","v":800},{"$f":"(0.1-H45)/0.2*(Parameter!$D$2-Parameter!$D$3)+Parameter!$D$3","v":800},{"$f":"(0.1-I45)/0.2*(Parameter!$D$2-Parameter!$D$3)+Parameter!$D$3","v":800},{"$f":"(0.1-J45)/0.2*(Parameter!$D$2-Parameter!$D$3)+Parameter!$D$3","v":800},{"$f":"(0.1-K45)/0.2*(Parameter!$D$2-Parameter!$D$3)+Parameter!$D$3","v":800},{"$f":"(0.1-L45)/0.2*(Parameter!$D$2-Parameter!$D$3)+Parameter!$D$3","v":800},{"$f":"(0.1-M45)/0.2*(Parameter!$D$2-Parameter!$D$3)+Parameter!$D$3","v":800},{"$f":"(0.1-N45)/0.2*(Parameter!$D$2-Parameter!$D$3)+Parameter!$D$3","v":800},{"$f":"(0.1-O45)/0.2*(Parameter!$D$2-Parameter!$D$3)+Parameter!$D$3","v":800},{"$f":"(0.1-P45)/0.2*(Parameter!$D$2-Parameter!$D$3)+Parameter!$D$3","v":800},{"$f":"(0.1-Q45)/0.2*(Parameter!$D$2-Parameter!$D$3)+Parameter!$D$3","v":800},{"$f":"(0.1-R45)/0.2*(Parameter!$D$2-Parameter!$D$3)+Parameter!$D$3","v":800},{"$f":"(0.1-S45)/0.2*(Parameter!$D$2-Parameter!$D$3)+Parameter!$D$3","v":800},{"$f":"(0.1-T45)/0.2*(Parameter!$D$2-Parameter!$D$3)+Parameter!$D$3","v":800},{"$f":"(0.1-U45)/0.2*(Parameter!$D$2-Parameter!$D$3)+Parameter!$D$3","v":800},{"$f":"(0.1-V45)/0.2*(Parameter!$D$2-Parameter!$D$3)+Parameter!$D$3","v":800},{"$f":"(0.1-W45)/0.2*(Parameter!$D$2-Parameter!$D$3)+Parameter!$D$3","v":800},{"$f":"(0.1-X45)/0.2*(Parameter!$D$2-Parameter!$D$3)+Parameter!$D$3","v":800},{"$f":"(0.1-Y45)/0.2*(Parameter!$D$2-Parameter!$D$3)+Parameter!$D$3","v":800},{"$f":"(0.1-Z45)/0.2*(Parameter!$D$2-Parameter!$D$3)+Parameter!$D$3","v":800},{"$f":"(0.1-AA45)/0.2*(Parameter!$D$2-Parameter!$D$3)+Parameter!$D$3","v":800},{"$f":"(0.1-AB45)/0.2*(Parameter!$D$2-Parameter!$D$3)+Parameter!$D$3","v":800},{"$f":"(0.1-AC45)/0.2*(Parameter!$D$2-Parameter!$D$3)+Parameter!$D$3","v":800},{"$f":"(0.1-AD45)/0.2*(Parameter!$D$2-Parameter!$D$3)+Parameter!$D$3","v":800},{"$f":"(0.1-AE45)/0.2*(Parameter!$D$2-Parameter!$D$3)+Parameter!$D$3","v":800}]
[{"$f":"IF(Parameter!$D$20=\"Y\",AE46,B46)","v":-0.1},-0.1,-0.1,-0.1,-0.1,-0.1,-0.1,-0.1,-0.1,-0.1,-0.1,-0.1,-0.1,-0.1,-0.1,-0.1,-0.1,-0.1,-0.1,-0.1,-0.1,-0.1,-0.1,-0.1,-0.1,-0.1,-0.1,-0.1,-0.1,-0.1,-0.1,{"$f":"IF(Parameter!$D$20=\"Y\",B46, AE46)","v":-0.1},null,null,null,null,{"$f":"(0.1-B46)/0.2*(Parameter!$D$2-Parameter!$D$3)+Parameter!$D$3","v":800},{"$f":"(0.1-C46)/0.2*(Parameter!$D$2-Parameter!$D$3)+Parameter!$D$3","v":800},{"$f":"(0.1-D46)/0.2*(Parameter!$D$2-Parameter!$D$3)+Parameter!$D$3","v":800},{"$f":"(0.1-E46)/0.2*(Parameter!$D$2-Parameter!$D$3)+Parameter!$D$3","v":800},{"$f":"(0.1-F46)/0.2*(Parameter!$D$2-Parameter!$D$3)+Parameter!$D$3","v":800},{"$f":"(0.1-G46)/0.2*(Parameter!$D$2-Parameter!$D$3)+Parameter!$D$3","v":800},{"$f":"(0.1-H46)/0.2*(Parameter!$D$2-Parameter!$D$3)+Parameter!$D$3","v":800},{"$f":"(0.1-I46)/0.2*(Parameter!$D$2-Parameter!$D$3)+Parameter!$D$3","v":800},{"$f":"(0.1-J46)/0.2*(Parameter!$D$2-Parameter!$D$3)+Parameter!$D$3","v":800},{"$f":"(0.1-K46)/0.2*(Parameter!$D$2-Parameter!$D$3)+Parameter!$D$3","v":800},{"$f":"(0.1-L46)/0.2*(Parameter!$D$2-Parameter!$D$3)+Parameter!$D$3","v":800},{"$f":"(0.1-M46)/0.2*(Parameter!$D$2-Parameter!$D$3)+Parameter!$D$3","v":800},{"$f":"(0.1-N46)/0.2*(Parameter!$D$2-Parameter!$D$3)+Parameter!$D$3","v":800},{"$f":"(0.1-O46)/0.2*(Parameter!$D$2-Parameter!$D$3)+Parameter!$D$3","v":800},{"$f":"(0.1-P46)/0.2*(Parameter!$D$2-Parameter!$D$3)+Parameter!$D$3","v":800},{"$f":"(0.1-Q46)/0.2*(Parameter!$D$2-Parameter!$D$3)+Parameter!$D$3","v":800},{"$f":"(0.1-R46)/0.2*(Parameter!$D$2-Parameter!$D$3)+Parameter!$D$3","v":800},{"$f":"(0.1-S46)/0.2*(Parameter!$D$2-Parameter!$D$3)+Parameter!$D$3","v":800},{"$f":"(0.1-T46)/0.2*(Parameter!$D$2-Parameter!$D$3)+Parameter!$D$3","v":800},{"$f":"(0.1-U46)/0.2*(Parameter!$D$2-Parameter!$D$3)+Parameter!$D$3","v":800},{"$f":"(0.1-V46)/0.2*(Parameter!$D$2-Parameter!$D$3)+Parameter!$D$3","v":800},{"$f":"(0.1-W46)/0.2*(Parameter!$D$2-Parameter!$D$3)+Parameter!$D$3","v":800},{"$f":"(0.1-X46)/0.2*(Parameter!$D$2-Parameter!$D$3)+Parameter!$D$3","v":800},{"$f":"(0.1-Y46)/0.2*(Parameter!$D$2-Parameter!$D$3)+Parameter!$D$3","v":800},{"$f":"(0.1-Z46)/0.2*(Parameter!$D$2-Parameter!$D$3)+Parameter!$D$3","v":800},{"$f":"(0.1-AA46)/0.2*(Parameter!$D$2-Parameter!$D$3)+Parameter!$D$3","v":800},{"$f":"(0.1-AB46)/0.2*(Parameter!$D$2-Parameter!$D$3)+Parameter!$D$3","v":800},{"$f":"(0.1-AC46)/0.2*(Parameter!$D$2-Parameter!$D$3)+Parameter!$D$3","v":800},{"$f":"(0.1-AD46)/0.2*(Parameter!$D$2-Parameter!$D$3)+Parameter!$D$3","v":800},{"$f":"(0.1-AE46)/0.2*(Parameter!$D$2-Parameter!$D$3)+Parameter!$D$3","v":800}]
[{"$f":"IF(Parameter!$D$20=\"Y\",AE47,B47)","v":-0.1},-0.1,-0.1,-0.1,-0.1,-0.1,-0.1,-0.1,-0.1,-0.1,-0.1,-0.1,-0.1,-0.1,-0.1,-0.1,-0.1,-0.1,-0.1,-0.1,-0.1,-0.1,-0.1,-0.1,-0.1,-0.1,-0.1,-0.1,-0.1,-0.1,-0.1,{"$f":"IF(Parameter!$D$20=\"Y\",B47, AE47)","v":-0.1},null,null,null,null,{"$f":"(0.1-B47)/0.2*(Parameter!$D$2-Parameter!$D$3)+Parameter!$D$3","v":800},{"$f":"(0.1-C47)/0.2*(Parameter!$D$2-Parameter!$D$3)+Parameter!$D$3","v":800},{"$f":"(0.1-D47)/0.2*(Parameter!$D$2-Parameter!$D$3)+Parameter!$D$3","v":800},{"$f":"(0.1-E47)/0.2*(Parameter!$D$2-Parameter!$D$3)+Parameter!$D$3","v":800},{"$f":"(0.1-F47)/0.2*(Parameter!$D$2-Parameter!$D$3)+Parameter!$D$3","v":800},{"$f":"(0.1-G47)/0.2*(Parameter!$D$2-Parameter!$D$3)+Parameter!$D$3","v":800},{"$f":"(0.1-H47)/0.2*(Parameter!$D$2-Parameter!$D$3)+Parameter!$D$3","v":800},{"$f":"(0.1-I47)/0.2*(Parameter!$D$2-Parameter!$D$3)+Parameter!$D$3","v":800},{"$f":"(0.1-J47)/0.2*(Parameter!$D$2-Parameter!$D$3)+Parameter!$D$3","v":800},{"$f":"(0.1-K47)/0.2*(Parameter!$D$2-Parameter!$D$3)+Parameter!$D$3","v":800},{"$f":"(0.1-L47)/0.2*(Parameter!$D$2-Parameter!$D$3)+Parameter!$D$3","v":800},{"$f":"(0.1-M47)/0.2*(Parameter!$D$2-Parameter!$D$3)+Parameter!$D$3","v":800},{"$f":"(0.1-N47)/0.2*(Parameter!$D$2-Parameter!$D$3)+Parameter!$D$3","v":800},{"$f":"(0.1-O47)/0.2*(Parameter!$D$2-Parameter!$D$3)+Parameter!$D$3","v":800},{"$f":"(0.1-P47)/0.2*(Parameter!$D$2-Parameter!$D$3)+Parameter!$D$3","v":800},{"$f":"(0.1-Q47)/0.2*(Parameter!$D$2-Parameter!$D$3)+Parameter!$D$3","v":800},{"$f":"(0.1-R47)/0.2*(Parameter!$D$2-Parameter!$D$3)+Parameter!$D$3","v":800},{"$f":"(0.1-S47)/0.2*(Parameter!$D$2-Parameter!$D$3)+Parameter!$D$3","v":800},{"$f":"(0.1-T47)/0.2*(Parameter!$D$2-Parameter!$D$3)+Parameter!$D$3","v":800},{"$f":"(0.1-U47)/0.2*(Parameter!$D$2-Parameter!$D$3)+Parameter!$D$3","v":800},{"$f":"(0.1-V47)/0.2*(Parameter!$D$2-Parameter!$D$3)+Parameter!$D$3","v":800},{"$f":"(0.1-W47)/0.2*(Parameter!$D$2-Parameter!$D$3)+Parameter!$D$3","v":800},{"$f":"(0.1-X47)/0.2*(Parameter!$D$2-Parameter!$D$3)+Parameter!$D$3","v":800},{"$f":"(0.1-Y47)/0.2*(Parameter!$D$2-Parameter!$D$3)+Parameter!$D$3","v":800},{"$f":"(0.1-Z47)/0.2*(Parameter!$D$2-Parameter!$D$3)+Parameter!$D$3","v":800},{"$f":"(0.1-AA47)/0.2*(Parameter!$D$2-Parameter!$D$3)+Parameter!$D$3","v":800},{"$f":"(0.1-AB47)/0.2*(Parameter!$D$2-Parameter!$D$3)+Parameter!$D$3","v":800},{"$f":"(0.1-AC47)/0.2*(Parameter!$D$2-Parameter!$D$3)+Parameter!$D$3","v":800},{"$f":"(0.1-AD47)/0.2*(Parameter!$D$2-Parameter!$D$3)+Parameter!$D$3","v":800},{"$f":"(0.1-AE47)/0.2*(Parameter!$D$2-Parameter!$D$3)+Parameter!$D$3","v":800}]
[{"$f":"IF(Parameter!$D$20=\"Y\",AE48,B48)","v":-0.1},-0.1,-0.1,-0.1,-0.1,-0.1,-0.1,-0.1,-0.1,-0.1,-0.1,-0.1,-0.1,-0.1,-0.1,-0.1,-0.1,-0.1,-0.1,-0.1,-0.1,-0.1,-0.1,-0.1,-0.1,-0.1,-0.1,-0.1,-0.1,-0.1,-0.1,{"$f":"IF(Parameter!$D$20=\"Y\",B48, AE48)","v":-0.1},null,null,null,null,{"$f":"(0.1-B48)/0.2*(Parameter!$D$2-Parameter!$D$3)+Parameter!$D$3","v":800},{"$f":"(0.1-C48)/0.2*(Parameter!$D$2-Parameter!$D$3)+Parameter!$D$3","v":800},{"$f":"(0.1-D48)/0.2*(Parameter!$D$2-Parameter!$D$3)+Parameter!$D$3","v":800},{"$f":"(0.1-E48)/0.2*(Parameter!$D$2-Parameter!$D$3)+Parameter!$D$3","v":800},{"$f":"(0.1-F48)/0.2*(Parameter!$D$2-Parameter!$D$3)+Parameter!$D$3","v":800},{"$f":"(0.1-G48)/0.2*(Parameter!$D$2-Parameter!$D$3)+Parameter!$D$3","v":800},{"$f":"(0.1-H48)/0.2*(Parameter!$D$2-Parameter!$D$3)+Parameter!$D$3","v":800},{"$f":"(0.1-I48)/0.2*(Parameter!$D$2-Parameter!$D$3)+Parameter!$D$3","v":800},{"$f":"(0.1-J48)/0.2*(Parameter!$D$2-Parameter!$D$3)+Parameter!$D$3","v":800},{"$f":"(0.1-K48)/0.2*(Parameter!$D$2-Parameter!$D$3)+Parameter!$D$3","v":800},{"$f":"(0.1-L48)/0.2*(Parameter!$D$2-Parameter!$D$3)+Parameter!$D$3","v":800},{"$f":"(0.1-M48)/0.2*(Parameter!$D$2-Parameter!$D$3)+Parameter!$D$3","v":800},{"$f":"(0.1-N48)/0.2*(Parameter!$D$2-Parameter!$D$3)+Parameter!$D$3","v":800},{"$f":"(0.1-O48)/0.2*(Parameter!$D$2-Parameter!$D$3)+Parameter!$D$3","v":800},{"$f":"(0.1-P48)/0.2*(Parameter!$D$2-Parameter!$D$3)+Parameter!$D$3","v":800},{"$f":"(0.1-Q48)/0.2*(Parameter!$D$2-Parameter!$D$3)+Parameter!$D$3","v":800},{"$f":"(0.1-R48)/0.2*(Parameter!$D$2-Parameter!$D$3)+Parameter!$D$3","v":800},{"$f":"(0.1-S48)/0.2*(Parameter!$D$2-Parameter!$D$3)+Parameter!$D$3","v":800},{"$f":"(0.1-T48)/0.2*(Parameter!$D$2-Parameter!$D$3)+Parameter!$D$3","v":800},{"$f":"(0.1-U48)/0.2*(Parameter!$D$2-Parameter!$D$3)+Parameter!$D$3","v":800},{"$f":"(0.1-V48)/0.2*(Parameter!$D$2-Parameter!$D$3)+Parameter!$D$3","v":800},{"$f":"(0.1-W48)/0.2*(Parameter!$D$2-Parameter!$D$3)+Parameter!$D$3","v":800},{"$f":"(0.1-X48)/0.2*(Parameter!$D$2-Parameter!$D$3)+Parameter!$D$3","v":800},{"$f":"(0.1-Y48)/0.2*(Parameter!$D$2-Parameter!$D$3)+Parameter!$D$3","v":800},{"$f":"(0.1-Z48)/0.2*(Parameter!$D$2-Parameter!$D$3)+Parameter!$D$3","v":800},{"$f":"(0.1-AA48)/0.2*(Parameter!$D$2-Parameter!$D$3)+Parameter!$D$3","v":800},{"$f":"(0.1-AB48)/0.2*(Parameter!$D$2-Parameter!$D$3)+Parameter!$D$3","v":800},{"$f":"(0.1-AC48)/0.2*(Parameter!$D$2-Parameter!$D$3)+Parameter!$D$3","v":800},{"$f":"(0.1-AD48)/0.2*(Parameter!$D$2-Parameter!$D$3)+Parameter!$D$3","v":800},{"$f":"(0.1-AE48)/0.2*(Parameter!$D$2-Parameter!$D$3)+Parameter!$D$3","v":800}]
[{"$f":"IF(Parameter!$D$20=\"Y\",AE49,B49)","v":-0.1},-0.1,-0.1,-0.1,-0.1,-0.1,-0.1,-0.1,-0.1,-0.1,-0.1,-0.1,-0.1,-0.1,-0.1,-0.1,-0.1,-0.1,-0.1,-0.1,-0.1,-0.1,-0.1,-0.1,-0.1,-0.1,-0.1,-0.1,-0.1,-0.1,-0.1,{"$f":"IF(Parameter!$D$20=\"Y\",B49, AE49)","v":-0.1},null,null,null,null,{"$f":"(0.1-B49)/0.2*(Parameter!$D$2-Parameter!$D$3)+Parameter!$D$3","v":800},{"$f":"(0.1-C49)/0.2*(Parameter!$D$2-Parameter!$D$3)+Parameter!$D$3","v":800},{"$f":"(0.1-D49)/0.2*(Parameter!$D$2-Parameter!$D$3)+Parameter!$D$3","v":800},{"$f":"(0.1-E49)/0.2*(Parameter!$D$2-Parameter!$D$3)+Parameter!$D$3","v":800},{"$f":"(0.1-F49)/0.2*(Parameter!$D$2-Parameter!$D$3)+Parameter!$D$3","v":800},{"$f":"(0.1-G49)/0.2*(Parameter!$D$2-Parameter!$D$3)+Parameter!$D$3","v":800},{"$f":"(0.1-H49)/0.2*(Parameter!$D$2-Parameter!$D$3)+Parameter!$D$3","v":800},{"$f":"(0.1-I49)/0.2*(Parameter!$D$2-Parameter!$D$3)+Parameter!$D$3","v":800},{"$f":"(0.1-J49)/0.2*(Parameter!$D$2-Parameter!$D$3)+Parameter!$D$3","v":800},{"$f":"(0.1-K49)/0.2*(Parameter!$D$2-Parameter!$D$3)+Parameter!$D$3","v":800},{"$f":"(0.1-L49)/0.2*(Parameter!$D$2-Parameter!$D$3)+Parameter!$D$3","v":800},{"$f":"(0.1-M49)/0.2*(Parameter!$D$2-Parameter!$D$3)+Parameter!$D$3","v":800},{"$f":"(0.1-N49)/0.2*(Parameter!$D$2-Parameter!$D$3)+Parameter!$D$3","v":800},{"$f":"(0.1-O49)/0.2*(Parameter!$D$2-Parameter!$D$3)+Parameter!$D$3","v":800},{"$f":"(0.1-P49)/0.2*(Parameter!$D$2-Parameter!$D$3)+Parameter!$D$3","v":800},{"$f":"(0.1-Q49)/0.2*(Parameter!$D$2-Parameter!$D$3)+Parameter!$D$3","v":800},{"$f":"(0.1-R49)/0.2*(Parameter!$D$2-Parameter!$D$3)+Parameter!$D$3","v":800},{"$f":"(0.1-S49)/0.2*(Parameter!$D$2-Parameter!$D$3)+Parameter!$D$3","v":800},{"$f":"(0.1-T49)/0.2*(Parameter!$D$2-Parameter!$D$3)+Parameter!$D$3","v":800},{"$f":"(0.1-U49)/0.2*(Parameter!$D$2-Parameter!$D$3)+Parameter!$D$3","v":800},{"$f":"(0.1-V49)/0.2*(Parameter!$D$2-Parameter!$D$3)+Parameter!$D$3","v":800},{"$f":"(0.1-W49)/0.2*(Parameter!$D$2-Parameter!$D$3)+Parameter!$D$3","v":800},{"$f":"(0.1-X49)/0.2*(Parameter!$D$2-Parameter!$D$3)+Parameter!$D$3","v":800},{"$f":"(0.1-Y49)/0.2*(Parameter!$D$2-Parameter!$D$3)+Parameter!$D$3","v":800},{"$f":"(0.1-Z49)/0.2*(Parameter!$D$2-Parameter!$D$3)+Parameter!$D$3","v":800},{"$f":"(0.1-AA49)/0.2*(Parameter!$D$2-Parameter!$D$3)+Parameter!$D$3","v":800},{"$f":"(0.1-AB49)/0.2*(Parameter!$D$2-Parameter!$D$3)+Parameter!$D$3","v":800},{"$f":"(0.1-AC49)/0.2*(Parameter!$D$2-Parameter!$D$3)+Parameter!$D$3","v":800},{"$f":"(0.1-AD49)/0.2*(Parameter!$D$2-Parameter!$D$3)+Parameter!$D$3","v":800},{"$f":"(0.1-AE49)/0.2*(Parameter!$D$2-Parameter!$D$3)+Parameter!$D$3","v":800}]
[{"$f":"IF(Parameter!$D$20=\"Y\",AE50,B50)","v":-0.1},-0.1,-0.1,-0.1,-0.1,-0.1,-0.1,-0.1,-0.1,-0.1,-0.1,-0.1,-0.1,-0.1,-0.1,-0.1,-0.1,-0.1,-0.1,-0.1,-0.1,-0.1,-0.1,-0.1,-0.1,-0.1,-0.1,-0.1,-0.1,-0.1,-0.1,{"$f":"IF(Parameter!$D$20=\"Y\",B50, AE50)","v":-0.1},null,null,null,null,{"$f":"(0.1-B50)/0.2*(Parameter!$D$2-Parameter!$D$3)+Parameter!$D$3","v":800},{"$f":"(0.1-C50)/0.2*(Parameter!$D$2-Parameter!$D$3)+Parameter!$D$3","v":800},{"$f":"(0.1-D50)/0.2*(Parameter!$D$2-Parameter!$D$3)+Parameter!$D$3","v":800},{"$f":"(0.1-E50)/0.2*(Parameter!$D$2-Parameter!$D$3)+Parameter!$D$3","v":800},{"$f":"(0.1-F50)/0.2*(Parameter!$D$2-Parameter!$D$3)+Parameter!$D$3","v":800},{"$f":"(0.1-G50)/0.2*(Parameter!$D$2-Parameter!$D$3)+Parameter!$D$3","v":800},{"$f":"(0.1-H50)/0.2*(Parameter!$D$2-Parameter!$D$3)+Parameter!$D$3","v":800},{"$f":"(0.1-I50)/0.2*(Parameter!$D$2-Parameter!$D$3)+Parameter!$D$3","v":800},{"$f":"(0.1-J50)/0.2*(Parameter!$D$2-Parameter!$D$3)+Parameter!$D$3","v":800},{"$f":"(0.1-K50)/0.2*(Parameter!$D$2-Parameter!$D$3)+Parameter!$D$3","v":800},{"$f":"(0.1-L50)/0.2*(Parameter!$D$2-Parameter!$D$3)+Parameter!$D$3","v":800},{"$f":"(0.1-M50)/0.2*(Parameter!$D$2-Parameter!$D$3)+Parameter!$D$3","v":800},{"$f":"(0.1-N50)/0.2*(Parameter!$D$2-Parameter!$D$3)+Parameter!$D$3","v":800},{"$f":"(0.1-O50)/0.2*(Parameter!$D$2-Parameter!$D$3)+Parameter!$D$3","v":800},{"$f":"(0.1-P50)/0.2*(Parameter!$D$2-Parameter!$D$3)+Parameter!$D$3","v":800},{"$f":"(0.1-Q50)/0.2*(Parameter!$D$2-Parameter!$D$3)+Parameter!$D$3","v":800},{"$f":"(0.1-R50)/0.2*(Parameter!$D$2-Parameter!$D$3)+Parameter!$D$3","v":800},{"$f":"(0.1-S50)/0.2*(Parameter!$D$2-Parameter!$D$3)+Parameter!$D$3","v":800},{"$f":"(0.1-T50)/0.2*(Parameter!$D$2-Parameter!$D$3)+Parameter!$D$3","v":800},{"$f":"(0.1-U50)/0.2*(Parameter!$D$2-Parameter!$D$3)+Parameter!$D$3","v":800},{"$f":"(0.1-V50)/0.2*(Parameter!$D$2-Parameter!$D$3)+Parameter!$D$3","v":800},{"$f":"(0.1-W50)/0.2*(Parameter!$D$2-Parameter!$D$3)+Parameter!$D$3","v":800},{"$f":"(0.1-X50)/0.2*(Parameter!$D$2-Parameter!$D$3)+Parameter!$D$3","v":800},{"$f":"(0.1-Y50)/0.2*(Parameter!$D$2-Parameter!$D$3)+Parameter!$D$3","v":800},{"$f":"(0.1-Z50)/0.2*(Parameter!$D$2-Parameter!$D$3)+Parameter!$D$3","v":800},{"$f":"(0.1-AA50)/0.2*(Parameter!$D$2-Parameter!$D$3)+Parameter!$D$3","v":800},{"$f":"(0.1-AB50)/0.2*(Parameter!$D$2-Parameter!$D$3)+Parameter!$D$3","v":800},{"$f":"(0.1-AC50)/0.2*(Parameter!$D$2-Parameter!$D$3)+Parameter!$D$3","v":800},{"$f":"(0.1-AD50)/0.2*(Parameter!$D$2-Parameter!$D$3)+Parameter!$D$3","v":800},{"$f":"(0.1-AE50)/0.2*(Parameter!$D$2-Parameter!$D$3)+Parameter!$D$3","v":800}]
[{"$f":"IF(Parameter!$D$20=\"Y\",AE51,B51)","v":-0.1},-0.1,-0.1,-0.1,-0.1,-0.1,-0.1,-0.1,-0.1,-0.1,-0.1,-0.1,-0.1,-0.1,-0.1,-0.1,-0.1,-0.1,-0.1,-0.1,-0.1,-0.1,-0.1,-0.1,-0.1,-0.1,-0.1,-0.1,-0.1,-0.1,-0.1,{"$f":"IF(Parameter!$D$20=\"Y\",B51, AE51)","v":-0.1},null,null,null,null,{"$f":"(0.1-B51)/0.2*(Parameter!$D$2-Parameter!$D$3)+Parameter!$D$3","v":800},{"$f":"(0.1-C51)/0.2*(Parameter!$D$2-Parameter!$D$3)+Parameter!$D$3","v":800},{"$f":"(0.1-D51)/0.2*(Parameter!$D$2-Parameter!$D$3)+Parameter!$D$3","v":800},{"$f":"(0.1-E51)/0.2*(Parameter!$D$2-Parameter!$D$3)+Parameter!$D$3","v":800},{"$f":"(0.1-F51)/0.2*(Parameter!$D$2-Parameter!$D$3)+Parameter!$D$3","v":800},{"$f":"(0.1-G51)/0.2*(Parameter!$D$2-Parameter!$D$3)+Parameter!$D$3","v":800},{"$f":"(0.1-H51)/0.2*(Parameter!$D$2-Parameter!$D$3)+Parameter!$D$3","v":800},{"$f":"(0.1-I51)/0.2*(Parameter!$D$2-Parameter!$D$3)+Parameter!$D$3","v":800},{"$f":"(0.1-J51)/0.2*(Parameter!$D$2-Parameter!$D$3)+Parameter!$D$3","v":800},{"$f":"(0.1-K51)/0.2*(Parameter!$D$2-Parameter!$D$3)+Parameter!$D$3","v":800},{"$f":"(0.1-L51)/0.2*(Parameter!$D$2-Parameter!$D$3)+Parameter!$D$3","v":800},{"$f":"(0.1-M51)/0.2*(Parameter!$D$2-Parameter!$D$3)+Parameter!$D$3","v":800},{"$f":"(0.1-N51)/0.2*(Parameter!$D$2-Parameter!$D$3)+Parameter!$D$3","v":800},{"$f":"(0.1-O51)/0.2*(Parameter!$D$2-Parameter!$D$3)+Parameter!$D$3","v":800},{"$f":"(0.1-P51)/0.2*(Parameter!$D$2-Parameter!$D$3)+Parameter!$D$3","v":800},{"$f":"(0.1-Q51)/0.2*(Parameter!$D$2-Parameter!$D$3)+Parameter!$D$3","v":800},{"$f":"(0.1-R51)/0.2*(Parameter!$D$2-Parameter!$D$3)+Parameter!$D$3","v":800},{"$f":"(0.1-S51)/0.2*(Parameter!$D$2-Parameter!$D$3)+Parameter!$D$3","v":800},{"$f":"(0.1-T51)/0.2*(Parameter!$D$2-Parameter!$D$3)+Parameter!$D$3","v":800},{"$f":"(0.1-U51)/0.2*(Parameter!$D$2-Parameter!$D$3)+Parameter!$D$3","v":800},{"$f":"(0.1-V51)/0.2*(Parameter!$D$2-Parameter!$D$3)+Parameter!$D$3","v":800},{"$f":"(0.1-W51)/0.2*(Parameter!$D$2-Parameter!$D$3)+Parameter!$D$3","v":800},{"$f":"(0.1-X51)/0.2*(Parameter!$D$2-Parameter!$D$3)+Parameter!$D$3","v":800},{"$f":"(0.1-Y51)/0.2*(Parameter!$D$2-Parameter!$D$3)+Parameter!$D$3","v":800},{"$f":"(0.1-Z51)/0.2*(Parameter!$D$2-Parameter!$D$3)+Parameter!$D$3","v":800},{"$f":"(0.1-AA51)/0.2*(Parameter!$D$2-Parameter!$D$3)+Parameter!$D$3","v":800},{"$f":"(0.1-AB51)/0.2*(Parameter!$D$2-Parameter!$D$3)+Parameter!$D$3","v":800},{"$f":"(0.1-AC51)/0.2*(Parameter!$D$2-Parameter!$D$3)+Parameter!$D$3","v":800},{"$f":"(0.1-AD51)/0.2*(Parameter!$D$2-Parameter!$D$3)+Parameter!$D$3","v":800},{"$f":"(0.1-AE51)/0.2*(Parameter!$D$2-Parameter!$D$3)+Parameter!$D$3","v":800}]
[{"$f":"IF(Parameter!$D$20=\"Y\",AE52,B52)","v":-0.1},-0.1,-0.1,-0.1,-0.1,-0.1,-0.1,-0.1,-0.1,-0.1,-0.1,-0.1,-0.1,-0.1,-0.1,-0.1,-0.1,-0.1,-0.1,-0.1,-0.1,-0.1,-0.1,-0.1,-0.1,-0.1,-0.1,-0.1,-0.1,-0.1,-0.1,{"$f":"IF(Parameter!$D$20=\"Y\",B52, AE52)","v":-0.1},null,null,null,null,{"$f":"(0.1-B52)/0.2*(Parameter!$D$2-Parameter!$D$3)+Parameter!$D$3","v":800},{"$f":"(0.1-C52)/0.2*(Parameter!$D$2-Parameter!$D$3)+Parameter!$D$3","v":800},{"$f":"(0.1-D52)/0.2*(Parameter!$D$2-Parameter!$D$3)+Parameter!$D$3","v":800},{"$f":"(0.1-E52)/0.2*(Parameter!$D$2-Parameter!$D$3)+Parameter!$D$3","v":800},{"$f":"(0.1-F52)/0.2*(Parameter!$D$2-Parameter!$D$3)+Parameter!$D$3","v":800},{"$f":"(0.1-G52)/0.2*(Parameter!$D$2-Parameter!$D$3)+Parameter!$D$3","v":800},{"$f":"(0.1-H52)/0.2*(Parameter!$D$2-Parameter!$D$3)+Parameter!$D$3","v":800},{"$f":"(0.1-I52)/0.2*(Parameter!$D$2-Parameter!$D$3)+Parameter!$D$3","v":800},{"$f":"(0.1-J52)/0.2*(Parameter!$D$2-Parameter!$D$3)+Parameter!$D$3","v":800},{"$f":"(0.1-K52)/0.2*(Parameter!$D$2-Parameter!$D$3)+Parameter!$D$3","v":800},{"$f":"(0.1-L52)/0.2*(Parameter!$D$2-Parameter!$D$3)+Parameter!$D$3","v":800},{"$f":"(0.1-M52)/0.2*(Parameter!$D$2-Parameter!$D$3)+Parameter!$D$3","v":800},{"$f":"(0.1-N52)/0.2*(Parameter!$D$2-Parameter!$D$3)+Parameter!$D$3","v":800},{"$f":"(0.1-O52)/0.2*(Parameter!$D$2-Parameter!$D$3)+Parameter!$D$3","v":800},{"$f":"(0.1-P52)/0.2*(Parameter!$D$2-Parameter!$D$3)+Parameter!$D$3","v":800},{"$f":"(0.1-Q52)/0.2*(Parameter!$D$2-Parameter!$D$3)+Parameter!$D$3","v":800},{"$f":"(0.1-R52)/0.2*(Parameter!$D$2-Parameter!$D$3)+Parameter!$D$3","v":800},{"$f":"(0.1-S52)/0.2*(Parameter!$D$2-Parameter!$D$3)+Parameter!$D$3","v":800},{"$f":"(0.1-T52)/0.2*(Parameter!$D$2-Parameter!$D$3)+Parameter!$D$3","v":800},{"$f":"(0.1-U52)/0.2*(Parameter!$D$2-Parameter!$D$3)+Parameter!$D$3","v":800},{"$f":"(0.1-V52)/0.2*(Parameter!$D$2-Parameter!$D$3)+Parameter!$D$3","v":800},{"$f":"(0.1-W52)/0.2*(Parameter!$D$2-Parameter!$D$3)+Parameter!$D$3","v":800},{"$f":"(0.1-X52)/0.2*(Parameter!$D$2-Parameter!$D$3)+Parameter!$D$3","v":800},{"$f":"(0.1-Y52)/0.2*(Parameter!$D$2-Parameter!$D$3)+Parameter!$D$3","v":800},{"$f":"(0.1-Z52)/0.2*(Parameter!$D$2-Parameter!$D$3)+Parameter!$D$3","v":800},{"$f":"(0.1-AA52)/0.2*(Parameter!$D$2-Parameter!$D$3)+Parameter!$D$3","v":800},{"$f":"(0.1-AB52)/0.2*(Parameter!$D$2-Parameter!$D$3)+Parameter!$D$3","v":800},{"$f":"(0.1-AC52)/0.2*(Parameter!$D$2-Parameter!$D$3)+Parameter!$D$3","v":800},{"$f":"(0.1-AD52)/0.2*(Parameter!$D$2-Parameter!$D$3)+Parameter!$D$3","v":800},{"$f":"(0.1-AE52)/0.2*(Parameter!$D$2-Parameter!$D$3)+Parameter!$D$3","v":800}]
[{"$f":"IF(Parameter!$D$20=\"Y\",AE53,B53)","v":-0.1},-0.1,-0.1,-0.1,-0.1,-0.1,-0.1,-0.1,-0.1,-0.1,-0.1,-0.1,-0.1,-0.1,-0.1,-0.1,-0.1,-0.1,-0.1,-0.1,-0.1,-0.1,-0.1,-0.1,-0.1,-0.1,-0.1,-0.1,-0.1,-0.1,-0.1,{"$f":"IF(Parameter!$D$20=\"Y\",B53, AE53)","v":-0.1},null,null,null,null,{"$f":"(0.1-B53)/0.2*(Parameter!$D$2-Parameter!$D$3)+Parameter!$D$3","v":800},{"$f":"(0.1-C53)/0.2*(Parameter!$D$2-Parameter!$D$3)+Parameter!$D$3","v":800},{"$f":"(0.1-D53)/0.2*(Parameter!$D$2-Parameter!$D$3)+Parameter!$D$3","v":800},{"$f":"(0.1-E53)/0.2*(Parameter!$D$2-Parameter!$D$3)+Parameter!$D$3","v":800},{"$f":"(0.1-F53)/0.2*(Parameter!$D$2-Parameter!$D$3)+Parameter!$D$3","v":800},{"$f":"(0.1-G53)/0.2*(Parameter!$D$2-Parameter!$D$3)+Parameter!$D$3","v":800},{"$f":"(0.1-H53)/0.2*(Parameter!$D$2-Parameter!$D$3)+Parameter!$D$3","v":800},{"$f":"(0.1-I53)/0.2*(Parameter!$D$2-Parameter!$D$3)+Parameter!$D$3","v":800},{"$f":"(0.1-J53)/0.2*(Parameter!$D$2-Parameter!$D$3)+Parameter!$D$3","v":800},{"$f":"(0.1-K53)/0.2*(Parameter!$D$2-Parameter!$D$3)+Parameter!$D$3","v":800},{"$f":"(0.1-L53)/0.2*(Parameter!$D$2-Parameter!$D$3)+Parameter!$D$3","v":800},{"$f":"(0.1-M53)/0.2*(Parameter!$D$2-Parameter!$D$3)+Parameter!$D$3","v":800},{"$f":"(0.1-N53)/0.2*(Parameter!$D$2-Parameter!$D$3)+Parameter!$D$3","v":800},{"$f":"(0.1-O53)/0.2*(Parameter!$D$2-Parameter!$D$3)+Parameter!$D$3","v":800},{"$f":"(0.1-P53)/0.2*(Parameter!$D$2-Parameter!$D$3)+Parameter!$D$3","v":800},{"$f":"(0.1-Q53)/0.2*(Parameter!$D$2-Parameter!$D$3)+Parameter!$D$3","v":800},{"$f":"(0.1-R53)/0.2*(Parameter!$D$2-Parameter!$D$3)+Parameter!$D$3","v":800},{"$f":"(0.1-S53)/0.2*(Parameter!$D$2-Parameter!$D$3)+Parameter!$D$3","v":800},{"$f":"(0.1-T53)/0.2*(Parameter!$D$2-Parameter!$D$3)+Parameter!$D$3","v":800},{"$f":"(0.1-U53)/0.2*(Parameter!$D$2-Parameter!$D$3)+Parameter!$D$3","v":800},{"$f":"(0.1-V53)/0.2*(Parameter!$D$2-Parameter!$D$3)+Parameter!$D$3","v":800},{"$f":"(0.1-W53)/0.2*(Parameter!$D$2-Parameter!$D$3)+Parameter!$D$3","v":800},{"$f":"(0.1-X53)/0.2*(Parameter!$D$2-Parameter!$D$3)+Parameter!$D$3","v":800},{"$f":"(0.1-Y53)/0.2*(Parameter!$D$2-Parameter!$D$3)+Parameter!$D$3","v":800},{"$f":"(0.1-Z53)/0.2*(Parameter!$D$2-Parameter!$D$3)+Parameter!$D$3","v":800},{"$f":"(0.1-AA53)/0.2*(Parameter!$D$2-Parameter!$D$3)+Parameter!$D$3","v":800},{"$f":"(0.1-AB53)/0.2*(Parameter!$D$2-Parameter!$D$3)+Parameter!$D$3","v":800},{"$f":"(0.1-AC53)/0.2*(Parameter!$D$2-Parameter!$D$3)+Parameter!$D$3","v":800},{"$f":"(0.1-AD53)/0.2*(Parameter!$D$2-Parameter!$D$3)+Parameter!$D$3","v":800},{"$f":"(0.1-AE53)/0.2*(Parameter!$D$2-Parameter!$D$3)+Parameter!$D$3","v":800}]
[{"$f":"IF(Parameter!$D$20=\"Y\",AE54,B54)","v":-0.1},-0.1,-0.1,-0.1,-0.1,-0.1,-0.1,-0.1,-0.1,-0.1,-0.1,-0.1,-0.1,-0.1,-0.1,-0.1,-0.1,-0.1,-0.1,-0.1,-0.1,-0.1,-0.1,-0.1,-0.1,-0.1,-0.1,-0.1,-0.1,-0.1,-0.1,{"$f":"IF(Parameter!$D$20=\"Y\",B54, AE54)","v":-0.1},null,null,null,null,{"$f":"(0.1-B54)/0.2*(Parameter!$D$2-Parameter!$D$3)+Parameter!$D$3","v":800},{"$f":"(0.1-C54)/0.2*(Parameter!$D$2-Parameter!$D$3)+Parameter!$D$3","v":800},{"$f":"(0.1-D54)/0.2*(Parameter!$D$2-Parameter!$D$3)+Parameter!$D$3","v":800},{"$f":"(0.1-E54)/0.2*(Parameter!$D$2-Parameter!$D$3)+Parameter!$D$3","v":800},{"$f":"(0.1-F54)/0.2*(Parameter!$D$2-Parameter!$D$3)+Parameter!$D$3","v":800},{"$f":"(0.1-G54)/0.2*(Parameter!$D$2-Parameter!$D$3)+Parameter!$D$3","v":800},{"$f":"(0.1-H54)/0.2*(Parameter!$D$2-Parameter!$D$3)+Parameter!$D$3","v":800},{"$f":"(0.1-I54)/0.2*(Parameter!$D$2-Parameter!$D$3)+Parameter!$D$3","v":800},{"$f":"(0.1-J54)/0.2*(Parameter!$D$2-Parameter!$D$3)+Parameter!$D$3","v":800},{"$f":"(0.1-K54)/0.2*(Parameter!$D$2-Parameter!$D$3)+Parameter!$D$3","v":800},{"$f":"(0.1-L54)/0.2*(Parameter!$D$2-Parameter!$D$3)+Parameter!$D$3","v":800},{"$f":"(0.1-M54)/0.2*(Parameter!$D$2-Parameter!$D$3)+Parameter!$D$3","v":800},{"$f":"(0.1-N54)/0.2*(Parameter!$D$2-Parameter!$D$3)+Parameter!$D$3","v":800},{"$f":"(0.1-O54)/0.2*(Parameter!$D$2-Parameter!$D$3)+Parameter!$D$3","v":800},{"$f":"(0.1-P54)/0.2*(Parameter!$D$2-Parameter!$D$3)+Parameter!$D$3","v":800},{"$f":"(0.1-Q54)/0.2*(Parameter!$D$2-Parameter!$D$3)+Parameter!$D$3","v":800},{"$f":"(0.1-R54)/0.2*(Parameter!$D$2-Parameter!$D$3)+Parameter!$D$3","v":800},{"$f":"(0.1-S54)/0.2*(Parameter!$D$2-Parameter!$D$3)+Parameter!$D$3","v":800},{"$f":"(0.1-T54)/0.2*(Parameter!$D$2-Parameter!$D$3)+Parameter!$D$3","v":800},{"$f":"(0.1-U54)/0.2*(Parameter!$D$2-Parameter!$D$3)+Parameter!$D$3","v":800},{"$f":"(0.1-V54)/0.2*(Parameter!$D$2-Parameter!$D$3)+Parameter!$D$3","v":800},{"$f":"(0.1-W54)/0.2*(Parameter!$D$2-Parameter!$D$3)+Parameter!$D$3","v":800},{"$f":"(0.1-X54)/0.2*(Parameter!$D$2-Parameter!$D$3)+Parameter!$D$3","v":800},{"$f":"(0.1-Y54)/0.2*(Parameter!$D$2-Parameter!$D$3)+Parameter!$D$3","v":800},{"$f":"(0.1-Z54)/0.2*(Parameter!$D$2-Parameter!$D$3)+Parameter!$D$3","v":800},{"$f":"(0.1-AA54)/0.2*(Parameter!$D$2-Parameter!$D$3)+Parameter!$D$3","v":800},{"$f":"(0.1-AB54)/0.2*(Parameter!$D$2-Parameter!$D$3)+Parameter!$D$3","v":800},{"$f":"(0.1-AC54)/0.2*(Parameter!$D$2-Parameter!$D$3)+Parameter!$D$3","v":800},{"$f":"(0.1-AD54)/0.2*(Parameter!$D$2-Parameter!$D$3)+Parameter!$D$3","v":800},{"$f":"(0.1-AE54)/0.2*(Parameter!$D$2-Parameter!$D$3)+Parameter!$D$3","v":800}]
[{"$f":"IF(Parameter!$D$20=\"Y\",AE55,B55)","v":-0.1},-0.1,-0.1,-0.1,-0.1,-0.1,-0.1,-0.1,-0.1,-0.1,-0.1,-0.1,-0.1,-0.1,-0.1,-0.1,-0.1,-0.1,-0.1,-0.1,-0.1,-0.1,-0.1,-0.1,-0.1,-0.1,-0.1,-0.1,-0.1,-0.1,-0.1,{"$f":"IF(Parameter!$D$20=\"Y\",B55, AE55)","v":-0.1},null,null,null,null,{"$f":"(0.1-B55)/0.2*(Parameter!$D$2-Parameter!$D$3)+Parameter!$D$3","v":800},{"$f":"(0.1-C55)/0.2*(Parameter!$D$2-Parameter!$D$3)+Parameter!$D$3","v":800},{"$f":"(0.1-D55)/0.2*(Parameter!$D$2-Parameter!$D$3)+Parameter!$D$3","v":800},{"$f":"(0.1-E55)/0.2*(Parameter!$D$2-Parameter!$D$3)+Parameter!$D$3","v":800},{"$f":"(0.1-F55)/0.2*(Parameter!$D$2-Parameter!$D$3)+Parameter!$D$3","v":800},{"$f":"(0.1-G55)/0.2*(Parameter!$D$2-Parameter!$D$3)+Parameter!$D$3","v":800},{"$f":"(0.1-H55)/0.2*(Parameter!$D$2-Parameter!$D$3)+Parameter!$D$3","v":800},{"$f":"(0.1-I55)/0.2*(Parameter!$D$2-Parameter!$D$3)+Parameter!$D$3","v":800},{"$f":"(0.1-J55)/0.2*(Parameter!$D$2-Parameter!$D$3)+Parameter!$D$3","v":800},{"$f":"(0.1-K55)/0.2*(Parameter!$D$2-Parameter!$D$3)+Parameter!$D$3","v":800},{"$f":"(0.1-L55)/0.2*(Parameter!$D$2-Parameter!$D$3)+Parameter!$D$3","v":800},{"$f":"(0.1-M55)/0.2*(Parameter!$D$2-Parameter!$D$3)+Parameter!$D$3","v":800},{"$f":"(0.1-N55)/0.2*(Parameter!$D$2-Parameter!$D$3)+Parameter!$D$3","v":800},{"$f":"(0.1-O55)/0.2*(Parameter!$D$2-Parameter!$D$3)+Parameter!$D$3","v":800},{"$f":"(0.1-P55)/0.2*(Parameter!$D$2-Parameter!$D$3)+Parameter!$D$3","v":800},{"$f":"(0.1-Q55)/0.2*(Parameter!$D$2-Parameter!$D$3)+Parameter!$D$3","v":800},{"$f":"(0.1-R55)/0.2*(Parameter!$D$2-Parameter!$D$3)+Parameter!$D$3","v":800},{"$f":"(0.1-S55)/0.2*(Parameter!$D$2-Parameter!$D$3)+Parameter!$D$3","v":800},{"$f":"(0.1-T55)/0.2*(Parameter!$D$2-Parameter!$D$3)+Parameter!$D$3","v":800},{"$f":"(0.1-U55)/0.2*(Parameter!$D$2-Parameter!$D$3)+Parameter!$D$3","v":800},{"$f":"(0.1-V55)/0.2*(Parameter!$D$2-Parameter!$D$3)+Parameter!$D$3","v":800},{"$f":"(0.1-W55)/0.2*(Parameter!$D$2-Parameter!$D$3)+Parameter!$D$3","v":800},{"$f":"(0.1-X55)/0.2*(Parameter!$D$2-Parameter!$D$3)+Parameter!$D$3","v":800},{"$f":"(0.1-Y55)/0.2*(Parameter!$D$2-Parameter!$D$3)+Parameter!$D$3","v":800},{"$f":"(0.1-Z55)/0.2*(Parameter!$D$2-Parameter!$D$3)+Parameter!$D$3","v":800},{"$f":"(0.1-AA55)/0.2*(Parameter!$D$2-Parameter!$D$3)+Parameter!$D$3","v":800},{"$f":"(0.1-AB55)/0.2*(Parameter!$D$2-Parameter!$D$3)+Parameter!$D$3","v":800},{"$f":"(0.1-AC55)/0.2*(Parameter!$D$2-Parameter!$D$3)+Parameter!$D$3","v":800},{"$f":"(0.1-AD55)/0.2*(Parameter!$D$2-Parameter!$D$3)+Parameter!$D$3","v":800},{"$f":"(0.1-AE55)/0.2*(Parameter!$D$2-Parameter!$D$3)+Parameter!$D$3","v":800}]
[{"$f":"IF(Parameter!$D$20=\"Y\",AE56,B56)","v":-0.1},-0.1,-0.1,-0.1,-0.1,-0.1,-0.1,-0.1,-0.1,-0.1,-0.1,-0.1,-0.1,-0.1,-0.1,-0.1,-0.1,-0.1,-0.1,-0.1,-0.1,-0.1,-0.1,-0.1,-0.1,-0.1,-0.1,-0.1,-0.1,-0.1,-0.1,{"$f":"IF(Parameter!$D$20=\"Y\",B56, AE56)","v":-0.1},null,null,null,null,{"$f":"(0.1-B56)/0.2*(Parameter!$D$2-Parameter!$D$3)+Parameter!$D$3","v":800},{"$f":"(0.1-C56)/0.2*(Parameter!$D$2-Parameter!$D$3)+Parameter!$D$3","v":800},{"$f":"(0.1-D56)/0.2*(Parameter!$D$2-Parameter!$D$3)+Parameter!$D$3","v":800},{"$f":"(0.1-E56)/0.2*(Parameter!$D$2-Parameter!$D$3)+Parameter!$D$3","v":800},{"$f":"(0.1-F56)/0.2*(Parameter!$D$2-Parameter!$D$3)+Parameter!$D$3","v":800},{"$f":"(0.1-G56)/0.2*(Parameter!$D$2-Parameter!$D$3)+Parameter!$D$3","v":800},{"$f":"(0.1-H56)/0.2*(Parameter!$D$2-Parameter!$D$3)+Parameter!$D$3","v":800},{"$f":"(0.1-I56)/0.2*(Parameter!$D$2-Parameter!$D$3)+Parameter!$D$3","v":800},{"$f":"(0.1-J56)/0.2*(Parameter!$D$2-Parameter!$D$3)+Parameter!$D$3","v":800},{"$f":"(0.1-K56)/0.2*(Parameter!$D$2-Parameter!$D$3)+Parameter!$D$3","v":800},{"$f":"(0.1-L56)/0.2*(Parameter!$D$2-Parameter!$D$3)+Parameter!$D$3","v":800},{"$f":"(0.1-M56)/0.2*(Parameter!$D$2-Parameter!$D$3)+Parameter!$D$3","v":800},{"$f":"(0.1-N56)/0.2*(Parameter!$D$2-Parameter!$D$3)+Parameter!$D$3","v":800},{"$f":"(0.1-O56)/0.2*(Parameter!$D$2-Parameter!$D$3)+Parameter!$D$3","v":800},{"$f":"(0.1-P56)/0.2*(Parameter!$D$2-Parameter!$D$3)+Parameter!$D$3","v":800},{"$f":"(0.1-Q56)/0.2*(Parameter!$D$2-Parameter!$D$3)+Parameter!$D$3","v":800},{"$f":"(0.1-R56)/0.2*(Parameter!$D$2-Parameter!$D$3)+Parameter!$D$3","v":800},{"$f":"(0.1-S56)/0.2*(Parameter!$D$2-Parameter!$D$3)+Parameter!$D$3","v":800},{"$f":"(0.1-T56)/0.2*(Parameter!$D$2-Parameter!$D$3)+Parameter!$D$3","v":800},{"$f":"(0.1-U56)/0.2*(Parameter!$D$2-Parameter!$D$3)+Parameter!$D$3","v":800},{"$f":"(0.1-V56)/0.2*(Parameter!$D$2-Parameter!$D$3)+Parameter!$D$3","v":800},{"$f":"(0.1-W56)/0.2*(Parameter!$D$2-Parameter!$D$3)+Parameter!$D$3","v":800},{"$f":"(0.1-X56)/0.2*(Parameter!$D$2-Parameter!$D$3)+Parameter!$D$3","v":800},{"$f":"(0.1-Y56)/0.2*(Parameter!$D$2-Parameter!$D$3)+Parameter!$D$3","v":800},{"$f":"(0.1-Z56)/0.2*(Parameter!$D$2-Parameter!$D$3)+Parameter!$D$3","v":800},{"$f":"(0.1-AA56)/0.2*(Parameter!$D$2-Parameter!$D$3)+Parameter!$D$3","v":800},{"$f":"(0.1-AB56)/0.2*(Parameter!$D$2-Parameter!$D$3)+Parameter!$D$3","v":800},{"$f":"(0.1-AC56)/0.2*(Parameter!$D$2-Parameter!$D$3)+Parameter!$D$3","v":800},{"$f":"(0.1-AD56)/0.2*(Parameter!$D$2-Parameter!$D$3)+Parameter!$D$3","v":800},{"$f":"(0.1-AE56)/0.2*(Parameter!$D$2-Parameter!$D$3)+Parameter!$D$3","v":800}]
[{"$f":"IF(Parameter!$D$20=\"Y\",AE57,B57)","v":-0.1},-0.1,-0.1,-0.1,-0.1,-0.1,-0.1,-0.1,-0.1,-0.1,-0.1,-0.1,-0.1,-0.1,-0.1,-0.1,-0.1,-0.1,-0.1,-0.1,-0.1,-0.1,-0.1,-0.1,-0.1,-0.1,-0.1,-0.1,-0.1,-0.1,-0.1,{"$f":"IF(Parameter!$D$20=\"Y\",B57, AE57)","v":-0.1},null,null,null,null,{"$f":"(0.1-B57)/0.2*(Parameter!$D$2-Parameter!$D$3)+Parameter!$D$3","v":800},{"$f":"(0.1-C57)/0.2*(Parameter!$D$2-Parameter!$D$3)+Parameter!$D$3","v":800},{"$f":"(0.1-D57)/0.2*(Parameter!$D$2-Parameter!$D$3)+Parameter!$D$3","v":800},{"$f":"(0.1-E57)/0.2*(Parameter!$D$2-Parameter!$D$3)+Parameter!$D$3","v":800},{"$f":"(0.1-F57)/0.2*(Parameter!$D$2-Parameter!$D$3)+Parameter!$D$3","v":800},{"$f":"(0.1-G57)/0.2*(Parameter!$D$2-Parameter!$D$3)+Parameter!$D$3","v":800},{"$f":"(0.1-H57)/0.2*(Parameter!$D$2-Parameter!$D$3)+Parameter!$D$3","v":800},{"$f":"(0.1-I57)/0.2*(Parameter!$D$2-Parameter!$D$3)+Parameter!$D$3","v":800},{"$f":"(0.1-J57)/0.2*(Parameter!$D$2-Parameter!$D$3)+Parameter!$D$3","v":800},{"$f":"(0.1-K57)/0.2*(Parameter!$D$2-Parameter!$D$3)+Parameter!$D$3","v":800},{"$f":"(0.1-L57)/0.2*(Parameter!$D$2-Parameter!$D$3)+Parameter!$D$3","v":800},{"$f":"(0.1-M57)/0.2*(Parameter!$D$2-Parameter!$D$3)+Parameter!$D$3","v":800},{"$f":"(0.1-N57)/0.2*(Parameter!$D$2-Parameter!$D$3)+Parameter!$D$3","v":800},{"$f":"(0.1-O57)/0.2*(Parameter!$D$2-Parameter!$D$3)+Parameter!$D$3","v":800},{"$f":"(0.1-P57)/0.2*(Parameter!$D$2-Parameter!$D$3)+Parameter!$D$3","v":800},{"$f":"(0.1-Q57)/0.2*(Parameter!$D$2-Parameter!$D$3)+Parameter!$D$3","v":800},{"$f":"(0.1-R57)/0.2*(Parameter!$D$2-Parameter!$D$3)+Parameter!$D$3","v":800},{"$f":"(0.1-S57)/0.2*(Parameter!$D$2-Parameter!$D$3)+Parameter!$D$3","v":800},{"$f":"(0.1-T57)/0.2*(Parameter!$D$2-Parameter!$D$3)+Parameter!$D$3","v":800},{"$f":"(0.1-U57)/0.2*(Parameter!$D$2-Parameter!$D$3)+Parameter!$D$3","v":800},{"$f":"(0.1-V57)/0.2*(Parameter!$D$2-Parameter!$D$3)+Parameter!$D$3","v":800},{"$f":"(0.1-W57)/0.2*(Parameter!$D$2-Parameter!$D$3)+Parameter!$D$3","v":800},{"$f":"(0.1-X57)/0.2*(Parameter!$D$2-Parameter!$D$3)+Parameter!$D$3","v":800},{"$f":"(0.1-Y57)/0.2*(Parameter!$D$2-Parameter!$D$3)+Parameter!$D$3","v":800},{"$f":"(0.1-Z57)/0.2*(Parameter!$D$2-Parameter!$D$3)+Parameter!$D$3","v":800},{"$f":"(0.1-AA57)/0.2*(Parameter!$D$2-Parameter!$D$3)+Parameter!$D$3","v":800},{"$f":"(0.1-AB57)/0.2*(Parameter!$D$2-Parameter!$D$3)+Parameter!$D$3","v":800},{"$f":"(0.1-AC57)/0.2*(Parameter!$D$2-Parameter!$D$3)+Parameter!$D$3","v":800},{"$f":"(0.1-AD57)/0.2*(Parameter!$D$2-Parameter!$D$3)+Parameter!$D$3","v":800},{"$f":"(0.1-AE57)/0.2*(Parameter!$D$2-Parameter!$D$3)+Parameter!$D$3","v":800}]
[{"$f":"IF(Parameter!$D$20=\"Y\",AE58,B58)","v":-0.1},-0.1,-0.1,-0.1,-0.1,-0.1,-0.1,-0.1,-0.1,-0.1,-0.1,-0.1,-0.1,-0.1,-0.1,-0.1,-0.1,-0.1,-0.1,-0.1,-0.1,-0.1,-0.1,-0.1,-0.1,-0.1,-0.1,-0.1,-0.1,-0.1,-0.1,{"$f":"IF(Parameter!$D$20=\"Y\",B58, AE58)","v":-0.1},null,null,null,null,{"$f":"(0.1-B58)/0.2*(Parameter!$D$2-Parameter!$D$3)+Parameter!$D$3","v":800},{"$f":"(0.1-C58)/0.2*(Parameter!$D$2-Parameter!$D$3)+Parameter!$D$3","v":800},{"$f":"(0.1-D58)/0.2*(Parameter!$D$2-Parameter!$D$3)+Parameter!$D$3","v":800},{"$f":"(0.1-E58)/0.2*(Parameter!$D$2-Parameter!$D$3)+Parameter!$D$3","v":800},{"$f":"(0.1-F58)/0.2*(Parameter!$D$2-Parameter!$D$3)+Parameter!$D$3","v":800},{"$f":"(0.1-G58)/0.2*(Parameter!$D$2-Parameter!$D$3)+Parameter!$D$3","v":800},{"$f":"(0.1-H58)/0.2*(Parameter!$D$2-Parameter!$D$3)+Parameter!$D$3","v":800},{"$f":"(0.1-I58)/0.2*(Parameter!$D$2-Parameter!$D$3)+Parameter!$D$3","v":800},{"$f":"(0.1-J58)/0.2*(Parameter!$D$2-Parameter!$D$3)+Parameter!$D$3","v":800},{"$f":"(0.1-K58)/0.2*(Parameter!$D$2-Parameter!$D$3)+Parameter!$D$3","v":800},{"$f":"(0.1-L58)/0.2*(Parameter!$D$2-Parameter!$D$3)+Parameter!$D$3","v":800},{"$f":"(0.1-M58)/0.2*(Parameter!$D$2-Parameter!$D$3)+Parameter!$D$3","v":800},{"$f":"(0.1-N58)/0.2*(Parameter!$D$2-Parameter!$D$3)+Parameter!$D$3","v":800},{"$f":"(0.1-O58)/0.2*(Parameter!$D$2-Parameter!$D$3)+Parameter!$D$3","v":800},{"$f":"(0.1-P58)/0.2*(Parameter!$D$2-Parameter!$D$3)+Parameter!$D$3","v":800},{"$f":"(0.1-Q58)/0.2*(Parameter!$D$2-Parameter!$D$3)+Parameter!$D$3","v":800},{"$f":"(0.1-R58)/0.2*(Parameter!$D$2-Parameter!$D$3)+Parameter!$D$3","v":800},{"$f":"(0.1-S58)/0.2*(Parameter!$D$2-Parameter!$D$3)+Parameter!$D$3","v":800},{"$f":"(0.1-T58)/0.2*(Parameter!$D$2-Parameter!$D$3)+Parameter!$D$3","v":800},{"$f":"(0.1-U58)/0.2*(Parameter!$D$2-Parameter!$D$3)+Parameter!$D$3","v":800},{"$f":"(0.1-V58)/0.2*(Parameter!$D$2-Parameter!$D$3)+Parameter!$D$3","v":800},{"$f":"(0.1-W58)/0.2*(Parameter!$D$2-Parameter!$D$3)+Parameter!$D$3","v":800},{"$f":"(0.1-X58)/0.2*(Parameter!$D$2-Parameter!$D$3)+Parameter!$D$3","v":800},{"$f":"(0.1-Y58)/0.2*(Parameter!$D$2-Parameter!$D$3)+Parameter!$D$3","v":800},{"$f":"(0.1-Z58)/0.2*(Parameter!$D$2-Parameter!$D$3)+Parameter!$D$3","v":800},{"$f":"(0.1-AA58)/0.2*(Parameter!$D$2-Parameter!$D$3)+Parameter!$D$3","v":800},{"$f":"(0.1-AB58)/0.2*(Parameter!$D$2-Parameter!$D$3)+Parameter!$D$3","v":800},{"$f":"(0.1-AC58)/0.2*(Parameter!$D$2-Parameter!$D$3)+Parameter!$D$3","v":800},{"$f":"(0.1-AD58)/0.2*(Parameter!$D$2-Parameter!$D$3)+Parameter!$D$3","v":800},{"$f":"(0.1-AE58)/0.2*(Parameter!$D$2-Parameter!$D$3)+Parameter!$D$3","v":800}]
[{"$f":"IF(Parameter!$D$20=\"Y\",AE59,B59)","v":-0.1},-0.1,-0.1,-0.1,-0.1,-0.1,-0.1,-0.1,-0.1,-0.1,-0.1,-0.1,-0.1,-0.1,-0.1,-0.1,-0.1,-0.1,-0.1,-0.1,-0.1,-0.1,-0.1,-0.1,-0.1,-0.1,-0.1,-0.1,-0.1,-0.1,-0.1,{"$f":"IF(Parameter!$D$20=\"Y\",B59, AE59)","v":-0.1},null,null,null,null,{"$f":"(0.1-B59)/0.2*(Parameter!$D$2-Parameter!$D$3)+Parameter!$D$3","v":800},{"$f":"(0.1-C59)/0.2*(Parameter!$D$2-Parameter!$D$3)+Parameter!$D$3","v":800},{"$f":"(0.1-D59)/0.2*(Parameter!$D$2-Parameter!$D$3)+Parameter!$D$3","v":800},{"$f":"(0.1-E59)/0.2*(Parameter!$D$2-Parameter!$D$3)+Parameter!$D$3","v":800},{"$f":"(0.1-F59)/0.2*(Parameter!$D$2-Parameter!$D$3)+Parameter!$D$3","v":800},{"$f":"(0.1-G59)/0.2*(Parameter!$D$2-Parameter!$D$3)+Parameter!$D$3","v":800},{"$f":"(0.1-H59)/0.2*(Parameter!$D$2-Parameter!$D$3)+Parameter!$D$3","v":800},{"$f":"(0.1-I59)/0.2*(Parameter!$D$2-Parameter!$D$3)+Parameter!$D$3","v":800},{"$f":"(0.1-J59)/0.2*(Parameter!$D$2-Parameter!$D$3)+Parameter!$D$3","v":800},{"$f":"(0.1-K59)/0.2*(Parameter!$D$2-Parameter!$D$3)+Parameter!$D$3","v":800},{"$f":"(0.1-L59)/0.2*(Parameter!$D$2-Parameter!$D$3)+Parameter!$D$3","v":800},{"$f":"(0.1-M59)/0.2*(Parameter!$D$2-Parameter!$D$3)+Parameter!$D$3","v":800},{"$f":"(0.1-N59)/0.2*(Parameter!$D$2-Parameter!$D$3)+Parameter!$D$3","v":800},{"$f":"(0.1-O59)/0.2*(Parameter!$D$2-Parameter!$D$3)+Parameter!$D$3","v":800},{"$f":"(0.1-P59)/0.2*(Parameter!$D$2-Parameter!$D$3)+Parameter!$D$3","v":800},{"$f":"(0.1-Q59)/0.2*(Parameter!$D$2-Parameter!$D$3)+Parameter!$D$3","v":800},{"$f":"(0.1-R59)/0.2*(Parameter!$D$2-Parameter!$D$3)+Parameter!$D$3","v":800},{"$f":"(0.1-S59)/0.2*(Parameter!$D$2-Parameter!$D$3)+Parameter!$D$3","v":800},{"$f":"(0.1-T59)/0.2*(Parameter!$D$2-Parameter!$D$3)+Parameter!$D$3","v":800},{"$f":"(0.1-U59)/0.2*(Parameter!$D$2-Parameter!$D$3)+Parameter!$D$3","v":800},{"$f":"(0.1-V59)/0.2*(Parameter!$D$2-Parameter!$D$3)+Parameter!$D$3","v":800},{"$f":"(0.1-W59)/0.2*(Parameter!$D$2-Parameter!$D$3)+Parameter!$D$3","v":800},{"$f":"(0.1-X59)/0.2*(Parameter!$D$2-Parameter!$D$3)+Parameter!$D$3","v":800},{"$f":"(0.1-Y59)/0.2*(Parameter!$D$2-Parameter!$D$3)+Parameter!$D$3","v":800},{"$f":"(0.1-Z59)/0.2*(Parameter!$D$2-Parameter!$D$3)+Parameter!$D$3","v":800},{"$f":"(0.1-AA59)/0.2*(Parameter!$D$2-Parameter!$D$3)+Parameter!$D$3","v":800},{"$f":"(0.1-AB59)/0.2*(Parameter!$D$2-Parameter!$D$3)+Parameter!$D$3","v":800},{"$f":"(0.1-AC59)/0.2*(Parameter!$D$2-Parameter!$D$3)+Parameter!$D$3","v":800},{"$f":"(0.1-AD59)/0.2*(Parameter!$D$2-Parameter!$D$3)+Parameter!$D$3","v":800},{"$f":"(0.1-AE59)/0.2*(Parameter!$D$2-Parameter!$D$3)+Parameter!$D$3","v":800}]
[{"$f":"IF(Parameter!$D$20=\"Y\",AE60,B60)","v":-0.1},-0.1,-0.1,-0.1,-0.1,-0.1,-0.1,-0.1,-0.1,-0.1,-0.1,-0.1,-0.1,-0.1,-0.1,-0.1,-0.1,-0.1,-0.1,-0.1,-0.1,-0.1,-0.1,-0.1,-0.1,-0.1,-0.1,-0.1,-0.1,-0.1,-0.1,{"$f":"IF(Parameter!$D$20=\"Y\",B60, AE60)","v":-0.1},null,null,null,null,{"$f":"(0.1-B60)/0.2*(Parameter!$D$2-Parameter!$D$3)+Parameter!$D$3","v":800},{"$f":"(0.1-C60)/0.2*(Parameter!$D$2-Parameter!$D$3)+Parameter!$D$3","v":800},{"$f":"(0.1-D60)/0.2*(Parameter!$D$2-Parameter!$D$3)+Parameter!$D$3","v":800},{"$f":"(0.1-E60)/0.2*(Parameter!$D$2-Parameter!$D$3)+Parameter!$D$3","v":800},{"$f":"(0.1-F60)/0.2*(Parameter!$D$2-Parameter!$D$3)+Parameter!$D$3","v":800},{"$f":"(0.1-G60)/0.2*(Parameter!$D$2-Parameter!$D$3)+Parameter!$D$3","v":800},{"$f":"(0.1-H60)/0.2*(Parameter!$D$2-Parameter!$D$3)+Parameter!$D$3","v":800},{"$f":"(0.1-I60)/0.2*(Parameter!$D$2-Parameter!$D$3)+Parameter!$D$3","v":800},{"$f":"(0.1-J60)/0.2*(Parameter!$D$2-Parameter!$D$3)+Parameter!$D$3","v":800},{"$f":"(0.1-K60)/0.2*(Parameter!$D$2-Parameter!$D$3)+Parameter!$D$3","v":800},{"$f":"(0.1-L60)/0.2*(Parameter!$D$2-Parameter!$D$3)+Parameter!$D$3","v":800},{"$f":"(0.1-M60)/0.2*(Parameter!$D$2-Parameter!$D$3)+Parameter!$D$3","v":800},{"$f":"(0.1-N60)/0.2*(Parameter!$D$2-Parameter!$D$3)+Parameter!$D$3","v":800},{"$f":"(0.1-O60)/0.2*(Parameter!$D$2-Parameter!$D$3)+Parameter!$D$3","v":800},{"$f":"(0.1-P60)/0.2*(Parameter!$D$2-Parameter!$D$3)+Parameter!$D$3","v":800},{"$f":"(0.1-Q60)/0.2*(Parameter!$D$2-Parameter!$D$3)+Parameter!$D$3","v":800},{"$f":"(0.1-R60)/0.2*(Parameter!$D$2-Parameter!$D$3)+Parameter!$D$3","v":800},{"$f":"(0.1-S60)/0.2*(Parameter!$D$2-Parameter!$D$3)+Parameter!$D$3","v":800},{"$f":"(0.1-T60)/0.2*(Parameter!$D$2-Parameter!$D$3)+Parameter!$D$3","v":800},{"$f":"(0.1-U60)/0.2*(Parameter!$D$2-Parameter!$D$3)+Parameter!$D$3","v":800},{"$f":"(0.1-V60)/0.2*(Parameter!$D$2-Parameter!$D$3)+Parameter!$D$3","v":800},{"$f":"(0.1-W60)/0.2*(Parameter!$D$2-Parameter!$D$3)+Parameter!$D$3","v":800},{"$f":"(0.1-X60)/0.2*(Parameter!$D$2-Parameter!$D$3)+Parameter!$D$3","v":800},{"$f":"(0.1-Y60)/0.2*(Parameter!$D$2-Parameter!$D$3)+Parameter!$D$3","v":800},{"$f":"(0.1-Z60)/0.2*(Parameter!$D$2-Parameter!$D$3)+Parameter!$D$3","v":800},{"$f":"(0.1-AA60)/0.2*(Parameter!$D$2-Parameter!$D$3)+Parameter!$D$3","v":800},{"$f":"(0.1-AB60)/0.2*(Parameter!$D$2-Parameter!$D$3)+Parameter!$D$3","v":800},{"$f":"(0.1-AC60)/0.2*(Parameter!$D$2-Parameter!$D$3)+Parameter!$D$3","v":800},{"$f":"(0.1-AD60)/0.2*(Parameter!$D$2-Parameter!$D$3)+Parameter!$D$3","v":800},{"$f":"(0.1-AE60)/0.2*(Parameter!$D$2-Parameter!$D$3)+Parameter!$D$3","v":800}]
[{"$f":"IF(Parameter!$D$20=\"Y\",AE61,B61)","v":-0.1},-0.1,-0.1,-0.1,-0.1,-0.1,-0.1,-0.1,-0.1,-0.1,-0.1,-0.1,-0.1,-0.1,-0.1,-0.1,-0.1,-0.1,-0.1,-0.1,-0.1,-0.1,-0.1,-0.1,-0.1,-0.1,-0.1,-0.1,-0.1,-0.1,-0.1,{"$f":"IF(Parameter!$D$20=\"Y\",B61, AE61)","v":-0.1},null,null,null,null,{"$f":"(0.1-B61)/0.2*(Parameter!$D$2-Parameter!$D$3)+Parameter!$D$3","v":800},{"$f":"(0.1-C61)/0.2*(Parameter!$D$2-Parameter!$D$3)+Parameter!$D$3","v":800},{"$f":"(0.1-D61)/0.2*(Parameter!$D$2-Parameter!$D$3)+Parameter!$D$3","v":800},{"$f":"(0.1-E61)/0.2*(Parameter!$D$2-Parameter!$D$3)+Parameter!$D$3","v":800},{"$f":"(0.1-F61)/0.2*(Parameter!$D$2-Parameter!$D$3)+Parameter!$D$3","v":800},{"$f":"(0.1-G61)/0.2*(Parameter!$D$2-Parameter!$D$3)+Parameter!$D$3","v":800},{"$f":"(0.1-H61)/0.2*(Parameter!$D$2-Parameter!$D$3)+Parameter!$D$3","v":800},{"$f":"(0.1-I61)/0.2*(Parameter!$D$2-Parameter!$D$3)+Parameter!$D$3","v":800},{"$f":"(0.1-J61)/0.2*(Parameter!$D$2-Parameter!$D$3)+Parameter!$D$3","v":800},{"$f":"(0.1-K61)/0.2*(Parameter!$D$2-Parameter!$D$3)+Parameter!$D$3","v":800},{"$f":"(0.1-L61)/0.2*(Parameter!$D$2-Parameter!$D$3)+Parameter!$D$3","v":800},{"$f":"(0.1-M61)/0.2*(Parameter!$D$2-Parameter!$D$3)+Parameter!$D$3","v":800},{"$f":"(0.1-N61)/0.2*(Parameter!$D$2-Parameter!$D$3)+Parameter!$D$3","v":800},{"$f":"(0.1-O61)/0.2*(Parameter!$D$2-Parameter!$D$3)+Parameter!$D$3","v":800},{"$f":"(0.1-P61)/0.2*(Parameter!$D$2-Parameter!$D$3)+Parameter!$D$3","v":800},{"$f":"(0.1-Q61)/0.2*(Parameter!$D$2-Parameter!$D$3)+Parameter!$D$3","v":800},{"$f":"(0.1-R61)/0.2*(Parameter!$D$2-Parameter!$D$3)+Parameter!$D$3","v":800},{"$f":"(0.1-S61)/0.2*(Parameter!$D$2-Parameter!$D$3)+Parameter!$D$3","v":800},{"$f":"(0.1-T61)/0.2*(Parameter!$D$2-Parameter!$D$3)+Parameter!$D$3","v":800},{"$f":"(0.1-U61)/0.2*(Parameter!$D$2-Parameter!$D$3)+Parameter!$D$3","v":800},{"$f":"(0.1-V61)/0.2*(Parameter!$D$2-Parameter!$D$3)+Parameter!$D$3","v":800},{"$f":"(0.1-W61)/0.2*(Parameter!$D$2-Parameter!$D$3)+Parameter!$D$3","v":800},{"$f":"(0.1-X61)/0.2*(Parameter!$D$2-Parameter!$D$3)+Parameter!$D$3","v":800},{"$f":"(0.1-Y61)/0.2*(Parameter!$D$2-Parameter!$D$3)+Parameter!$D$3","v":800},{"$f":"(0.1-Z61)/0.2*(Parameter!$D$2-Parameter!$D$3)+Parameter!$D$3","v":800},{"$f":"(0.1-AA61)/0.2*(Parameter!$D$2-Parameter!$D$3)+Parameter!$D$3","v":800},{"$f":"(0.1-AB61)/0.2*(Parameter!$D$2-Parameter!$D$3)+Parameter!$D$3","v":800},{"$f":"(0.1-AC61)/0.2*(Parameter!$D$2-Parameter!$D$3)+Parameter!$D$3","v":800},{"$f":"(0.1-AD61)/0.2*(Parameter!$D$2-Parameter!$D$3)+Parameter!$D$3","v":800},{"$f":"(0.1-AE61)/0.2*(Parameter!$D$2-Parameter!$D$3)+Parameter!$D$3","v":800}]
[{"$f":"IF(Parameter!$D$20=\"Y\",AE62,B62)","v":-0.1},-0.1,-0.1,-0.1,-0.1,-0.1,-0.1,-0.1,-0.1,-0.1,-0.1,-0.1,-0.1,-0.1,-0.1,-0.1,-0.1,-0.1,-0.1,-0.1,-0.1,-0.1,-0.1,-0.1,-0.1,-0.1,-0.1,-0.1,-0.1,-0.1,-0.1,{"$f":"IF(Parameter!$D$20=\"Y\",B62, AE62)","v":-0.1},null,null,null,null,{"$f":"(0.1-B62)/0.2*(Parameter!$D$2-Parameter!$D$3)+Parameter!$D$3","v":800},{"$f":"(0.1-C62)/0.2*(Parameter!$D$2-Parameter!$D$3)+Parameter!$D$3","v":800},{"$f":"(0.1-D62)/0.2*(Parameter!$D$2-Parameter!$D$3)+Parameter!$D$3","v":800},{"$f":"(0.1-E62)/0.2*(Parameter!$D$2-Parameter!$D$3)+Parameter!$D$3","v":800},{"$f":"(0.1-F62)/0.2*(Parameter!$D$2-Parameter!$D$3)+Parameter!$D$3","v":800},{"$f":"(0.1-G62)/0.2*(Parameter!$D$2-Parameter!$D$3)+Parameter!$D$3","v":800},{"$f":"(0.1-H62)/0.2*(Parameter!$D$2-Parameter!$D$3)+Parameter!$D$3","v":800},{"$f":"(0.1-I62)/0.2*(Parameter!$D$2-Parameter!$D$3)+Parameter!$D$3","v":800},{"$f":"(0.1-J62)/0.2*(Parameter!$D$2-Parameter!$D$3)+Parameter!$D$3","v":800},{"$f":"(0.1-K62)/0.2*(Parameter!$D$2-Parameter!$D$3)+Parameter!$D$3","v":800},{"$f":"(0.1-L62)/0.2*(Parameter!$D$2-Parameter!$D$3)+Parameter!$D$3","v":800},{"$f":"(0.1-M62)/0.2*(Parameter!$D$2-Parameter!$D$3)+Parameter!$D$3","v":800},{"$f":"(0.1-N62)/0.2*(Parameter!$D$2-Parameter!$D$3)+Parameter!$D$3","v":800},{"$f":"(0.1-O62)/0.2*(Parameter!$D$2-Parameter!$D$3)+Parameter!$D$3","v":800},{"$f":"(0.1-P62)/0.2*(Parameter!$D$2-Parameter!$D$3)+Parameter!$D$3","v":800},{"$f":"(0.1-Q62)/0.2*(Parameter!$D$2-Parameter!$D$3)+Parameter!$D$3","v":800},{"$f":"(0.1-R62)/0.2*(Parameter!$D$2-Parameter!$D$3)+Parameter!$D$3","v":800},{"$f":"(0.1-S62)/0.2*(Parameter!$D$2-Parameter!$D$3)+Parameter!$D$3","v":800},{"$f":"(0.1-T62)/0.2*(Parameter!$D$2-Parameter!$D$3)+Parameter!$D$3","v":800},{"$f":"(0.1-U62)/0.2*(Parameter!$D$2-Parameter!$D$3)+Parameter!$D$3","v":800},{"$f":"(0.1-V62)/0.2*(Parameter!$D$2-Parameter!$D$3)+Parameter!$D$3","v":800},{"$f":"(0.1-W62)/0.2*(Parameter!$D$2-Parameter!$D$3)+Parameter!$D$3","v":800},{"$f":"(0.1-X62)/0.2*(Parameter!$D$2-Parameter!$D$3)+Parameter!$D$3","v":800},{"$f":"(0.1-Y62)/0.2*(Parameter!$D$2-Parameter!$D$3)+Parameter!$D$3","v":800},{"$f":"(0.1-Z62)/0.2*(Parameter!$D$2-Parameter!$D$3)+Parameter!$D$3","v":800},{"$f":"(0.1-AA62)/0.2*(Parameter!$D$2-Parameter!$D$3)+Parameter!$D$3","v":800},{"$f":"(0.1-AB62)/0.2*(Parameter!$D$2-Parameter!$D$3)+Parameter!$D$3","v":800},{"$f":"(0.1-AC62)/0.2*(Parameter!$D$2-Parameter!$D$3)+Parameter!$D$3","v":800},{"$f":"(0.1-AD62)/0.2*(Parameter!$D$2-Parameter!$D$3)+Parameter!$D$3","v":800},{"$f":"(0.1-AE62)/0.2*(Parameter!$D$2-Parameter!$D$3)+Parameter!$D$3","v":800}]
[{"$f":"IF(Parameter!$D$20=\"Y\",AE63,B63)","v":-0.1},-0.1,-0.1,-0.1,-0.1,-0.1,-0.1,-0.1,-0.1,-0.1,-0.1,-0.1,-0.1,-0.1,-0.1,-0.1,-0.1,-0.1,-0.1,-0.1,-0.1,-0.1,-0.1,-0.1,-0.1,-0.1,-0.1,-0.1,-0.1,-0.1,-0.1,{"$f":"IF(Parameter!$D$20=\"Y\",B63, AE63)","v":-0.1},null,null,null,null,{"$f":"(0.1-B63)/0.2*(Parameter!$D$2-Parameter!$D$3)+Parameter!$D$3","v":800},{"$f":"(0.1-C63)/0.2*(Parameter!$D$2-Parameter!$D$3)+Parameter!$D$3","v":800},{"$f":"(0.1-D63)/0.2*(Parameter!$D$2-Parameter!$D$3)+Parameter!$D$3","v":800},{"$f":"(0.1-E63)/0.2*(Parameter!$D$2-Parameter!$D$3)+Parameter!$D$3","v":800},{"$f":"(0.1-F63)/0.2*(Parameter!$D$2-Parameter!$D$3)+Parameter!$D$3","v":800},{"$f":"(0.1-G63)/0.2*(Parameter!$D$2-Parameter!$D$3)+Parameter!$D$3","v":800},{"$f":"(0.1-H63)/0.2*(Parameter!$D$2-Parameter!$D$3)+Parameter!$D$3","v":800},{"$f":"(0.1-I63)/0.2*(Parameter!$D$2-Parameter!$D$3)+Parameter!$D$3","v":800},{"$f":"(0.1-J63)/0.2*(Parameter!$D$2-Parameter!$D$3)+Parameter!$D$3","v":800},{"$f":"(0.1-K63)/0.2*(Parameter!$D$2-Parameter!$D$3)+Parameter!$D$3","v":800},{"$f":"(0.1-L63)/0.2*(Parameter!$D$2-Parameter!$D$3)+Parameter!$D$3","v":800},{"$f":"(0.1-M63)/0.2*(Parameter!$D$2-Parameter!$D$3)+Parameter!$D$3","v":800},{"$f":"(0.1-N63)/0.2*(Parameter!$D$2-Parameter!$D$3)+Parameter!$D$3","v":800},{"$f":"(0.1-O63)/0.2*(Parameter!$D$2-Parameter!$D$3)+Parameter!$D$3","v":800},{"$f":"(0.1-P63)/0.2*(Parameter!$D$2-Parameter!$D$3)+Parameter!$D$3","v":800},{"$f":"(0.1-Q63)/0.2*(Parameter!$D$2-Parameter!$D$3)+Parameter!$D$3","v":800},{"$f":"(0.1-R63)/0.2*(Parameter!$D$2-Parameter!$D$3)+Parameter!$D$3","v":800},{"$f":"(0.1-S63)/0.2*(Parameter!$D$2-Parameter!$D$3)+Parameter!$D$3","v":800},{"$f":"(0.1-T63)/0.2*(Parameter!$D$2-Parameter!$D$3)+Parameter!$D$3","v":800},{"$f":"(0.1-U63)/0.2*(Parameter!$D$2-Parameter!$D$3)+Parameter!$D$3","v":800},{"$f":"(0.1-V63)/0.2*(Parameter!$D$2-Parameter!$D$3)+Parameter!$D$3","v":800},{"$f":"(0.1-W63)/0.2*(Parameter!$D$2-Parameter!$D$3)+Parameter!$D$3","v":800},{"$f":"(0.1-X63)/0.2*(Parameter!$D$2-Parameter!$D$3)+Parameter!$D$3","v":800},{"$f":"(0.1-Y63)/0.2*(Parameter!$D$2-Parameter!$D$3)+Parameter!$D$3","v":800},{"$f":"(0.1-Z63)/0.2*(Parameter!$D$2-Parameter!$D$3)+Parameter!$D$3","v":800},{"$f":"(0.1-AA63)/0.2*(Parameter!$D$2-Parameter!$D$3)+Parameter!$D$3","v":800},{"$f":"(0.1-AB63)/0.2*(Parameter!$D$2-Parameter!$D$3)+Parameter!$D$3","v":800},{"$f":"(0.1-AC63)/0.2*(Parameter!$D$2-Parameter!$D$3)+Parameter!$D$3","v":800},{"$f":"(0.1-AD63)/0.2*(Parameter!$D$2-Parameter!$D$3)+Parameter!$D$3","v":800},{"$f":"(0.1-AE63)/0.2*(Parameter!$D$2-Parameter!$D$3)+Parameter!$D$3","v":800}]
[{"$f":"IF(Parameter!$D$20=\"Y\",AE64,B64)","v":-0.1},-0.1,-0.1,-0.1,-0.1,-0.1,-0.1,-0.1,-0.1,-0.1,-0.1,-0.1,-0.1,-0.1,-0.1,-0.1,-0.1,-0.1,-0.1,-0.1,-0.1,-0.1,-0.1,-0.1,-0.1,-0.1,-0.1,-0.1,-0.1,-0.1,-0.1,{"$f":"IF(Parameter!$D$20=\"Y\",B64, AE64)","v":-0.1},null,null,null,null,{"$f":"(0.1-B64)/0.2*(Parameter!$D$2-Parameter!$D$3)+Parameter!$D$3","v":800},{"$f":"(0.1-C64)/0.2*(Parameter!$D$2-Parameter!$D$3)+Parameter!$D$3","v":800},{"$f":"(0.1-D64)/0.2*(Parameter!$D$2-Parameter!$D$3)+Parameter!$D$3","v":800},{"$f":"(0.1-E64)/0.2*(Parameter!$D$2-Parameter!$D$3)+Parameter!$D$3","v":800},{"$f":"(0.1-F64)/0.2*(Parameter!$D$2-Parameter!$D$3)+Parameter!$D$3","v":800},{"$f":"(0.1-G64)/0.2*(Parameter!$D$2-Parameter!$D$3)+Parameter!$D$3","v":800},{"$f":"(0.1-H64)/0.2*(Parameter!$D$2-Parameter!$D$3)+Parameter!$D$3","v":800},{"$f":"(0.1-I64)/0.2*(Parameter!$D$2-Parameter!$D$3)+Parameter!$D$3","v":800},{"$f":"(0.1-J64)/0.2*(Parameter!$D$2-Parameter!$D$3)+Parameter!$D$3","v":800},{"$f":"(0.1-K64)/0.2*(Parameter!$D$2-Parameter!$D$3)+Parameter!$D$3","v":800},{"$f":"(0.1-L64)/0.2*(Parameter!$D$2-Parameter!$D$3)+Parameter!$D$3","v":800},{"$f":"(0.1-M64)/0.2*(Parameter!$D$2-Parameter!$D$3)+Parameter!$D$3","v":800},{"$f":"(0.1-N64)/0.2*(Parameter!$D$2-Parameter!$D$3)+Parameter!$D$3","v":800},{"$f":"(0.1-O64)/0.2*(Parameter!$D$2-Parameter!$D$3)+Parameter!$D$3","v":800},{"$f":"(0.1-P64)/0.2*(Parameter!$D$2-Parameter!$D$3)+Parameter!$D$3","v":800},{"$f":"(0.1-Q64)/0.2*(Parameter!$D$2-Parameter!$D$3)+Parameter!$D$3","v":800},{"$f":"(0.1-R64)/0.2*(Parameter!$D$2-Parameter!$D$3)+Parameter!$D$3","v":800},{"$f":"(0.1-S64)/0.2*(Parameter!$D$2-Parameter!$D$3)+Parameter!$D$3","v":800},{"$f":"(0.1-T64)/0.2*(Parameter!$D$2-Parameter!$D$3)+Parameter!$D$3","v":800},{"$f":"(0.1-U64)/0.2*(Parameter!$D$2-Parameter!$D$3)+Parameter!$D$3","v":800},{"$f":"(0.1-V64)/0.2*(Parameter!$D$2-Parameter!$D$3)+Parameter!$D$3","v":800},{"$f":"(0.1-W64)/0.2*(Parameter!$D$2-Parameter!$D$3)+Parameter!$D$3","v":800},{"$f":"(0.1-X64)/0.2*(Parameter!$D$2-Parameter!$D$3)+Parameter!$D$3","v":800},{"$f":"(0.1-Y64)/0.2*(Parameter!$D$2-Parameter!$D$3)+Parameter!$D$3","v":800},{"$f":"(0.1-Z64)/0.2*(Parameter!$D$2-Parameter!$D$3)+Parameter!$D$3","v":800},{"$f":"(0.1-AA64)/0.2*(Parameter!$D$2-Parameter!$D$3)+Parameter!$D$3","v":800},{"$f":"(0.1-AB64)/0.2*(Parameter!$D$2-Parameter!$D$3)+Parameter!$D$3","v":800},{"$f":"(0.1-AC64)/0.2*(Parameter!$D$2-Parameter!$D$3)+Parameter!$D$3","v":800},{"$f":"(0.1-AD64)/0.2*(Parameter!$D$2-Parameter!$D$3)+Parameter!$D$3","v":800},{"$f":"(0.1-AE64)/0.2*(Parameter!$D$2-Parameter!$D$3)+Parameter!$D$3","v":800}]
[{"$f":"IF(AND(Parameter!$D$19=\"Y\", Parameter!$D$20=\"Y\"), CA!A35, B64)","v":-0.1},{"$f":"B35","v":-0.1},-0.1,-0.1,-0.1,-0.1,-0.1,-0.1,-0.1,-0.1,-0.1,-0.1,-0.1,-0.1,-0.1,-0.1,-0.1,-0.1,-0.1,-0.1,-0.1,-0.1,-0.1,-0.1,-0.1,-0.1,-0.1,-0.1,-0.1,-0.1,-0.1,{"$f":"IF(AND(Parameter!$D$19=\"Y\", Parameter!$D$20=\"Y\"), CA!AF35,AE64)","v":-0.1}]

{"sheet":"CoolingCurve_out","index":2,"n_rows":1,"n_cols":16,"rows_kept":1,"cut":false,"hidden":false,"merged":[]}
["Time","P1:Vapor\r\nFilm","P1:Temperature\r\nNon Dimension","P1:Temperature\r\n/℃","P2:Vapor\r\nFilm","P2:Temperature\r\nNon Dimension","P2:Temperature\r\n/℃","P3:Vapor\r\nFilm","P3:Temperature\r\nNon Dimension","P3:Temperature\r\n/℃","P4:Vapor\r\nFilm","P4:Temperature\r\nNon Dimension","P4:Temperature\r\n/℃","P5:Vapor\r\nFilm","P5:Temperature\r\nNon Dimension","P5:Temperature\r\n/℃"]

{"sheet":"Parameter","index":3,"n_rows":20,"n_cols":6,"rows_kept":20,"cut":false,"hidden":false,"merged":[[18,1,18,2],[19,1,19,2],[16,1,16,2],[15,1,15,2],[14,1,14,2],[5,1,5,2],[8,1,8,2],[1,1,2,1],[12,1,12,2],[13,1,13,2],[4,1,4,2],[7,1,7,2],[3,1,3,2],[6,1,6,2],[10,1,10,2],[11,1,11,2],[9,1,9,2]]}
[]
[null,"Temperature\nRange","Upper",800]
[null,null,"Lower",100]
[null,"Minimum Heat Flux",null,503.6,null,{"$f":"0.1-($D4-$D$3)/($D$2-$D$3)*0.2","v":-1.5314285714285725E-2}]
[null,"Boiling Temperature",null,368.7,null,{"$f":"0.1-($D5-$D$3)/($D$2-$D$3)*0.2","v":2.3228571428571432E-2}]
[null,"Coolant Temperature",null,60,null,{"$f":"0.1-($D6-$D$3)/($D$2-$D$3)*0.2","v":0.11142857142857143}]
[null,"Vapor Blanket Stage",null,1.0441]
[null,"Boiling Stage",null,4.9939999999999998]
[null,"Convection Stage",null,0.86499999999999999]
[null,"Phase Verocity on Vibration of Vapor Film",null,3]
[null,"Heat Transfer with Neighborhood Cells",null,1]
[null,"Propagation of vapor film collapse from Neighborhood cells",null,1]
[]
[null,"Effect of Latent Heat",null,1E-4]
[null,"Iteration Number",null,300]
[null,"Fitting Parameter",null,0.08]
[null,"Time Increment",null,0.1]
[]
[null,"Rotation(Upper/Lower)",null,"N"]
[null,"Rotation(Left/Right)",null,"Y"]

{"sheet":"Shape_edge","index":4,"n_rows":31,"n_cols":32,"rows_kept":31,"cut":false,"hidden":false,"merged":[]}
[]
[0,0,0,0,0,0,0,0,0,0,0,0,0,0,0,0,0,0,0,0,0,0,0,0,0,0,0,0,0,0]
[0,0,0,0,0,0,0,0,0,0,0,0,0,0,0,0,0,0,0,0,0,0,0,0,0,0,0,0,0,0,null,"Shape Factor for Vapor Bloken"]
[0,0,0,0,0,0,0,0,0,0,0,0,0,0,0,0,0,0,0,0,0,0,0,0,0,0,0,0,0,0]
[0,0,0,0,0,0,0,0,0,0,0,0,0,0,0,0,0,0,0,0,0,0,0,0,0,0,0,0,0,0]
[0,0,0,0,0,0,0,0,0,0,0,0,0,0,0,0,0,0,0,0,0,0,0,0,0,0,0,0,0,0]
[0,0,0,0,0,0,0,0,0,0,0,0,0,0,0,0,0,0,0,0,0,0,0,0,0,0,0,0,0,0]
[0,0,0,0,0,0,0,0,0,0,0,0,0,0,0,0,0,0,0,0,0,0,0,0,0,0,0,0,0,0]
[0.1,0.1,0.1,0.1,0.1,0.1,0.1,0.1,0.1,0.1,0.1,0.1,0.1,0.1,0.1,0.1,0.1,0.1,0.1,0.1,0.1,0.1,0.1,0.1,0.1,0.1,0.1,0.1,0.1,0.1]
[0,0,0,0,0,0,0,0,0,0,0,0,0,0,0,0,0,0,0,0,0,0,0,0,0,0,0,0,0,0]
[0,0,0,0,0,0,0,0,0,0,0,0,0,0,0,0,0,0,0,0,0,0,0,0,0,0,0,0,0,0]
[0,0,0,0,0,0,0,0,0,0,0,0,0,0,0,0,0,0,0,0,0,0,0,0,0,0,0,0,0,0]
[0,0,0,0,0,0,0,0,0,0,0,0,0,0,0,0,0,0,0,0,0,0,0,0,0,0,0,0,0,0]
[0,0,0,0,0,0,0,0,0,0,0,0,0,0,0,0,0,0,0,0,0,0,0,0,0,0,0,0,0,0]
[0,0,0,0,0,0,0,0,0,0,0,0,0,0,0,0,0,0,0,0,0,0,0,0,0,0,0,0,0,0]
[0,0,0,0,0,0,0,0,0,0,0,0,0,0,0,0,0,0,0,0,0,0,0,0,0,0,0,0,0,0]
[0,0,0,0,0,0,0,0,0,0,0,0,0,0,0,0,0,0,0,0,0,0,0,0,0,0,0,0,0,0]
[0,0,0,0,0,0,0,0,0,0,0,0,0,0,0,0,0,0,0,0,0,0,0,0,0,0,0,0,0,0]
[0,0,0,0,0,0,0,0,0,0,0,0,0,0,0,0,0,0,0,0,0,0,0,0,0,0,0,0,0,0]
[0,0,0,0,0,0,0,0,0,0,0,0,0,0,0,0,0,0,0,0,0,0,0,0,0,0,0,0,0,0]
[0,0,0,0,0,0,0,0,0,0,0,0,0,0,0,0,0,0,0,0,0,0,0,0,0,0,0,0,0,0]
[0,0,0,0,0,0,0,0,0,0,0,0,0,0,0,0,0,0,0,0,0,0,0,0,0,0,0,0,0,0]
[0.1,0.1,0.1,0.1,0.1,0.1,0.1,0.1,0.1,0.1,0.1,0.1,0.1,0.1,0.1,0.1,0.1,0.1,0.1,0.1,0.1,0.1,0.1,0.1,0.1,0.1,0.1,0.1,0.1,0.1]
[0,0,0,0,0,0,0,0,0,0,0,0,0,0,0,0,0,0,0,0,0,0,0,0,0,0,0,0,0,0]
[0,0,0,0,0,0,0,0,0,0,0,0,0,0,0,0,0,0,0,0,0,0,0,0,0,0,0,0,0,0]
[0,0,0,0,0,0,0,0,0,0,0,0,0,0,0,0,0,0,0,0,0,0,0,0,0,0,0,0,0,0]
[0,0,0,0,0,0,0,0,0,0,0,0,0,0,0,0,0,0,0,0,0,0,0,0,0,0,0,0,0,0]
[0,0,0,0,0,0,0,0,0,0,0,0,0,0,0,0,0,0,0,0,0,0,0,0,0,0,0,0,0,0]
[0,0,0,0,0,0,0,0,0,0,0,0,0,0,0,0,0,0,0,0,0,0,0,0,0,0,0,0,0,0]
[0,0,0,0,0,0,0,0,0,0,0,0,0,0,0,0,0,0,0,0,0,0,0,0,0,0,0,0,0,0]
[0,0,0,0,0,0,0,0,0,0,0,0,0,0,0,0,0,0,0,0,0,0,0,0,0,0,0,0,0,0]

{"sheet":"Shape_round","index":5,"n_rows":31,"n_cols":32,"rows_kept":31,"cut":false,"hidden":false,"merged":[]}
[]
[0.9,0.9,0.9,0.9,0.9,0.9,0.9,0.9,0.9,0.9,0.9,0.9,0.9,0.9,0.9,0.9,0.9,0.9,0.9,0.9,0.9,0.9,0.9,0.9,0.9,0.9,0.9,0.9,0.9,0.9]
[0.9,0.9,0.9,0.9,0.9,0.9,0.9,0.9,0.9,0.9,0.9,0.9,0.9,0.9,0.9,0.9,0.9,0.9,0.9,0.9,0.9,0.9,0.9,0.9,0.9,0.9,0.9,0.9,0.9,0.9,null,"Shape Factor for Cooling"]
[0.9,0.9,0.9,0.9,0.9,0.9,0.9,0.9,0.9,0.9,0.9,0.9,0.9,0.9,0.9,0.9,0.9,0.9,0.9,0.9,0.9,0.9,0.9,0.9,0.9,0.9,0.9,0.9,0.9,0.9]
[0.9,0.9,0.9,0.9,0.9,0.9,0.9,0.9,0.9,0.9,0.9,0.9,0.9,0.9,0.9,0.9,0.9,0.9,0.9,0.9,0.9,0.9,0.9,0.9,0.9,0.9,0.9,0.9,0.9,0.9]
[0.9,0.9,0.9,0.9,0.9,0.9,0.9,0.9,0.9,0.9,0.9,0.9,0.9,0.9,0.9,0.9,0.9,0.9,0.9,0.9,0.9,0.9,0.9,0.9,0.9,0.9,0.9,0.9,0.9,0.9]
[0.9,0.9,0.9,0.9,0.9,0.9,0.9,0.9,0.9,0.9,0.9,0.9,0.9,0.9,0.9,0.9,0.9,0.9,0.9,0.9,0.9,0.9,0.9,0.9,0.9,0.9,0.9,0.9,0.9,0.9]
[0.9,0.9,0.9,0.9,0.9,0.9,0.9,0.9,0.9,0.9,0.9,0.9,0.9,0.9,0.9,0.9,0.9,0.9,0.9,0.9,0.9,0.9,0.9,0.9,0.9,0.9,0.9,0.9,0.9,0.9]
[0,0,0,0,0,0,0,0,0,0,0,0,0,0,0,0,0,0,0,0,0,0,0,0,0,0,0,0,0,0]
[0,0,0,0,0,0,0,0,0,0,0,0,0,0,0,0,0,0,0,0,0,0,0,0,0,0,0,0,0,0]
[0,0,0,0,0,0,0,0,0,0,0,0,0,0,0,0,0,0,0,0,0,0,0,0,0,0,0,0,0,0]
[0,0,0,0,0,0,0,0,0,0,0,0,0,0,0,0,0,0,0,0,0,0,0,0,0,0,0,0,0,0]
[0,0,0,0,0,0,0,0,0,0,0,0,0,0,0,0,0,0,0,0,0,0,0,0,0,0,0,0,0,0]
[0,0,0,0,0,0,0,0,0,0,0,0,0,0,0,0,0,0,0,0,0,0,0,0,0,0,0,0,0,0]
[0,0,0,0,0,0,0,0,0,0,0,0,0,0,0,0,0,0,0,0,0,0,0,0,0,0,0,0,0,0]
[0,0,0,0,0,0,0,0,0,0,0,0,0,0,0,0,0,0,0,0,0,0,0,0,0,0,0,0,0,0]
[0,0,0,0,0,0,0,0,0,0,0,0,0,0,0,0,0,0,0,0,0,0,0,0,0,0,0,0,0,0]
[0,0,0,0,0,0,0,0,0,0,0,0,0,0,0,0,0,0,0,0,0,0,0,0,0,0,0,0,0,0]
[0,0,0,0,0,0,0,0,0,0,0,0,0,0,0,0,0,0,0,0,0,0,0,0,0,0,0,0,0,0]
[0,0,0,0,0,0,0,0,0,0,0,0,0,0,0,0,0,0,0,0,0,0,0,0,0,0,0,0,0,0]
[0,0,0,0,0,0,0,0,0,0,0,0,0,0,0,0,0,0,0,0,0,0,0,0,0,0,0,0,0,0]
[0,0,0,0,0,0,0,0,0,0,0,0,0,0,0,0,0,0,0,0,0,0,0,0,0,0,0,0,0,0]
[0,0,0,0,0,0,0,0,0,0,0,0,0,0,0,0,0,0,0,0,0,0,0,0,0,0,0,0,0,0]
[0,0,0,0,0,0,0,0,0,0,0,0,0,0,0,0,0,0,0,0,0,0,0,0,0,0,0,0,0,0]
[1.1000000000000001,1.1000000000000001,1.1000000000000001,1.1000000000000001,1.1000000000000001,1.1000000000000001,1.1000000000000001,1.1000000000000001,1.1000000000000001,1.1000000000000001,1.1000000000000001,1.1000000000000001,1.1000000000000001,1.1000000000000001,1.1000000000000001,1.1000000000000001,1.1000000000000001,1.1000000000000001,1.1000000000000001,1.1000000000000001,1.1000000000000001,1.1000000000000001,1.1000000000000001,1.1000000000000001,1.1000000000000001,1.1000000000000001,1.1000000000000001,1.1000000000000001,1.1000000000000001,1.1000000000000001]
[1.1000000000000001,1.1000000000000001,1.1000000000000001,1.1000000000000001,1.1000000000000001,1.1000000000000001,1.1000000000000001,1.1000000000000001,1.1000000000000001,1.1000000000000001,1.1000000000000001,1.1000000000000001,1.1000000000000001,1.1000000000000001,1.1000000000000001,1.1000000000000001,1.1000000000000001,1.1000000000000001,1.1000000000000001,1.1000000000000001,1.1000000000000001,1.1000000000000001,1.1000000000000001,1.1000000000000001,1.1000000000000001,1.1000000000000001,1.1000000000000001,1.1000000000000001,1.1000000000000001,1.1000000000000001]
[1.1000000000000001,1.1000000000000001,1.1000000000000001,1.1000000000000001,1.1000000000000001,1.1000000000000001,1.1000000000000001,1.1000000000000001,1.1000000000000001,1.1000000000000001,1.1000000000000001,1.1000000000000001,1.1000000000000001,1.1000000000000001,1.1000000000000001,1.1000000000000001,1.1000000000000001,1.1000000000000001,1.1000000000000001,1.1000000000000001,1.1000000000000001,1.1000000000000001,1.1000000000000001,1.1000000000000001,1.1000000000000001,1.1000000000000001,1.1000000000000001,1.1000000000000001,1.1000000000000001,1.1000000000000001]
[1.1000000000000001,1.1000000000000001,1.1000000000000001,1.1000000000000001,1.1000000000000001,1.1000000000000001,1.1000000000000001,1.1000000000000001,1.1000000000000001,1.1000000000000001,1.1000000000000001,1.1000000000000001,1.1000000000000001,1.1000000000000001,1.1000000000000001,1.1000000000000001,1.1000000000000001,1.1000000000000001,1.1000000000000001,1.1000000000000001,1.1000000000000001,1.1000000000000001,1.1000000000000001,1.1000000000000001,1.1000000000000001,1.1000000000000001,1.1000000000000001,1.1000000000000001,1.1000000000000001,1.1000000000000001]
[1.1000000000000001,1.1000000000000001,1.1000000000000001,1.1000000000000001,1.1000000000000001,1.1000000000000001,1.1000000000000001,1.1000000000000001,1.1000000000000001,1.1000000000000001,1.1000000000000001,1.1000000000000001,1.1000000000000001,1.1000000000000001,1.1000000000000001,1.1000000000000001,1.1000000000000001,1.1000000000000001,1.1000000000000001,1.1000000000000001,1.1000000000000001,1.1000000000000001,1.1000000000000001,1.1000000000000001,1.1000000000000001,1.1000000000000001,1.1000000000000001,1.1000000000000001,1.1000000000000001,1.1000000000000001]
[1.1000000000000001,1.1000000000000001,1.1000000000000001,1.1000000000000001,1.1000000000000001,1.1000000000000001,1.1000000000000001,1.1000000000000001,1.1000000000000001,1.1000000000000001,1.1000000000000001,1.1000000000000001,1.1000000000000001,1.1000000000000001,1.1000000000000001,1.1000000000000001,1.1000000000000001,1.1000000000000001,1.1000000000000001,1.1000000000000001,1.1000000000000001,1.1000000000000001,1.1000000000000001,1.1000000000000001,1.1000000000000001,1.1000000000000001,1.1000000000000001,1.1000000000000001,1.1000000000000001,1.1000000000000001]
[1.1000000000000001,1.1000000000000001,1.1000000000000001,1.1000000000000001,1.1000000000000001,1.1000000000000001,1.1000000000000001,1.1000000000000001,1.1000000000000001,1.1000000000000001,1.1000000000000001,1.1000000000000001,1.1000000000000001,1.1000000000000001,1.1000000000000001,1.1000000000000001,1.1000000000000001,1.1000000000000001,1.1000000000000001,1.1000000000000001,1.1000000000000001,1.1000000000000001,1.1000000000000001,1.1000000000000001,1.1000000000000001,1.1000000000000001,1.1000000000000001,1.1000000000000001,1.1000000000000001,1.1000000000000001]

{"sheet":"Vapor_Fluctuation_Magnitude","index":6,"n_rows":31,"n_cols":32,"rows_kept":31,"cut":false,"hidden":false,"merged":[]}
[]
[0,0,0,0,0,0,0,0,0,0,0,0,0,0,0,0,0,0,0,0,0,0,0,0,0,0,0,0,0,0]
[0,0,0,0,0,0,0,0,0,0,0,0,0,0,0,0,0,0,0,0,0,0,0,0,0,0,0,0,0,0,null,"Flactuation of Vapor Film Surface"]
[0,0,0,0,0,0,0,0,0,0,0,0,0,0,0,0,0,0,0,0,0,0,0,0,0,0,0,0,0,0]
[0,0,0,0,0,0,0,0,0,0,0,0,0,0,0,0,0,0,0,0,0,0,0,0,0,0,0,0,0,0]
[0,0,0,0,0,0,0,0,0,0,0,0,0,0,0,0,0,0,0,0,0,0,0,0,0,0,0,0,0,0]
[0,0,0,0,0,0,0,0,0,0,0,0,0,0,0,0,0,0,0,0,0,0,0,0,0,0,0,0,0,0]
[0,0,0,0,0,0,0,0,0,0,0,0,0,0,0,0,0,0,0,0,0,0,0,0,0,0,0,0,0,0]
[1,1,1,1,1,1,1,1,1,1,1,1,1,1,1,1,1,1,1,1,1,1,1,1,1,1,1,1,1,1]
[1,1,1,1,1,1,1,1,1,1,1,1,1,1,1,1,1,1,1,1,1,1,1,1,1,1,1,1,1,1]
[1,1,1,1,1,1,1,1,1,1,1,1,1,1,1,1,1,1,1,1,1,1,1,1,1,1,1,1,1,1]
[1,1,1,1,1,1,1,1,1,1,1,1,1,1,1,1,1,1,1,1,1,1,1,1,1,1,1,1,1,1]
[1,1,1,1,1,1,1,1,1,1,1,1,1,1,1,1,1,1,1,1,1,1,1,1,1,1,1,1,1,1]
[1,1,1,1,1,1,1,1,1,1,1,1,1,1,1,1,1,1,1,1,1,1,1,1,1,1,1,1,1,1]
[1,1,1,1,1,1,1,1,1,1,1,1,1,1,1,1,1,1,1,1,1,1,1,1,1,1,1,1,1,1]
[1,1,1,1,1,1,1,1,1,1,1,1,1,1,1,1,1,1,1,1,1,1,1,1,1,1,1,1,1,1]
[1,1,1,1,1,1,1,1,1,1,1,1,1,1,1,1,1,1,1,1,1,1,1,1,1,1,1,1,1,1]
[1,1,1,1,1,1,1,1,1,1,1,1,1,1,1,1,1,1,1,1,1,1,1,1,1,1,1,1,1,1]
[1,1,1,1,1,1,1,1,1,1,1,1,1,1,1,1,1,1,1,1,1,1,1,1,1,1,1,1,1,1]
[1,1,1,1,1,1,1,1,1,1,1,1,1,1,1,1,1,1,1,1,1,1,1,1,1,1,1,1,1,1]
[1,1,1,1,1,1,1,1,1,1,1,1,1,1,1,1,1,1,1,1,1,1,1,1,1,1,1,1,1,1]
[1,1,1,1,1,1,1,1,1,1,1,1,1,1,1,1,1,1,1,1,1,1,1,1,1,1,1,1,1,1]
[1,1,1,1,1,1,1,1,1,1,1,1,1,1,1,1,1,1,1,1,1,1,1,1,1,1,1,1,1,1]
[1,1,1,1,1,1,1,1,1,1,1,1,1,1,1,1,1,1,1,1,1,1,1,1,1,1,1,1,1,1]
[0,0,0,0,0,0,0,0,0,0,0,0,0,0,0,0,0,0,0,0,0,0,0,0,0,0,0,0,0,0]
[0,0,0,0,0,0,0,0,0,0,0,0,0,0,0,0,0,0,0,0,0,0,0,0,0,0,0,0,0,0]
[0,0,0,0,0,0,0,0,0,0,0,0,0,0,0,0,0,0,0,0,0,0,0,0,0,0,0,0,0,0]
[0,0,0,0,0,0,0,0,0,0,0,0,0,0,0,0,0,0,0,0,0,0,0,0,0,0,0,0,0,0]
[0,0,0,0,0,0,0,0,0,0,0,0,0,0,0,0,0,0,0,0,0,0,0,0,0,0,0,0,0,0]
[0,0,0,0,0,0,0,0,0,0,0,0,0,0,0,0,0,0,0,0,0,0,0,0,0,0,0,0,0,0]
[0,0,0,0,0,0,0,0,0,0,0,0,0,0,0,0,0,0,0,0,0,0,0,0,0,0,0,0,0,0]

{"sheet":"Tilt","index":7,"n_rows":31,"n_cols":33,"rows_kept":31,"cut":false,"hidden":false,"merged":[]}
[]
[null,0,0,0,0,0,0,0,0,0,0,0,0,0,0,0,0,0,0,0,0,0,0,0,0,0,0,0,0,0,0]
[null,0,0,0,0,0,0,0,0,0,0,0,0,0,0,0,0,0,0,0,0,0,0,0,0,0,0,0,0,0,0]
[null,0,0,0,0,0,0,0,0,0,0,0,0,0,0,0,0,0,0,0,0,0,0,0,0,0,0,0,0,0,0]
[null,0,0,0,0,0,0,0,0,0,0,0,0,0,0,0,0,0,0,0,0,0,0,0,0,0,0,0,0,0,0]
[null,0,0,0,0,0,0,0,0,0,0,0,0,0,0,0,0,0,0,0,0,0,0,0,0,0,0,0,0,0,0]
[null,0,0,0,0,0,0,0,0,0,0,0,0,0,0,0,0,0,0,0,0,0,0,0,0,0,0,0,0,0,0]
[null,0,0,0,0,0,0,0,0,0,0,0,0,0,0,0,0,0,0,0,0,0,0,0,0,0,0,0,0,0,0]
[null,-90,-90,-90,-90,-90,-90,-90,-90,-90,-90,-90,-90,-90,-90,-90,-90,-90,-90,-90,-90,-90,-90,-90,-90,-90,-90,-90,-90,-90,-90]
[null,-90,-90,-90,-90,-90,-90,-90,-90,-90,-90,-90,-90,-90,-90,-90,-90,-90,-90,-90,-90,-90,-90,-90,-90,-90,-90,-90,-90,-90,-90]
[null,-90,-90,-90,-90,-90,-90,-90,-90,-90,-90,-90,-90,-90,-90,-90,-90,-90,-90,-90,-90,-90,-90,-90,-90,-90,-90,-90,-90,-90,-90]
[null,-90,-90,-90,-90,-90,-90,-90,-90,-90,-90,-90,-90,-90,-90,-90,-90,-90,-90,-90,-90,-90,-90,-90,-90,-90,-90,-90,-90,-90,-90]
[null,-90,-90,-90,-90,-90,-90,-90,-90,-90,-90,-90,-90,-90,-90,-90,-90,-90,-90,-90,-90,-90,-90,-90,-90,-90,-90,-90,-90,-90,-90]
[null,-90,-90,-90,-90,-90,-90,-90,-90,-90,-90,-90,-90,-90,-90,-90,-90,-90,-90,-90,-90,-90,-90,-90,-90,-90,-90,-90,-90,-90,-90]
[null,-90,-90,-90,-90,-90,-90,-90,-90,-90,-90,-90,-90,-90,-90,-90,-90,-90,-90,-90,-90,-90,-90,-90,-90,-90,-90,-90,-90,-90,-90]
[null,-90,-90,-90,-90,-90,-90,-90,-90,-90,-90,-90,-90,-90,-90,-90,-90,-90,-90,-90,-90,-90,-90,-90,-90,-90,-90,-90,-90,-90,-90]
[null,-90,-90,-90,-90,-90,-90,-90,-90,-90,-90,-90,-90,-90,-90,-90,-90,-90,-90,-90,-90,-90,-90,-90,-90,-90,-90,-90,-90,-90,-90]
[null,-90,-90,-90,-90,-90,-90,-90,-90,-90,-90,-90,-90,-90,-90,-90,-90,-90,-90,-90,-90,-90,-90,-90,-90,-90,-90,-90,-90,-90,-90]
[null,-90,-90,-90,-90,-90,-90,-90,-90,-90,-90,-90,-90,-90,-90,-90,-90,-90,-90,-90,-90,-90,-90,-90,-90,-90,-90,-90,-90,-90,-90]
[null,-90,-90,-90,-90,-90,-90,-90,-90,-90,-90,-90,-90,-90,-90,-90,-90,-90,-90,-90,-90,-90,-90,-90,-90,-90,-90,-90,-90,-90,-90]
[null,-90,-90,-90,-90,-90,-90,-90,-90,-90,-90,-90,-90,-90,-90,-90,-90,-90,-90,-90,-90,-90,-90,-90,-90,-90,-90,-90,-90,-90,-90]
[null,-90,-90,-90,-90,-90,-90,-90,-90,-90,-90,-90,-90,-90,-90,-90,-90,-90,-90,-90,-90,-90,-90,-90,-90,-90,-90,-90,-90,-90,-90]
[null,-90,-90,-90,-90,-90,-90,-90,-90,-90,-90,-90,-90,-90,-90,-90,-90,-90,-90,-90,-90,-90,-90,-90,-90,-90,-90,-90,-90,-90,-90]
[null,-90,-90,-90,-90,-90,-90,-90,-90,-90,-90,-90,-90,-90,-90,-90,-90,-90,-90,-90,-90,-90,-90,-90,-90,-90,-90,-90,-90,-90,-90,null,"Gravity"]
[null,0,0,0,0,0,0,0,0,0,0,0,0,0,0,0,0,0,0,0,0,0,0,0,0,0,0,0,0,0,0,null,"|"]
[null,0,0,0,0,0,0,0,0,0,0,0,0,0,0,0,0,0,0,0,0,0,0,0,0,0,0,0,0,0,0,null,"v"]
[null,0,0,0,0,0,0,0,0,0,0,0,0,0,0,0,0,0,0,0,0,0,0,0,0,0,0,0,0,0,0]
[null,0,0,0,0,0,0,0,0,0,0,0,0,0,0,0,0,0,0,0,0,0,0,0,0,0,0,0,0,0,0]
[null,0,0,0,0,0,0,0,0,0,0,0,0,0,0,0,0,0,0,0,0,0,0,0,0,0,0,0,0,0,0]
[null,0,0,0,0,0,0,0,0,0,0,0,0,0,0,0,0,0,0,0,0,0,0,0,0,0,0,0,0,0,0]
[null,0,0,0,0,0,0,0,0,0,0,0,0,0,0,0,0,0,0,0,0,0,0,0,0,0,0,0,0,0,0]

{"sheet":"Update","index":8,"n_rows":64,"n_cols":34,"rows_kept":64,"cut":false,"hidden":true,"merged":[]}
[]
[null,{"$f":"IF(AND(S!B2>0,CA!B35>=Parameter!$F$5),2,IF(AND(S!B2>0,CA!B35>=Parameter!$F$4),1,0))","v":0},{"$f":"IF(AND(S!C2>0,CA!C35>=Parameter!$F$5),2,IF(AND(S!C2>0,CA!C35>=Parameter!$F$4),1,0))","v":0},{"$f":"IF(AND(S!D2>0,CA!D35>=Parameter!$F$5),2,IF(AND(S!D2>0,CA!D35>=Parameter!$F$4),1,0))","v":0},{"$f":"IF(AND(S!E2>0,CA!E35>=Parameter!$F$5),2,IF(AND(S!E2>0,CA!E35>=Parameter!$F$4),1,0))","v":0},{"$f":"IF(AND(S!F2>0,CA!F35>=Parameter!$F$5),2,IF(AND(S!F2>0,CA!F35>=Parameter!$F$4),1,0))","v":0},{"$f":"IF(AND(S!G2>0,CA!G35>=Parameter!$F$5),2,IF(AND(S!G2>0,CA!G35>=Parameter!$F$4),1,0))","v":0},{"$f":"IF(AND(S!H2>0,CA!H35>=Parameter!$F$5),2,IF(AND(S!H2>0,CA!H35>=Parameter!$F$4),1,0))","v":0},{"$f":"IF(AND(S!I2>0,CA!I35>=Parameter!$F$5),2,IF(AND(S!I2>0,CA!I35>=Parameter!$F$4),1,0))","v":0},{"$f":"IF(AND(S!J2>0,CA!J35>=Parameter!$F$5),2,IF(AND(S!J2>0,CA!J35>=Parameter!$F$4),1,0))","v":0},{"$f":"IF(AND(S!K2>0,CA!K35>=Parameter!$F$5),2,IF(AND(S!K2>0,CA!K35>=Parameter!$F$4),1,0))","v":0},{"$f":"IF(AND(S!L2>0,CA!L35>=Parameter!$F$5),2,IF(AND(S!L2>0,CA!L35>=Parameter!$F$4),1,0))","v":0},{"$f":"IF(AND(S!M2>0,CA!M35>=Parameter!$F$5),2,IF(AND(S!M2>0,CA!M35>=Parameter!$F$4),1,0))","v":0},{"$f":"IF(AND(S!N2>0,CA!N35>=Parameter!$F$5),2,IF(AND(S!N2>0,CA!N35>=Parameter!$F$4),1,0))","v":0},{"$f":"IF(AND(S!O2>0,CA!O35>=Parameter!$F$5),2,IF(AND(S!O2>0,CA!O35>=Parameter!$F$4),1,0))","v":0},{"$f":"IF(AND(S!P2>0,CA!P35>=Parameter!$F$5),2,IF(AND(S!P2>0,CA!P35>=Parameter!$F$4),1,0))","v":0},{"$f":"IF(AND(S!Q2>0,CA!Q35>=Parameter!$F$5),2,IF(AND(S!Q2>0,CA!Q35>=Parameter!$F$4),1,0))","v":0},{"$f":"IF(AND(S!R2>0,CA!R35>=Parameter!$F$5),2,IF(AND(S!R2>0,CA!R35>=Parameter!$F$4),1,0))","v":0},{"$f":"IF(AND(S!S2>0,CA!S35>=Parameter!$F$5),2,IF(AND(S!S2>0,CA!S35>=Parameter!$F$4),1,0))","v":0},{"$f":"IF(AND(S!T2>0,CA!T35>=Parameter!$F$5),2,IF(AND(S!T2>0,CA!T35>=Parameter!$F$4),1,0))","v":0},{"$f":"IF(AND(S!U2>0,CA!U35>=Parameter!$F$5),2,IF(AND(S!U2>0,CA!U35>=Parameter!$F$4),1,0))","v":0},{"$f":"IF(AND(S!V2>0,CA!V35>=Parameter!$F$5),2,IF(AND(S!V2>0,CA!V35>=Parameter!$F$4),1,0))","v":0},{"$f":"IF(AND(S!W2>0,CA!W35>=Parameter!$F$5),2,IF(AND(S!W2>0,CA!W35>=Parameter!$F$4),1,0))","v":0},{"$f":"IF(AND(S!X2>0,CA!X35>=Parameter!$F$5),2,IF(AND(S!X2>0,CA!X35>=Parameter!$F$4),1,0))","v":0},{"$f":"IF(AND(S!Y2>0,CA!Y35>=Parameter!$F$5),2,IF(AND(S!Y2>0,CA!Y35>=Parameter!$F$4),1,0))","v":0},{"$f":"IF(AND(S!Z2>0,CA!Z35>=Parameter!$F$5),2,IF(AND(S!Z2>0,CA!Z35>=Parameter!$F$4),1,0))","v":0},{"$f":"IF(AND(S!AA2>0,CA!AA35>=Parameter!$F$5),2,IF(AND(S!AA2>0,CA!AA35>=Parameter!$F$4),1,0))","v":0},{"$f":"IF(AND(S!AB2>0,CA!AB35>=Parameter!$F$5),2,IF(AND(S!AB2>0,CA!AB35>=Parameter!$F$4),1,0))","v":0},{"$f":"IF(AND(S!AC2>0,CA!AC35>=Parameter!$F$5),2,IF(AND(S!AC2>0,CA!AC35>=Parameter!$F$4),1,0))","v":0},{"$f":"IF(AND(S!AD2>0,CA!AD35>=Parameter!$F$5),2,IF(AND(S!AD2>0,CA!AD35>=Parameter!$F$4),1,0))","v":0},{"$f":"IF(AND(S!AE2>0,CA!AE35>=Parameter!$F$5),2,IF(AND(S!AE2>0,CA!AE35>=Parameter!$F$4),1,0))","v":0}]
[null,{"$f":"IF(AND(S!B3>0,CA!B36>=Parameter!$F$5),2,IF(AND(S!B3>0,CA!B36>=Parameter!$F$4),1,0))","v":0},{"$f":"IF(AND(S!C3>0,CA!C36>=Parameter!$F$5),2,IF(AND(S!C3>0,CA!C36>=Parameter!$F$4),1,0))","v":0},{"$f":"IF(AND(S!D3>0,CA!D36>=Parameter!$F$5),2,IF(AND(S!D3>0,CA!D36>=Parameter!$F$4),1,0))","v":0},{"$f":"IF(AND(S!E3>0,CA!E36>=Parameter!$F$5),2,IF(AND(S!E3>0,CA!E36>=Parameter!$F$4),1,0))","v":0},{"$f":"IF(AND(S!F3>0,CA!F36>=Parameter!$F$5),2,IF(AND(S!F3>0,CA!F36>=Parameter!$F$4),1,0))","v":0},{"$f":"IF(AND(S!G3>0,CA!G36>=Parameter!$F$5),2,IF(AND(S!G3>0,CA!G36>=Parameter!$F$4),1,0))","v":0},{"$f":"IF(AND(S!H3>0,CA!H36>=Parameter!$F$5),2,IF(AND(S!H3>0,CA!H36>=Parameter!$F$4),1,0))","v":0},{"$f":"IF(AND(S!I3>0,CA!I36>=Parameter!$F$5),2,IF(AND(S!I3>0,CA!I36>=Parameter!$F$4),1,0))","v":0},{"$f":"IF(AND(S!J3>0,CA!J36>=Parameter!$F$5),2,IF(AND(S!J3>0,CA!J36>=Parameter!$F$4),1,0))","v":0},{"$f":"IF(AND(S!K3>0,CA!K36>=Parameter!$F$5),2,IF(AND(S!K3>0,CA!K36>=Parameter!$F$4),1,0))","v":0},{"$f":"IF(AND(S!L3>0,CA!L36>=Parameter!$F$5),2,IF(AND(S!L3>0,CA!L36>=Parameter!$F$4),1,0))","v":0},{"$f":"IF(AND(S!M3>0,CA!M36>=Parameter!$F$5),2,IF(AND(S!M3>0,CA!M36>=Parameter!$F$4),1,0))","v":0},{"$f":"IF(AND(S!N3>0,CA!N36>=Parameter!$F$5),2,IF(AND(S!N3>0,CA!N36>=Parameter!$F$4),1,0))","v":0},{"$f":"IF(AND(S!O3>0,CA!O36>=Parameter!$F$5),2,IF(AND(S!O3>0,CA!O36>=Parameter!$F$4),1,0))","v":0},{"$f":"IF(AND(S!P3>0,CA!P36>=Parameter!$F$5),2,IF(AND(S!P3>0,CA!P36>=Parameter!$F$4),1,0))","v":0},{"$f":"IF(AND(S!Q3>0,CA!Q36>=Parameter!$F$5),2,IF(AND(S!Q3>0,CA!Q36>=Parameter!$F$4),1,0))","v":0},{"$f":"IF(AND(S!R3>0,CA!R36>=Parameter!$F$5),2,IF(AND(S!R3>0,CA!R36>=Parameter!$F$4),1,0))","v":0},{"$f":"IF(AND(S!S3>0,CA!S36>=Parameter!$F$5),2,IF(AND(S!S3>0,CA!S36>=Parameter!$F$4),1,0))","v":0},{"$f":"IF(AND(S!T3>0,CA!T36>=Parameter!$F$5),2,IF(AND(S!T3>0,CA!T36>=Parameter!$F$4),1,0))","v":0},{"$f":"IF(AND(S!U3>0,CA!U36>=Parameter!$F$5),2,IF(AND(S!U3>0,CA!U36>=Parameter!$F$4),1,0))","v":0},{"$f":"IF(AND(S!V3>0,CA!V36>=Parameter!$F$5),2,IF(AND(S!V3>0,CA!V36>=Parameter!$F$4),1,0))","v":0},{"$f":"IF(AND(S!W3>0,CA!W36>=Parameter!$F$5),2,IF(AND(S!W3>0,CA!W36>=Parameter!$F$4),1,0))","v":0},{"$f":"IF(AND(S!X3>0,CA!X36>=Parameter!$F$5),2,IF(AND(S!X3>0,CA!X36>=Parameter!$F$4),1,0))","v":0},{"$f":"IF(AND(S!Y3>0,CA!Y36>=Parameter!$F$5),2,IF(AND(S!Y3>0,CA!Y36>=Parameter!$F$4),1,0))","v":0},{"$f":"IF(AND(S!Z3>0,CA!Z36>=Parameter!$F$5),2,IF(AND(S!Z3>0,CA!Z36>=Parameter!$F$4),1,0))","v":0},{"$f":"IF(AND(S!AA3>0,CA!AA36>=Parameter!$F$5),2,IF(AND(S!AA3>0,CA!AA36>=Parameter!$F$4),1,0))","v":0},{"$f":"IF(AND(S!AB3>0,CA!AB36>=Parameter!$F$5),2,IF(AND(S!AB3>0,CA!AB36>=Parameter!$F$4),1,0))","v":0},{"$f":"IF(AND(S!AC3>0,CA!AC36>=Parameter!$F$5),2,IF(AND(S!AC3>0,CA!AC36>=Parameter!$F$4),1,0))","v":0},{"$f":"IF(AND(S!AD3>0,CA!AD36>=Parameter!$F$5),2,IF(AND(S!AD3>0,CA!AD36>=Parameter!$F$4),1,0))","v":0},{"$f":"IF(AND(S!AE3>0,CA!AE36>=Parameter!$F$5),2,IF(AND(S!AE3>0,CA!AE36>=Parameter!$F$4),1,0))","v":0},null,null,"次の時刻"]
[null,{"$f":"IF(AND(S!B4>0,CA!B37>=Parameter!$F$5),2,IF(AND(S!B4>0,CA!B37>=Parameter!$F$4),1,0))","v":0},{"$f":"IF(AND(S!C4>0,CA!C37>=Parameter!$F$5),2,IF(AND(S!C4>0,CA!C37>=Parameter!$F$4),1,0))","v":0},{"$f":"IF(AND(S!D4>0,CA!D37>=Parameter!$F$5),2,IF(AND(S!D4>0,CA!D37>=Parameter!$F$4),1,0))","v":0},{"$f":"IF(AND(S!E4>0,CA!E37>=Parameter!$F$5),2,IF(AND(S!E4>0,CA!E37>=Parameter!$F$4),1,0))","v":0},{"$f":"IF(AND(S!F4>0,CA!F37>=Parameter!$F$5),2,IF(AND(S!F4>0,CA!F37>=Parameter!$F$4),1,0))","v":0},{"$f":"IF(AND(S!G4>0,CA!G37>=Parameter!$F$5),2,IF(AND(S!G4>0,CA!G37>=Parameter!$F$4),1,0))","v":0},{"$f":"IF(AND(S!H4>0,CA!H37>=Parameter!$F$5),2,IF(AND(S!H4>0,CA!H37>=Parameter!$F$4),1,0))","v":0},{"$f":"IF(AND(S!I4>0,CA!I37>=Parameter!$F$5),2,IF(AND(S!I4>0,CA!I37>=Parameter!$F$4),1,0))","v":0},{"$f":"IF(AND(S!J4>0,CA!J37>=Parameter!$F$5),2,IF(AND(S!J4>0,CA!J37>=Parameter!$F$4),1,0))","v":0},{"$f":"IF(AND(S!K4>0,CA!K37>=Parameter!$F$5),2,IF(AND(S!K4>0,CA!K37>=Parameter!$F$4),1,0))","v":0},{"$f":"IF(AND(S!L4>0,CA!L37>=Parameter!$F$5),2,IF(AND(S!L4>0,CA!L37>=Parameter!$F$4),1,0))","v":0},{"$f":"IF(AND(S!M4>0,CA!M37>=Parameter!$F$5),2,IF(AND(S!M4>0,CA!M37>=Parameter!$F$4),1,0))","v":0},{"$f":"IF(AND(S!N4>0,CA!N37>=Parameter!$F$5),2,IF(AND(S!N4>0,CA!N37>=Parameter!$F$4),1,0))","v":0},{"$f":"IF(AND(S!O4>0,CA!O37>=Parameter!$F$5),2,IF(AND(S!O4>0,CA!O37>=Parameter!$F$4),1,0))","v":0},{"$f":"IF(AND(S!P4>0,CA!P37>=Parameter!$F$5),2,IF(AND(S!P4>0,CA!P37>=Parameter!$F$4),1,0))","v":0},{"$f":"IF(AND(S!Q4>0,CA!Q37>=Parameter!$F$5),2,IF(AND(S!Q4>0,CA!Q37>=Parameter!$F$4),1,0))","v":0},{"$f":"IF(AND(S!R4>0,CA!R37>=Parameter!$F$5),2,IF(AND(S!R4>0,CA!R37>=Parameter!$F$4),1,0))","v":0},{"$f":"IF(AND(S!S4>0,CA!S37>=Parameter!$F$5),2,IF(AND(S!S4>0,CA!S37>=Parameter!$F$4),1,0))","v":0},{"$f":"IF(AND(S!T4>0,CA!T37>=Parameter!$F$5),2,IF(AND(S!T4>0,CA!T37>=Parameter!$F$4),1,0))","v":0},{"$f":"IF(AND(S!U4>0,CA!U37>=Parameter!$F$5),2,IF(AND(S!U4>0,CA!U37>=Parameter!$F$4),1,0))","v":0},{"$f":"IF(AND(S!V4>0,CA!V37>=Parameter!$F$5),2,IF(AND(S!V4>0,CA!V37>=Parameter!$F$4),1,0))","v":0},{"$f":"IF(AND(S!W4>0,CA!W37>=Parameter!$F$5),2,IF(AND(S!W4>0,CA!W37>=Parameter!$F$4),1,0))","v":0},{"$f":"IF(AND(S!X4>0,CA!X37>=Parameter!$F$5),2,IF(AND(S!X4>0,CA!X37>=Parameter!$F$4),1,0))","v":0},{"$f":"IF(AND(S!Y4>0,CA!Y37>=Parameter!$F$5),2,IF(AND(S!Y4>0,CA!Y37>=Parameter!$F$4),1,0))","v":0},{"$f":"IF(AND(S!Z4>0,CA!Z37>=Parameter!$F$5),2,IF(AND(S!Z4>0,CA!Z37>=Parameter!$F$4),1,0))","v":0},{"$f":"IF(AND(S!AA4>0,CA!AA37>=Parameter!$F$5),2,IF(AND(S!AA4>0,CA!AA37>=Parameter!$F$4),1,0))","v":0},{"$f":"IF(AND(S!AB4>0,CA!AB37>=Parameter!$F$5),2,IF(AND(S!AB4>0,CA!AB37>=Parameter!$F$4),1,0))","v":0},{"$f":"IF(AND(S!AC4>0,CA!AC37>=Parameter!$F$5),2,IF(AND(S!AC4>0,CA!AC37>=Parameter!$F$4),1,0))","v":0},{"$f":"IF(AND(S!AD4>0,CA!AD37>=Parameter!$F$5),2,IF(AND(S!AD4>0,CA!AD37>=Parameter!$F$4),1,0))","v":0},{"$f":"IF(AND(S!AE4>0,CA!AE37>=Parameter!$F$5),2,IF(AND(S!AE4>0,CA!AE37>=Parameter!$F$4),1,0))","v":0}]
[null,{"$f":"IF(AND(S!B5>0,CA!B38>=Parameter!$F$5),2,IF(AND(S!B5>0,CA!B38>=Parameter!$F$4),1,0))","v":0},{"$f":"IF(AND(S!C5>0,CA!C38>=Parameter!$F$5),2,IF(AND(S!C5>0,CA!C38>=Parameter!$F$4),1,0))","v":0},{"$f":"IF(AND(S!D5>0,CA!D38>=Parameter!$F$5),2,IF(AND(S!D5>0,CA!D38>=Parameter!$F$4),1,0))","v":0},{"$f":"IF(AND(S!E5>0,CA!E38>=Parameter!$F$5),2,IF(AND(S!E5>0,CA!E38>=Parameter!$F$4),1,0))","v":0},{"$f":"IF(AND(S!F5>0,CA!F38>=Parameter!$F$5),2,IF(AND(S!F5>0,CA!F38>=Parameter!$F$4),1,0))","v":0},{"$f":"IF(AND(S!G5>0,CA!G38>=Parameter!$F$5),2,IF(AND(S!G5>0,CA!G38>=Parameter!$F$4),1,0))","v":0},{"$f":"IF(AND(S!H5>0,CA!H38>=Parameter!$F$5),2,IF(AND(S!H5>0,CA!H38>=Parameter!$F$4),1,0))","v":0},{"$f":"IF(AND(S!I5>0,CA!I38>=Parameter!$F$5),2,IF(AND(S!I5>0,CA!I38>=Parameter!$F$4),1,0))","v":0},{"$f":"IF(AND(S!J5>0,CA!J38>=Parameter!$F$5),2,IF(AND(S!J5>0,CA!J38>=Parameter!$F$4),1,0))","v":0},{"$f":"IF(AND(S!K5>0,CA!K38>=Parameter!$F$5),2,IF(AND(S!K5>0,CA!K38>=Parameter!$F$4),1,0))","v":0},{"$f":"IF(AND(S!L5>0,CA!L38>=Parameter!$F$5),2,IF(AND(S!L5>0,CA!L38>=Parameter!$F$4),1,0))","v":0},{"$f":"IF(AND(S!M5>0,CA!M38>=Parameter!$F$5),2,IF(AND(S!M5>0,CA!M38>=Parameter!$F$4),1,0))","v":0},{"$f":"IF(AND(S!N5>0,CA!N38>=Parameter!$F$5),2,IF(AND(S!N5>0,CA!N38>=Parameter!$F$4),1,0))","v":0},{"$f":"IF(AND(S!O5>0,CA!O38>=Parameter!$F$5),2,IF(AND(S!O5>0,CA!O38>=Parameter!$F$4),1,0))","v":0},{"$f":"IF(AND(S!P5>0,CA!P38>=Parameter!$F$5),2,IF(AND(S!P5>0,CA!P38>=Parameter!$F$4),1,0))","v":0},{"$f":"IF(AND(S!Q5>0,CA!Q38>=Parameter!$F$5),2,IF(AND(S!Q5>0,CA!Q38>=Parameter!$F$4),1,0))","v":0},{"$f":"IF(AND(S!R5>0,CA!R38>=Parameter!$F$5),2,IF(AND(S!R5>0,CA!R38>=Parameter!$F$4),1,0))","v":0},{"$f":"IF(AND(S!S5>0,CA!S38>=Parameter!$F$5),2,IF(AND(S!S5>0,CA!S38>=Parameter!$F$4),1,0))","v":0},{"$f":"IF(AND(S!T5>0,CA!T38>=Parameter!$F$5),2,IF(AND(S!T5>0,CA!T38>=Parameter!$F$4),1,0))","v":0},{"$f":"IF(AND(S!U5>0,CA!U38>=Parameter!$F$5),2,IF(AND(S!U5>0,CA!U38>=Parameter!$F$4),1,0))","v":0},{"$f":"IF(AND(S!V5>0,CA!V38>=Parameter!$F$5),2,IF(AND(S!V5>0,CA!V38>=Parameter!$F$4),1,0))","v":0},{"$f":"IF(AND(S!W5>0,CA!W38>=Parameter!$F$5),2,IF(AND(S!W5>0,CA!W38>=Parameter!$F$4),1,0))","v":0},{"$f":"IF(AND(S!X5>0,CA!X38>=Parameter!$F$5),2,IF(AND(S!X5>0,CA!X38>=Parameter!$F$4),1,0))","v":0},{"$f":"IF(AND(S!Y5>0,CA!Y38>=Parameter!$F$5),2,IF(AND(S!Y5>0,CA!Y38>=Parameter!$F$4),1,0))","v":0},{"$f":"IF(AND(S!Z5>0,CA!Z38>=Parameter!$F$5),2,IF(AND(S!Z5>0,CA!Z38>=Parameter!$F$4),1,0))","v":0},{"$f":"IF(AND(S!AA5>0,CA!AA38>=Parameter!$F$5),2,IF(AND(S!AA5>0,CA!AA38>=Parameter!$F$4),1,0))","v":0},{"$f":"IF(AND(S!AB5>0,CA!AB38>=Parameter!$F$5),2,IF(AND(S!AB5>0,CA!AB38>=Parameter!$F$4),1,0))","v":0},{"$f":"IF(AND(S!AC5>0,CA!AC38>=Parameter!$F$5),2,IF(AND(S!AC5>0,CA!AC38>=Parameter!$F$4),1,0))","v":0},{"$f":"IF(AND(S!AD5>0,CA!AD38>=Parameter!$F$5),2,IF(AND(S!AD5>0,CA!AD38>=Parameter!$F$4),1,0))","v":0},{"$f":"IF(AND(S!AE5>0,CA!AE38>=Parameter!$F$5),2,IF(AND(S!AE5>0,CA!AE38>=Parameter!$F$4),1,0))","v":0}]
[null,{"$f":"IF(AND(S!B6>0,CA!B39>=Parameter!$F$5),2,IF(AND(S!B6>0,CA!B39>=Parameter!$F$4),1,0))","v":0},{"$f":"IF(AND(S!C6>0,CA!C39>=Parameter!$F$5),2,IF(AND(S!C6>0,CA!C39>=Parameter!$F$4),1,0))","v":0},{"$f":"IF(AND(S!D6>0,CA!D39>=Parameter!$F$5),2,IF(AND(S!D6>0,CA!D39>=Parameter!$F$4),1,0))","v":0},{"$f":"IF(AND(S!E6>0,CA!E39>=Parameter!$F$5),2,IF(AND(S!E6>0,CA!E39>=Parameter!$F$4),1,0))","v":0},{"$f":"IF(AND(S!F6>0,CA!F39>=Parameter!$F$5),2,IF(AND(S!F6>0,CA!F39>=Parameter!$F$4),1,0))","v":0},{"$f":"IF(AND(S!G6>0,CA!G39>=Parameter!$F$5),2,IF(AND(S!G6>0,CA!G39>=Parameter!$F$4),1,0))","v":0},{"$f":"IF(AND(S!H6>0,CA!H39>=Parameter!$F$5),2,IF(AND(S!H6>0,CA!H39>=Parameter!$F$4),1,0))","v":0},{"$f":"IF(AND(S!I6>0,CA!I39>=Parameter!$F$5),2,IF(AND(S!I6>0,CA!I39>=Parameter!$F$4),1,0))","v":0},{"$f":"IF(AND(S!J6>0,CA!J39>=Parameter!$F$5),2,IF(AND(S!J6>0,CA!J39>=Parameter!$F$4),1,0))","v":0},{"$f":"IF(AND(S!K6>0,CA!K39>=Parameter!$F$5),2,IF(AND(S!K6>0,CA!K39>=Parameter!$F$4),1,0))","v":0},{"$f":"IF(AND(S!L6>0,CA!L39>=Parameter!$F$5),2,IF(AND(S!L6>0,CA!L39>=Parameter!$F$4),1,0))","v":0},{"$f":"IF(AND(S!M6>0,CA!M39>=Parameter!$F$5),2,IF(AND(S!M6>0,CA!M39>=Parameter!$F$4),1,0))","v":0},{"$f":"IF(AND(S!N6>0,CA!N39>=Parameter!$F$5),2,IF(AND(S!N6>0,CA!N39>=Parameter!$F$4),1,0))","v":0},{"$f":"IF(AND(S!O6>0,CA!O39>=Parameter!$F$5),2,IF(AND(S!O6>0,CA!O39>=Parameter!$F$4),1,0))","v":0},{"$f":"IF(AND(S!P6>0,CA!P39>=Parameter!$F$5),2,IF(AND(S!P6>0,CA!P39>=Parameter!$F$4),1,0))","v":0},{"$f":"IF(AND(S!Q6>0,CA!Q39>=Parameter!$F$5),2,IF(AND(S!Q6>0,CA!Q39>=Parameter!$F$4),1,0))","v":0},{"$f":"IF(AND(S!R6>0,CA!R39>=Parameter!$F$5),2,IF(AND(S!R6>0,CA!R39>=Parameter!$F$4),1,0))","v":0},{"$f":"IF(AND(S!S6>0,CA!S39>=Parameter!$F$5),2,IF(AND(S!S6>0,CA!S39>=Parameter!$F$4),1,0))","v":0},{"$f":"IF(AND(S!T6>0,CA!T39>=Parameter!$F$5),2,IF(AND(S!T6>0,CA!T39>=Parameter!$F$4),1,0))","v":0},{"$f":"IF(AND(S!U6>0,CA!U39>=Parameter!$F$5),2,IF(AND(S!U6>0,CA!U39>=Parameter!$F$4),1,0))","v":0},{"$f":"IF(AND(S!V6>0,CA!V39>=Parameter!$F$5),2,IF(AND(S!V6>0,CA!V39>=Parameter!$F$4),1,0))","v":0},{"$f":"IF(AND(S!W6>0,CA!W39>=Parameter!$F$5),2,IF(AND(S!W6>0,CA!W39>=Parameter!$F$4),1,0))","v":0},{"$f":"IF(AND(S!X6>0,CA!X39>=Parameter!$F$5),2,IF(AND(S!X6>0,CA!X39>=Parameter!$F$4),1,0))","v":0},{"$f":"IF(AND(S!Y6>0,CA!Y39>=Parameter!$F$5),2,IF(AND(S!Y6>0,CA!Y39>=Parameter!$F$4),1,0))","v":0},{"$f":"IF(AND(S!Z6>0,CA!Z39>=Parameter!$F$5),2,IF(AND(S!Z6>0,CA!Z39>=Parameter!$F$4),1,0))","v":0},{"$f":"IF(AND(S!AA6>0,CA!AA39>=Parameter!$F$5),2,IF(AND(S!AA6>0,CA!AA39>=Parameter!$F$4),1,0))","v":0},{"$f":"IF(AND(S!AB6>0,CA!AB39>=Parameter!$F$5),2,IF(AND(S!AB6>0,CA!AB39>=Parameter!$F$4),1,0))","v":0},{"$f":"IF(AND(S!AC6>0,CA!AC39>=Parameter!$F$5),2,IF(AND(S!AC6>0,CA!AC39>=Parameter!$F$4),1,0))","v":0},{"$f":"IF(AND(S!AD6>0,CA!AD39>=Parameter!$F$5),2,IF(AND(S!AD6>0,CA!AD39>=Parameter!$F$4),1,0))","v":0},{"$f":"IF(AND(S!AE6>0,CA!AE39>=Parameter!$F$5),2,IF(AND(S!AE6>0,CA!AE39>=Parameter!$F$4),1,0))","v":0}]
[null,{"$f":"IF(AND(S!B7>0,CA!B40>=Parameter!$F$5),2,IF(AND(S!B7>0,CA!B40>=Parameter!$F$4),1,0))","v":0},{"$f":"IF(AND(S!C7>0,CA!C40>=Parameter!$F$5),2,IF(AND(S!C7>0,CA!C40>=Parameter!$F$4),1,0))","v":0},{"$f":"IF(AND(S!D7>0,CA!D40>=Parameter!$F$5),2,IF(AND(S!D7>0,CA!D40>=Parameter!$F$4),1,0))","v":0},{"$f":"IF(AND(S!E7>0,CA!E40>=Parameter!$F$5),2,IF(AND(S!E7>0,CA!E40>=Parameter!$F$4),1,0))","v":0},{"$f":"IF(AND(S!F7>0,CA!F40>=Parameter!$F$5),2,IF(AND(S!F7>0,CA!F40>=Parameter!$F$4),1,0))","v":0},{"$f":"IF(AND(S!G7>0,CA!G40>=Parameter!$F$5),2,IF(AND(S!G7>0,CA!G40>=Parameter!$F$4),1,0))","v":0},{"$f":"IF(AND(S!H7>0,CA!H40>=Parameter!$F$5),2,IF(AND(S!H7>0,CA!H40>=Parameter!$F$4),1,0))","v":0},{"$f":"IF(AND(S!I7>0,CA!I40>=Parameter!$F$5),2,IF(AND(S!I7>0,CA!I40>=Parameter!$F$4),1,0))","v":0},{"$f":"IF(AND(S!J7>0,CA!J40>=Parameter!$F$5),2,IF(AND(S!J7>0,CA!J40>=Parameter!$F$4),1,0))","v":0},{"$f":"IF(AND(S!K7>0,CA!K40>=Parameter!$F$5),2,IF(AND(S!K7>0,CA!K40>=Parameter!$F$4),1,0))","v":0},{"$f":"IF(AND(S!L7>0,CA!L40>=Parameter!$F$5),2,IF(AND(S!L7>0,CA!L40>=Parameter!$F$4),1,0))","v":0},{"$f":"IF(AND(S!M7>0,CA!M40>=Parameter!$F$5),2,IF(AND(S!M7>0,CA!M40>=Parameter!$F$4),1,0))","v":0},{"$f":"IF(AND(S!N7>0,CA!N40>=Parameter!$F$5),2,IF(AND(S!N7>0,CA!N40>=Parameter!$F$4),1,0))","v":0},{"$f":"IF(AND(S!O7>0,CA!O40>=Parameter!$F$5),2,IF(AND(S!O7>0,CA!O40>=Parameter!$F$4),1,0))","v":0},{"$f":"IF(AND(S!P7>0,CA!P40>=Parameter!$F$5),2,IF(AND(S!P7>0,CA!P40>=Parameter!$F$4),1,0))","v":0},{"$f":"IF(AND(S!Q7>0,CA!Q40>=Parameter!$F$5),2,IF(AND(S!Q7>0,CA!Q40>=Parameter!$F$4),1,0))","v":0},{"$f":"IF(AND(S!R7>0,CA!R40>=Parameter!$F$5),2,IF(AND(S!R7>0,CA!R40>=Parameter!$F$4),1,0))","v":0},{"$f":"IF(AND(S!S7>0,CA!S40>=Parameter!$F$5),2,IF(AND(S!S7>0,CA!S40>=Parameter!$F$4),1,0))","v":0},{"$f":"IF(AND(S!T7>0,CA!T40>=Parameter!$F$5),2,IF(AND(S!T7>0,CA!T40>=Parameter!$F$4),1,0))","v":0},{"$f":"IF(AND(S!U7>0,CA!U40>=Parameter!$F$5),2,IF(AND(S!U7>0,CA!U40>=Parameter!$F$4),1,0))","v":0},{"$f":"IF(AND(S!V7>0,CA!V40>=Parameter!$F$5),2,IF(AND(S!V7>0,CA!V40>=Parameter!$F$4),1,0))","v":0},{"$f":"IF(AND(S!W7>0,CA!W40>=Parameter!$F$5),2,IF(AND(S!W7>0,CA!W40>=Parameter!$F$4),1,0))","v":0},{"$f":"IF(AND(S!X7>0,CA!X40>=Parameter!$F$5),2,IF(AND(S!X7>0,CA!X40>=Parameter!$F$4),1,0))","v":0},{"$f":"IF(AND(S!Y7>0,CA!Y40>=Parameter!$F$5),2,IF(AND(S!Y7>0,CA!Y40>=Parameter!$F$4),1,0))","v":0},{"$f":"IF(AND(S!Z7>0,CA!Z40>=Parameter!$F$5),2,IF(AND(S!Z7>0,CA!Z40>=Parameter!$F$4),1,0))","v":0},{"$f":"IF(AND(S!AA7>0,CA!AA40>=Parameter!$F$5),2,IF(AND(S!AA7>0,CA!AA40>=Parameter!$F$4),1,0))","v":0},{"$f":"IF(AND(S!AB7>0,CA!AB40>=Parameter!$F$5),2,IF(AND(S!AB7>0,CA!AB40>=Parameter!$F$4),1,0))","v":0},{"$f":"IF(AND(S!AC7>0,CA!AC40>=Parameter!$F$5),2,IF(AND(S!AC7>0,CA!AC40>=Parameter!$F$4),1,0))","v":0},{"$f":"IF(AND(S!AD7>0,CA!AD40>=Parameter!$F$5),2,IF(AND(S!AD7>0,CA!AD40>=Parameter!$F$4),1,0))","v":0},{"$f":"IF(AND(S!AE7>0,CA!AE40>=Parameter!$F$5),2,IF(AND(S!AE7>0,CA!AE40>=Parameter!$F$4),1,0))","v":0}]
[null,{"$f":"IF(AND(S!B8>0,CA!B41>=Parameter!$F$5),2,IF(AND(S!B8>0,CA!B41>=Parameter!$F$4),1,0))","v":0},{"$f":"IF(AND(S!C8>0,CA!C41>=Parameter!$F$5),2,IF(AND(S!C8>0,CA!C41>=Parameter!$F$4),1,0))","v":0},{"$f":"IF(AND(S!D8>0,CA!D41>=Parameter!$F$5),2,IF(AND(S!D8>0,CA!D41>=Parameter!$F$4),1,0))","v":0},{"$f":"IF(AND(S!E8>0,CA!E41>=Parameter!$F$5),2,IF(AND(S!E8>0,CA!E41>=Parameter!$F$4),1,0))","v":0},{"$f":"IF(AND(S!F8>0,CA!F41>=Parameter!$F$5),2,IF(AND(S!F8>0,CA!F41>=Parameter!$F$4),1,0))","v":0},{"$f":"IF(AND(S!G8>0,CA!G41>=Parameter!$F$5),2,IF(AND(S!G8>0,CA!G41>=Parameter!$F$4),1,0))","v":0},{"$f":"IF(AND(S!H8>0,CA!H41>=Parameter!$F$5),2,IF(AND(S!H8>0,CA!H41>=Parameter!$F$4),1,0))","v":0},{"$f":"IF(AND(S!I8>0,CA!I41>=Parameter!$F$5),2,IF(AND(S!I8>0,CA!I41>=Parameter!$F$4),1,0))","v":0},{"$f":"IF(AND(S!J8>0,CA!J41>=Parameter!$F$5),2,IF(AND(S!J8>0,CA!J41>=Parameter!$F$4),1,0))","v":0},{"$f":"IF(AND(S!K8>0,CA!K41>=Parameter!$F$5),2,IF(AND(S!K8>0,CA!K41>=Parameter!$F$4),1,0))","v":0},{"$f":"IF(AND(S!L8>0,CA!L41>=Parameter!$F$5),2,IF(AND(S!L8>0,CA!L41>=Parameter!$F$4),1,0))","v":0},{"$f":"IF(AND(S!M8>0,CA!M41>=Parameter!$F$5),2,IF(AND(S!M8>0,CA!M41>=Parameter!$F$4),1,0))","v":0},{"$f":"IF(AND(S!N8>0,CA!N41>=Parameter!$F$5),2,IF(AND(S!N8>0,CA!N41>=Parameter!$F$4),1,0))","v":0},{"$f":"IF(AND(S!O8>0,CA!O41>=Parameter!$F$5),2,IF(AND(S!O8>0,CA!O41>=Parameter!$F$4),1,0))","v":0},{"$f":"IF(AND(S!P8>0,CA!P41>=Parameter!$F$5),2,IF(AND(S!P8>0,CA!P41>=Parameter!$F$4),1,0))","v":0},{"$f":"IF(AND(S!Q8>0,CA!Q41>=Parameter!$F$5),2,IF(AND(S!Q8>0,CA!Q41>=Parameter!$F$4),1,0))","v":0},{"$f":"IF(AND(S!R8>0,CA!R41>=Parameter!$F$5),2,IF(AND(S!R8>0,CA!R41>=Parameter!$F$4),1,0))","v":0},{"$f":"IF(AND(S!S8>0,CA!S41>=Parameter!$F$5),2,IF(AND(S!S8>0,CA!S41>=Parameter!$F$4),1,0))","v":0},{"$f":"IF(AND(S!T8>0,CA!T41>=Parameter!$F$5),2,IF(AND(S!T8>0,CA!T41>=Parameter!$F$4),1,0))","v":0},{"$f":"IF(AND(S!U8>0,CA!U41>=Parameter!$F$5),2,IF(AND(S!U8>0,CA!U41>=Parameter!$F$4),1,0))","v":0},{"$f":"IF(AND(S!V8>0,CA!V41>=Parameter!$F$5),2,IF(AND(S!V8>0,CA!V41>=Parameter!$F$4),1,0))","v":0},{"$f":"IF(AND(S!W8>0,CA!W41>=Parameter!$F$5),2,IF(AND(S!W8>0,CA!W41>=Parameter!$F$4),1,0))","v":0},{"$f":"IF(AND(S!X8>0,CA!X41>=Parameter!$F$5),2,IF(AND(S!X8>0,CA!X41>=Parameter!$F$4),1,0))","v":0},{"$f":"IF(AND(S!Y8>0,CA!Y41>=Parameter!$F$5),2,IF(AND(S!Y8>0,CA!Y41>=Parameter!$F$4),1,0))","v":0},{"$f":"IF(AND(S!Z8>0,CA!Z41>=Parameter!$F$5),2,IF(AND(S!Z8>0,CA!Z41>=Parameter!$F$4),1,0))","v":0},{"$f":"IF(AND(S!AA8>0,CA!AA41>=Parameter!$F$5),2,IF(AND(S!AA8>0,CA!AA41>=Parameter!$F$4),1,0))","v":0},{"$f":"IF(AND(S!AB8>0,CA!AB41>=Parameter!$F$5),2,IF(AND(S!AB8>0,CA!AB41>=Parameter!$F$4),1,0))","v":0},{"$f":"IF(AND(S!AC8>0,CA!AC41>=Parameter!$F$5),2,IF(AND(S!AC8>0,CA!AC41>=Parameter!$F$4),1,0))","v":0},{"$f":"IF(AND(S!AD8>0,CA!AD41>=Parameter!$F$5),2,IF(AND(S!AD8>0,CA!AD41>=Parameter!$F$4),1,0))","v":0},{"$f":"IF(AND(S!AE8>0,CA!AE41>=Parameter!$F$5),2,IF(AND(S!AE8>0,CA!AE41>=Parameter!$F$4),1,0))","v":0}]
[null,{"$f":"IF(AND(S!B9>0,CA!B42>=Parameter!$F$5),2,IF(AND(S!B9>0,CA!B42>=Parameter!$F$4),1,0))","v":0},{"$f":"IF(AND(S!C9>0,CA!C42>=Parameter!$F$5),2,IF(AND(S!C9>0,CA!C42>=Parameter!$F$4),1,0))","v":0},{"$f":"IF(AND(S!D9>0,CA!D42>=Parameter!$F$5),2,IF(AND(S!D9>0,CA!D42>=Parameter!$F$4),1,0))","v":0},{"$f":"IF(AND(S!E9>0,CA!E42>=Parameter!$F$5),2,IF(AND(S!E9>0,CA!E42>=Parameter!$F$4),1,0))","v":0},{"$f":"IF(AND(S!F9>0,CA!F42>=Parameter!$F$5),2,IF(AND(S!F9>0,CA!F42>=Parameter!$F$4),1,0))","v":0},{"$f":"IF(AND(S!G9>0,CA!G42>=Parameter!$F$5),2,IF(AND(S!G9>0,CA!G42>=Parameter!$F$4),1,0))","v":0},{"$f":"IF(AND(S!H9>0,CA!H42>=Parameter!$F$5),2,IF(AND(S!H9>0,CA!H42>=Parameter!$F$4),1,0))","v":0},{"$f":"IF(AND(S!I9>0,CA!I42>=Parameter!$F$5),2,IF(AND(S!I9>0,CA!I42>=Parameter!$F$4),1,0))","v":0},{"$f":"IF(AND(S!J9>0,CA!J42>=Parameter!$F$5),2,IF(AND(S!J9>0,CA!J42>=Parameter!$F$4),1,0))","v":0},{"$f":"IF(AND(S!K9>0,CA!K42>=Parameter!$F$5),2,IF(AND(S!K9>0,CA!K42>=Parameter!$F$4),1,0))","v":0},{"$f":"IF(AND(S!L9>0,CA!L42>=Parameter!$F$5),2,IF(AND(S!L9>0,CA!L42>=Parameter!$F$4),1,0))","v":0},{"$f":"IF(AND(S!M9>0,CA!M42>=Parameter!$F$5),2,IF(AND(S!M9>0,CA!M42>=Parameter!$F$4),1,0))","v":0},{"$f":"IF(AND(S!N9>0,CA!N42>=Parameter!$F$5),2,IF(AND(S!N9>0,CA!N42>=Parameter!$F$4),1,0))","v":0},{"$f":"IF(AND(S!O9>0,CA!O42>=Parameter!$F$5),2,IF(AND(S!O9>0,CA!O42>=Parameter!$F$4),1,0))","v":0},{"$f":"IF(AND(S!P9>0,CA!P42>=Parameter!$F$5),2,IF(AND(S!P9>0,CA!P42>=Parameter!$F$4),1,0))","v":0},{"$f":"IF(AND(S!Q9>0,CA!Q42>=Parameter!$F$5),2,IF(AND(S!Q9>0,CA!Q42>=Parameter!$F$4),1,0))","v":0},{"$f":"IF(AND(S!R9>0,CA!R42>=Parameter!$F$5),2,IF(AND(S!R9>0,CA!R42>=Parameter!$F$4),1,0))","v":0},{"$f":"IF(AND(S!S9>0,CA!S42>=Parameter!$F$5),2,IF(AND(S!S9>0,CA!S42>=Parameter!$F$4),1,0))","v":0},{"$f":"IF(AND(S!T9>0,CA!T42>=Parameter!$F$5),2,IF(AND(S!T9>0,CA!T42>=Parameter!$F$4),1,0))","v":0},{"$f":"IF(AND(S!U9>0,CA!U42>=Parameter!$F$5),2,IF(AND(S!U9>0,CA!U42>=Parameter!$F$4),1,0))","v":0},{"$f":"IF(AND(S!V9>0,CA!V42>=Parameter!$F$5),2,IF(AND(S!V9>0,CA!V42>=Parameter!$F$4),1,0))","v":0},{"$f":"IF(AND(S!W9>0,CA!W42>=Parameter!$F$5),2,IF(AND(S!W9>0,CA!W42>=Parameter!$F$4),1,0))","v":0},{"$f":"IF(AND(S!X9>0,CA!X42>=Parameter!$F$5),2,IF(AND(S!X9>0,CA!X42>=Parameter!$F$4),1,0))","v":0},{"$f":"IF(AND(S!Y9>0,CA!Y42>=Parameter!$F$5),2,IF(AND(S!Y9>0,CA!Y42>=Parameter!$F$4),1,0))","v":0},{"$f":"IF(AND(S!Z9>0,CA!Z42>=Parameter!$F$5),2,IF(AND(S!Z9>0,CA!Z42>=Parameter!$F$4),1,0))","v":0},{"$f":"IF(AND(S!AA9>0,CA!AA42>=Parameter!$F$5),2,IF(AND(S!AA9>0,CA!AA42>=Parameter!$F$4),1,0))","v":0},{"$f":"IF(AND(S!AB9>0,CA!AB42>=Parameter!$F$5),2,IF(AND(S!AB9>0,CA!AB42>=Parameter!$F$4),1,0))","v":0},{"$f":"IF(AND(S!AC9>0,CA!AC42>=Parameter!$F$5),2,IF(AND(S!AC9>0,CA!AC42>=Parameter!$F$4),1,0))","v":0},{"$f":"IF(AND(S!AD9>0,CA!AD42>=Parameter!$F$5),2,IF(AND(S!AD9>0,CA!AD42>=Parameter!$F$4),1,0))","v":0},{"$f":"IF(AND(S!AE9>0,CA!AE42>=Parameter!$F$5),2,IF(AND(S!AE9>0,CA!AE42>=Parameter!$F$4),1,0))","v":0}]
[null,{"$f":"IF(AND(S!B10>0,CA!B43>=Parameter!$F$5),2,IF(AND(S!B10>0,CA!B43>=Parameter!$F$4),1,0))","v":0},{"$f":"IF(AND(S!C10>0,CA!C43>=Parameter!$F$5),2,IF(AND(S!C10>0,CA!C43>=Parameter!$F$4),1,0))","v":0},{"$f":"IF(AND(S!D10>0,CA!D43>=Parameter!$F$5),2,IF(AND(S!D10>0,CA!D43>=Parameter!$F$4),1,0))","v":0},{"$f":"IF(AND(S!E10>0,CA!E43>=Parameter!$F$5),2,IF(AND(S!E10>0,CA!E43>=Parameter!$F$4),1,0))","v":0},{"$f":"IF(AND(S!F10>0,CA!F43>=Parameter!$F$5),2,IF(AND(S!F10>0,CA!F43>=Parameter!$F$4),1,0))","v":0},{"$f":"IF(AND(S!G10>0,CA!G43>=Parameter!$F$5),2,IF(AND(S!G10>0,CA!G43>=Parameter!$F$4),1,0))","v":0},{"$f":"IF(AND(S!H10>0,CA!H43>=Parameter!$F$5),2,IF(AND(S!H10>0,CA!H43>=Parameter!$F$4),1,0))","v":0},{"$f":"IF(AND(S!I10>0,CA!I43>=Parameter!$F$5),2,IF(AND(S!I10>0,CA!I43>=Parameter!$F$4),1,0))","v":0},{"$f":"IF(AND(S!J10>0,CA!J43>=Parameter!$F$5),2,IF(AND(S!J10>0,CA!J43>=Parameter!$F$4),1,0))","v":0},{"$f":"IF(AND(S!K10>0,CA!K43>=Parameter!$F$5),2,IF(AND(S!K10>0,CA!K43>=Parameter!$F$4),1,0))","v":0},{"$f":"IF(AND(S!L10>0,CA!L43>=Parameter!$F$5),2,IF(AND(S!L10>0,CA!L43>=Parameter!$F$4),1,0))","v":0},{"$f":"IF(AND(S!M10>0,CA!M43>=Parameter!$F$5),2,IF(AND(S!M10>0,CA!M43>=Parameter!$F$4),1,0))","v":0},{"$f":"IF(AND(S!N10>0,CA!N43>=Parameter!$F$5),2,IF(AND(S!N10>0,CA!N43>=Parameter!$F$4),1,0))","v":0},{"$f":"IF(AND(S!O10>0,CA!O43>=Parameter!$F$5),2,IF(AND(S!O10>0,CA!O43>=Parameter!$F$4),1,0))","v":0},{"$f":"IF(AND(S!P10>0,CA!P43>=Parameter!$F$5),2,IF(AND(S!P10>0,CA!P43>=Parameter!$F$4),1,0))","v":0},{"$f":"IF(AND(S!Q10>0,CA!Q43>=Parameter!$F$5),2,IF(AND(S!Q10>0,CA!Q43>=Parameter!$F$4),1,0))","v":0},{"$f":"IF(AND(S!R10>0,CA!R43>=Parameter!$F$5),2,IF(AND(S!R10>0,CA!R43>=Parameter!$F$4),1,0))","v":0},{"$f":"IF(AND(S!S10>0,CA!S43>=Parameter!$F$5),2,IF(AND(S!S10>0,CA!S43>=Parameter!$F$4),1,0))","v":0},{"$f":"IF(AND(S!T10>0,CA!T43>=Parameter!$F$5),2,IF(AND(S!T10>0,CA!T43>=Parameter!$F$4),1,0))","v":0},{"$f":"IF(AND(S!U10>0,CA!U43>=Parameter!$F$5),2,IF(AND(S!U10>0,CA!U43>=Parameter!$F$4),1,0))","v":0},{"$f":"IF(AND(S!V10>0,CA!V43>=Parameter!$F$5),2,IF(AND(S!V10>0,CA!V43>=Parameter!$F$4),1,0))","v":0},{"$f":"IF(AND(S!W10>0,CA!W43>=Parameter!$F$5),2,IF(AND(S!W10>0,CA!W43>=Parameter!$F$4),1,0))","v":0},{"$f":"IF(AND(S!X10>0,CA!X43>=Parameter!$F$5),2,IF(AND(S!X10>0,CA!X43>=Parameter!$F$4),1,0))","v":0},{"$f":"IF(AND(S!Y10>0,CA!Y43>=Parameter!$F$5),2,IF(AND(S!Y10>0,CA!Y43>=Parameter!$F$4),1,0))","v":0},{"$f":"IF(AND(S!Z10>0,CA!Z43>=Parameter!$F$5),2,IF(AND(S!Z10>0,CA!Z43>=Parameter!$F$4),1,0))","v":0},{"$f":"IF(AND(S!AA10>0,CA!AA43>=Parameter!$F$5),2,IF(AND(S!AA10>0,CA!AA43>=Parameter!$F$4),1,0))","v":0},{"$f":"IF(AND(S!AB10>0,CA!AB43>=Parameter!$F$5),2,IF(AND(S!AB10>0,CA!AB43>=Parameter!$F$4),1,0))","v":0},{"$f":"IF(AND(S!AC10>0,CA!AC43>=Parameter!$F$5),2,IF(AND(S!AC10>0,CA!AC43>=Parameter!$F$4),1,0))","v":0},{"$f":"IF(AND(S!AD10>0,CA!AD43>=Parameter!$F$5),2,IF(AND(S!AD10>0,CA!AD43>=Parameter!$F$4),1,0))","v":0},{"$f":"IF(AND(S!AE10>0,CA!AE43>=Parameter!$F$5),2,IF(AND(S!AE10>0,CA!AE43>=Parameter!$F$4),1,0))","v":0}]
[null,{"$f":"IF(AND(S!B11>0,CA!B44>=Parameter!$F$5),2,IF(AND(S!B11>0,CA!B44>=Parameter!$F$4),1,0))","v":0},{"$f":"IF(AND(S!C11>0,CA!C44>=Parameter!$F$5),2,IF(AND(S!C11>0,CA!C44>=Parameter!$F$4),1,0))","v":0},{"$f":"IF(AND(S!D11>0,CA!D44>=Parameter!$F$5),2,IF(AND(S!D11>0,CA!D44>=Parameter!$F$4),1,0))","v":0},{"$f":"IF(AND(S!E11>0,CA!E44>=Parameter!$F$5),2,IF(AND(S!E11>0,CA!E44>=Parameter!$F$4),1,0))","v":0},{"$f":"IF(AND(S!F11>0,CA!F44>=Parameter!$F$5),2,IF(AND(S!F11>0,CA!F44>=Parameter!$F$4),1,0))","v":0},{"$f":"IF(AND(S!G11>0,CA!G44>=Parameter!$F$5),2,IF(AND(S!G11>0,CA!G44>=Parameter!$F$4),1,0))","v":0},{"$f":"IF(AND(S!H11>0,CA!H44>=Parameter!$F$5),2,IF(AND(S!H11>0,CA!H44>=Parameter!$F$4),1,0))","v":0},{"$f":"IF(AND(S!I11>0,CA!I44>=Parameter!$F$5),2,IF(AND(S!I11>0,CA!I44>=Parameter!$F$4),1,0))","v":0},{"$f":"IF(AND(S!J11>0,CA!J44>=Parameter!$F$5),2,IF(AND(S!J11>0,CA!J44>=Parameter!$F$4),1,0))","v":0},{"$f":"IF(AND(S!K11>0,CA!K44>=Parameter!$F$5),2,IF(AND(S!K11>0,CA!K44>=Parameter!$F$4),1,0))","v":0},{"$f":"IF(AND(S!L11>0,CA!L44>=Parameter!$F$5),2,IF(AND(S!L11>0,CA!L44>=Parameter!$F$4),1,0))","v":0},{"$f":"IF(AND(S!M11>0,CA!M44>=Parameter!$F$5),2,IF(AND(S!M11>0,CA!M44>=Parameter!$F$4),1,0))","v":0},{"$f":"IF(AND(S!N11>0,CA!N44>=Parameter!$F$5),2,IF(AND(S!N11>0,CA!N44>=Parameter!$F$4),1,0))","v":0},{"$f":"IF(AND(S!O11>0,CA!O44>=Parameter!$F$5),2,IF(AND(S!O11>0,CA!O44>=Parameter!$F$4),1,0))","v":0},{"$f":"IF(AND(S!P11>0,CA!P44>=Parameter!$F$5),2,IF(AND(S!P11>0,CA!P44>=Parameter!$F$4),1,0))","v":0},{"$f":"IF(AND(S!Q11>0,CA!Q44>=Parameter!$F$5),2,IF(AND(S!Q11>0,CA!Q44>=Parameter!$F$4),1,0))","v":0},{"$f":"IF(AND(S!R11>0,CA!R44>=Parameter!$F$5),2,IF(AND(S!R11>0,CA!R44>=Parameter!$F$4),1,0))","v":0},{"$f":"IF(AND(S!S11>0,CA!S44>=Parameter!$F$5),2,IF(AND(S!S11>0,CA!S44>=Parameter!$F$4),1,0))","v":0},{"$f":"IF(AND(S!T11>0,CA!T44>=Parameter!$F$5),2,IF(AND(S!T11>0,CA!T44>=Parameter!$F$4),1,0))","v":0},{"$f":"IF(AND(S!U11>0,CA!U44>=Parameter!$F$5),2,IF(AND(S!U11>0,CA!U44>=Parameter!$F$4),1,0))","v":0},{"$f":"IF(AND(S!V11>0,CA!V44>=Parameter!$F$5),2,IF(AND(S!V11>0,CA!V44>=Parameter!$F$4),1,0))","v":0},{"$f":"IF(AND(S!W11>0,CA!W44>=Parameter!$F$5),2,IF(AND(S!W11>0,CA!W44>=Parameter!$F$4),1,0))","v":0},{"$f":"IF(AND(S!X11>0,CA!X44>=Parameter!$F$5),2,IF(AND(S!X11>0,CA!X44>=Parameter!$F$4),1,0))","v":0},{"$f":"IF(AND(S!Y11>0,CA!Y44>=Parameter!$F$5),2,IF(AND(S!Y11>0,CA!Y44>=Parameter!$F$4),1,0))","v":0},{"$f":"IF(AND(S!Z11>0,CA!Z44>=Parameter!$F$5),2,IF(AND(S!Z11>0,CA!Z44>=Parameter!$F$4),1,0))","v":0},{"$f":"IF(AND(S!AA11>0,CA!AA44>=Parameter!$F$5),2,IF(AND(S!AA11>0,CA!AA44>=Parameter!$F$4),1,0))","v":0},{"$f":"IF(AND(S!AB11>0,CA!AB44>=Parameter!$F$5),2,IF(AND(S!AB11>0,CA!AB44>=Parameter!$F$4),1,0))","v":0},{"$f":"IF(AND(S!AC11>0,CA!AC44>=Parameter!$F$5),2,IF(AND(S!AC11>0,CA!AC44>=Parameter!$F$4),1,0))","v":0},{"$f":"IF(AND(S!AD11>0,CA!AD44>=Parameter!$F$5),2,IF(AND(S!AD11>0,CA!AD44>=Parameter!$F$4),1,0))","v":0},{"$f":"IF(AND(S!AE11>0,CA!AE44>=Parameter!$F$5),2,IF(AND(S!AE11>0,CA!AE44>=Parameter!$F$4),1,0))","v":0}]
[null,{"$f":"IF(AND(S!B12>0,CA!B45>=Parameter!$F$5),2,IF(AND(S!B12>0,CA!B45>=Parameter!$F$4),1,0))","v":0},{"$f":"IF(AND(S!C12>0,CA!C45>=Parameter!$F$5),2,IF(AND(S!C12>0,CA!C45>=Parameter!$F$4),1,0))","v":0},{"$f":"IF(AND(S!D12>0,CA!D45>=Parameter!$F$5),2,IF(AND(S!D12>0,CA!D45>=Parameter!$F$4),1,0))","v":0},{"$f":"IF(AND(S!E12>0,CA!E45>=Parameter!$F$5),2,IF(AND(S!E12>0,CA!E45>=Parameter!$F$4),1,0))","v":0},{"$f":"IF(AND(S!F12>0,CA!F45>=Parameter!$F$5),2,IF(AND(S!F12>0,CA!F45>=Parameter!$F$4),1,0))","v":0},{"$f":"IF(AND(S!G12>0,CA!G45>=Parameter!$F$5),2,IF(AND(S!G12>0,CA!G45>=Parameter!$F$4),1,0))","v":0},{"$f":"IF(AND(S!H12>0,CA!H45>=Parameter!$F$5),2,IF(AND(S!H12>0,CA!H45>=Parameter!$F$4),1,0))","v":0},{"$f":"IF(AND(S!I12>0,CA!I45>=Parameter!$F$5),2,IF(AND(S!I12>0,CA!I45>=Parameter!$F$4),1,0))","v":0},{"$f":"IF(AND(S!J12>0,CA!J45>=Parameter!$F$5),2,IF(AND(S!J12>0,CA!J45>=Parameter!$F$4),1,0))","v":0},{"$f":"IF(AND(S!K12>0,CA!K45>=Parameter!$F$5),2,IF(AND(S!K12>0,CA!K45>=Parameter!$F$4),1,0))","v":0},{"$f":"IF(AND(S!L12>0,CA!L45>=Parameter!$F$5),2,IF(AND(S!L12>0,CA!L45>=Parameter!$F$4),1,0))","v":0},{"$f":"IF(AND(S!M12>0,CA!M45>=Parameter!$F$5),2,IF(AND(S!M12>0,CA!M45>=Parameter!$F$4),1,0))","v":0},{"$f":"IF(AND(S!N12>0,CA!N45>=Parameter!$F$5),2,IF(AND(S!N12>0,CA!N45>=Parameter!$F$4),1,0))","v":0},{"$f":"IF(AND(S!O12>0,CA!O45>=Parameter!$F$5),2,IF(AND(S!O12>0,CA!O45>=Parameter!$F$4),1,0))","v":0},{"$f":"IF(AND(S!P12>0,CA!P45>=Parameter!$F$5),2,IF(AND(S!P12>0,CA!P45>=Parameter!$F$4),1,0))","v":0},{"$f":"IF(AND(S!Q12>0,CA!Q45>=Parameter!$F$5),2,IF(AND(S!Q12>0,CA!Q45>=Parameter!$F$4),1,0))","v":0},{"$f":"IF(AND(S!R12>0,CA!R45>=Parameter!$F$5),2,IF(AND(S!R12>0,CA!R45>=Parameter!$F$4),1,0))","v":0},{"$f":"IF(AND(S!S12>0,CA!S45>=Parameter!$F$5),2,IF(AND(S!S12>0,CA!S45>=Parameter!$F$4),1,0))","v":0},{"$f":"IF(AND(S!T12>0,CA!T45>=Parameter!$F$5),2,IF(AND(S!T12>0,CA!T45>=Parameter!$F$4),1,0))","v":0},{"$f":"IF(AND(S!U12>0,CA!U45>=Parameter!$F$5),2,IF(AND(S!U12>0,CA!U45>=Parameter!$F$4),1,0))","v":0},{"$f":"IF(AND(S!V12>0,CA!V45>=Parameter!$F$5),2,IF(AND(S!V12>0,CA!V45>=Parameter!$F$4),1,0))","v":0},{"$f":"IF(AND(S!W12>0,CA!W45>=Parameter!$F$5),2,IF(AND(S!W12>0,CA!W45>=Parameter!$F$4),1,0))","v":0},{"$f":"IF(AND(S!X12>0,CA!X45>=Parameter!$F$5),2,IF(AND(S!X12>0,CA!X45>=Parameter!$F$4),1,0))","v":0},{"$f":"IF(AND(S!Y12>0,CA!Y45>=Parameter!$F$5),2,IF(AND(S!Y12>0,CA!Y45>=Parameter!$F$4),1,0))","v":0},{"$f":"IF(AND(S!Z12>0,CA!Z45>=Parameter!$F$5),2,IF(AND(S!Z12>0,CA!Z45>=Parameter!$F$4),1,0))","v":0},{"$f":"IF(AND(S!AA12>0,CA!AA45>=Parameter!$F$5),2,IF(AND(S!AA12>0,CA!AA45>=Parameter!$F$4),1,0))","v":0},{"$f":"IF(AND(S!AB12>0,CA!AB45>=Parameter!$F$5),2,IF(AND(S!AB12>0,CA!AB45>=Parameter!$F$4),1,0))","v":0},{"$f":"IF(AND(S!AC12>0,CA!AC45>=Parameter!$F$5),2,IF(AND(S!AC12>0,CA!AC45>=Parameter!$F$4),1,0))","v":0},{"$f":"IF(AND(S!AD12>0,CA!AD45>=Parameter!$F$5),2,IF(AND(S!AD12>0,CA!AD45>=Parameter!$F$4),1,0))","v":0},{"$f":"IF(AND(S!AE12>0,CA!AE45>=Parameter!$F$5),2,IF(AND(S!AE12>0,CA!AE45>=Parameter!$F$4),1,0))","v":0}]
[null,{"$f":"IF(AND(S!B13>0,CA!B46>=Parameter!$F$5),2,IF(AND(S!B13>0,CA!B46>=Parameter!$F$4),1,0))","v":0},{"$f":"IF(AND(S!C13>0,CA!C46>=Parameter!$F$5),2,IF(AND(S!C13>0,CA!C46>=Parameter!$F$4),1,0))","v":0},{"$f":"IF(AND(S!D13>0,CA!D46>=Parameter!$F$5),2,IF(AND(S!D13>0,CA!D46>=Parameter!$F$4),1,0))","v":0},{"$f":"IF(AND(S!E13>0,CA!E46>=Parameter!$F$5),2,IF(AND(S!E13>0,CA!E46>=Parameter!$F$4),1,0))","v":0},{"$f":"IF(AND(S!F13>0,CA!F46>=Parameter!$F$5),2,IF(AND(S!F13>0,CA!F46>=Parameter!$F$4),1,0))","v":0},{"$f":"IF(AND(S!G13>0,CA!G46>=Parameter!$F$5),2,IF(AND(S!G13>0,CA!G46>=Parameter!$F$4),1,0))","v":0},{"$f":"IF(AND(S!H13>0,CA!H46>=Parameter!$F$5),2,IF(AND(S!H13>0,CA!H46>=Parameter!$F$4),1,0))","v":0},{"$f":"IF(AND(S!I13>0,CA!I46>=Parameter!$F$5),2,IF(AND(S!I13>0,CA!I46>=Parameter!$F$4),1,0))","v":0},{"$f":"IF(AND(S!J13>0,CA!J46>=Parameter!$F$5),2,IF(AND(S!J13>0,CA!J46>=Parameter!$F$4),1,0))","v":0},{"$f":"IF(AND(S!K13>0,CA!K46>=Parameter!$F$5),2,IF(AND(S!K13>0,CA!K46>=Parameter!$F$4),1,0))","v":0},{"$f":"IF(AND(S!L13>0,CA!L46>=Parameter!$F$5),2,IF(AND(S!L13>0,CA!L46>=Parameter!$F$4),1,0))","v":0},{"$f":"IF(AND(S!M13>0,CA!M46>=Parameter!$F$5),2,IF(AND(S!M13>0,CA!M46>=Parameter!$F$4),1,0))","v":0},{"$f":"IF(AND(S!N13>0,CA!N46>=Parameter!$F$5),2,IF(AND(S!N13>0,CA!N46>=Parameter!$F$4),1,0))","v":0},{"$f":"IF(AND(S!O13>0,CA!O46>=Parameter!$F$5),2,IF(AND(S!O13>0,CA!O46>=Parameter!$F$4),1,0))","v":0},{"$f":"IF(AND(S!P13>0,CA!P46>=Parameter!$F$5),2,IF(AND(S!P13>0,CA!P46>=Parameter!$F$4),1,0))","v":0},{"$f":"IF(AND(S!Q13>0,CA!Q46>=Parameter!$F$5),2,IF(AND(S!Q13>0,CA!Q46>=Parameter!$F$4),1,0))","v":0},{"$f":"IF(AND(S!R13>0,CA!R46>=Parameter!$F$5),2,IF(AND(S!R13>0,CA!R46>=Parameter!$F$4),1,0))","v":0},{"$f":"IF(AND(S!S13>0,CA!S46>=Parameter!$F$5),2,IF(AND(S!S13>0,CA!S46>=Parameter!$F$4),1,0))","v":0},{"$f":"IF(AND(S!T13>0,CA!T46>=Parameter!$F$5),2,IF(AND(S!T13>0,CA!T46>=Parameter!$F$4),1,0))","v":0},{"$f":"IF(AND(S!U13>0,CA!U46>=Parameter!$F$5),2,IF(AND(S!U13>0,CA!U46>=Parameter!$F$4),1,0))","v":0},{"$f":"IF(AND(S!V13>0,CA!V46>=Parameter!$F$5),2,IF(AND(S!V13>0,CA!V46>=Parameter!$F$4),1,0))","v":0},{"$f":"IF(AND(S!W13>0,CA!W46>=Parameter!$F$5),2,IF(AND(S!W13>0,CA!W46>=Parameter!$F$4),1,0))","v":0},{"$f":"IF(AND(S!X13>0,CA!X46>=Parameter!$F$5),2,IF(AND(S!X13>0,CA!X46>=Parameter!$F$4),1,0))","v":0},{"$f":"IF(AND(S!Y13>0,CA!Y46>=Parameter!$F$5),2,IF(AND(S!Y13>0,CA!Y46>=Parameter!$F$4),1,0))","v":0},{"$f":"IF(AND(S!Z13>0,CA!Z46>=Parameter!$F$5),2,IF(AND(S!Z13>0,CA!Z46>=Parameter!$F$4),1,0))","v":0},{"$f":"IF(AND(S!AA13>0,CA!AA46>=Parameter!$F$5),2,IF(AND(S!AA13>0,CA!AA46>=Parameter!$F$4),1,0))","v":0},{"$f":"IF(AND(S!AB13>0,CA!AB46>=Parameter!$F$5),2,IF(AND(S!AB13>0,CA!AB46>=Parameter!$F$4),1,0))","v":0},{"$f":"IF(AND(S!AC13>0,CA!AC46>=Parameter!$F$5),2,IF(AND(S!AC13>0,CA!AC46>=Parameter!$F$4),1,0))","v":0},{"$f":"IF(AND(S!AD13>0,CA!AD46>=Parameter!$F$5),2,IF(AND(S!AD13>0,CA!AD46>=Parameter!$F$4),1,0))","v":0},{"$f":"IF(AND(S!AE13>0,CA!AE46>=Parameter!$F$5),2,IF(AND(S!AE13>0,CA!AE46>=Parameter!$F$4),1,0))","v":0}]
[null,{"$f":"IF(AND(S!B14>0,CA!B47>=Parameter!$F$5),2,IF(AND(S!B14>0,CA!B47>=Parameter!$F$4),1,0))","v":0},{"$f":"IF(AND(S!C14>0,CA!C47>=Parameter!$F$5),2,IF(AND(S!C14>0,CA!C47>=Parameter!$F$4),1,0))","v":0},{"$f":"IF(AND(S!D14>0,CA!D47>=Parameter!$F$5),2,IF(AND(S!D14>0,CA!D47>=Parameter!$F$4),1,0))","v":0},{"$f":"IF(AND(S!E14>0,CA!E47>=Parameter!$F$5),2,IF(AND(S!E14>0,CA!E47>=Parameter!$F$4),1,0))","v":0},{"$f":"IF(AND(S!F14>0,CA!F47>=Parameter!$F$5),2,IF(AND(S!F14>0,CA!F47>=Parameter!$F$4),1,0))","v":0},{"$f":"IF(AND(S!G14>0,CA!G47>=Parameter!$F$5),2,IF(AND(S!G14>0,CA!G47>=Parameter!$F$4),1,0))","v":0},{"$f":"IF(AND(S!H14>0,CA!H47>=Parameter!$F$5),2,IF(AND(S!H14>0,CA!H47>=Parameter!$F$4),1,0))","v":0},{"$f":"IF(AND(S!I14>0,CA!I47>=Parameter!$F$5),2,IF(AND(S!I14>0,CA!I47>=Parameter!$F$4),1,0))","v":0},{"$f":"IF(AND(S!J14>0,CA!J47>=Parameter!$F$5),2,IF(AND(S!J14>0,CA!J47>=Parameter!$F$4),1,0))","v":0},{"$f":"IF(AND(S!K14>0,CA!K47>=Parameter!$F$5),2,IF(AND(S!K14>0,CA!K47>=Parameter!$F$4),1,0))","v":0},{"$f":"IF(AND(S!L14>0,CA!L47>=Parameter!$F$5),2,IF(AND(S!L14>0,CA!L47>=Parameter!$F$4),1,0))","v":0},{"$f":"IF(AND(S!M14>0,CA!M47>=Parameter!$F$5),2,IF(AND(S!M14>0,CA!M47>=Parameter!$F$4),1,0))","v":0},{"$f":"IF(AND(S!N14>0,CA!N47>=Parameter!$F$5),2,IF(AND(S!N14>0,CA!N47>=Parameter!$F$4),1,0))","v":0},{"$f":"IF(AND(S!O14>0,CA!O47>=Parameter!$F$5),2,IF(AND(S!O14>0,CA!O47>=Parameter!$F$4),1,0))","v":0},{"$f":"IF(AND(S!P14>0,CA!P47>=Parameter!$F$5),2,IF(AND(S!P14>0,CA!P47>=Parameter!$F$4),1,0))","v":0},{"$f":"IF(AND(S!Q14>0,CA!Q47>=Parameter!$F$5),2,IF(AND(S!Q14>0,CA!Q47>=Parameter!$F$4),1,0))","v":0},{"$f":"IF(AND(S!R14>0,CA!R47>=Parameter!$F$5),2,IF(AND(S!R14>0,CA!R47>=Parameter!$F$4),1,0))","v":0},{"$f":"IF(AND(S!S14>0,CA!S47>=Parameter!$F$5),2,IF(AND(S!S14>0,CA!S47>=Parameter!$F$4),1,0))","v":0},{"$f":"IF(AND(S!T14>0,CA!T47>=Parameter!$F$5),2,IF(AND(S!T14>0,CA!T47>=Parameter!$F$4),1,0))","v":0},{"$f":"IF(AND(S!U14>0,CA!U47>=Parameter!$F$5),2,IF(AND(S!U14>0,CA!U47>=Parameter!$F$4),1,0))","v":0},{"$f":"IF(AND(S!V14>0,CA!V47>=Parameter!$F$5),2,IF(AND(S!V14>0,CA!V47>=Parameter!$F$4),1,0))","v":0},{"$f":"IF(AND(S!W14>0,CA!W47>=Parameter!$F$5),2,IF(AND(S!W14>0,CA!W47>=Parameter!$F$4),1,0))","v":0},{"$f":"IF(AND(S!X14>0,CA!X47>=Parameter!$F$5),2,IF(AND(S!X14>0,CA!X47>=Parameter!$F$4),1,0))","v":0},{"$f":"IF(AND(S!Y14>0,CA!Y47>=Parameter!$F$5),2,IF(AND(S!Y14>0,CA!Y47>=Parameter!$F$4),1,0))","v":0},{"$f":"IF(AND(S!Z14>0,CA!Z47>=Parameter!$F$5),2,IF(AND(S!Z14>0,CA!Z47>=Parameter!$F$4),1,0))","v":0},{"$f":"IF(AND(S!AA14>0,CA!AA47>=Parameter!$F$5),2,IF(AND(S!AA14>0,CA!AA47>=Parameter!$F$4),1,0))","v":0},{"$f":"IF(AND(S!AB14>0,CA!AB47>=Parameter!$F$5),2,IF(AND(S!AB14>0,CA!AB47>=Parameter!$F$4),1,0))","v":0},{"$f":"IF(AND(S!AC14>0,CA!AC47>=Parameter!$F$5),2,IF(AND(S!AC14>0,CA!AC47>=Parameter!$F$4),1,0))","v":0},{"$f":"IF(AND(S!AD14>0,CA!AD47>=Parameter!$F$5),2,IF(AND(S!AD14>0,CA!AD47>=Parameter!$F$4),1,0))","v":0},{"$f":"IF(AND(S!AE14>0,CA!AE47>=Parameter!$F$5),2,IF(AND(S!AE14>0,CA!AE47>=Parameter!$F$4),1,0))","v":0}]
[null,{"$f":"IF(AND(S!B15>0,CA!B48>=Parameter!$F$5),2,IF(AND(S!B15>0,CA!B48>=Parameter!$F$4),1,0))","v":0},{"$f":"IF(AND(S!C15>0,CA!C48>=Parameter!$F$5),2,IF(AND(S!C15>0,CA!C48>=Parameter!$F$4),1,0))","v":0},{"$f":"IF(AND(S!D15>0,CA!D48>=Parameter!$F$5),2,IF(AND(S!D15>0,CA!D48>=Parameter!$F$4),1,0))","v":0},{"$f":"IF(AND(S!E15>0,CA!E48>=Parameter!$F$5),2,IF(AND(S!E15>0,CA!E48>=Parameter!$F$4),1,0))","v":0},{"$f":"IF(AND(S!F15>0,CA!F48>=Parameter!$F$5),2,IF(AND(S!F15>0,CA!F48>=Parameter!$F$4),1,0))","v":0},{"$f":"IF(AND(S!G15>0,CA!G48>=Parameter!$F$5),2,IF(AND(S!G15>0,CA!G48>=Parameter!$F$4),1,0))","v":0},{"$f":"IF(AND(S!H15>0,CA!H48>=Parameter!$F$5),2,IF(AND(S!H15>0,CA!H48>=Parameter!$F$4),1,0))","v":0},{"$f":"IF(AND(S!I15>0,CA!I48>=Parameter!$F$5),2,IF(AND(S!I15>0,CA!I48>=Parameter!$F$4),1,0))","v":0},{"$f":"IF(AND(S!J15>0,CA!J48>=Parameter!$F$5),2,IF(AND(S!J15>0,CA!J48>=Parameter!$F$4),1,0))","v":0},{"$f":"IF(AND(S!K15>0,CA!K48>=Parameter!$F$5),2,IF(AND(S!K15>0,CA!K48>=Parameter!$F$4),1,0))","v":0},{"$f":"IF(AND(S!L15>0,CA!L48>=Parameter!$F$5),2,IF(AND(S!L15>0,CA!L48>=Parameter!$F$4),1,0))","v":0},{"$f":"IF(AND(S!M15>0,CA!M48>=Parameter!$F$5),2,IF(AND(S!M15>0,CA!M48>=Parameter!$F$4),1,0))","v":0},{"$f":"IF(AND(S!N15>0,CA!N48>=Parameter!$F$5),2,IF(AND(S!N15>0,CA!N48>=Parameter!$F$4),1,0))","v":0},{"$f":"IF(AND(S!O15>0,CA!O48>=Parameter!$F$5),2,IF(AND(S!O15>0,CA!O48>=Parameter!$F$4),1,0))","v":0},{"$f":"IF(AND(S!P15>0,CA!P48>=Parameter!$F$5),2,IF(AND(S!P15>0,CA!P48>=Parameter!$F$4),1,0))","v":0},{"$f":"IF(AND(S!Q15>0,CA!Q48>=Parameter!$F$5),2,IF(AND(S!Q15>0,CA!Q48>=Parameter!$F$4),1,0))","v":0},{"$f":"IF(AND(S!R15>0,CA!R48>=Parameter!$F$5),2,IF(AND(S!R15>0,CA!R48>=Parameter!$F$4),1,0))","v":0},{"$f":"IF(AND(S!S15>0,CA!S48>=Parameter!$F$5),2,IF(AND(S!S15>0,CA!S48>=Parameter!$F$4),1,0))","v":0},{"$f":"IF(AND(S!T15>0,CA!T48>=Parameter!$F$5),2,IF(AND(S!T15>0,CA!T48>=Parameter!$F$4),1,0))","v":0},{"$f":"IF(AND(S!U15>0,CA!U48>=Parameter!$F$5),2,IF(AND(S!U15>0,CA!U48>=Parameter!$F$4),1,0))","v":0},{"$f":"IF(AND(S!V15>0,CA!V48>=Parameter!$F$5),2,IF(AND(S!V15>0,CA!V48>=Parameter!$F$4),1,0))","v":0},{"$f":"IF(AND(S!W15>0,CA!W48>=Parameter!$F$5),2,IF(AND(S!W15>0,CA!W48>=Parameter!$F$4),1,0))","v":0},{"$f":"IF(AND(S!X15>0,CA!X48>=Parameter!$F$5),2,IF(AND(S!X15>0,CA!X48>=Parameter!$F$4),1,0))","v":0},{"$f":"IF(AND(S!Y15>0,CA!Y48>=Parameter!$F$5),2,IF(AND(S!Y15>0,CA!Y48>=Parameter!$F$4),1,0))","v":0},{"$f":"IF(AND(S!Z15>0,CA!Z48>=Parameter!$F$5),2,IF(AND(S!Z15>0,CA!Z48>=Parameter!$F$4),1,0))","v":0},{"$f":"IF(AND(S!AA15>0,CA!AA48>=Parameter!$F$5),2,IF(AND(S!AA15>0,CA!AA48>=Parameter!$F$4),1,0))","v":0},{"$f":"IF(AND(S!AB15>0,CA!AB48>=Parameter!$F$5),2,IF(AND(S!AB15>0,CA!AB48>=Parameter!$F$4),1,0))","v":0},{"$f":"IF(AND(S!AC15>0,CA!AC48>=Parameter!$F$5),2,IF(AND(S!AC15>0,CA!AC48>=Parameter!$F$4),1,0))","v":0},{"$f":"IF(AND(S!AD15>0,CA!AD48>=Parameter!$F$5),2,IF(AND(S!AD15>0,CA!AD48>=Parameter!$F$4),1,0))","v":0},{"$f":"IF(AND(S!AE15>0,CA!AE48>=Parameter!$F$5),2,IF(AND(S!AE15>0,CA!AE48>=Parameter!$F$4),1,0))","v":0}]
[null,{"$f":"IF(AND(S!B16>0,CA!B49>=Parameter!$F$5),2,IF(AND(S!B16>0,CA!B49>=Parameter!$F$4),1,0))","v":0},{"$f":"IF(AND(S!C16>0,CA!C49>=Parameter!$F$5),2,IF(AND(S!C16>0,CA!C49>=Parameter!$F$4),1,0))","v":0},{"$f":"IF(AND(S!D16>0,CA!D49>=Parameter!$F$5),2,IF(AND(S!D16>0,CA!D49>=Parameter!$F$4),1,0))","v":0},{"$f":"IF(AND(S!E16>0,CA!E49>=Parameter!$F$5),2,IF(AND(S!E16>0,CA!E49>=Parameter!$F$4),1,0))","v":0},{"$f":"IF(AND(S!F16>0,CA!F49>=Parameter!$F$5),2,IF(AND(S!F16>0,CA!F49>=Parameter!$F$4),1,0))","v":0},{"$f":"IF(AND(S!G16>0,CA!G49>=Parameter!$F$5),2,IF(AND(S!G16>0,CA!G49>=Parameter!$F$4),1,0))","v":0},{"$f":"IF(AND(S!H16>0,CA!H49>=Parameter!$F$5),2,IF(AND(S!H16>0,CA!H49>=Parameter!$F$4),1,0))","v":0},{"$f":"IF(AND(S!I16>0,CA!I49>=Parameter!$F$5),2,IF(AND(S!I16>0,CA!I49>=Parameter!$F$4),1,0))","v":0},{"$f":"IF(AND(S!J16>0,CA!J49>=Parameter!$F$5),2,IF(AND(S!J16>0,CA!J49>=Parameter!$F$4),1,0))","v":0},{"$f":"IF(AND(S!K16>0,CA!K49>=Parameter!$F$5),2,IF(AND(S!K16>0,CA!K49>=Parameter!$F$4),1,0))","v":0},{"$f":"IF(AND(S!L16>0,CA!L49>=Parameter!$F$5),2,IF(AND(S!L16>0,CA!L49>=Parameter!$F$4),1,0))","v":0},{"$f":"IF(AND(S!M16>0,CA!M49>=Parameter!$F$5),2,IF(AND(S!M16>0,CA!M49>=Parameter!$F$4),1,0))","v":0},{"$f":"IF(AND(S!N16>0,CA!N49>=Parameter!$F$5),2,IF(AND(S!N16>0,CA!N49>=Parameter!$F$4),1,0))","v":0},{"$f":"IF(AND(S!O16>0,CA!O49>=Parameter!$F$5),2,IF(AND(S!O16>0,CA!O49>=Parameter!$F$4),1,0))","v":0},{"$f":"IF(AND(S!P16>0,CA!P49>=Parameter!$F$5),2,IF(AND(S!P16>0,CA!P49>=Parameter!$F$4),1,0))","v":0},{"$f":"IF(AND(S!Q16>0,CA!Q49>=Parameter!$F$5),2,IF(AND(S!Q16>0,CA!Q49>=Parameter!$F$4),1,0))","v":0},{"$f":"IF(AND(S!R16>0,CA!R49>=Parameter!$F$5),2,IF(AND(S!R16>0,CA!R49>=Parameter!$F$4),1,0))","v":0},{"$f":"IF(AND(S!S16>0,CA!S49>=Parameter!$F$5),2,IF(AND(S!S16>0,CA!S49>=Parameter!$F$4),1,0))","v":0},{"$f":"IF(AND(S!T16>0,CA!T49>=Parameter!$F$5),2,IF(AND(S!T16>0,CA!T49>=Parameter!$F$4),1,0))","v":0},{"$f":"IF(AND(S!U16>0,CA!U49>=Parameter!$F$5),2,IF(AND(S!U16>0,CA!U49>=Parameter!$F$4),1,0))","v":0},{"$f":"IF(AND(S!V16>0,CA!V49>=Parameter!$F$5),2,IF(AND(S!V16>0,CA!V49>=Parameter!$F$4),1,0))","v":0},{"$f":"IF(AND(S!W16>0,CA!W49>=Parameter!$F$5),2,IF(AND(S!W16>0,CA!W49>=Parameter!$F$4),1,0))","v":0},{"$f":"IF(AND(S!X16>0,CA!X49>=Parameter!$F$5),2,IF(AND(S!X16>0,CA!X49>=Parameter!$F$4),1,0))","v":0},{"$f":"IF(AND(S!Y16>0,CA!Y49>=Parameter!$F$5),2,IF(AND(S!Y16>0,CA!Y49>=Parameter!$F$4),1,0))","v":0},{"$f":"IF(AND(S!Z16>0,CA!Z49>=Parameter!$F$5),2,IF(AND(S!Z16>0,CA!Z49>=Parameter!$F$4),1,0))","v":0},{"$f":"IF(AND(S!AA16>0,CA!AA49>=Parameter!$F$5),2,IF(AND(S!AA16>0,CA!AA49>=Parameter!$F$4),1,0))","v":0},{"$f":"IF(AND(S!AB16>0,CA!AB49>=Parameter!$F$5),2,IF(AND(S!AB16>0,CA!AB49>=Parameter!$F$4),1,0))","v":0},{"$f":"IF(AND(S!AC16>0,CA!AC49>=Parameter!$F$5),2,IF(AND(S!AC16>0,CA!AC49>=Parameter!$F$4),1,0))","v":0},{"$f":"IF(AND(S!AD16>0,CA!AD49>=Parameter!$F$5),2,IF(AND(S!AD16>0,CA!AD49>=Parameter!$F$4),1,0))","v":0},{"$f":"IF(AND(S!AE16>0,CA!AE49>=Parameter!$F$5),2,IF(AND(S!AE16>0,CA!AE49>=Parameter!$F$4),1,0))","v":0}]
[null,{"$f":"IF(AND(S!B17>0,CA!B50>=Parameter!$F$5),2,IF(AND(S!B17>0,CA!B50>=Parameter!$F$4),1,0))","v":0},{"$f":"IF(AND(S!C17>0,CA!C50>=Parameter!$F$5),2,IF(AND(S!C17>0,CA!C50>=Parameter!$F$4),1,0))","v":0},{"$f":"IF(AND(S!D17>0,CA!D50>=Parameter!$F$5),2,IF(AND(S!D17>0,CA!D50>=Parameter!$F$4),1,0))","v":0},{"$f":"IF(AND(S!E17>0,CA!E50>=Parameter!$F$5),2,IF(AND(S!E17>0,CA!E50>=Parameter!$F$4),1,0))","v":0},{"$f":"IF(AND(S!F17>0,CA!F50>=Parameter!$F$5),2,IF(AND(S!F17>0,CA!F50>=Parameter!$F$4),1,0))","v":0},{"$f":"IF(AND(S!G17>0,CA!G50>=Parameter!$F$5),2,IF(AND(S!G17>0,CA!G50>=Parameter!$F$4),1,0))","v":0},{"$f":"IF(AND(S!H17>0,CA!H50>=Parameter!$F$5),2,IF(AND(S!H17>0,CA!H50>=Parameter!$F$4),1,0))","v":0},{"$f":"IF(AND(S!I17>0,CA!I50>=Parameter!$F$5),2,IF(AND(S!I17>0,CA!I50>=Parameter!$F$4),1,0))","v":0},{"$f":"IF(AND(S!J17>0,CA!J50>=Parameter!$F$5),2,IF(AND(S!J17>0,CA!J50>=Parameter!$F$4),1,0))","v":0},{"$f":"IF(AND(S!K17>0,CA!K50>=Parameter!$F$5),2,IF(AND(S!K17>0,CA!K50>=Parameter!$F$4),1,0))","v":0},{"$f":"IF(AND(S!L17>0,CA!L50>=Parameter!$F$5),2,IF(AND(S!L17>0,CA!L50>=Parameter!$F$4),1,0))","v":0},{"$f":"IF(AND(S!M17>0,CA!M50>=Parameter!$F$5),2,IF(AND(S!M17>0,CA!M50>=Parameter!$F$4),1,0))","v":0},{"$f":"IF(AND(S!N17>0,CA!N50>=Parameter!$F$5),2,IF(AND(S!N17>0,CA!N50>=Parameter!$F$4),1,0))","v":0},{"$f":"IF(AND(S!O17>0,CA!O50>=Parameter!$F$5),2,IF(AND(S!O17>0,CA!O50>=Parameter!$F$4),1,0))","v":0},{"$f":"IF(AND(S!P17>0,CA!P50>=Parameter!$F$5),2,IF(AND(S!P17>0,CA!P50>=Parameter!$F$4),1,0))","v":0},{"$f":"IF(AND(S!Q17>0,CA!Q50>=Parameter!$F$5),2,IF(AND(S!Q17>0,CA!Q50>=Parameter!$F$4),1,0))","v":0},{"$f":"IF(AND(S!R17>0,CA!R50>=Parameter!$F$5),2,IF(AND(S!R17>0,CA!R50>=Parameter!$F$4),1,0))","v":0},{"$f":"IF(AND(S!S17>0,CA!S50>=Parameter!$F$5),2,IF(AND(S!S17>0,CA!S50>=Parameter!$F$4),1,0))","v":0},{"$f":"IF(AND(S!T17>0,CA!T50>=Parameter!$F$5),2,IF(AND(S!T17>0,CA!T50>=Parameter!$F$4),1,0))","v":0},{"$f":"IF(AND(S!U17>0,CA!U50>=Parameter!$F$5),2,IF(AND(S!U17>0,CA!U50>=Parameter!$F$4),1,0))","v":0},{"$f":"IF(AND(S!V17>0,CA!V50>=Parameter!$F$5),2,IF(AND(S!V17>0,CA!V50>=Parameter!$F$4),1,0))","v":0},{"$f":"IF(AND(S!W17>0,CA!W50>=Parameter!$F$5),2,IF(AND(S!W17>0,CA!W50>=Parameter!$F$4),1,0))","v":0},{"$f":"IF(AND(S!X17>0,CA!X50>=Parameter!$F$5),2,IF(AND(S!X17>0,CA!X50>=Parameter!$F$4),1,0))","v":0},{"$f":"IF(AND(S!Y17>0,CA!Y50>=Parameter!$F$5),2,IF(AND(S!Y17>0,CA!Y50>=Parameter!$F$4),1,0))","v":0},{"$f":"IF(AND(S!Z17>0,CA!Z50>=Parameter!$F$5),2,IF(AND(S!Z17>0,CA!Z50>=Parameter!$F$4),1,0))","v":0},{"$f":"IF(AND(S!AA17>0,CA!AA50>=Parameter!$F$5),2,IF(AND(S!AA17>0,CA!AA50>=Parameter!$F$4),1,0))","v":0},{"$f":"IF(AND(S!AB17>0,CA!AB50>=Parameter!$F$5),2,IF(AND(S!AB17>0,CA!AB50>=Parameter!$F$4),1,0))","v":0},{"$f":"IF(AND(S!AC17>0,CA!AC50>=Parameter!$F$5),2,IF(AND(S!AC17>0,CA!AC50>=Parameter!$F$4),1,0))","v":0},{"$f":"IF(AND(S!AD17>0,CA!AD50>=Parameter!$F$5),2,IF(AND(S!AD17>0,CA!AD50>=Parameter!$F$4),1,0))","v":0},{"$f":"IF(AND(S!AE17>0,CA!AE50>=Parameter!$F$5),2,IF(AND(S!AE17>0,CA!AE50>=Parameter!$F$4),1,0))","v":0}]
[null,{"$f":"IF(AND(S!B18>0,CA!B51>=Parameter!$F$5),2,IF(AND(S!B18>0,CA!B51>=Parameter!$F$4),1,0))","v":0},{"$f":"IF(AND(S!C18>0,CA!C51>=Parameter!$F$5),2,IF(AND(S!C18>0,CA!C51>=Parameter!$F$4),1,0))","v":0},{"$f":"IF(AND(S!D18>0,CA!D51>=Parameter!$F$5),2,IF(AND(S!D18>0,CA!D51>=Parameter!$F$4),1,0))","v":0},{"$f":"IF(AND(S!E18>0,CA!E51>=Parameter!$F$5),2,IF(AND(S!E18>0,CA!E51>=Parameter!$F$4),1,0))","v":0},{"$f":"IF(AND(S!F18>0,CA!F51>=Parameter!$F$5),2,IF(AND(S!F18>0,CA!F51>=Parameter!$F$4),1,0))","v":0},{"$f":"IF(AND(S!G18>0,CA!G51>=Parameter!$F$5),2,IF(AND(S!G18>0,CA!G51>=Parameter!$F$4),1,0))","v":0},{"$f":"IF(AND(S!H18>0,CA!H51>=Parameter!$F$5),2,IF(AND(S!H18>0,CA!H51>=Parameter!$F$4),1,0))","v":0},{"$f":"IF(AND(S!I18>0,CA!I51>=Parameter!$F$5),2,IF(AND(S!I18>0,CA!I51>=Parameter!$F$4),1,0))","v":0},{"$f":"IF(AND(S!J18>0,CA!J51>=Parameter!$F$5),2,IF(AND(S!J18>0,CA!J51>=Parameter!$F$4),1,0))","v":0},{"$f":"IF(AND(S!K18>0,CA!K51>=Parameter!$F$5),2,IF(AND(S!K18>0,CA!K51>=Parameter!$F$4),1,0))","v":0},{"$f":"IF(AND(S!L18>0,CA!L51>=Parameter!$F$5),2,IF(AND(S!L18>0,CA!L51>=Parameter!$F$4),1,0))","v":0},{"$f":"IF(AND(S!M18>0,CA!M51>=Parameter!$F$5),2,IF(AND(S!M18>0,CA!M51>=Parameter!$F$4),1,0))","v":0},{"$f":"IF(AND(S!N18>0,CA!N51>=Parameter!$F$5),2,IF(AND(S!N18>0,CA!N51>=Parameter!$F$4),1,0))","v":0},{"$f":"IF(AND(S!O18>0,CA!O51>=Parameter!$F$5),2,IF(AND(S!O18>0,CA!O51>=Parameter!$F$4),1,0))","v":0},{"$f":"IF(AND(S!P18>0,CA!P51>=Parameter!$F$5),2,IF(AND(S!P18>0,CA!P51>=Parameter!$F$4),1,0))","v":0},{"$f":"IF(AND(S!Q18>0,CA!Q51>=Parameter!$F$5),2,IF(AND(S!Q18>0,CA!Q51>=Parameter!$F$4),1,0))","v":0},{"$f":"IF(AND(S!R18>0,CA!R51>=Parameter!$F$5),2,IF(AND(S!R18>0,CA!R51>=Parameter!$F$4),1,0))","v":0},{"$f":"IF(AND(S!S18>0,CA!S51>=Parameter!$F$5),2,IF(AND(S!S18>0,CA!S51>=Parameter!$F$4),1,0))","v":0},{"$f":"IF(AND(S!T18>0,CA!T51>=Parameter!$F$5),2,IF(AND(S!T18>0,CA!T51>=Parameter!$F$4),1,0))","v":0},{"$f":"IF(AND(S!U18>0,CA!U51>=Parameter!$F$5),2,IF(AND(S!U18>0,CA!U51>=Parameter!$F$4),1,0))","v":0},{"$f":"IF(AND(S!V18>0,CA!V51>=Parameter!$F$5),2,IF(AND(S!V18>0,CA!V51>=Parameter!$F$4),1,0))","v":0},{"$f":"IF(AND(S!W18>0,CA!W51>=Parameter!$F$5),2,IF(AND(S!W18>0,CA!W51>=Parameter!$F$4),1,0))","v":0},{"$f":"IF(AND(S!X18>0,CA!X51>=Parameter!$F$5),2,IF(AND(S!X18>0,CA!X51>=Parameter!$F$4),1,0))","v":0},{"$f":"IF(AND(S!Y18>0,CA!Y51>=Parameter!$F$5),2,IF(AND(S!Y18>0,CA!Y51>=Parameter!$F$4),1,0))","v":0},{"$f":"IF(AND(S!Z18>0,CA!Z51>=Parameter!$F$5),2,IF(AND(S!Z18>0,CA!Z51>=Parameter!$F$4),1,0))","v":0},{"$f":"IF(AND(S!AA18>0,CA!AA51>=Parameter!$F$5),2,IF(AND(S!AA18>0,CA!AA51>=Parameter!$F$4),1,0))","v":0},{"$f":"IF(AND(S!AB18>0,CA!AB51>=Parameter!$F$5),2,IF(AND(S!AB18>0,CA!AB51>=Parameter!$F$4),1,0))","v":0},{"$f":"IF(AND(S!AC18>0,CA!AC51>=Parameter!$F$5),2,IF(AND(S!AC18>0,CA!AC51>=Parameter!$F$4),1,0))","v":0},{"$f":"IF(AND(S!AD18>0,CA!AD51>=Parameter!$F$5),2,IF(AND(S!AD18>0,CA!AD51>=Parameter!$F$4),1,0))","v":0},{"$f":"IF(AND(S!AE18>0,CA!AE51>=Parameter!$F$5),2,IF(AND(S!AE18>0,CA!AE51>=Parameter!$F$4),1,0))","v":0}]
[null,{"$f":"IF(AND(S!B19>0,CA!B52>=Parameter!$F$5),2,IF(AND(S!B19>0,CA!B52>=Parameter!$F$4),1,0))","v":0},{"$f":"IF(AND(S!C19>0,CA!C52>=Parameter!$F$5),2,IF(AND(S!C19>0,CA!C52>=Parameter!$F$4),1,0))","v":0},{"$f":"IF(AND(S!D19>0,CA!D52>=Parameter!$F$5),2,IF(AND(S!D19>0,CA!D52>=Parameter!$F$4),1,0))","v":0},{"$f":"IF(AND(S!E19>0,CA!E52>=Parameter!$F$5),2,IF(AND(S!E19>0,CA!E52>=Parameter!$F$4),1,0))","v":0},{"$f":"IF(AND(S!F19>0,CA!F52>=Parameter!$F$5),2,IF(AND(S!F19>0,CA!F52>=Parameter!$F$4),1,0))","v":0},{"$f":"IF(AND(S!G19>0,CA!G52>=Parameter!$F$5),2,IF(AND(S!G19>0,CA!G52>=Parameter!$F$4),1,0))","v":0},{"$f":"IF(AND(S!H19>0,CA!H52>=Parameter!$F$5),2,IF(AND(S!H19>0,CA!H52>=Parameter!$F$4),1,0))","v":0},{"$f":"IF(AND(S!I19>0,CA!I52>=Parameter!$F$5),2,IF(AND(S!I19>0,CA!I52>=Parameter!$F$4),1,0))","v":0},{"$f":"IF(AND(S!J19>0,CA!J52>=Parameter!$F$5),2,IF(AND(S!J19>0,CA!J52>=Parameter!$F$4),1,0))","v":0},{"$f":"IF(AND(S!K19>0,CA!K52>=Parameter!$F$5),2,IF(AND(S!K19>0,CA!K52>=Parameter!$F$4),1,0))","v":0},{"$f":"IF(AND(S!L19>0,CA!L52>=Parameter!$F$5),2,IF(AND(S!L19>0,CA!L52>=Parameter!$F$4),1,0))","v":0},{"$f":"IF(AND(S!M19>0,CA!M52>=Parameter!$F$5),2,IF(AND(S!M19>0,CA!M52>=Parameter!$F$4),1,0))","v":0},{"$f":"IF(AND(S!N19>0,CA!N52>=Parameter!$F$5),2,IF(AND(S!N19>0,CA!N52>=Parameter!$F$4),1,0))","v":0},{"$f":"IF(AND(S!O19>0,CA!O52>=Parameter!$F$5),2,IF(AND(S!O19>0,CA!O52>=Parameter!$F$4),1,0))","v":0},{"$f":"IF(AND(S!P19>0,CA!P52>=Parameter!$F$5),2,IF(AND(S!P19>0,CA!P52>=Parameter!$F$4),1,0))","v":0},{"$f":"IF(AND(S!Q19>0,CA!Q52>=Parameter!$F$5),2,IF(AND(S!Q19>0,CA!Q52>=Parameter!$F$4),1,0))","v":0},{"$f":"IF(AND(S!R19>0,CA!R52>=Parameter!$F$5),2,IF(AND(S!R19>0,CA!R52>=Parameter!$F$4),1,0))","v":0},{"$f":"IF(AND(S!S19>0,CA!S52>=Parameter!$F$5),2,IF(AND(S!S19>0,CA!S52>=Parameter!$F$4),1,0))","v":0},{"$f":"IF(AND(S!T19>0,CA!T52>=Parameter!$F$5),2,IF(AND(S!T19>0,CA!T52>=Parameter!$F$4),1,0))","v":0},{"$f":"IF(AND(S!U19>0,CA!U52>=Parameter!$F$5),2,IF(AND(S!U19>0,CA!U52>=Parameter!$F$4),1,0))","v":0},{"$f":"IF(AND(S!V19>0,CA!V52>=Parameter!$F$5),2,IF(AND(S!V19>0,CA!V52>=Parameter!$F$4),1,0))","v":0},{"$f":"IF(AND(S!W19>0,CA!W52>=Parameter!$F$5),2,IF(AND(S!W19>0,CA!W52>=Parameter!$F$4),1,0))","v":0},{"$f":"IF(AND(S!X19>0,CA!X52>=Parameter!$F$5),2,IF(AND(S!X19>0,CA!X52>=Parameter!$F$4),1,0))","v":0},{"$f":"IF(AND(S!Y19>0,CA!Y52>=Parameter!$F$5),2,IF(AND(S!Y19>0,CA!Y52>=Parameter!$F$4),1,0))","v":0},{"$f":"IF(AND(S!Z19>0,CA!Z52>=Parameter!$F$5),2,IF(AND(S!Z19>0,CA!Z52>=Parameter!$F$4),1,0))","v":0},{"$f":"IF(AND(S!AA19>0,CA!AA52>=Parameter!$F$5),2,IF(AND(S!AA19>0,CA!AA52>=Parameter!$F$4),1,0))","v":0},{"$f":"IF(AND(S!AB19>0,CA!AB52>=Parameter!$F$5),2,IF(AND(S!AB19>0,CA!AB52>=Parameter!$F$4),1,0))","v":0},{"$f":"IF(AND(S!AC19>0,CA!AC52>=Parameter!$F$5),2,IF(AND(S!AC19>0,CA!AC52>=Parameter!$F$4),1,0))","v":0},{"$f":"IF(AND(S!AD19>0,CA!AD52>=Parameter!$F$5),2,IF(AND(S!AD19>0,CA!AD52>=Parameter!$F$4),1,0))","v":0},{"$f":"IF(AND(S!AE19>0,CA!AE52>=Parameter!$F$5),2,IF(AND(S!AE19>0,CA!AE52>=Parameter!$F$4),1,0))","v":0}]
[null,{"$f":"IF(AND(S!B20>0,CA!B53>=Parameter!$F$5),2,IF(AND(S!B20>0,CA!B53>=Parameter!$F$4),1,0))","v":0},{"$f":"IF(AND(S!C20>0,CA!C53>=Parameter!$F$5),2,IF(AND(S!C20>0,CA!C53>=Parameter!$F$4),1,0))","v":0},{"$f":"IF(AND(S!D20>0,CA!D53>=Parameter!$F$5),2,IF(AND(S!D20>0,CA!D53>=Parameter!$F$4),1,0))","v":0},{"$f":"IF(AND(S!E20>0,CA!E53>=Parameter!$F$5),2,IF(AND(S!E20>0,CA!E53>=Parameter!$F$4),1,0))","v":0},{"$f":"IF(AND(S!F20>0,CA!F53>=Parameter!$F$5),2,IF(AND(S!F20>0,CA!F53>=Parameter!$F$4),1,0))","v":0},{"$f":"IF(AND(S!G20>0,CA!G53>=Parameter!$F$5),2,IF(AND(S!G20>0,CA!G53>=Parameter!$F$4),1,0))","v":0},{"$f":"IF(AND(S!H20>0,CA!H53>=Parameter!$F$5),2,IF(AND(S!H20>0,CA!H53>=Parameter!$F$4),1,0))","v":0},{"$f":"IF(AND(S!I20>0,CA!I53>=Parameter!$F$5),2,IF(AND(S!I20>0,CA!I53>=Parameter!$F$4),1,0))","v":0},{"$f":"IF(AND(S!J20>0,CA!J53>=Parameter!$F$5),2,IF(AND(S!J20>0,CA!J53>=Parameter!$F$4),1,0))","v":0},{"$f":"IF(AND(S!K20>0,CA!K53>=Parameter!$F$5),2,IF(AND(S!K20>0,CA!K53>=Parameter!$F$4),1,0))","v":0},{"$f":"IF(AND(S!L20>0,CA!L53>=Parameter!$F$5),2,IF(AND(S!L20>0,CA!L53>=Parameter!$F$4),1,0))","v":0},{"$f":"IF(AND(S!M20>0,CA!M53>=Parameter!$F$5),2,IF(AND(S!M20>0,CA!M53>=Parameter!$F$4),1,0))","v":0},{"$f":"IF(AND(S!N20>0,CA!N53>=Parameter!$F$5),2,IF(AND(S!N20>0,CA!N53>=Parameter!$F$4),1,0))","v":0},{"$f":"IF(AND(S!O20>0,CA!O53>=Parameter!$F$5),2,IF(AND(S!O20>0,CA!O53>=Parameter!$F$4),1,0))","v":0},{"$f":"IF(AND(S!P20>0,CA!P53>=Parameter!$F$5),2,IF(AND(S!P20>0,CA!P53>=Parameter!$F$4),1,0))","v":0},{"$f":"IF(AND(S!Q20>0,CA!Q53>=Parameter!$F$5),2,IF(AND(S!Q20>0,CA!Q53>=Parameter!$F$4),1,0))","v":0},{"$f":"IF(AND(S!R20>0,CA!R53>=Parameter!$F$5),2,IF(AND(S!R20>0,CA!R53>=Parameter!$F$4),1,0))","v":0},{"$f":"IF(AND(S!S20>0,CA!S53>=Parameter!$F$5),2,IF(AND(S!S20>0,CA!S53>=Parameter!$F$4),1,0))","v":0},{"$f":"IF(AND(S!T20>0,CA!T53>=Parameter!$F$5),2,IF(AND(S!T20>0,CA!T53>=Parameter!$F$4),1,0))","v":0},{"$f":"IF(AND(S!U20>0,CA!U53>=Parameter!$F$5),2,IF(AND(S!U20>0,CA!U53>=Parameter!$F$4),1,0))","v":0},{"$f":"IF(AND(S!V20>0,CA!V53>=Parameter!$F$5),2,IF(AND(S!V20>0,CA!V53>=Parameter!$F$4),1,0))","v":0},{"$f":"IF(AND(S!W20>0,CA!W53>=Parameter!$F$5),2,IF(AND(S!W20>0,CA!W53>=Parameter!$F$4),1,0))","v":0},{"$f":"IF(AND(S!X20>0,CA!X53>=Parameter!$F$5),2,IF(AND(S!X20>0,CA!X53>=Parameter!$F$4),1,0))","v":0},{"$f":"IF(AND(S!Y20>0,CA!Y53>=Parameter!$F$5),2,IF(AND(S!Y20>0,CA!Y53>=Parameter!$F$4),1,0))","v":0},{"$f":"IF(AND(S!Z20>0,CA!Z53>=Parameter!$F$5),2,IF(AND(S!Z20>0,CA!Z53>=Parameter!$F$4),1,0))","v":0},{"$f":"IF(AND(S!AA20>0,CA!AA53>=Parameter!$F$5),2,IF(AND(S!AA20>0,CA!AA53>=Parameter!$F$4),1,0))","v":0},{"$f":"IF(AND(S!AB20>0,CA!AB53>=Parameter!$F$5),2,IF(AND(S!AB20>0,CA!AB53>=Parameter!$F$4),1,0))","v":0},{"$f":"IF(AND(S!AC20>0,CA!AC53>=Parameter!$F$5),2,IF(AND(S!AC20>0,CA!AC53>=Parameter!$F$4),1,0))","v":0},{"$f":"IF(AND(S!AD20>0,CA!AD53>=Parameter!$F$5),2,IF(AND(S!AD20>0,CA!AD53>=Parameter!$F$4),1,0))","v":0},{"$f":"IF(AND(S!AE20>0,CA!AE53>=Parameter!$F$5),2,IF(AND(S!AE20>0,CA!AE53>=Parameter!$F$4),1,0))","v":0}]
[null,{"$f":"IF(AND(S!B21>0,CA!B54>=Parameter!$F$5),2,IF(AND(S!B21>0,CA!B54>=Parameter!$F$4),1,0))","v":0},{"$f":"IF(AND(S!C21>0,CA!C54>=Parameter!$F$5),2,IF(AND(S!C21>0,CA!C54>=Parameter!$F$4),1,0))","v":0},{"$f":"IF(AND(S!D21>0,CA!D54>=Parameter!$F$5),2,IF(AND(S!D21>0,CA!D54>=Parameter!$F$4),1,0))","v":0},{"$f":"IF(AND(S!E21>0,CA!E54>=Parameter!$F$5),2,IF(AND(S!E21>0,CA!E54>=Parameter!$F$4),1,0))","v":0},{"$f":"IF(AND(S!F21>0,CA!F54>=Parameter!$F$5),2,IF(AND(S!F21>0,CA!F54>=Parameter!$F$4),1,0))","v":0},{"$f":"IF(AND(S!G21>0,CA!G54>=Parameter!$F$5),2,IF(AND(S!G21>0,CA!G54>=Parameter!$F$4),1,0))","v":0},{"$f":"IF(AND(S!H21>0,CA!H54>=Parameter!$F$5),2,IF(AND(S!H21>0,CA!H54>=Parameter!$F$4),1,0))","v":0},{"$f":"IF(AND(S!I21>0,CA!I54>=Parameter!$F$5),2,IF(AND(S!I21>0,CA!I54>=Parameter!$F$4),1,0))","v":0},{"$f":"IF(AND(S!J21>0,CA!J54>=Parameter!$F$5),2,IF(AND(S!J21>0,CA!J54>=Parameter!$F$4),1,0))","v":0},{"$f":"IF(AND(S!K21>0,CA!K54>=Parameter!$F$5),2,IF(AND(S!K21>0,CA!K54>=Parameter!$F$4),1,0))","v":0},{"$f":"IF(AND(S!L21>0,CA!L54>=Parameter!$F$5),2,IF(AND(S!L21>0,CA!L54>=Parameter!$F$4),1,0))","v":0},{"$f":"IF(AND(S!M21>0,CA!M54>=Parameter!$F$5),2,IF(AND(S!M21>0,CA!M54>=Parameter!$F$4),1,0))","v":0},{"$f":"IF(AND(S!N21>0,CA!N54>=Parameter!$F$5),2,IF(AND(S!N21>0,CA!N54>=Parameter!$F$4),1,0))","v":0},{"$f":"IF(AND(S!O21>0,CA!O54>=Parameter!$F$5),2,IF(AND(S!O21>0,CA!O54>=Parameter!$F$4),1,0))","v":0},{"$f":"IF(AND(S!P21>0,CA!P54>=Parameter!$F$5),2,IF(AND(S!P21>0,CA!P54>=Parameter!$F$4),1,0))","v":0},{"$f":"IF(AND(S!Q21>0,CA!Q54>=Parameter!$F$5),2,IF(AND(S!Q21>0,CA!Q54>=Parameter!$F$4),1,0))","v":0},{"$f":"IF(AND(S!R21>0,CA!R54>=Parameter!$F$5),2,IF(AND(S!R21>0,CA!R54>=Parameter!$F$4),1,0))","v":0},{"$f":"IF(AND(S!S21>0,CA!S54>=Parameter!$F$5),2,IF(AND(S!S21>0,CA!S54>=Parameter!$F$4),1,0))","v":0},{"$f":"IF(AND(S!T21>0,CA!T54>=Parameter!$F$5),2,IF(AND(S!T21>0,CA!T54>=Parameter!$F$4),1,0))","v":0},{"$f":"IF(AND(S!U21>0,CA!U54>=Parameter!$F$5),2,IF(AND(S!U21>0,CA!U54>=Parameter!$F$4),1,0))","v":0},{"$f":"IF(AND(S!V21>0,CA!V54>=Parameter!$F$5),2,IF(AND(S!V21>0,CA!V54>=Parameter!$F$4),1,0))","v":0},{"$f":"IF(AND(S!W21>0,CA!W54>=Parameter!$F$5),2,IF(AND(S!W21>0,CA!W54>=Parameter!$F$4),1,0))","v":0},{"$f":"IF(AND(S!X21>0,CA!X54>=Parameter!$F$5),2,IF(AND(S!X21>0,CA!X54>=Parameter!$F$4),1,0))","v":0},{"$f":"IF(AND(S!Y21>0,CA!Y54>=Parameter!$F$5),2,IF(AND(S!Y21>0,CA!Y54>=Parameter!$F$4),1,0))","v":0},{"$f":"IF(AND(S!Z21>0,CA!Z54>=Parameter!$F$5),2,IF(AND(S!Z21>0,CA!Z54>=Parameter!$F$4),1,0))","v":0},{"$f":"IF(AND(S!AA21>0,CA!AA54>=Parameter!$F$5),2,IF(AND(S!AA21>0,CA!AA54>=Parameter!$F$4),1,0))","v":0},{"$f":"IF(AND(S!AB21>0,CA!AB54>=Parameter!$F$5),2,IF(AND(S!AB21>0,CA!AB54>=Parameter!$F$4),1,0))","v":0},{"$f":"IF(AND(S!AC21>0,CA!AC54>=Parameter!$F$5),2,IF(AND(S!AC21>0,CA!AC54>=Parameter!$F$4),1,0))","v":0},{"$f":"IF(AND(S!AD21>0,CA!AD54>=Parameter!$F$5),2,IF(AND(S!AD21>0,CA!AD54>=Parameter!$F$4),1,0))","v":0},{"$f":"IF(AND(S!AE21>0,CA!AE54>=Parameter!$F$5),2,IF(AND(S!AE21>0,CA!AE54>=Parameter!$F$4),1,0))","v":0}]
[null,{"$f":"IF(AND(S!B22>0,CA!B55>=Parameter!$F$5),2,IF(AND(S!B22>0,CA!B55>=Parameter!$F$4),1,0))","v":0},{"$f":"IF(AND(S!C22>0,CA!C55>=Parameter!$F$5),2,IF(AND(S!C22>0,CA!C55>=Parameter!$F$4),1,0))","v":0},{"$f":"IF(AND(S!D22>0,CA!D55>=Parameter!$F$5),2,IF(AND(S!D22>0,CA!D55>=Parameter!$F$4),1,0))","v":0},{"$f":"IF(AND(S!E22>0,CA!E55>=Parameter!$F$5),2,IF(AND(S!E22>0,CA!E55>=Parameter!$F$4),1,0))","v":0},{"$f":"IF(AND(S!F22>0,CA!F55>=Parameter!$F$5),2,IF(AND(S!F22>0,CA!F55>=Parameter!$F$4),1,0))","v":0},{"$f":"IF(AND(S!G22>0,CA!G55>=Parameter!$F$5),2,IF(AND(S!G22>0,CA!G55>=Parameter!$F$4),1,0))","v":0},{"$f":"IF(AND(S!H22>0,CA!H55>=Parameter!$F$5),2,IF(AND(S!H22>0,CA!H55>=Parameter!$F$4),1,0))","v":0},{"$f":"IF(AND(S!I22>0,CA!I55>=Parameter!$F$5),2,IF(AND(S!I22>0,CA!I55>=Parameter!$F$4),1,0))","v":0},{"$f":"IF(AND(S!J22>0,CA!J55>=Parameter!$F$5),2,IF(AND(S!J22>0,CA!J55>=Parameter!$F$4),1,0))","v":0},{"$f":"IF(AND(S!K22>0,CA!K55>=Parameter!$F$5),2,IF(AND(S!K22>0,CA!K55>=Parameter!$F$4),1,0))","v":0},{"$f":"IF(AND(S!L22>0,CA!L55>=Parameter!$F$5),2,IF(AND(S!L22>0,CA!L55>=Parameter!$F$4),1,0))","v":0},{"$f":"IF(AND(S!M22>0,CA!M55>=Parameter!$F$5),2,IF(AND(S!M22>0,CA!M55>=Parameter!$F$4),1,0))","v":0},{"$f":"IF(AND(S!N22>0,CA!N55>=Parameter!$F$5),2,IF(AND(S!N22>0,CA!N55>=Parameter!$F$4),1,0))","v":0},{"$f":"IF(AND(S!O22>0,CA!O55>=Parameter!$F$5),2,IF(AND(S!O22>0,CA!O55>=Parameter!$F$4),1,0))","v":0},{"$f":"IF(AND(S!P22>0,CA!P55>=Parameter!$F$5),2,IF(AND(S!P22>0,CA!P55>=Parameter!$F$4),1,0))","v":0},{"$f":"IF(AND(S!Q22>0,CA!Q55>=Parameter!$F$5),2,IF(AND(S!Q22>0,CA!Q55>=Parameter!$F$4),1,0))","v":0},{"$f":"IF(AND(S!R22>0,CA!R55>=Parameter!$F$5),2,IF(AND(S!R22>0,CA!R55>=Parameter!$F$4),1,0))","v":0},{"$f":"IF(AND(S!S22>0,CA!S55>=Parameter!$F$5),2,IF(AND(S!S22>0,CA!S55>=Parameter!$F$4),1,0))","v":0},{"$f":"IF(AND(S!T22>0,CA!T55>=Parameter!$F$5),2,IF(AND(S!T22>0,CA!T55>=Parameter!$F$4),1,0))","v":0},{"$f":"IF(AND(S!U22>0,CA!U55>=Parameter!$F$5),2,IF(AND(S!U22>0,CA!U55>=Parameter!$F$4),1,0))","v":0},{"$f":"IF(AND(S!V22>0,CA!V55>=Parameter!$F$5),2,IF(AND(S!V22>0,CA!V55>=Parameter!$F$4),1,0))","v":0},{"$f":"IF(AND(S!W22>0,CA!W55>=Parameter!$F$5),2,IF(AND(S!W22>0,CA!W55>=Parameter!$F$4),1,0))","v":0},{"$f":"IF(AND(S!X22>0,CA!X55>=Parameter!$F$5),2,IF(AND(S!X22>0,CA!X55>=Parameter!$F$4),1,0))","v":0},{"$f":"IF(AND(S!Y22>0,CA!Y55>=Parameter!$F$5),2,IF(AND(S!Y22>0,CA!Y55>=Parameter!$F$4),1,0))","v":0},{"$f":"IF(AND(S!Z22>0,CA!Z55>=Parameter!$F$5),2,IF(AND(S!Z22>0,CA!Z55>=Parameter!$F$4),1,0))","v":0},{"$f":"IF(AND(S!AA22>0,CA!AA55>=Parameter!$F$5),2,IF(AND(S!AA22>0,CA!AA55>=Parameter!$F$4),1,0))","v":0},{"$f":"IF(AND(S!AB22>0,CA!AB55>=Parameter!$F$5),2,IF(AND(S!AB22>0,CA!AB55>=Parameter!$F$4),1,0))","v":0},{"$f":"IF(AND(S!AC22>0,CA!AC55>=Parameter!$F$5),2,IF(AND(S!AC22>0,CA!AC55>=Parameter!$F$4),1,0))","v":0},{"$f":"IF(AND(S!AD22>0,CA!AD55>=Parameter!$F$5),2,IF(AND(S!AD22>0,CA!AD55>=Parameter!$F$4),1,0))","v":0},{"$f":"IF(AND(S!AE22>0,CA!AE55>=Parameter!$F$5),2,IF(AND(S!AE22>0,CA!AE55>=Parameter!$F$4),1,0))","v":0}]
[null,{"$f":"IF(AND(S!B23>0,CA!B56>=Parameter!$F$5),2,IF(AND(S!B23>0,CA!B56>=Parameter!$F$4),1,0))","v":0},{"$f":"IF(AND(S!C23>0,CA!C56>=Parameter!$F$5),2,IF(AND(S!C23>0,CA!C56>=Parameter!$F$4),1,0))","v":0},{"$f":"IF(AND(S!D23>0,CA!D56>=Parameter!$F$5),2,IF(AND(S!D23>0,CA!D56>=Parameter!$F$4),1,0))","v":0},{"$f":"IF(AND(S!E23>0,CA!E56>=Parameter!$F$5),2,IF(AND(S!E23>0,CA!E56>=Parameter!$F$4),1,0))","v":0},{"$f":"IF(AND(S!F23>0,CA!F56>=Parameter!$F$5),2,IF(AND(S!F23>0,CA!F56>=Parameter!$F$4),1,0))","v":0},{"$f":"IF(AND(S!G23>0,CA!G56>=Parameter!$F$5),2,IF(AND(S!G23>0,CA!G56>=Parameter!$F$4),1,0))","v":0},{"$f":"IF(AND(S!H23>0,CA!H56>=Parameter!$F$5),2,IF(AND(S!H23>0,CA!H56>=Parameter!$F$4),1,0))","v":0},{"$f":"IF(AND(S!I23>0,CA!I56>=Parameter!$F$5),2,IF(AND(S!I23>0,CA!I56>=Parameter!$F$4),1,0))","v":0},{"$f":"IF(AND(S!J23>0,CA!J56>=Parameter!$F$5),2,IF(AND(S!J23>0,CA!J56>=Parameter!$F$4),1,0))","v":0},{"$f":"IF(AND(S!K23>0,CA!K56>=Parameter!$F$5),2,IF(AND(S!K23>0,CA!K56>=Parameter!$F$4),1,0))","v":0},{"$f":"IF(AND(S!L23>0,CA!L56>=Parameter!$F$5),2,IF(AND(S!L23>0,CA!L56>=Parameter!$F$4),1,0))","v":0},{"$f":"IF(AND(S!M23>0,CA!M56>=Parameter!$F$5),2,IF(AND(S!M23>0,CA!M56>=Parameter!$F$4),1,0))","v":0},{"$f":"IF(AND(S!N23>0,CA!N56>=Parameter!$F$5),2,IF(AND(S!N23>0,CA!N56>=Parameter!$F$4),1,0))","v":0},{"$f":"IF(AND(S!O23>0,CA!O56>=Parameter!$F$5),2,IF(AND(S!O23>0,CA!O56>=Parameter!$F$4),1,0))","v":0},{"$f":"IF(AND(S!P23>0,CA!P56>=Parameter!$F$5),2,IF(AND(S!P23>0,CA!P56>=Parameter!$F$4),1,0))","v":0},{"$f":"IF(AND(S!Q23>0,CA!Q56>=Parameter!$F$5),2,IF(AND(S!Q23>0,CA!Q56>=Parameter!$F$4),1,0))","v":0},{"$f":"IF(AND(S!R23>0,CA!R56>=Parameter!$F$5),2,IF(AND(S!R23>0,CA!R56>=Parameter!$F$4),1,0))","v":0},{"$f":"IF(AND(S!S23>0,CA!S56>=Parameter!$F$5),2,IF(AND(S!S23>0,CA!S56>=Parameter!$F$4),1,0))","v":0},{"$f":"IF(AND(S!T23>0,CA!T56>=Parameter!$F$5),2,IF(AND(S!T23>0,CA!T56>=Parameter!$F$4),1,0))","v":0},{"$f":"IF(AND(S!U23>0,CA!U56>=Parameter!$F$5),2,IF(AND(S!U23>0,CA!U56>=Parameter!$F$4),1,0))","v":0},{"$f":"IF(AND(S!V23>0,CA!V56>=Parameter!$F$5),2,IF(AND(S!V23>0,CA!V56>=Parameter!$F$4),1,0))","v":0},{"$f":"IF(AND(S!W23>0,CA!W56>=Parameter!$F$5),2,IF(AND(S!W23>0,CA!W56>=Parameter!$F$4),1,0))","v":0},{"$f":"IF(AND(S!X23>0,CA!X56>=Parameter!$F$5),2,IF(AND(S!X23>0,CA!X56>=Parameter!$F$4),1,0))","v":0},{"$f":"IF(AND(S!Y23>0,CA!Y56>=Parameter!$F$5),2,IF(AND(S!Y23>0,CA!Y56>=Parameter!$F$4),1,0))","v":0},{"$f":"IF(AND(S!Z23>0,CA!Z56>=Parameter!$F$5),2,IF(AND(S!Z23>0,CA!Z56>=Parameter!$F$4),1,0))","v":0},{"$f":"IF(AND(S!AA23>0,CA!AA56>=Parameter!$F$5),2,IF(AND(S!AA23>0,CA!AA56>=Parameter!$F$4),1,0))","v":0},{"$f":"IF(AND(S!AB23>0,CA!AB56>=Parameter!$F$5),2,IF(AND(S!AB23>0,CA!AB56>=Parameter!$F$4),1,0))","v":0},{"$f":"IF(AND(S!AC23>0,CA!AC56>=Parameter!$F$5),2,IF(AND(S!AC23>0,CA!AC56>=Parameter!$F$4),1,0))","v":0},{"$f":"IF(AND(S!AD23>0,CA!AD56>=Parameter!$F$5),2,IF(AND(S!AD23>0,CA!AD56>=Parameter!$F$4),1,0))","v":0},{"$f":"IF(AND(S!AE23>0,CA!AE56>=Parameter!$F$5),2,IF(AND(S!AE23>0,CA!AE56>=Parameter!$F$4),1,0))","v":0}]
[null,{"$f":"IF(AND(S!B24>0,CA!B57>=Parameter!$F$5),2,IF(AND(S!B24>0,CA!B57>=Parameter!$F$4),1,0))","v":0},{"$f":"IF(AND(S!C24>0,CA!C57>=Parameter!$F$5),2,IF(AND(S!C24>0,CA!C57>=Parameter!$F$4),1,0))","v":0},{"$f":"IF(AND(S!D24>0,CA!D57>=Parameter!$F$5),2,IF(AND(S!D24>0,CA!D57>=Parameter!$F$4),1,0))","v":0},{"$f":"IF(AND(S!E24>0,CA!E57>=Parameter!$F$5),2,IF(AND(S!E24>0,CA!E57>=Parameter!$F$4),1,0))","v":0},{"$f":"IF(AND(S!F24>0,CA!F57>=Parameter!$F$5),2,IF(AND(S!F24>0,CA!F57>=Parameter!$F$4),1,0))","v":0},{"$f":"IF(AND(S!G24>0,CA!G57>=Parameter!$F$5),2,IF(AND(S!G24>0,CA!G57>=Parameter!$F$4),1,0))","v":0},{"$f":"IF(AND(S!H24>0,CA!H57>=Parameter!$F$5),2,IF(AND(S!H24>0,CA!H57>=Parameter!$F$4),1,0))","v":0},{"$f":"IF(AND(S!I24>0,CA!I57>=Parameter!$F$5),2,IF(AND(S!I24>0,CA!I57>=Parameter!$F$4),1,0))","v":0},{"$f":"IF(AND(S!J24>0,CA!J57>=Parameter!$F$5),2,IF(AND(S!J24>0,CA!J57>=Parameter!$F$4),1,0))","v":0},{"$f":"IF(AND(S!K24>0,CA!K57>=Parameter!$F$5),2,IF(AND(S!K24>0,CA!K57>=Parameter!$F$4),1,0))","v":0},{"$f":"IF(AND(S!L24>0,CA!L57>=Parameter!$F$5),2,IF(AND(S!L24>0,CA!L57>=Parameter!$F$4),1,0))","v":0},{"$f":"IF(AND(S!M24>0,CA!M57>=Parameter!$F$5),2,IF(AND(S!M24>0,CA!M57>=Parameter!$F$4),1,0))","v":0},{"$f":"IF(AND(S!N24>0,CA!N57>=Parameter!$F$5),2,IF(AND(S!N24>0,CA!N57>=Parameter!$F$4),1,0))","v":0},{"$f":"IF(AND(S!O24>0,CA!O57>=Parameter!$F$5),2,IF(AND(S!O24>0,CA!O57>=Parameter!$F$4),1,0))","v":0},{"$f":"IF(AND(S!P24>0,CA!P57>=Parameter!$F$5),2,IF(AND(S!P24>0,CA!P57>=Parameter!$F$4),1,0))","v":0},{"$f":"IF(AND(S!Q24>0,CA!Q57>=Parameter!$F$5),2,IF(AND(S!Q24>0,CA!Q57>=Parameter!$F$4),1,0))","v":0},{"$f":"IF(AND(S!R24>0,CA!R57>=Parameter!$F$5),2,IF(AND(S!R24>0,CA!R57>=Parameter!$F$4),1,0))","v":0},{"$f":"IF(AND(S!S24>0,CA!S57>=Parameter!$F$5),2,IF(AND(S!S24>0,CA!S57>=Parameter!$F$4),1,0))","v":0},{"$f":"IF(AND(S!T24>0,CA!T57>=Parameter!$F$5),2,IF(AND(S!T24>0,CA!T57>=Parameter!$F$4),1,0))","v":0},{"$f":"IF(AND(S!U24>0,CA!U57>=Parameter!$F$5),2,IF(AND(S!U24>0,CA!U57>=Parameter!$F$4),1,0))","v":0},{"$f":"IF(AND(S!V24>0,CA!V57>=Parameter!$F$5),2,IF(AND(S!V24>0,CA!V57>=Parameter!$F$4),1,0))","v":0},{"$f":"IF(AND(S!W24>0,CA!W57>=Parameter!$F$5),2,IF(AND(S!W24>0,CA!W57>=Parameter!$F$4),1,0))","v":0},{"$f":"IF(AND(S!X24>0,CA!X57>=Parameter!$F$5),2,IF(AND(S!X24>0,CA!X57>=Parameter!$F$4),1,0))","v":0},{"$f":"IF(AND(S!Y24>0,CA!Y57>=Parameter!$F$5),2,IF(AND(S!Y24>0,CA!Y57>=Parameter!$F$4),1,0))","v":0},{"$f":"IF(AND(S!Z24>0,CA!Z57>=Parameter!$F$5),2,IF(AND(S!Z24>0,CA!Z57>=Parameter!$F$4),1,0))","v":0},{"$f":"IF(AND(S!AA24>0,CA!AA57>=Parameter!$F$5),2,IF(AND(S!AA24>0,CA!AA57>=Parameter!$F$4),1,0))","v":0},{"$f":"IF(AND(S!AB24>0,CA!AB57>=Parameter!$F$5),2,IF(AND(S!AB24>0,CA!AB57>=Parameter!$F$4),1,0))","v":0},{"$f":"IF(AND(S!AC24>0,CA!AC57>=Parameter!$F$5),2,IF(AND(S!AC24>0,CA!AC57>=Parameter!$F$4),1,0))","v":0},{"$f":"IF(AND(S!AD24>0,CA!AD57>=Parameter!$F$5),2,IF(AND(S!AD24>0,CA!AD57>=Parameter!$F$4),1,0))","v":0},{"$f":"IF(AND(S!AE24>0,CA!AE57>=Parameter!$F$5),2,IF(AND(S!AE24>0,CA!AE57>=Parameter!$F$4),1,0))","v":0}]
[null,{"$f":"IF(AND(S!B25>0,CA!B58>=Parameter!$F$5),2,IF(AND(S!B25>0,CA!B58>=Parameter!$F$4),1,0))","v":0},{"$f":"IF(AND(S!C25>0,CA!C58>=Parameter!$F$5),2,IF(AND(S!C25>0,CA!C58>=Parameter!$F$4),1,0))","v":0},{"$f":"IF(AND(S!D25>0,CA!D58>=Parameter!$F$5),2,IF(AND(S!D25>0,CA!D58>=Parameter!$F$4),1,0))","v":0},{"$f":"IF(AND(S!E25>0,CA!E58>=Parameter!$F$5),2,IF(AND(S!E25>0,CA!E58>=Parameter!$F$4),1,0))","v":0},{"$f":"IF(AND(S!F25>0,CA!F58>=Parameter!$F$5),2,IF(AND(S!F25>0,CA!F58>=Parameter!$F$4),1,0))","v":0},{"$f":"IF(AND(S!G25>0,CA!G58>=Parameter!$F$5),2,IF(AND(S!G25>0,CA!G58>=Parameter!$F$4),1,0))","v":0},{"$f":"IF(AND(S!H25>0,CA!H58>=Parameter!$F$5),2,IF(AND(S!H25>0,CA!H58>=Parameter!$F$4),1,0))","v":0},{"$f":"IF(AND(S!I25>0,CA!I58>=Parameter!$F$5),2,IF(AND(S!I25>0,CA!I58>=Parameter!$F$4),1,0))","v":0},{"$f":"IF(AND(S!J25>0,CA!J58>=Parameter!$F$5),2,IF(AND(S!J25>0,CA!J58>=Parameter!$F$4),1,0))","v":0},{"$f":"IF(AND(S!K25>0,CA!K58>=Parameter!$F$5),2,IF(AND(S!K25>0,CA!K58>=Parameter!$F$4),1,0))","v":0},{"$f":"IF(AND(S!L25>0,CA!L58>=Parameter!$F$5),2,IF(AND(S!L25>0,CA!L58>=Parameter!$F$4),1,0))","v":0},{"$f":"IF(AND(S!M25>0,CA!M58>=Parameter!$F$5),2,IF(AND(S!M25>0,CA!M58>=Parameter!$F$4),1,0))","v":0},{"$f":"IF(AND(S!N25>0,CA!N58>=Parameter!$F$5),2,IF(AND(S!N25>0,CA!N58>=Parameter!$F$4),1,0))","v":0},{"$f":"IF(AND(S!O25>0,CA!O58>=Parameter!$F$5),2,IF(AND(S!O25>0,CA!O58>=Parameter!$F$4),1,0))","v":0},{"$f":"IF(AND(S!P25>0,CA!P58>=Parameter!$F$5),2,IF(AND(S!P25>0,CA!P58>=Parameter!$F$4),1,0))","v":0},{"$f":"IF(AND(S!Q25>0,CA!Q58>=Parameter!$F$5),2,IF(AND(S!Q25>0,CA!Q58>=Parameter!$F$4),1,0))","v":0},{"$f":"IF(AND(S!R25>0,CA!R58>=Parameter!$F$5),2,IF(AND(S!R25>0,CA!R58>=Parameter!$F$4),1,0))","v":0},{"$f":"IF(AND(S!S25>0,CA!S58>=Parameter!$F$5),2,IF(AND(S!S25>0,CA!S58>=Parameter!$F$4),1,0))","v":0},{"$f":"IF(AND(S!T25>0,CA!T58>=Parameter!$F$5),2,IF(AND(S!T25>0,CA!T58>=Parameter!$F$4),1,0))","v":0},{"$f":"IF(AND(S!U25>0,CA!U58>=Parameter!$F$5),2,IF(AND(S!U25>0,CA!U58>=Parameter!$F$4),1,0))","v":0},{"$f":"IF(AND(S!V25>0,CA!V58>=Parameter!$F$5),2,IF(AND(S!V25>0,CA!V58>=Parameter!$F$4),1,0))","v":0},{"$f":"IF(AND(S!W25>0,CA!W58>=Parameter!$F$5),2,IF(AND(S!W25>0,CA!W58>=Parameter!$F$4),1,0))","v":0},{"$f":"IF(AND(S!X25>0,CA!X58>=Parameter!$F$5),2,IF(AND(S!X25>0,CA!X58>=Parameter!$F$4),1,0))","v":0},{"$f":"IF(AND(S!Y25>0,CA!Y58>=Parameter!$F$5),2,IF(AND(S!Y25>0,CA!Y58>=Parameter!$F$4),1,0))","v":0},{"$f":"IF(AND(S!Z25>0,CA!Z58>=Parameter!$F$5),2,IF(AND(S!Z25>0,CA!Z58>=Parameter!$F$4),1,0))","v":0},{"$f":"IF(AND(S!AA25>0,CA!AA58>=Parameter!$F$5),2,IF(AND(S!AA25>0,CA!AA58>=Parameter!$F$4),1,0))","v":0},{"$f":"IF(AND(S!AB25>0,CA!AB58>=Parameter!$F$5),2,IF(AND(S!AB25>0,CA!AB58>=Parameter!$F$4),1,0))","v":0},{"$f":"IF(AND(S!AC25>0,CA!AC58>=Parameter!$F$5),2,IF(AND(S!AC25>0,CA!AC58>=Parameter!$F$4),1,0))","v":0},{"$f":"IF(AND(S!AD25>0,CA!AD58>=Parameter!$F$5),2,IF(AND(S!AD25>0,CA!AD58>=Parameter!$F$4),1,0))","v":0},{"$f":"IF(AND(S!AE25>0,CA!AE58>=Parameter!$F$5),2,IF(AND(S!AE25>0,CA!AE58>=Parameter!$F$4),1,0))","v":0}]
[null,{"$f":"IF(AND(S!B26>0,CA!B59>=Parameter!$F$5),2,IF(AND(S!B26>0,CA!B59>=Parameter!$F$4),1,0))","v":0},{"$f":"IF(AND(S!C26>0,CA!C59>=Parameter!$F$5),2,IF(AND(S!C26>0,CA!C59>=Parameter!$F$4),1,0))","v":0},{"$f":"IF(AND(S!D26>0,CA!D59>=Parameter!$F$5),2,IF(AND(S!D26>0,CA!D59>=Parameter!$F$4),1,0))","v":0},{"$f":"IF(AND(S!E26>0,CA!E59>=Parameter!$F$5),2,IF(AND(S!E26>0,CA!E59>=Parameter!$F$4),1,0))","v":0},{"$f":"IF(AND(S!F26>0,CA!F59>=Parameter!$F$5),2,IF(AND(S!F26>0,CA!F59>=Parameter!$F$4),1,0))","v":0},{"$f":"IF(AND(S!G26>0,CA!G59>=Parameter!$F$5),2,IF(AND(S!G26>0,CA!G59>=Parameter!$F$4),1,0))","v":0},{"$f":"IF(AND(S!H26>0,CA!H59>=Parameter!$F$5),2,IF(AND(S!H26>0,CA!H59>=Parameter!$F$4),1,0))","v":0},{"$f":"IF(AND(S!I26>0,CA!I59>=Parameter!$F$5),2,IF(AND(S!I26>0,CA!I59>=Parameter!$F$4),1,0))","v":0},{"$f":"IF(AND(S!J26>0,CA!J59>=Parameter!$F$5),2,IF(AND(S!J26>0,CA!J59>=Parameter!$F$4),1,0))","v":0},{"$f":"IF(AND(S!K26>0,CA!K59>=Parameter!$F$5),2,IF(AND(S!K26>0,CA!K59>=Parameter!$F$4),1,0))","v":0},{"$f":"IF(AND(S!L26>0,CA!L59>=Parameter!$F$5),2,IF(AND(S!L26>0,CA!L59>=Parameter!$F$4),1,0))","v":0},{"$f":"IF(AND(S!M26>0,CA!M59>=Parameter!$F$5),2,IF(AND(S!M26>0,CA!M59>=Parameter!$F$4),1,0))","v":0},{"$f":"IF(AND(S!N26>0,CA!N59>=Parameter!$F$5),2,IF(AND(S!N26>0,CA!N59>=Parameter!$F$4),1,0))","v":0},{"$f":"IF(AND(S!O26>0,CA!O59>=Parameter!$F$5),2,IF(AND(S!O26>0,CA!O59>=Parameter!$F$4),1,0))","v":0},{"$f":"IF(AND(S!P26>0,CA!P59>=Parameter!$F$5),2,IF(AND(S!P26>0,CA!P59>=Parameter!$F$4),1,0))","v":0},{"$f":"IF(AND(S!Q26>0,CA!Q59>=Parameter!$F$5),2,IF(AND(S!Q26>0,CA!Q59>=Parameter!$F$4),1,0))","v":0},{"$f":"IF(AND(S!R26>0,CA!R59>=Parameter!$F$5),2,IF(AND(S!R26>0,CA!R59>=Parameter!$F$4),1,0))","v":0},{"$f":"IF(AND(S!S26>0,CA!S59>=Parameter!$F$5),2,IF(AND(S!S26>0,CA!S59>=Parameter!$F$4),1,0))","v":0},{"$f":"IF(AND(S!T26>0,CA!T59>=Parameter!$F$5),2,IF(AND(S!T26>0,CA!T59>=Parameter!$F$4),1,0))","v":0},{"$f":"IF(AND(S!U26>0,CA!U59>=Parameter!$F$5),2,IF(AND(S!U26>0,CA!U59>=Parameter!$F$4),1,0))","v":0},{"$f":"IF(AND(S!V26>0,CA!V59>=Parameter!$F$5),2,IF(AND(S!V26>0,CA!V59>=Parameter!$F$4),1,0))","v":0},{"$f":"IF(AND(S!W26>0,CA!W59>=Parameter!$F$5),2,IF(AND(S!W26>0,CA!W59>=Parameter!$F$4),1,0))","v":0},{"$f":"IF(AND(S!X26>0,CA!X59>=Parameter!$F$5),2,IF(AND(S!X26>0,CA!X59>=Parameter!$F$4),1,0))","v":0},{"$f":"IF(AND(S!Y26>0,CA!Y59>=Parameter!$F$5),2,IF(AND(S!Y26>0,CA!Y59>=Parameter!$F$4),1,0))","v":0},{"$f":"IF(AND(S!Z26>0,CA!Z59>=Parameter!$F$5),2,IF(AND(S!Z26>0,CA!Z59>=Parameter!$F$4),1,0))","v":0},{"$f":"IF(AND(S!AA26>0,CA!AA59>=Parameter!$F$5),2,IF(AND(S!AA26>0,CA!AA59>=Parameter!$F$4),1,0))","v":0},{"$f":"IF(AND(S!AB26>0,CA!AB59>=Parameter!$F$5),2,IF(AND(S!AB26>0,CA!AB59>=Parameter!$F$4),1,0))","v":0},{"$f":"IF(AND(S!AC26>0,CA!AC59>=Parameter!$F$5),2,IF(AND(S!AC26>0,CA!AC59>=Parameter!$F$4),1,0))","v":0},{"$f":"IF(AND(S!AD26>0,CA!AD59>=Parameter!$F$5),2,IF(AND(S!AD26>0,CA!AD59>=Parameter!$F$4),1,0))","v":0},{"$f":"IF(AND(S!AE26>0,CA!AE59>=Parameter!$F$5),2,IF(AND(S!AE26>0,CA!AE59>=Parameter!$F$4),1,0))","v":0}]
[null,{"$f":"IF(AND(S!B27>0,CA!B60>=Parameter!$F$5),2,IF(AND(S!B27>0,CA!B60>=Parameter!$F$4),1,0))","v":0},{"$f":"IF(AND(S!C27>0,CA!C60>=Parameter!$F$5),2,IF(AND(S!C27>0,CA!C60>=Parameter!$F$4),1,0))","v":0},{"$f":"IF(AND(S!D27>0,CA!D60>=Parameter!$F$5),2,IF(AND(S!D27>0,CA!D60>=Parameter!$F$4),1,0))","v":0},{"$f":"IF(AND(S!E27>0,CA!E60>=Parameter!$F$5),2,IF(AND(S!E27>0,CA!E60>=Parameter!$F$4),1,0))","v":0},{"$f":"IF(AND(S!F27>0,CA!F60>=Parameter!$F$5),2,IF(AND(S!F27>0,CA!F60>=Parameter!$F$4),1,0))","v":0},{"$f":"IF(AND(S!G27>0,CA!G60>=Parameter!$F$5),2,IF(AND(S!G27>0,CA!G60>=Parameter!$F$4),1,0))","v":0},{"$f":"IF(AND(S!H27>0,CA!H60>=Parameter!$F$5),2,IF(AND(S!H27>0,CA!H60>=Parameter!$F$4),1,0))","v":0},{"$f":"IF(AND(S!I27>0,CA!I60>=Parameter!$F$5),2,IF(AND(S!I27>0,CA!I60>=Parameter!$F$4),1,0))","v":0},{"$f":"IF(AND(S!J27>0,CA!J60>=Parameter!$F$5),2,IF(AND(S!J27>0,CA!J60>=Parameter!$F$4),1,0))","v":0},{"$f":"IF(AND(S!K27>0,CA!K60>=Parameter!$F$5),2,IF(AND(S!K27>0,CA!K60>=Parameter!$F$4),1,0))","v":0},{"$f":"IF(AND(S!L27>0,CA!L60>=Parameter!$F$5),2,IF(AND(S!L27>0,CA!L60>=Parameter!$F$4),1,0))","v":0},{"$f":"IF(AND(S!M27>0,CA!M60>=Parameter!$F$5),2,IF(AND(S!M27>0,CA!M60>=Parameter!$F$4),1,0))","v":0},{"$f":"IF(AND(S!N27>0,CA!N60>=Parameter!$F$5),2,IF(AND(S!N27>0,CA!N60>=Parameter!$F$4),1,0))","v":0},{"$f":"IF(AND(S!O27>0,CA!O60>=Parameter!$F$5),2,IF(AND(S!O27>0,CA!O60>=Parameter!$F$4),1,0))","v":0},{"$f":"IF(AND(S!P27>0,CA!P60>=Parameter!$F$5),2,IF(AND(S!P27>0,CA!P60>=Parameter!$F$4),1,0))","v":0},{"$f":"IF(AND(S!Q27>0,CA!Q60>=Parameter!$F$5),2,IF(AND(S!Q27>0,CA!Q60>=Parameter!$F$4),1,0))","v":0},{"$f":"IF(AND(S!R27>0,CA!R60>=Parameter!$F$5),2,IF(AND(S!R27>0,CA!R60>=Parameter!$F$4),1,0))","v":0},{"$f":"IF(AND(S!S27>0,CA!S60>=Parameter!$F$5),2,IF(AND(S!S27>0,CA!S60>=Parameter!$F$4),1,0))","v":0},{"$f":"IF(AND(S!T27>0,CA!T60>=Parameter!$F$5),2,IF(AND(S!T27>0,CA!T60>=Parameter!$F$4),1,0))","v":0},{"$f":"IF(AND(S!U27>0,CA!U60>=Parameter!$F$5),2,IF(AND(S!U27>0,CA!U60>=Parameter!$F$4),1,0))","v":0},{"$f":"IF(AND(S!V27>0,CA!V60>=Parameter!$F$5),2,IF(AND(S!V27>0,CA!V60>=Parameter!$F$4),1,0))","v":0},{"$f":"IF(AND(S!W27>0,CA!W60>=Parameter!$F$5),2,IF(AND(S!W27>0,CA!W60>=Parameter!$F$4),1,0))","v":0},{"$f":"IF(AND(S!X27>0,CA!X60>=Parameter!$F$5),2,IF(AND(S!X27>0,CA!X60>=Parameter!$F$4),1,0))","v":0},{"$f":"IF(AND(S!Y27>0,CA!Y60>=Parameter!$F$5),2,IF(AND(S!Y27>0,CA!Y60>=Parameter!$F$4),1,0))","v":0},{"$f":"IF(AND(S!Z27>0,CA!Z60>=Parameter!$F$5),2,IF(AND(S!Z27>0,CA!Z60>=Parameter!$F$4),1,0))","v":0},{"$f":"IF(AND(S!AA27>0,CA!AA60>=Parameter!$F$5),2,IF(AND(S!AA27>0,CA!AA60>=Parameter!$F$4),1,0))","v":0},{"$f":"IF(AND(S!AB27>0,CA!AB60>=Parameter!$F$5),2,IF(AND(S!AB27>0,CA!AB60>=Parameter!$F$4),1,0))","v":0},{"$f":"IF(AND(S!AC27>0,CA!AC60>=Parameter!$F$5),2,IF(AND(S!AC27>0,CA!AC60>=Parameter!$F$4),1,0))","v":0},{"$f":"IF(AND(S!AD27>0,CA!AD60>=Parameter!$F$5),2,IF(AND(S!AD27>0,CA!AD60>=Parameter!$F$4),1,0))","v":0},{"$f":"IF(AND(S!AE27>0,CA!AE60>=Parameter!$F$5),2,IF(AND(S!AE27>0,CA!AE60>=Parameter!$F$4),1,0))","v":0}]
[null,{"$f":"IF(AND(S!B28>0,CA!B61>=Parameter!$F$5),2,IF(AND(S!B28>0,CA!B61>=Parameter!$F$4),1,0))","v":0},{"$f":"IF(AND(S!C28>0,CA!C61>=Parameter!$F$5),2,IF(AND(S!C28>0,CA!C61>=Parameter!$F$4),1,0))","v":0},{"$f":"IF(AND(S!D28>0,CA!D61>=Parameter!$F$5),2,IF(AND(S!D28>0,CA!D61>=Parameter!$F$4),1,0))","v":0},{"$f":"IF(AND(S!E28>0,CA!E61>=Parameter!$F$5),2,IF(AND(S!E28>0,CA!E61>=Parameter!$F$4),1,0))","v":0},{"$f":"IF(AND(S!F28>0,CA!F61>=Parameter!$F$5),2,IF(AND(S!F28>0,CA!F61>=Parameter!$F$4),1,0))","v":0},{"$f":"IF(AND(S!G28>0,CA!G61>=Parameter!$F$5),2,IF(AND(S!G28>0,CA!G61>=Parameter!$F$4),1,0))","v":0},{"$f":"IF(AND(S!H28>0,CA!H61>=Parameter!$F$5),2,IF(AND(S!H28>0,CA!H61>=Parameter!$F$4),1,0))","v":0},{"$f":"IF(AND(S!I28>0,CA!I61>=Parameter!$F$5),2,IF(AND(S!I28>0,CA!I61>=Parameter!$F$4),1,0))","v":0},{"$f":"IF(AND(S!J28>0,CA!J61>=Parameter!$F$5),2,IF(AND(S!J28>0,CA!J61>=Parameter!$F$4),1,0))","v":0},{"$f":"IF(AND(S!K28>0,CA!K61>=Parameter!$F$5),2,IF(AND(S!K28>0,CA!K61>=Parameter!$F$4),1,0))","v":0},{"$f":"IF(AND(S!L28>0,CA!L61>=Parameter!$F$5),2,IF(AND(S!L28>0,CA!L61>=Parameter!$F$4),1,0))","v":0},{"$f":"IF(AND(S!M28>0,CA!M61>=Parameter!$F$5),2,IF(AND(S!M28>0,CA!M61>=Parameter!$F$4),1,0))","v":0},{"$f":"IF(AND(S!N28>0,CA!N61>=Parameter!$F$5),2,IF(AND(S!N28>0,CA!N61>=Parameter!$F$4),1,0))","v":0},{"$f":"IF(AND(S!O28>0,CA!O61>=Parameter!$F$5),2,IF(AND(S!O28>0,CA!O61>=Parameter!$F$4),1,0))","v":0},{"$f":"IF(AND(S!P28>0,CA!P61>=Parameter!$F$5),2,IF(AND(S!P28>0,CA!P61>=Parameter!$F$4),1,0))","v":0},{"$f":"IF(AND(S!Q28>0,CA!Q61>=Parameter!$F$5),2,IF(AND(S!Q28>0,CA!Q61>=Parameter!$F$4),1,0))","v":0},{"$f":"IF(AND(S!R28>0,CA!R61>=Parameter!$F$5),2,IF(AND(S!R28>0,CA!R61>=Parameter!$F$4),1,0))","v":0},{"$f":"IF(AND(S!S28>0,CA!S61>=Parameter!$F$5),2,IF(AND(S!S28>0,CA!S61>=Parameter!$F$4),1,0))","v":0},{"$f":"IF(AND(S!T28>0,CA!T61>=Parameter!$F$5),2,IF(AND(S!T28>0,CA!T61>=Parameter!$F$4),1,0))","v":0},{"$f":"IF(AND(S!U28>0,CA!U61>=Parameter!$F$5),2,IF(AND(S!U28>0,CA!U61>=Parameter!$F$4),1,0))","v":0},{"$f":"IF(AND(S!V28>0,CA!V61>=Parameter!$F$5),2,IF(AND(S!V28>0,CA!V61>=Parameter!$F$4),1,0))","v":0},{"$f":"IF(AND(S!W28>0,CA!W61>=Parameter!$F$5),2,IF(AND(S!W28>0,CA!W61>=Parameter!$F$4),1,0))","v":0},{"$f":"IF(AND(S!X28>0,CA!X61>=Parameter!$F$5),2,IF(AND(S!X28>0,CA!X61>=Parameter!$F$4),1,0))","v":0},{"$f":"IF(AND(S!Y28>0,CA!Y61>=Parameter!$F$5),2,IF(AND(S!Y28>0,CA!Y61>=Parameter!$F$4),1,0))","v":0},{"$f":"IF(AND(S!Z28>0,CA!Z61>=Parameter!$F$5),2,IF(AND(S!Z28>0,CA!Z61>=Parameter!$F$4),1,0))","v":0},{"$f":"IF(AND(S!AA28>0,CA!AA61>=Parameter!$F$5),2,IF(AND(S!AA28>0,CA!AA61>=Parameter!$F$4),1,0))","v":0},{"$f":"IF(AND(S!AB28>0,CA!AB61>=Parameter!$F$5),2,IF(AND(S!AB28>0,CA!AB61>=Parameter!$F$4),1,0))","v":0},{"$f":"IF(AND(S!AC28>0,CA!AC61>=Parameter!$F$5),2,IF(AND(S!AC28>0,CA!AC61>=Parameter!$F$4),1,0))","v":0},{"$f":"IF(AND(S!AD28>0,CA!AD61>=Parameter!$F$5),2,IF(AND(S!AD28>0,CA!AD61>=Parameter!$F$4),1,0))","v":0},{"$f":"IF(AND(S!AE28>0,CA!AE61>=Parameter!$F$5),2,IF(AND(S!AE28>0,CA!AE61>=Parameter!$F$4),1,0))","v":0}]
[null,{"$f":"IF(AND(S!B29>0,CA!B62>=Parameter!$F$5),2,IF(AND(S!B29>0,CA!B62>=Parameter!$F$4),1,0))","v":0},{"$f":"IF(AND(S!C29>0,CA!C62>=Parameter!$F$5),2,IF(AND(S!C29>0,CA!C62>=Parameter!$F$4),1,0))","v":0},{"$f":"IF(AND(S!D29>0,CA!D62>=Parameter!$F$5),2,IF(AND(S!D29>0,CA!D62>=Parameter!$F$4),1,0))","v":0},{"$f":"IF(AND(S!E29>0,CA!E62>=Parameter!$F$5),2,IF(AND(S!E29>0,CA!E62>=Parameter!$F$4),1,0))","v":0},{"$f":"IF(AND(S!F29>0,CA!F62>=Parameter!$F$5),2,IF(AND(S!F29>0,CA!F62>=Parameter!$F$4),1,0))","v":0},{"$f":"IF(AND(S!G29>0,CA!G62>=Parameter!$F$5),2,IF(AND(S!G29>0,CA!G62>=Parameter!$F$4),1,0))","v":0},{"$f":"IF(AND(S!H29>0,CA!H62>=Parameter!$F$5),2,IF(AND(S!H29>0,CA!H62>=Parameter!$F$4),1,0))","v":0},{"$f":"IF(AND(S!I29>0,CA!I62>=Parameter!$F$5),2,IF(AND(S!I29>0,CA!I62>=Parameter!$F$4),1,0))","v":0},{"$f":"IF(AND(S!J29>0,CA!J62>=Parameter!$F$5),2,IF(AND(S!J29>0,CA!J62>=Parameter!$F$4),1,0))","v":0},{"$f":"IF(AND(S!K29>0,CA!K62>=Parameter!$F$5),2,IF(AND(S!K29>0,CA!K62>=Parameter!$F$4),1,0))","v":0},{"$f":"IF(AND(S!L29>0,CA!L62>=Parameter!$F$5),2,IF(AND(S!L29>0,CA!L62>=Parameter!$F$4),1,0))","v":0},{"$f":"IF(AND(S!M29>0,CA!M62>=Parameter!$F$5),2,IF(AND(S!M29>0,CA!M62>=Parameter!$F$4),1,0))","v":0},{"$f":"IF(AND(S!N29>0,CA!N62>=Parameter!$F$5),2,IF(AND(S!N29>0,CA!N62>=Parameter!$F$4),1,0))","v":0},{"$f":"IF(AND(S!O29>0,CA!O62>=Parameter!$F$5),2,IF(AND(S!O29>0,CA!O62>=Parameter!$F$4),1,0))","v":0},{"$f":"IF(AND(S!P29>0,CA!P62>=Parameter!$F$5),2,IF(AND(S!P29>0,CA!P62>=Parameter!$F$4),1,0))","v":0},{"$f":"IF(AND(S!Q29>0,CA!Q62>=Parameter!$F$5),2,IF(AND(S!Q29>0,CA!Q62>=Parameter!$F$4),1,0))","v":0},{"$f":"IF(AND(S!R29>0,CA!R62>=Parameter!$F$5),2,IF(AND(S!R29>0,CA!R62>=Parameter!$F$4),1,0))","v":0},{"$f":"IF(AND(S!S29>0,CA!S62>=Parameter!$F$5),2,IF(AND(S!S29>0,CA!S62>=Parameter!$F$4),1,0))","v":0},{"$f":"IF(AND(S!T29>0,CA!T62>=Parameter!$F$5),2,IF(AND(S!T29>0,CA!T62>=Parameter!$F$4),1,0))","v":0},{"$f":"IF(AND(S!U29>0,CA!U62>=Parameter!$F$5),2,IF(AND(S!U29>0,CA!U62>=Parameter!$F$4),1,0))","v":0},{"$f":"IF(AND(S!V29>0,CA!V62>=Parameter!$F$5),2,IF(AND(S!V29>0,CA!V62>=Parameter!$F$4),1,0))","v":0},{"$f":"IF(AND(S!W29>0,CA!W62>=Parameter!$F$5),2,IF(AND(S!W29>0,CA!W62>=Parameter!$F$4),1,0))","v":0},{"$f":"IF(AND(S!X29>0,CA!X62>=Parameter!$F$5),2,IF(AND(S!X29>0,CA!X62>=Parameter!$F$4),1,0))","v":0},{"$f":"IF(AND(S!Y29>0,CA!Y62>=Parameter!$F$5),2,IF(AND(S!Y29>0,CA!Y62>=Parameter!$F$4),1,0))","v":0},{"$f":"IF(AND(S!Z29>0,CA!Z62>=Parameter!$F$5),2,IF(AND(S!Z29>0,CA!Z62>=Parameter!$F$4),1,0))","v":0},{"$f":"IF(AND(S!AA29>0,CA!AA62>=Parameter!$F$5),2,IF(AND(S!AA29>0,CA!AA62>=Parameter!$F$4),1,0))","v":0},{"$f":"IF(AND(S!AB29>0,CA!AB62>=Parameter!$F$5),2,IF(AND(S!AB29>0,CA!AB62>=Parameter!$F$4),1,0))","v":0},{"$f":"IF(AND(S!AC29>0,CA!AC62>=Parameter!$F$5),2,IF(AND(S!AC29>0,CA!AC62>=Parameter!$F$4),1,0))","v":0},{"$f":"IF(AND(S!AD29>0,CA!AD62>=Parameter!$F$5),2,IF(AND(S!AD29>0,CA!AD62>=Parameter!$F$4),1,0))","v":0},{"$f":"IF(AND(S!AE29>0,CA!AE62>=Parameter!$F$5),2,IF(AND(S!AE29>0,CA!AE62>=Parameter!$F$4),1,0))","v":0}]
[null,{"$f":"IF(AND(S!B30>0,CA!B63>=Parameter!$F$5),2,IF(AND(S!B30>0,CA!B63>=Parameter!$F$4),1,0))","v":0},{"$f":"IF(AND(S!C30>0,CA!C63>=Parameter!$F$5),2,IF(AND(S!C30>0,CA!C63>=Parameter!$F$4),1,0))","v":0},{"$f":"IF(AND(S!D30>0,CA!D63>=Parameter!$F$5),2,IF(AND(S!D30>0,CA!D63>=Parameter!$F$4),1,0))","v":0},{"$f":"IF(AND(S!E30>0,CA!E63>=Parameter!$F$5),2,IF(AND(S!E30>0,CA!E63>=Parameter!$F$4),1,0))","v":0},{"$f":"IF(AND(S!F30>0,CA!F63>=Parameter!$F$5),2,IF(AND(S!F30>0,CA!F63>=Parameter!$F$4),1,0))","v":0},{"$f":"IF(AND(S!G30>0,CA!G63>=Parameter!$F$5),2,IF(AND(S!G30>0,CA!G63>=Parameter!$F$4),1,0))","v":0},{"$f":"IF(AND(S!H30>0,CA!H63>=Parameter!$F$5),2,IF(AND(S!H30>0,CA!H63>=Parameter!$F$4),1,0))","v":0},{"$f":"IF(AND(S!I30>0,CA!I63>=Parameter!$F$5),2,IF(AND(S!I30>0,CA!I63>=Parameter!$F$4),1,0))","v":0},{"$f":"IF(AND(S!J30>0,CA!J63>=Parameter!$F$5),2,IF(AND(S!J30>0,CA!J63>=Parameter!$F$4),1,0))","v":0},{"$f":"IF(AND(S!K30>0,CA!K63>=Parameter!$F$5),2,IF(AND(S!K30>0,CA!K63>=Parameter!$F$4),1,0))","v":0},{"$f":"IF(AND(S!L30>0,CA!L63>=Parameter!$F$5),2,IF(AND(S!L30>0,CA!L63>=Parameter!$F$4),1,0))","v":0},{"$f":"IF(AND(S!M30>0,CA!M63>=Parameter!$F$5),2,IF(AND(S!M30>0,CA!M63>=Parameter!$F$4),1,0))","v":0},{"$f":"IF(AND(S!N30>0,CA!N63>=Parameter!$F$5),2,IF(AND(S!N30>0,CA!N63>=Parameter!$F$4),1,0))","v":0},{"$f":"IF(AND(S!O30>0,CA!O63>=Parameter!$F$5),2,IF(AND(S!O30>0,CA!O63>=Parameter!$F$4),1,0))","v":0},{"$f":"IF(AND(S!P30>0,CA!P63>=Parameter!$F$5),2,IF(AND(S!P30>0,CA!P63>=Parameter!$F$4),1,0))","v":0},{"$f":"IF(AND(S!Q30>0,CA!Q63>=Parameter!$F$5),2,IF(AND(S!Q30>0,CA!Q63>=Parameter!$F$4),1,0))","v":0},{"$f":"IF(AND(S!R30>0,CA!R63>=Parameter!$F$5),2,IF(AND(S!R30>0,CA!R63>=Parameter!$F$4),1,0))","v":0},{"$f":"IF(AND(S!S30>0,CA!S63>=Parameter!$F$5),2,IF(AND(S!S30>0,CA!S63>=Parameter!$F$4),1,0))","v":0},{"$f":"IF(AND(S!T30>0,CA!T63>=Parameter!$F$5),2,IF(AND(S!T30>0,CA!T63>=Parameter!$F$4),1,0))","v":0},{"$f":"IF(AND(S!U30>0,CA!U63>=Parameter!$F$5),2,IF(AND(S!U30>0,CA!U63>=Parameter!$F$4),1,0))","v":0},{"$f":"IF(AND(S!V30>0,CA!V63>=Parameter!$F$5),2,IF(AND(S!V30>0,CA!V63>=Parameter!$F$4),1,0))","v":0},{"$f":"IF(AND(S!W30>0,CA!W63>=Parameter!$F$5),2,IF(AND(S!W30>0,CA!W63>=Parameter!$F$4),1,0))","v":0},{"$f":"IF(AND(S!X30>0,CA!X63>=Parameter!$F$5),2,IF(AND(S!X30>0,CA!X63>=Parameter!$F$4),1,0))","v":0},{"$f":"IF(AND(S!Y30>0,CA!Y63>=Parameter!$F$5),2,IF(AND(S!Y30>0,CA!Y63>=Parameter!$F$4),1,0))","v":0},{"$f":"IF(AND(S!Z30>0,CA!Z63>=Parameter!$F$5),2,IF(AND(S!Z30>0,CA!Z63>=Parameter!$F$4),1,0))","v":0},{"$f":"IF(AND(S!AA30>0,CA!AA63>=Parameter!$F$5),2,IF(AND(S!AA30>0,CA!AA63>=Parameter!$F$4),1,0))","v":0},{"$f":"IF(AND(S!AB30>0,CA!AB63>=Parameter!$F$5),2,IF(AND(S!AB30>0,CA!AB63>=Parameter!$F$4),1,0))","v":0},{"$f":"IF(AND(S!AC30>0,CA!AC63>=Parameter!$F$5),2,IF(AND(S!AC30>0,CA!AC63>=Parameter!$F$4),1,0))","v":0},{"$f":"IF(AND(S!AD30>0,CA!AD63>=Parameter!$F$5),2,IF(AND(S!AD30>0,CA!AD63>=Parameter!$F$4),1,0))","v":0},{"$f":"IF(AND(S!AE30>0,CA!AE63>=Parameter!$F$5),2,IF(AND(S!AE30>0,CA!AE63>=Parameter!$F$4),1,0))","v":0}]
[null,{"$f":"IF(AND(S!B31>0,CA!B64>=Parameter!$F$5),2,IF(AND(S!B31>0,CA!B64>=Parameter!$F$4),1,0))","v":0},{"$f":"IF(AND(S!C31>0,CA!C64>=Parameter!$F$5),2,IF(AND(S!C31>0,CA!C64>=Parameter!$F$4),1,0))","v":0},{"$f":"IF(AND(S!D31>0,CA!D64>=Parameter!$F$5),2,IF(AND(S!D31>0,CA!D64>=Parameter!$F$4),1,0))","v":0},{"$f":"IF(AND(S!E31>0,CA!E64>=Parameter!$F$5),2,IF(AND(S!E31>0,CA!E64>=Parameter!$F$4),1,0))","v":0},{"$f":"IF(AND(S!F31>0,CA!F64>=Parameter!$F$5),2,IF(AND(S!F31>0,CA!F64>=Parameter!$F$4),1,0))","v":0},{"$f":"IF(AND(S!G31>0,CA!G64>=Parameter!$F$5),2,IF(AND(S!G31>0,CA!G64>=Parameter!$F$4),1,0))","v":0},{"$f":"IF(AND(S!H31>0,CA!H64>=Parameter!$F$5),2,IF(AND(S!H31>0,CA!H64>=Parameter!$F$4),1,0))","v":0},{"$f":"IF(AND(S!I31>0,CA!I64>=Parameter!$F$5),2,IF(AND(S!I31>0,CA!I64>=Parameter!$F$4),1,0))","v":0},{"$f":"IF(AND(S!J31>0,CA!J64>=Parameter!$F$5),2,IF(AND(S!J31>0,CA!J64>=Parameter!$F$4),1,0))","v":0},{"$f":"IF(AND(S!K31>0,CA!K64>=Parameter!$F$5),2,IF(AND(S!K31>0,CA!K64>=Parameter!$F$4),1,0))","v":0},{"$f":"IF(AND(S!L31>0,CA!L64>=Parameter!$F$5),2,IF(AND(S!L31>0,CA!L64>=Parameter!$F$4),1,0))","v":0},{"$f":"IF(AND(S!M31>0,CA!M64>=Parameter!$F$5),2,IF(AND(S!M31>0,CA!M64>=Parameter!$F$4),1,0))","v":0},{"$f":"IF(AND(S!N31>0,CA!N64>=Parameter!$F$5),2,IF(AND(S!N31>0,CA!N64>=Parameter!$F$4),1,0))","v":0},{"$f":"IF(AND(S!O31>0,CA!O64>=Parameter!$F$5),2,IF(AND(S!O31>0,CA!O64>=Parameter!$F$4),1,0))","v":0},{"$f":"IF(AND(S!P31>0,CA!P64>=Parameter!$F$5),2,IF(AND(S!P31>0,CA!P64>=Parameter!$F$4),1,0))","v":0},{"$f":"IF(AND(S!Q31>0,CA!Q64>=Parameter!$F$5),2,IF(AND(S!Q31>0,CA!Q64>=Parameter!$F$4),1,0))","v":0},{"$f":"IF(AND(S!R31>0,CA!R64>=Parameter!$F$5),2,IF(AND(S!R31>0,CA!R64>=Parameter!$F$4),1,0))","v":0},{"$f":"IF(AND(S!S31>0,CA!S64>=Parameter!$F$5),2,IF(AND(S!S31>0,CA!S64>=Parameter!$F$4),1,0))","v":0},{"$f":"IF(AND(S!T31>0,CA!T64>=Parameter!$F$5),2,IF(AND(S!T31>0,CA!T64>=Parameter!$F$4),1,0))","v":0},{"$f":"IF(AND(S!U31>0,CA!U64>=Parameter!$F$5),2,IF(AND(S!U31>0,CA!U64>=Parameter!$F$4),1,0))","v":0},{"$f":"IF(AND(S!V31>0,CA!V64>=Parameter!$F$5),2,IF(AND(S!V31>0,CA!V64>=Parameter!$F$4),1,0))","v":0},{"$f":"IF(AND(S!W31>0,CA!W64>=Parameter!$F$5),2,IF(AND(S!W31>0,CA!W64>=Parameter!$F$4),1,0))","v":0},{"$f":"IF(AND(S!X31>0,CA!X64>=Parameter!$F$5),2,IF(AND(S!X31>0,CA!X64>=Parameter!$F$4),1,0))","v":0},{"$f":"IF(AND(S!Y31>0,CA!Y64>=Parameter!$F$5),2,IF(AND(S!Y31>0,CA!Y64>=Parameter!$F$4),1,0))","v":0},{"$f":"IF(AND(S!Z31>0,CA!Z64>=Parameter!$F$5),2,IF(AND(S!Z31>0,CA!Z64>=Parameter!$F$4),1,0))","v":0},{"$f":"IF(AND(S!AA31>0,CA!AA64>=Parameter!$F$5),2,IF(AND(S!AA31>0,CA!AA64>=Parameter!$F$4),1,0))","v":0},{"$f":"IF(AND(S!AB31>0,CA!AB64>=Parameter!$F$5),2,IF(AND(S!AB31>0,CA!AB64>=Parameter!$F$4),1,0))","v":0},{"$f":"IF(AND(S!AC31>0,CA!AC64>=Parameter!$F$5),2,IF(AND(S!AC31>0,CA!AC64>=Parameter!$F$4),1,0))","v":0},{"$f":"IF(AND(S!AD31>0,CA!AD64>=Parameter!$F$5),2,IF(AND(S!AD31>0,CA!AD64>=Parameter!$F$4),1,0))","v":0},{"$f":"IF(AND(S!AE31>0,CA!AE64>=Parameter!$F$5),2,IF(AND(S!AE31>0,CA!AE64>=Parameter!$F$4),1,0))","v":0}]
[]
[]
[]
[null,{"$f":"CA!B35+'T1'!B2+'T2'!B2+'T3'!B2","v":-9.8410581485714285E-2},{"$f":"CA!C35+'T1'!C2+'T2'!C2+'T3'!C2","v":-9.8410581485714285E-2},{"$f":"CA!D35+'T1'!D2+'T2'!D2+'T3'!D2","v":-9.8410581485714285E-2},{"$f":"CA!E35+'T1'!E2+'T2'!E2+'T3'!E2","v":-9.8410581485714285E-2},{"$f":"CA!F35+'T1'!F2+'T2'!F2+'T3'!F2","v":-9.8410581485714285E-2},{"$f":"CA!G35+'T1'!G2+'T2'!G2+'T3'!G2","v":-9.8410581485714285E-2},{"$f":"CA!H35+'T1'!H2+'T2'!H2+'T3'!H2","v":-9.8410581485714285E-2},{"$f":"CA!I35+'T1'!I2+'T2'!I2+'T3'!I2","v":-9.8410581485714285E-2},{"$f":"CA!J35+'T1'!J2+'T2'!J2+'T3'!J2","v":-9.8410581485714285E-2},{"$f":"CA!K35+'T1'!K2+'T2'!K2+'T3'!K2","v":-9.8410581485714285E-2},{"$f":"CA!L35+'T1'!L2+'T2'!L2+'T3'!L2","v":-9.8410581485714285E-2},{"$f":"CA!M35+'T1'!M2+'T2'!M2+'T3'!M2","v":-9.8410581485714285E-2},{"$f":"CA!N35+'T1'!N2+'T2'!N2+'T3'!N2","v":-9.8410581485714285E-2},{"$f":"CA!O35+'T1'!O2+'T2'!O2+'T3'!O2","v":-9.8410581485714285E-2},{"$f":"CA!P35+'T1'!P2+'T2'!P2+'T3'!P2","v":-9.8410581485714285E-2},{"$f":"CA!Q35+'T1'!Q2+'T2'!Q2+'T3'!Q2","v":-9.8410581485714285E-2},{"$f":"CA!R35+'T1'!R2+'T2'!R2+'T3'!R2","v":-9.8410581485714285E-2},{"$f":"CA!S35+'T1'!S2+'T2'!S2+'T3'!S2","v":-9.8410581485714285E-2},{"$f":"CA!T35+'T1'!T2+'T2'!T2+'T3'!T2","v":-9.8410581485714285E-2},{"$f":"CA!U35+'T1'!U2+'T2'!U2+'T3'!U2","v":-9.8410581485714285E-2},{"$f":"CA!V35+'T1'!V2+'T2'!V2+'T3'!V2","v":-9.8410581485714285E-2},{"$f":"CA!W35+'T1'!W2+'T2'!W2+'T3'!W2","v":-9.8410581485714285E-2},{"$f":"CA!X35+'T1'!X2+'T2'!X2+'T3'!X2","v":-9.8410581485714285E-2},{"$f":"CA!Y35+'T1'!Y2+'T2'!Y2+'T3'!Y2","v":-9.8410581485714285E-2},{"$f":"CA!Z35+'T1'!Z2+'T2'!Z2+'T3'!Z2","v":-9.8410581485714285E-2},{"$f":"CA!AA35+'T1'!AA2+'T2'!AA2+'T3'!AA2","v":-9.8410581485714285E-2},{"$f":"CA!AB35+'T1'!AB2+'T2'!AB2+'T3'!AB2","v":-9.8410581485714285E-2},{"$f":"CA!AC35+'T1'!AC2+'T2'!AC2+'T3'!AC2","v":-9.8410581485714285E-2},{"$f":"CA!AD35+'T1'!AD2+'T2'!AD2+'T3'!AD2","v":-9.8410581485714285E-2},{"$f":"CA!AE35+'T1'!AE2+'T2'!AE2+'T3'!AE2","v":-9.8410581485714285E-2}]
[null,{"$f":"CA!B36+'T1'!B3+'T2'!B3+'T3'!B3","v":-9.8410581485714285E-2},{"$f":"CA!C36+'T1'!C3+'T2'!C3+'T3'!C3","v":-9.8410581485714285E-2},{"$f":"CA!D36+'T1'!D3+'T2'!D3+'T3'!D3","v":-9.8410581485714285E-2},{"$f":"CA!E36+'T1'!E3+'T2'!E3+'T3'!E3","v":-9.8410581485714285E-2},{"$f":"CA!F36+'T1'!F3+'T2'!F3+'T3'!F3","v":-9.8410581485714285E-2},{"$f":"CA!G36+'T1'!G3+'T2'!G3+'T3'!G3","v":-9.8410581485714285E-2},{"$f":"CA!H36+'T1'!H3+'T2'!H3+'T3'!H3","v":-9.8410581485714285E-2},{"$f":"CA!I36+'T1'!I3+'T2'!I3+'T3'!I3","v":-9.8410581485714285E-2},{"$f":"CA!J36+'T1'!J3+'T2'!J3+'T3'!J3","v":-9.8410581485714285E-2},{"$f":"CA!K36+'T1'!K3+'T2'!K3+'T3'!K3","v":-9.8410581485714285E-2},{"$f":"CA!L36+'T1'!L3+'T2'!L3+'T3'!L3","v":-9.8410581485714285E-2},{"$f":"CA!M36+'T1'!M3+'T2'!M3+'T3'!M3","v":-9.8410581485714285E-2},{"$f":"CA!N36+'T1'!N3+'T2'!N3+'T3'!N3","v":-9.8410581485714285E-2},{"$f":"CA!O36+'T1'!O3+'T2'!O3+'T3'!O3","v":-9.8410581485714285E-2},{"$f":"CA!P36+'T1'!P3+'T2'!P3+'T3'!P3","v":-9.8410581485714285E-2},{"$f":"CA!Q36+'T1'!Q3+'T2'!Q3+'T3'!Q3","v":-9.8410581485714285E-2},{"$f":"CA!R36+'T1'!R3+'T2'!R3+'T3'!R3","v":-9.8410581485714285E-2},{"$f":"CA!S36+'T1'!S3+'T2'!S3+'T3'!S3","v":-9.8410581485714285E-2},{"$f":"CA!T36+'T1'!T3+'T2'!T3+'T3'!T3","v":-9.8410581485714285E-2},{"$f":"CA!U36+'T1'!U3+'T2'!U3+'T3'!U3","v":-9.8410581485714285E-2},{"$f":"CA!V36+'T1'!V3+'T2'!V3+'T3'!V3","v":-9.8410581485714285E-2},{"$f":"CA!W36+'T1'!W3+'T2'!W3+'T3'!W3","v":-9.8410581485714285E-2},{"$f":"CA!X36+'T1'!X3+'T2'!X3+'T3'!X3","v":-9.8410581485714285E-2},{"$f":"CA!Y36+'T1'!Y3+'T2'!Y3+'T3'!Y3","v":-9.8410581485714285E-2},{"$f":"CA!Z36+'T1'!Z3+'T2'!Z3+'T3'!Z3","v":-9.8410581485714285E-2},{"$f":"CA!AA36+'T1'!AA3+'T2'!AA3+'T3'!AA3","v":-9.8410581485714285E-2},{"$f":"CA!AB36+'T1'!AB3+'T2'!AB3+'T3'!AB3","v":-9.8410581485714285E-2},{"$f":"CA!AC36+'T1'!AC3+'T2'!AC3+'T3'!AC3","v":-9.8410581485714285E-2},{"$f":"CA!AD36+'T1'!AD3+'T2'!AD3+'T3'!AD3","v":-9.8410581485714285E-2},{"$f":"CA!AE36+'T1'!AE3+'T2'!AE3+'T3'!AE3","v":-9.8410581485714285E-2}]
[null,{"$f":"CA!B37+'T1'!B4+'T2'!B4+'T3'!B4","v":-9.8410581485714285E-2},{"$f":"CA!C37+'T1'!C4+'T2'!C4+'T3'!C4","v":-9.8410581485714285E-2},{"$f":"CA!D37+'T1'!D4+'T2'!D4+'T3'!D4","v":-9.8410581485714285E-2},{"$f":"CA!E37+'T1'!E4+'T2'!E4+'T3'!E4","v":-9.8410581485714285E-2},{"$f":"CA!F37+'T1'!F4+'T2'!F4+'T3'!F4","v":-9.8410581485714285E-2},{"$f":"CA!G37+'T1'!G4+'T2'!G4+'T3'!G4","v":-9.8410581485714285E-2},{"$f":"CA!H37+'T1'!H4+'T2'!H4+'T3'!H4","v":-9.8410581485714285E-2},{"$f":"CA!I37+'T1'!I4+'T2'!I4+'T3'!I4","v":-9.8410581485714285E-2},{"$f":"CA!J37+'T1'!J4+'T2'!J4+'T3'!J4","v":-9.8410581485714285E-2},{"$f":"CA!K37+'T1'!K4+'T2'!K4+'T3'!K4","v":-9.8410581485714285E-2},{"$f":"CA!L37+'T1'!L4+'T2'!L4+'T3'!L4","v":-9.8410581485714285E-2},{"$f":"CA!M37+'T1'!M4+'T2'!M4+'T3'!M4","v":-9.8410581485714285E-2},{"$f":"CA!N37+'T1'!N4+'T2'!N4+'T3'!N4","v":-9.8410581485714285E-2},{"$f":"CA!O37+'T1'!O4+'T2'!O4+'T3'!O4","v":-9.8410581485714285E-2},{"$f":"CA!P37+'T1'!P4+'T2'!P4+'T3'!P4","v":-9.8410581485714285E-2},{"$f":"CA!Q37+'T1'!Q4+'T2'!Q4+'T3'!Q4","v":-9.8410581485714285E-2},{"$f":"CA!R37+'T1'!R4+'T2'!R4+'T3'!R4","v":-9.8410581485714285E-2},{"$f":"CA!S37+'T1'!S4+'T2'!S4+'T3'!S4","v":-9.8410581485714285E-2},{"$f":"CA!T37+'T1'!T4+'T2'!T4+'T3'!T4","v":-9.8410581485714285E-2},{"$f":"CA!U37+'T1'!U4+'T2'!U4+'T3'!U4","v":-9.8410581485714285E-2},{"$f":"CA!V37+'T1'!V4+'T2'!V4+'T3'!V4","v":-9.8410581485714285E-2},{"$f":"CA!W37+'T1'!W4+'T2'!W4+'T3'!W4","v":-9.8410581485714285E-2},{"$f":"CA!X37+'T1'!X4+'T2'!X4+'T3'!X4","v":-9.8410581485714285E-2},{"$f":"CA!Y37+'T1'!Y4+'T2'!Y4+'T3'!Y4","v":-9.8410581485714285E-2},{"$f":"CA!Z37+'T1'!Z4+'T2'!Z4+'T3'!Z4","v":-9.8410581485714285E-2},{"$f":"CA!AA37+'T1'!AA4+'T2'!AA4+'T3'!AA4","v":-9.8410581485714285E-2},{"$f":"CA!AB37+'T1'!AB4+'T2'!AB4+'T3'!AB4","v":-9.8410581485714285E-2},{"$f":"CA!AC37+'T1'!AC4+'T2'!AC4+'T3'!AC4","v":-9.8410581485714285E-2},{"$f":"CA!AD37+'T1'!AD4+'T2'!AD4+'T3'!AD4","v":-9.8410581485714285E-2},{"$f":"CA!AE37+'T1'!AE4+'T2'!AE4+'T3'!AE4","v":-9.8410581485714285E-2}]
[null,{"$f":"CA!B38+'T1'!B5+'T2'!B5+'T3'!B5","v":-9.8410581485714285E-2},{"$f":"CA!C38+'T1'!C5+'T2'!C5+'T3'!C5","v":-9.8410581485714285E-2},{"$f":"CA!D38+'T1'!D5+'T2'!D5+'T3'!D5","v":-9.8410581485714285E-2},{"$f":"CA!E38+'T1'!E5+'T2'!E5+'T3'!E5","v":-9.8410581485714285E-2},{"$f":"CA!F38+'T1'!F5+'T2'!F5+'T3'!F5","v":-9.8410581485714285E-2},{"$f":"CA!G38+'T1'!G5+'T2'!G5+'T3'!G5","v":-9.8410581485714285E-2},{"$f":"CA!H38+'T1'!H5+'T2'!H5+'T3'!H5","v":-9.8410581485714285E-2},{"$f":"CA!I38+'T1'!I5+'T2'!I5+'T3'!I5","v":-9.8410581485714285E-2},{"$f":"CA!J38+'T1'!J5+'T2'!J5+'T3'!J5","v":-9.8410581485714285E-2},{"$f":"CA!K38+'T1'!K5+'T2'!K5+'T3'!K5","v":-9.8410581485714285E-2},{"$f":"CA!L38+'T1'!L5+'T2'!L5+'T3'!L5","v":-9.8410581485714285E-2},{"$f":"CA!M38+'T1'!M5+'T2'!M5+'T3'!M5","v":-9.8410581485714285E-2},{"$f":"CA!N38+'T1'!N5+'T2'!N5+'T3'!N5","v":-9.8410581485714285E-2},{"$f":"CA!O38+'T1'!O5+'T2'!O5+'T3'!O5","v":-9.8410581485714285E-2},{"$f":"CA!P38+'T1'!P5+'T2'!P5+'T3'!P5","v":-9.8410581485714285E-2},{"$f":"CA!Q38+'T1'!Q5+'T2'!Q5+'T3'!Q5","v":-9.8410581485714285E-2},{"$f":"CA!R38+'T1'!R5+'T2'!R5+'T3'!R5","v":-9.8410581485714285E-2},{"$f":"CA!S38+'T1'!S5+'T2'!S5+'T3'!S5","v":-9.8410581485714285E-2},{"$f":"CA!T38+'T1'!T5+'T2'!T5+'T3'!T5","v":-9.8410581485714285E-2},{"$f":"CA!U38+'T1'!U5+'T2'!U5+'T3'!U5","v":-9.8410581485714285E-2},{"$f":"CA!V38+'T1'!V5+'T2'!V5+'T3'!V5","v":-9.8410581485714285E-2},{"$f":"CA!W38+'T1'!W5+'T2'!W5+'T3'!W5","v":-9.8410581485714285E-2},{"$f":"CA!X38+'T1'!X5+'T2'!X5+'T3'!X5","v":-9.8410581485714285E-2},{"$f":"CA!Y38+'T1'!Y5+'T2'!Y5+'T3'!Y5","v":-9.8410581485714285E-2},{"$f":"CA!Z38+'T1'!Z5+'T2'!Z5+'T3'!Z5","v":-9.8410581485714285E-2},{"$f":"CA!AA38+'T1'!AA5+'T2'!AA5+'T3'!AA5","v":-9.8410581485714285E-2},{"$f":"CA!AB38+'T1'!AB5+'T2'!AB5+'T3'!AB5","v":-9.8410581485714285E-2},{"$f":"CA!AC38+'T1'!AC5+'T2'!AC5+'T3'!AC5","v":-9.8410581485714285E-2},{"$f":"CA!AD38+'T1'!AD5+'T2'!AD5+'T3'!AD5","v":-9.8410581485714285E-2},{"$f":"CA!AE38+'T1'!AE5+'T2'!AE5+'T3'!AE5","v":-9.8410581485714285E-2}]
[null,{"$f":"CA!B39+'T1'!B6+'T2'!B6+'T3'!B6","v":-9.8410581485714285E-2},{"$f":"CA!C39+'T1'!C6+'T2'!C6+'T3'!C6","v":-9.8410581485714285E-2},{"$f":"CA!D39+'T1'!D6+'T2'!D6+'T3'!D6","v":-9.8410581485714285E-2},{"$f":"CA!E39+'T1'!E6+'T2'!E6+'T3'!E6","v":-9.8410581485714285E-2},{"$f":"CA!F39+'T1'!F6+'T2'!F6+'T3'!F6","v":-9.8410581485714285E-2},{"$f":"CA!G39+'T1'!G6+'T2'!G6+'T3'!G6","v":-9.8410581485714285E-2},{"$f":"CA!H39+'T1'!H6+'T2'!H6+'T3'!H6","v":-9.8410581485714285E-2},{"$f":"CA!I39+'T1'!I6+'T2'!I6+'T3'!I6","v":-9.8410581485714285E-2},{"$f":"CA!J39+'T1'!J6+'T2'!J6+'T3'!J6","v":-9.8410581485714285E-2},{"$f":"CA!K39+'T1'!K6+'T2'!K6+'T3'!K6","v":-9.8410581485714285E-2},{"$f":"CA!L39+'T1'!L6+'T2'!L6+'T3'!L6","v":-9.8410581485714285E-2},{"$f":"CA!M39+'T1'!M6+'T2'!M6+'T3'!M6","v":-9.8410581485714285E-2},{"$f":"CA!N39+'T1'!N6+'T2'!N6+'T3'!N6","v":-9.8410581485714285E-2},{"$f":"CA!O39+'T1'!O6+'T2'!O6+'T3'!O6","v":-9.8410581485714285E-2},{"$f":"CA!P39+'T1'!P6+'T2'!P6+'T3'!P6","v":-9.8410581485714285E-2},{"$f":"CA!Q39+'T1'!Q6+'T2'!Q6+'T3'!Q6","v":-9.8410581485714285E-2},{"$f":"CA!R39+'T1'!R6+'T2'!R6+'T3'!R6","v":-9.8410581485714285E-2},{"$f":"CA!S39+'T1'!S6+'T2'!S6+'T3'!S6","v":-9.8410581485714285E-2},{"$f":"CA!T39+'T1'!T6+'T2'!T6+'T3'!T6","v":-9.8410581485714285E-2},{"$f":"CA!U39+'T1'!U6+'T2'!U6+'T3'!U6","v":-9.8410581485714285E-2},{"$f":"CA!V39+'T1'!V6+'T2'!V6+'T3'!V6","v":-9.8410581485714285E-2},{"$f":"CA!W39+'T1'!W6+'T2'!W6+'T3'!W6","v":-9.8410581485714285E-2},{"$f":"CA!X39+'T1'!X6+'T2'!X6+'T3'!X6","v":-9.8410581485714285E-2},{"$f":"CA!Y39+'T1'!Y6+'T2'!Y6+'T3'!Y6","v":-9.8410581485714285E-2},{"$f":"CA!Z39+'T1'!Z6+'T2'!Z6+'T3'!Z6","v":-9.8410581485714285E-2},{"$f":"CA!AA39+'T1'!AA6+'T2'!AA6+'T3'!AA6","v":-9.8410581485714285E-2},{"$f":"CA!AB39+'T1'!AB6+'T2'!AB6+'T3'!AB6","v":-9.8410581485714285E-2},{"$f":"CA!AC39+'T1'!AC6+'T2'!AC6+'T3'!AC6","v":-9.8410581485714285E-2},{"$f":"CA!AD39+'T1'!AD6+'T2'!AD6+'T3'!AD6","v":-9.8410581485714285E-2},{"$f":"CA!AE39+'T1'!AE6+'T2'!AE6+'T3'!AE6","v":-9.8410581485714285E-2}]
[null,{"$f":"CA!B40+'T1'!B7+'T2'!B7+'T3'!B7","v":-9.8410581485714285E-2},{"$f":"CA!C40+'T1'!C7+'T2'!C7+'T3'!C7","v":-9.8410581485714285E-2},{"$f":"CA!D40+'T1'!D7+'T2'!D7+'T3'!D7","v":-9.8410581485714285E-2},{"$f":"CA!E40+'T1'!E7+'T2'!E7+'T3'!E7","v":-9.8410581485714285E-2},{"$f":"CA!F40+'T1'!F7+'T2'!F7+'T3'!F7","v":-9.8410581485714285E-2},{"$f":"CA!G40+'T1'!G7+'T2'!G7+'T3'!G7","v":-9.8410581485714285E-2},{"$f":"CA!H40+'T1'!H7+'T2'!H7+'T3'!H7","v":-9.8410581485714285E-2},{"$f":"CA!I40+'T1'!I7+'T2'!I7+'T3'!I7","v":-9.8410581485714285E-2},{"$f":"CA!J40+'T1'!J7+'T2'!J7+'T3'!J7","v":-9.8410581485714285E-2},{"$f":"CA!K40+'T1'!K7+'T2'!K7+'T3'!K7","v":-9.8410581485714285E-2},{"$f":"CA!L40+'T1'!L7+'T2'!L7+'T3'!L7","v":-9.8410581485714285E-2},{"$f":"CA!M40+'T1'!M7+'T2'!M7+'T3'!M7","v":-9.8410581485714285E-2},{"$f":"CA!N40+'T1'!N7+'T2'!N7+'T3'!N7","v":-9.8410581485714285E-2},{"$f":"CA!O40+'T1'!O7+'T2'!O7+'T3'!O7","v":-9.8410581485714285E-2},{"$f":"CA!P40+'T1'!P7+'T2'!P7+'T3'!P7","v":-9.8410581485714285E-2},{"$f":"CA!Q40+'T1'!Q7+'T2'!Q7+'T3'!Q7","v":-9.8410581485714285E-2},{"$f":"CA!R40+'T1'!R7+'T2'!R7+'T3'!R7","v":-9.8410581485714285E-2},{"$f":"CA!S40+'T1'!S7+'T2'!S7+'T3'!S7","v":-9.8410581485714285E-2},{"$f":"CA!T40+'T1'!T7+'T2'!T7+'T3'!T7","v":-9.8410581485714285E-2},{"$f":"CA!U40+'T1'!U7+'T2'!U7+'T3'!U7","v":-9.8410581485714285E-2},{"$f":"CA!V40+'T1'!V7+'T2'!V7+'T3'!V7","v":-9.8410581485714285E-2},{"$f":"CA!W40+'T1'!W7+'T2'!W7+'T3'!W7","v":-9.8410581485714285E-2},{"$f":"CA!X40+'T1'!X7+'T2'!X7+'T3'!X7","v":-9.8410581485714285E-2},{"$f":"CA!Y40+'T1'!Y7+'T2'!Y7+'T3'!Y7","v":-9.8410581485714285E-2},{"$f":"CA!Z40+'T1'!Z7+'T2'!Z7+'T3'!Z7","v":-9.8410581485714285E-2},{"$f":"CA!AA40+'T1'!AA7+'T2'!AA7+'T3'!AA7","v":-9.8410581485714285E-2},{"$f":"CA!AB40+'T1'!AB7+'T2'!AB7+'T3'!AB7","v":-9.8410581485714285E-2},{"$f":"CA!AC40+'T1'!AC7+'T2'!AC7+'T3'!AC7","v":-9.8410581485714285E-2},{"$f":"CA!AD40+'T1'!AD7+'T2'!AD7+'T3'!AD7","v":-9.8410581485714285E-2},{"$f":"CA!AE40+'T1'!AE7+'T2'!AE7+'T3'!AE7","v":-9.8410581485714285E-2}]
[null,{"$f":"CA!B41+'T1'!B8+'T2'!B8+'T3'!B8","v":-9.8410581485714285E-2},{"$f":"CA!C41+'T1'!C8+'T2'!C8+'T3'!C8","v":-9.8410581485714285E-2},{"$f":"CA!D41+'T1'!D8+'T2'!D8+'T3'!D8","v":-9.8410581485714285E-2},{"$f":"CA!E41+'T1'!E8+'T2'!E8+'T3'!E8","v":-9.8410581485714285E-2},{"$f":"CA!F41+'T1'!F8+'T2'!F8+'T3'!F8","v":-9.8410581485714285E-2},{"$f":"CA!G41+'T1'!G8+'T2'!G8+'T3'!G8","v":-9.8410581485714285E-2},{"$f":"CA!H41+'T1'!H8+'T2'!H8+'T3'!H8","v":-9.8410581485714285E-2},{"$f":"CA!I41+'T1'!I8+'T2'!I8+'T3'!I8","v":-9.8410581485714285E-2},{"$f":"CA!J41+'T1'!J8+'T2'!J8+'T3'!J8","v":-9.8410581485714285E-2},{"$f":"CA!K41+'T1'!K8+'T2'!K8+'T3'!K8","v":-9.8410581485714285E-2},{"$f":"CA!L41+'T1'!L8+'T2'!L8+'T3'!L8","v":-9.8410581485714285E-2},{"$f":"CA!M41+'T1'!M8+'T2'!M8+'T3'!M8","v":-9.8410581485714285E-2},{"$f":"CA!N41+'T1'!N8+'T2'!N8+'T3'!N8","v":-9.8410581485714285E-2},{"$f":"CA!O41+'T1'!O8+'T2'!O8+'T3'!O8","v":-9.8410581485714285E-2},{"$f":"CA!P41+'T1'!P8+'T2'!P8+'T3'!P8","v":-9.8410581485714285E-2},{"$f":"CA!Q41+'T1'!Q8+'T2'!Q8+'T3'!Q8","v":-9.8410581485714285E-2},{"$f":"CA!R41+'T1'!R8+'T2'!R8+'T3'!R8","v":-9.8410581485714285E-2},{"$f":"CA!S41+'T1'!S8+'T2'!S8+'T3'!S8","v":-9.8410581485714285E-2},{"$f":"CA!T41+'T1'!T8+'T2'!T8+'T3'!T8","v":-9.8410581485714285E-2},{"$f":"CA!U41+'T1'!U8+'T2'!U8+'T3'!U8","v":-9.8410581485714285E-2},{"$f":"CA!V41+'T1'!V8+'T2'!V8+'T3'!V8","v":-9.8410581485714285E-2},{"$f":"CA!W41+'T1'!W8+'T2'!W8+'T3'!W8","v":-9.8410581485714285E-2},{"$f":"CA!X41+'T1'!X8+'T2'!X8+'T3'!X8","v":-9.8410581485714285E-2},{"$f":"CA!Y41+'T1'!Y8+'T2'!Y8+'T3'!Y8","v":-9.8410581485714285E-2},{"$f":"CA!Z41+'T1'!Z8+'T2'!Z8+'T3'!Z8","v":-9.8410581485714285E-2},{"$f":"CA!AA41+'T1'!AA8+'T2'!AA8+'T3'!AA8","v":-9.8410581485714285E-2},{"$f":"CA!AB41+'T1'!AB8+'T2'!AB8+'T3'!AB8","v":-9.8410581485714285E-2},{"$f":"CA!AC41+'T1'!AC8+'T2'!AC8+'T3'!AC8","v":-9.8410581485714285E-2},{"$f":"CA!AD41+'T1'!AD8+'T2'!AD8+'T3'!AD8","v":-9.8410581485714285E-2},{"$f":"CA!AE41+'T1'!AE8+'T2'!AE8+'T3'!AE8","v":-9.8410581485714285E-2}]
[null,{"$f":"CA!B42+'T1'!B9+'T2'!B9+'T3'!B9","v":-0.1},{"$f":"CA!C42+'T1'!C9+'T2'!C9+'T3'!C9","v":-0.1},{"$f":"CA!D42+'T1'!D9+'T2'!D9+'T3'!D9","v":-0.1},{"$f":"CA!E42+'T1'!E9+'T2'!E9+'T3'!E9","v":-0.1},{"$f":"CA!F42+'T1'!F9+'T2'!F9+'T3'!F9","v":-0.1},{"$f":"CA!G42+'T1'!G9+'T2'!G9+'T3'!G9","v":-0.1},{"$f":"CA!H42+'T1'!H9+'T2'!H9+'T3'!H9","v":-0.1},{"$f":"CA!I42+'T1'!I9+'T2'!I9+'T3'!I9","v":-0.1},{"$f":"CA!J42+'T1'!J9+'T2'!J9+'T3'!J9","v":-0.1},{"$f":"CA!K42+'T1'!K9+'T2'!K9+'T3'!K9","v":-0.1},{"$f":"CA!L42+'T1'!L9+'T2'!L9+'T3'!L9","v":-0.1},{"$f":"CA!M42+'T1'!M9+'T2'!M9+'T3'!M9","v":-0.1},{"$f":"CA!N42+'T1'!N9+'T2'!N9+'T3'!N9","v":-0.1},{"$f":"CA!O42+'T1'!O9+'T2'!O9+'T3'!O9","v":-0.1},{"$f":"CA!P42+'T1'!P9+'T2'!P9+'T3'!P9","v":-0.1},{"$f":"CA!Q42+'T1'!Q9+'T2'!Q9+'T3'!Q9","v":-0.1},{"$f":"CA!R42+'T1'!R9+'T2'!R9+'T3'!R9","v":-0.1},{"$f":"CA!S42+'T1'!S9+'T2'!S9+'T3'!S9","v":-0.1},{"$f":"CA!T42+'T1'!T9+'T2'!T9+'T3'!T9","v":-0.1},{"$f":"CA!U42+'T1'!U9+'T2'!U9+'T3'!U9","v":-0.1},{"$f":"CA!V42+'T1'!V9+'T2'!V9+'T3'!V9","v":-0.1},{"$f":"CA!W42+'T1'!W9+'T2'!W9+'T3'!W9","v":-0.1},{"$f":"CA!X42+'T1'!X9+'T2'!X9+'T3'!X9","v":-0.1},{"$f":"CA!Y42+'T1'!Y9+'T2'!Y9+'T3'!Y9","v":-0.1},{"$f":"CA!Z42+'T1'!Z9+'T2'!Z9+'T3'!Z9","v":-0.1},{"$f":"CA!AA42+'T1'!AA9+'T2'!AA9+'T3'!AA9","v":-0.1},{"$f":"CA!AB42+'T1'!AB9+'T2'!AB9+'T3'!AB9","v":-0.1},{"$f":"CA!AC42+'T1'!AC9+'T2'!AC9+'T3'!AC9","v":-0.1},{"$f":"CA!AD42+'T1'!AD9+'T2'!AD9+'T3'!AD9","v":-0.1},{"$f":"CA!AE42+'T1'!AE9+'T2'!AE9+'T3'!AE9","v":-0.1}]
[null,{"$f":"CA!B43+'T1'!B10+'T2'!B10+'T3'!B10","v":-0.1},{"$f":"CA!C43+'T1'!C10+'T2'!C10+'T3'!C10","v":-0.1},{"$f":"CA!D43+'T1'!D10+'T2'!D10+'T3'!D10","v":-0.1},{"$f":"CA!E43+'T1'!E10+'T2'!E10+'T3'!E10","v":-0.1},{"$f":"CA!F43+'T1'!F10+'T2'!F10+'T3'!F10","v":-0.1},{"$f":"CA!G43+'T1'!G10+'T2'!G10+'T3'!G10","v":-0.1},{"$f":"CA!H43+'T1'!H10+'T2'!H10+'T3'!H10","v":-0.1},{"$f":"CA!I43+'T1'!I10+'T2'!I10+'T3'!I10","v":-0.1},{"$f":"CA!J43+'T1'!J10+'T2'!J10+'T3'!J10","v":-0.1},{"$f":"CA!K43+'T1'!K10+'T2'!K10+'T3'!K10","v":-0.1},{"$f":"CA!L43+'T1'!L10+'T2'!L10+'T3'!L10","v":-0.1},{"$f":"CA!M43+'T1'!M10+'T2'!M10+'T3'!M10","v":-0.1},{"$f":"CA!N43+'T1'!N10+'T2'!N10+'T3'!N10","v":-0.1},{"$f":"CA!O43+'T1'!O10+'T2'!O10+'T3'!O10","v":-0.1},{"$f":"CA!P43+'T1'!P10+'T2'!P10+'T3'!P10","v":-0.1},{"$f":"CA!Q43+'T1'!Q10+'T2'!Q10+'T3'!Q10","v":-0.1},{"$f":"CA!R43+'T1'!R10+'T2'!R10+'T3'!R10","v":-0.1},{"$f":"CA!S43+'T1'!S10+'T2'!S10+'T3'!S10","v":-0.1},{"$f":"CA!T43+'T1'!T10+'T2'!T10+'T3'!T10","v":-0.1},{"$f":"CA!U43+'T1'!U10+'T2'!U10+'T3'!U10","v":-0.1},{"$f":"CA!V43+'T1'!V10+'T2'!V10+'T3'!V10","v":-0.1},{"$f":"CA!W43+'T1'!W10+'T2'!W10+'T3'!W10","v":-0.1},{"$f":"CA!X43+'T1'!X10+'T2'!X10+'T3'!X10","v":-0.1},{"$f":"CA!Y43+'T1'!Y10+'T2'!Y10+'T3'!Y10","v":-0.1},{"$f":"CA!Z43+'T1'!Z10+'T2'!Z10+'T3'!Z10","v":-0.1},{"$f":"CA!AA43+'T1'!AA10+'T2'!AA10+'T3'!AA10","v":-0.1},{"$f":"CA!AB43+'T1'!AB10+'T2'!AB10+'T3'!AB10","v":-0.1},{"$f":"CA!AC43+'T1'!AC10+'T2'!AC10+'T3'!AC10","v":-0.1},{"$f":"CA!AD43+'T1'!AD10+'T2'!AD10+'T3'!AD10","v":-0.1},{"$f":"CA!AE43+'T1'!AE10+'T2'!AE10+'T3'!AE10","v":-0.1}]
[null,{"$f":"CA!B44+'T1'!B11+'T2'!B11+'T3'!B11","v":-0.1},{"$f":"CA!C44+'T1'!C11+'T2'!C11+'T3'!C11","v":-0.1},{"$f":"CA!D44+'T1'!D11+'T2'!D11+'T3'!D11","v":-0.1},{"$f":"CA!E44+'T1'!E11+'T2'!E11+'T3'!E11","v":-0.1},{"$f":"CA!F44+'T1'!F11+'T2'!F11+'T3'!F11","v":-0.1},{"$f":"CA!G44+'T1'!G11+'T2'!G11+'T3'!G11","v":-0.1},{"$f":"CA!H44+'T1'!H11+'T2'!H11+'T3'!H11","v":-0.1},{"$f":"CA!I44+'T1'!I11+'T2'!I11+'T3'!I11","v":-0.1},{"$f":"CA!J44+'T1'!J11+'T2'!J11+'T3'!J11","v":-0.1},{"$f":"CA!K44+'T1'!K11+'T2'!K11+'T3'!K11","v":-0.1},{"$f":"CA!L44+'T1'!L11+'T2'!L11+'T3'!L11","v":-0.1},{"$f":"CA!M44+'T1'!M11+'T2'!M11+'T3'!M11","v":-0.1},{"$f":"CA!N44+'T1'!N11+'T2'!N11+'T3'!N11","v":-0.1},{"$f":"CA!O44+'T1'!O11+'T2'!O11+'T3'!O11","v":-0.1},{"$f":"CA!P44+'T1'!P11+'T2'!P11+'T3'!P11","v":-0.1},{"$f":"CA!Q44+'T1'!Q11+'T2'!Q11+'T3'!Q11","v":-0.1},{"$f":"CA!R44+'T1'!R11+'T2'!R11+'T3'!R11","v":-0.1},{"$f":"CA!S44+'T1'!S11+'T2'!S11+'T3'!S11","v":-0.1},{"$f":"CA!T44+'T1'!T11+'T2'!T11+'T3'!T11","v":-0.1},{"$f":"CA!U44+'T1'!U11+'T2'!U11+'T3'!U11","v":-0.1},{"$f":"CA!V44+'T1'!V11+'T2'!V11+'T3'!V11","v":-0.1},{"$f":"CA!W44+'T1'!W11+'T2'!W11+'T3'!W11","v":-0.1},{"$f":"CA!X44+'T1'!X11+'T2'!X11+'T3'!X11","v":-0.1},{"$f":"CA!Y44+'T1'!Y11+'T2'!Y11+'T3'!Y11","v":-0.1},{"$f":"CA!Z44+'T1'!Z11+'T2'!Z11+'T3'!Z11","v":-0.1},{"$f":"CA!AA44+'T1'!AA11+'T2'!AA11+'T3'!AA11","v":-0.1},{"$f":"CA!AB44+'T1'!AB11+'T2'!AB11+'T3'!AB11","v":-0.1},{"$f":"CA!AC44+'T1'!AC11+'T2'!AC11+'T3'!AC11","v":-0.1},{"$f":"CA!AD44+'T1'!AD11+'T2'!AD11+'T3'!AD11","v":-0.1},{"$f":"CA!AE44+'T1'!AE11+'T2'!AE11+'T3'!AE11","v":-0.1}]
[null,{"$f":"CA!B45+'T1'!B12+'T2'!B12+'T3'!B12","v":-0.1},{"$f":"CA!C45+'T1'!C12+'T2'!C12+'T3'!C12","v":-0.1},{"$f":"CA!D45+'T1'!D12+'T2'!D12+'T3'!D12","v":-0.1},{"$f":"CA!E45+'T1'!E12+'T2'!E12+'T3'!E12","v":-0.1},{"$f":"CA!F45+'T1'!F12+'T2'!F12+'T3'!F12","v":-0.1},{"$f":"CA!G45+'T1'!G12+'T2'!G12+'T3'!G12","v":-0.1},{"$f":"CA!H45+'T1'!H12+'T2'!H12+'T3'!H12","v":-0.1},{"$f":"CA!I45+'T1'!I12+'T2'!I12+'T3'!I12","v":-0.1},{"$f":"CA!J45+'T1'!J12+'T2'!J12+'T3'!J12","v":-0.1},{"$f":"CA!K45+'T1'!K12+'T2'!K12+'T3'!K12","v":-0.1},{"$f":"CA!L45+'T1'!L12+'T2'!L12+'T3'!L12","v":-0.1},{"$f":"CA!M45+'T1'!M12+'T2'!M12+'T3'!M12","v":-0.1},{"$f":"CA!N45+'T1'!N12+'T2'!N12+'T3'!N12","v":-0.1},{"$f":"CA!O45+'T1'!O12+'T2'!O12+'T3'!O12","v":-0.1},{"$f":"CA!P45+'T1'!P12+'T2'!P12+'T3'!P12","v":-0.1},{"$f":"CA!Q45+'T1'!Q12+'T2'!Q12+'T3'!Q12","v":-0.1},{"$f":"CA!R45+'T1'!R12+'T2'!R12+'T3'!R12","v":-0.1},{"$f":"CA!S45+'T1'!S12+'T2'!S12+'T3'!S12","v":-0.1},{"$f":"CA!T45+'T1'!T12+'T2'!T12+'T3'!T12","v":-0.1},{"$f":"CA!U45+'T1'!U12+'T2'!U12+'T3'!U12","v":-0.1},{"$f":"CA!V45+'T1'!V12+'T2'!V12+'T3'!V12","v":-0.1},{"$f":"CA!W45+'T1'!W12+'T2'!W12+'T3'!W12","v":-0.1},{"$f":"CA!X45+'T1'!X12+'T2'!X12+'T3'!X12","v":-0.1},{"$f":"CA!Y45+'T1'!Y12+'T2'!Y12+'T3'!Y12","v":-0.1},{"$f":"CA!Z45+'T1'!Z12+'T2'!Z12+'T3'!Z12","v":-0.1},{"$f":"CA!AA45+'T1'!AA12+'T2'!AA12+'T3'!AA12","v":-0.1},{"$f":"CA!AB45+'T1'!AB12+'T2'!AB12+'T3'!AB12","v":-0.1},{"$f":"CA!AC45+'T1'!AC12+'T2'!AC12+'T3'!AC12","v":-0.1},{"$f":"CA!AD45+'T1'!AD12+'T2'!AD12+'T3'!AD12","v":-0.1},{"$f":"CA!AE45+'T1'!AE12+'T2'!AE12+'T3'!AE12","v":-0.1}]
[null,{"$f":"CA!B46+'T1'!B13+'T2'!B13+'T3'!B13","v":-0.1},{"$f":"CA!C46+'T1'!C13+'T2'!C13+'T3'!C13","v":-0.1},{"$f":"CA!D46+'T1'!D13+'T2'!D13+'T3'!D13","v":-0.1},{"$f":"CA!E46+'T1'!E13+'T2'!E13+'T3'!E13","v":-0.1},{"$f":"CA!F46+'T1'!F13+'T2'!F13+'T3'!F13","v":-0.1},{"$f":"CA!G46+'T1'!G13+'T2'!G13+'T3'!G13","v":-0.1},{"$f":"CA!H46+'T1'!H13+'T2'!H13+'T3'!H13","v":-0.1},{"$f":"CA!I46+'T1'!I13+'T2'!I13+'T3'!I13","v":-0.1},{"$f":"CA!J46+'T1'!J13+'T2'!J13+'T3'!J13","v":-0.1},{"$f":"CA!K46+'T1'!K13+'T2'!K13+'T3'!K13","v":-0.1},{"$f":"CA!L46+'T1'!L13+'T2'!L13+'T3'!L13","v":-0.1},{"$f":"CA!M46+'T1'!M13+'T2'!M13+'T3'!M13","v":-0.1},{"$f":"CA!N46+'T1'!N13+'T2'!N13+'T3'!N13","v":-0.1},{"$f":"CA!O46+'T1'!O13+'T2'!O13+'T3'!O13","v":-0.1},{"$f":"CA!P46+'T1'!P13+'T2'!P13+'T3'!P13","v":-0.1},{"$f":"CA!Q46+'T1'!Q13+'T2'!Q13+'T3'!Q13","v":-0.1},{"$f":"CA!R46+'T1'!R13+'T2'!R13+'T3'!R13","v":-0.1},{"$f":"CA!S46+'T1'!S13+'T2'!S13+'T3'!S13","v":-0.1},{"$f":"CA!T46+'T1'!T13+'T2'!T13+'T3'!T13","v":-0.1},{"$f":"CA!U46+'T1'!U13+'T2'!U13+'T3'!U13","v":-0.1},{"$f":"CA!V46+'T1'!V13+'T2'!V13+'T3'!V13","v":-0.1},{"$f":"CA!W46+'T1'!W13+'T2'!W13+'T3'!W13","v":-0.1},{"$f":"CA!X46+'T1'!X13+'T2'!X13+'T3'!X13","v":-0.1},{"$f":"CA!Y46+'T1'!Y13+'T2'!Y13+'T3'!Y13","v":-0.1},{"$f":"CA!Z46+'T1'!Z13+'T2'!Z13+'T3'!Z13","v":-0.1},{"$f":"CA!AA46+'T1'!AA13+'T2'!AA13+'T3'!AA13","v":-0.1},{"$f":"CA!AB46+'T1'!AB13+'T2'!AB13+'T3'!AB13","v":-0.1},{"$f":"CA!AC46+'T1'!AC13+'T2'!AC13+'T3'!AC13","v":-0.1},{"$f":"CA!AD46+'T1'!AD13+'T2'!AD13+'T3'!AD13","v":-0.1},{"$f":"CA!AE46+'T1'!AE13+'T2'!AE13+'T3'!AE13","v":-0.1}]
[null,{"$f":"CA!B47+'T1'!B14+'T2'!B14+'T3'!B14","v":-0.1},{"$f":"CA!C47+'T1'!C14+'T2'!C14+'T3'!C14","v":-0.1},{"$f":"CA!D47+'T1'!D14+'T2'!D14+'T3'!D14","v":-0.1},{"$f":"CA!E47+'T1'!E14+'T2'!E14+'T3'!E14","v":-0.1},{"$f":"CA!F47+'T1'!F14+'T2'!F14+'T3'!F14","v":-0.1},{"$f":"CA!G47+'T1'!G14+'T2'!G14+'T3'!G14","v":-0.1},{"$f":"CA!H47+'T1'!H14+'T2'!H14+'T3'!H14","v":-0.1},{"$f":"CA!I47+'T1'!I14+'T2'!I14+'T3'!I14","v":-0.1},{"$f":"CA!J47+'T1'!J14+'T2'!J14+'T3'!J14","v":-0.1},{"$f":"CA!K47+'T1'!K14+'T2'!K14+'T3'!K14","v":-0.1},{"$f":"CA!L47+'T1'!L14+'T2'!L14+'T3'!L14","v":-0.1},{"$f":"CA!M47+'T1'!M14+'T2'!M14+'T3'!M14","v":-0.1},{"$f":"CA!N47+'T1'!N14+'T2'!N14+'T3'!N14","v":-0.1},{"$f":"CA!O47+'T1'!O14+'T2'!O14+'T3'!O14","v":-0.1},{"$f":"CA!P47+'T1'!P14+'T2'!P14+'T3'!P14","v":-0.1},{"$f":"CA!Q47+'T1'!Q14+'T2'!Q14+'T3'!Q14","v":-0.1},{"$f":"CA!R47+'T1'!R14+'T2'!R14+'T3'!R14","v":-0.1},{"$f":"CA!S47+'T1'!S14+'T2'!S14+'T3'!S14","v":-0.1},{"$f":"CA!T47+'T1'!T14+'T2'!T14+'T3'!T14","v":-0.1},{"$f":"CA!U47+'T1'!U14+'T2'!U14+'T3'!U14","v":-0.1},{"$f":"CA!V47+'T1'!V14+'T2'!V14+'T3'!V14","v":-0.1},{"$f":"CA!W47+'T1'!W14+'T2'!W14+'T3'!W14","v":-0.1},{"$f":"CA!X47+'T1'!X14+'T2'!X14+'T3'!X14","v":-0.1},{"$f":"CA!Y47+'T1'!Y14+'T2'!Y14+'T3'!Y14","v":-0.1},{"$f":"CA!Z47+'T1'!Z14+'T2'!Z14+'T3'!Z14","v":-0.1},{"$f":"CA!AA47+'T1'!AA14+'T2'!AA14+'T3'!AA14","v":-0.1},{"$f":"CA!AB47+'T1'!AB14+'T2'!AB14+'T3'!AB14","v":-0.1},{"$f":"CA!AC47+'T1'!AC14+'T2'!AC14+'T3'!AC14","v":-0.1},{"$f":"CA!AD47+'T1'!AD14+'T2'!AD14+'T3'!AD14","v":-0.1},{"$f":"CA!AE47+'T1'!AE14+'T2'!AE14+'T3'!AE14","v":-0.1}]
[null,{"$f":"CA!B48+'T1'!B15+'T2'!B15+'T3'!B15","v":-0.1},{"$f":"CA!C48+'T1'!C15+'T2'!C15+'T3'!C15","v":-0.1},{"$f":"CA!D48+'T1'!D15+'T2'!D15+'T3'!D15","v":-0.1},{"$f":"CA!E48+'T1'!E15+'T2'!E15+'T3'!E15","v":-0.1},{"$f":"CA!F48+'T1'!F15+'T2'!F15+'T3'!F15","v":-0.1},{"$f":"CA!G48+'T1'!G15+'T2'!G15+'T3'!G15","v":-0.1},{"$f":"CA!H48+'T1'!H15+'T2'!H15+'T3'!H15","v":-0.1},{"$f":"CA!I48+'T1'!I15+'T2'!I15+'T3'!I15","v":-0.1},{"$f":"CA!J48+'T1'!J15+'T2'!J15+'T3'!J15","v":-0.1},{"$f":"CA!K48+'T1'!K15+'T2'!K15+'T3'!K15","v":-0.1},{"$f":"CA!L48+'T1'!L15+'T2'!L15+'T3'!L15","v":-0.1},{"$f":"CA!M48+'T1'!M15+'T2'!M15+'T3'!M15","v":-0.1},{"$f":"CA!N48+'T1'!N15+'T2'!N15+'T3'!N15","v":-0.1},{"$f":"CA!O48+'T1'!O15+'T2'!O15+'T3'!O15","v":-0.1},{"$f":"CA!P48+'T1'!P15+'T2'!P15+'T3'!P15","v":-0.1},{"$f":"CA!Q48+'T1'!Q15+'T2'!Q15+'T3'!Q15","v":-0.1},{"$f":"CA!R48+'T1'!R15+'T2'!R15+'T3'!R15","v":-0.1},{"$f":"CA!S48+'T1'!S15+'T2'!S15+'T3'!S15","v":-0.1},{"$f":"CA!T48+'T1'!T15+'T2'!T15+'T3'!T15","v":-0.1},{"$f":"CA!U48+'T1'!U15+'T2'!U15+'T3'!U15","v":-0.1},{"$f":"CA!V48+'T1'!V15+'T2'!V15+'T3'!V15","v":-0.1},{"$f":"CA!W48+'T1'!W15+'T2'!W15+'T3'!W15","v":-0.1},{"$f":"CA!X48+'T1'!X15+'T2'!X15+'T3'!X15","v":-0.1},{"$f":"CA!Y48+'T1'!Y15+'T2'!Y15+'T3'!Y15","v":-0.1},{"$f":"CA!Z48+'T1'!Z15+'T2'!Z15+'T3'!Z15","v":-0.1},{"$f":"CA!AA48+'T1'!AA15+'T2'!AA15+'T3'!AA15","v":-0.1},{"$f":"CA!AB48+'T1'!AB15+'T2'!AB15+'T3'!AB15","v":-0.1},{"$f":"CA!AC48+'T1'!AC15+'T2'!AC15+'T3'!AC15","v":-0.1},{"$f":"CA!AD48+'T1'!AD15+'T2'!AD15+'T3'!AD15","v":-0.1},{"$f":"CA!AE48+'T1'!AE15+'T2'!AE15+'T3'!AE15","v":-0.1}]
[null,{"$f":"CA!B49+'T1'!B16+'T2'!B16+'T3'!B16","v":-0.1},{"$f":"CA!C49+'T1'!C16+'T2'!C16+'T3'!C16","v":-0.1},{"$f":"CA!D49+'T1'!D16+'T2'!D16+'T3'!D16","v":-0.1},{"$f":"CA!E49+'T1'!E16+'T2'!E16+'T3'!E16","v":-0.1},{"$f":"CA!F49+'T1'!F16+'T2'!F16+'T3'!F16","v":-0.1},{"$f":"CA!G49+'T1'!G16+'T2'!G16+'T3'!G16","v":-0.1},{"$f":"CA!H49+'T1'!H16+'T2'!H16+'T3'!H16","v":-0.1},{"$f":"CA!I49+'T1'!I16+'T2'!I16+'T3'!I16","v":-0.1},{"$f":"CA!J49+'T1'!J16+'T2'!J16+'T3'!J16","v":-0.1},{"$f":"CA!K49+'T1'!K16+'T2'!K16+'T3'!K16","v":-0.1},{"$f":"CA!L49+'T1'!L16+'T2'!L16+'T3'!L16","v":-0.1},{"$f":"CA!M49+'T1'!M16+'T2'!M16+'T3'!M16","v":-0.1},{"$f":"CA!N49+'T1'!N16+'T2'!N16+'T3'!N16","v":-0.1},{"$f":"CA!O49+'T1'!O16+'T2'!O16+'T3'!O16","v":-0.1},{"$f":"CA!P49+'T1'!P16+'T2'!P16+'T3'!P16","v":-0.1},{"$f":"CA!Q49+'T1'!Q16+'T2'!Q16+'T3'!Q16","v":-0.1},{"$f":"CA!R49+'T1'!R16+'T2'!R16+'T3'!R16","v":-0.1},{"$f":"CA!S49+'T1'!S16+'T2'!S16+'T3'!S16","v":-0.1},{"$f":"CA!T49+'T1'!T16+'T2'!T16+'T3'!T16","v":-0.1},{"$f":"CA!U49+'T1'!U16+'T2'!U16+'T3'!U16","v":-0.1},{"$f":"CA!V49+'T1'!V16+'T2'!V16+'T3'!V16","v":-0.1},{"$f":"CA!W49+'T1'!W16+'T2'!W16+'T3'!W16","v":-0.1},{"$f":"CA!X49+'T1'!X16+'T2'!X16+'T3'!X16","v":-0.1},{"$f":"CA!Y49+'T1'!Y16+'T2'!Y16+'T3'!Y16","v":-0.1},{"$f":"CA!Z49+'T1'!Z16+'T2'!Z16+'T3'!Z16","v":-0.1},{"$f":"CA!AA49+'T1'!AA16+'T2'!AA16+'T3'!AA16","v":-0.1},{"$f":"CA!AB49+'T1'!AB16+'T2'!AB16+'T3'!AB16","v":-0.1},{"$f":"CA!AC49+'T1'!AC16+'T2'!AC16+'T3'!AC16","v":-0.1},{"$f":"CA!AD49+'T1'!AD16+'T2'!AD16+'T3'!AD16","v":-0.1},{"$f":"CA!AE49+'T1'!AE16+'T2'!AE16+'T3'!AE16","v":-0.1}]
[null,{"$f":"CA!B50+'T1'!B17+'T2'!B17+'T3'!B17","v":-0.1},{"$f":"CA!C50+'T1'!C17+'T2'!C17+'T3'!C17","v":-0.1},{"$f":"CA!D50+'T1'!D17+'T2'!D17+'T3'!D17","v":-0.1},{"$f":"CA!E50+'T1'!E17+'T2'!E17+'T3'!E17","v":-0.1},{"$f":"CA!F50+'T1'!F17+'T2'!F17+'T3'!F17","v":-0.1},{"$f":"CA!G50+'T1'!G17+'T2'!G17+'T3'!G17","v":-0.1},{"$f":"CA!H50+'T1'!H17+'T2'!H17+'T3'!H17","v":-0.1},{"$f":"CA!I50+'T1'!I17+'T2'!I17+'T3'!I17","v":-0.1},{"$f":"CA!J50+'T1'!J17+'T2'!J17+'T3'!J17","v":-0.1},{"$f":"CA!K50+'T1'!K17+'T2'!K17+'T3'!K17","v":-0.1},{"$f":"CA!L50+'T1'!L17+'T2'!L17+'T3'!L17","v":-0.1},{"$f":"CA!M50+'T1'!M17+'T2'!M17+'T3'!M17","v":-0.1},{"$f":"CA!N50+'T1'!N17+'T2'!N17+'T3'!N17","v":-0.1},{"$f":"CA!O50+'T1'!O17+'T2'!O17+'T3'!O17","v":-0.1},{"$f":"CA!P50+'T1'!P17+'T2'!P17+'T3'!P17","v":-0.1},{"$f":"CA!Q50+'T1'!Q17+'T2'!Q17+'T3'!Q17","v":-0.1},{"$f":"CA!R50+'T1'!R17+'T2'!R17+'T3'!R17","v":-0.1},{"$f":"CA!S50+'T1'!S17+'T2'!S17+'T3'!S17","v":-0.1},{"$f":"CA!T50+'T1'!T17+'T2'!T17+'T3'!T17","v":-0.1},{"$f":"CA!U50+'T1'!U17+'T2'!U17+'T3'!U17","v":-0.1},{"$f":"CA!V50+'T1'!V17+'T2'!V17+'T3'!V17","v":-0.1},{"$f":"CA!W50+'T1'!W17+'T2'!W17+'T3'!W17","v":-0.1},{"$f":"CA!X50+'T1'!X17+'T2'!X17+'T3'!X17","v":-0.1},{"$f":"CA!Y50+'T1'!Y17+'T2'!Y17+'T3'!Y17","v":-0.1},{"$f":"CA!Z50+'T1'!Z17+'T2'!Z17+'T3'!Z17","v":-0.1},{"$f":"CA!AA50+'T1'!AA17+'T2'!AA17+'T3'!AA17","v":-0.1},{"$f":"CA!AB50+'T1'!AB17+'T2'!AB17+'T3'!AB17","v":-0.1},{"$f":"CA!AC50+'T1'!AC17+'T2'!AC17+'T3'!AC17","v":-0.1},{"$f":"CA!AD50+'T1'!AD17+'T2'!AD17+'T3'!AD17","v":-0.1},{"$f":"CA!AE50+'T1'!AE17+'T2'!AE17+'T3'!AE17","v":-0.1}]
[null,{"$f":"CA!B51+'T1'!B18+'T2'!B18+'T3'!B18","v":-0.1},{"$f":"CA!C51+'T1'!C18+'T2'!C18+'T3'!C18","v":-0.1},{"$f":"CA!D51+'T1'!D18+'T2'!D18+'T3'!D18","v":-0.1},{"$f":"CA!E51+'T1'!E18+'T2'!E18+'T3'!E18","v":-0.1},{"$f":"CA!F51+'T1'!F18+'T2'!F18+'T3'!F18","v":-0.1},{"$f":"CA!G51+'T1'!G18+'T2'!G18+'T3'!G18","v":-0.1},{"$f":"CA!H51+'T1'!H18+'T2'!H18+'T3'!H18","v":-0.1},{"$f":"CA!I51+'T1'!I18+'T2'!I18+'T3'!I18","v":-0.1},{"$f":"CA!J51+'T1'!J18+'T2'!J18+'T3'!J18","v":-0.1},{"$f":"CA!K51+'T1'!K18+'T2'!K18+'T3'!K18","v":-0.1},{"$f":"CA!L51+'T1'!L18+'T2'!L18+'T3'!L18","v":-0.1},{"$f":"CA!M51+'T1'!M18+'T2'!M18+'T3'!M18","v":-0.1},{"$f":"CA!N51+'T1'!N18+'T2'!N18+'T3'!N18","v":-0.1},{"$f":"CA!O51+'T1'!O18+'T2'!O18+'T3'!O18","v":-0.1},{"$f":"CA!P51+'T1'!P18+'T2'!P18+'T3'!P18","v":-0.1},{"$f":"CA!Q51+'T1'!Q18+'T2'!Q18+'T3'!Q18","v":-0.1},{"$f":"CA!R51+'T1'!R18+'T2'!R18+'T3'!R18","v":-0.1},{"$f":"CA!S51+'T1'!S18+'T2'!S18+'T3'!S18","v":-0.1},{"$f":"CA!T51+'T1'!T18+'T2'!T18+'T3'!T18","v":-0.1},{"$f":"CA!U51+'T1'!U18+'T2'!U18+'T3'!U18","v":-0.1},{"$f":"CA!V51+'T1'!V18+'T2'!V18+'T3'!V18","v":-0.1},{"$f":"CA!W51+'T1'!W18+'T2'!W18+'T3'!W18","v":-0.1},{"$f":"CA!X51+'T1'!X18+'T2'!X18+'T3'!X18","v":-0.1},{"$f":"CA!Y51+'T1'!Y18+'T2'!Y18+'T3'!Y18","v":-0.1},{"$f":"CA!Z51+'T1'!Z18+'T2'!Z18+'T3'!Z18","v":-0.1},{"$f":"CA!AA51+'T1'!AA18+'T2'!AA18+'T3'!AA18","v":-0.1},{"$f":"CA!AB51+'T1'!AB18+'T2'!AB18+'T3'!AB18","v":-0.1},{"$f":"CA!AC51+'T1'!AC18+'T2'!AC18+'T3'!AC18","v":-0.1},{"$f":"CA!AD51+'T1'!AD18+'T2'!AD18+'T3'!AD18","v":-0.1},{"$f":"CA!AE51+'T1'!AE18+'T2'!AE18+'T3'!AE18","v":-0.1}]
[null,{"$f":"CA!B52+'T1'!B19+'T2'!B19+'T3'!B19","v":-0.1},{"$f":"CA!C52+'T1'!C19+'T2'!C19+'T3'!C19","v":-0.1},{"$f":"CA!D52+'T1'!D19+'T2'!D19+'T3'!D19","v":-0.1},{"$f":"CA!E52+'T1'!E19+'T2'!E19+'T3'!E19","v":-0.1},{"$f":"CA!F52+'T1'!F19+'T2'!F19+'T3'!F19","v":-0.1},{"$f":"CA!G52+'T1'!G19+'T2'!G19+'T3'!G19","v":-0.1},{"$f":"CA!H52+'T1'!H19+'T2'!H19+'T3'!H19","v":-0.1},{"$f":"CA!I52+'T1'!I19+'T2'!I19+'T3'!I19","v":-0.1},{"$f":"CA!J52+'T1'!J19+'T2'!J19+'T3'!J19","v":-0.1},{"$f":"CA!K52+'T1'!K19+'T2'!K19+'T3'!K19","v":-0.1},{"$f":"CA!L52+'T1'!L19+'T2'!L19+'T3'!L19","v":-0.1},{"$f":"CA!M52+'T1'!M19+'T2'!M19+'T3'!M19","v":-0.1},{"$f":"CA!N52+'T1'!N19+'T2'!N19+'T3'!N19","v":-0.1},{"$f":"CA!O52+'T1'!O19+'T2'!O19+'T3'!O19","v":-0.1},{"$f":"CA!P52+'T1'!P19+'T2'!P19+'T3'!P19","v":-0.1},{"$f":"CA!Q52+'T1'!Q19+'T2'!Q19+'T3'!Q19","v":-0.1},{"$f":"CA!R52+'T1'!R19+'T2'!R19+'T3'!R19","v":-0.1},{"$f":"CA!S52+'T1'!S19+'T2'!S19+'T3'!S19","v":-0.1},{"$f":"CA!T52+'T1'!T19+'T2'!T19+'T3'!T19","v":-0.1},{"$f":"CA!U52+'T1'!U19+'T2'!U19+'T3'!U19","v":-0.1},{"$f":"CA!V52+'T1'!V19+'T2'!V19+'T3'!V19","v":-0.1},{"$f":"CA!W52+'T1'!W19+'T2'!W19+'T3'!W19","v":-0.1},{"$f":"CA!X52+'T1'!X19+'T2'!X19+'T3'!X19","v":-0.1},{"$f":"CA!Y52+'T1'!Y19+'T2'!Y19+'T3'!Y19","v":-0.1},{"$f":"CA!Z52+'T1'!Z19+'T2'!Z19+'T3'!Z19","v":-0.1},{"$f":"CA!AA52+'T1'!AA19+'T2'!AA19+'T3'!AA19","v":-0.1},{"$f":"CA!AB52+'T1'!AB19+'T2'!AB19+'T3'!AB19","v":-0.1},{"$f":"CA!AC52+'T1'!AC19+'T2'!AC19+'T3'!AC19","v":-0.1},{"$f":"CA!AD52+'T1'!AD19+'T2'!AD19+'T3'!AD19","v":-0.1},{"$f":"CA!AE52+'T1'!AE19+'T2'!AE19+'T3'!AE19","v":-0.1}]
[null,{"$f":"CA!B53+'T1'!B20+'T2'!B20+'T3'!B20","v":-0.1},{"$f":"CA!C53+'T1'!C20+'T2'!C20+'T3'!C20","v":-0.1},{"$f":"CA!D53+'T1'!D20+'T2'!D20+'T3'!D20","v":-0.1},{"$f":"CA!E53+'T1'!E20+'T2'!E20+'T3'!E20","v":-0.1},{"$f":"CA!F53+'T1'!F20+'T2'!F20+'T3'!F20","v":-0.1},{"$f":"CA!G53+'T1'!G20+'T2'!G20+'T3'!G20","v":-0.1},{"$f":"CA!H53+'T1'!H20+'T2'!H20+'T3'!H20","v":-0.1},{"$f":"CA!I53+'T1'!I20+'T2'!I20+'T3'!I20","v":-0.1},{"$f":"CA!J53+'T1'!J20+'T2'!J20+'T3'!J20","v":-0.1},{"$f":"CA!K53+'T1'!K20+'T2'!K20+'T3'!K20","v":-0.1},{"$f":"CA!L53+'T1'!L20+'T2'!L20+'T3'!L20","v":-0.1},{"$f":"CA!M53+'T1'!M20+'T2'!M20+'T3'!M20","v":-0.1},{"$f":"CA!N53+'T1'!N20+'T2'!N20+'T3'!N20","v":-0.1},{"$f":"CA!O53+'T1'!O20+'T2'!O20+'T3'!O20","v":-0.1},{"$f":"CA!P53+'T1'!P20+'T2'!P20+'T3'!P20","v":-0.1},{"$f":"CA!Q53+'T1'!Q20+'T2'!Q20+'T3'!Q20","v":-0.1},{"$f":"CA!R53+'T1'!R20+'T2'!R20+'T3'!R20","v":-0.1},{"$f":"CA!S53+'T1'!S20+'T2'!S20+'T3'!S20","v":-0.1},{"$f":"CA!T53+'T1'!T20+'T2'!T20+'T3'!T20","v":-0.1},{"$f":"CA!U53+'T1'!U20+'T2'!U20+'T3'!U20","v":-0.1},{"$f":"CA!V53+'T1'!V20+'T2'!V20+'T3'!V20","v":-0.1},{"$f":"CA!W53+'T1'!W20+'T2'!W20+'T3'!W20","v":-0.1},{"$f":"CA!X53+'T1'!X20+'T2'!X20+'T3'!X20","v":-0.1},{"$f":"CA!Y53+'T1'!Y20+'T2'!Y20+'T3'!Y20","v":-0.1},{"$f":"CA!Z53+'T1'!Z20+'T2'!Z20+'T3'!Z20","v":-0.1},{"$f":"CA!AA53+'T1'!AA20+'T2'!AA20+'T3'!AA20","v":-0.1},{"$f":"CA!AB53+'T1'!AB20+'T2'!AB20+'T3'!AB20","v":-0.1},{"$f":"CA!AC53+'T1'!AC20+'T2'!AC20+'T3'!AC20","v":-0.1},{"$f":"CA!AD53+'T1'!AD20+'T2'!AD20+'T3'!AD20","v":-0.1},{"$f":"CA!AE53+'T1'!AE20+'T2'!AE20+'T3'!AE20","v":-0.1}]
[null,{"$f":"CA!B54+'T1'!B21+'T2'!B21+'T3'!B21","v":-0.1},{"$f":"CA!C54+'T1'!C21+'T2'!C21+'T3'!C21","v":-0.1},{"$f":"CA!D54+'T1'!D21+'T2'!D21+'T3'!D21","v":-0.1},{"$f":"CA!E54+'T1'!E21+'T2'!E21+'T3'!E21","v":-0.1},{"$f":"CA!F54+'T1'!F21+'T2'!F21+'T3'!F21","v":-0.1},{"$f":"CA!G54+'T1'!G21+'T2'!G21+'T3'!G21","v":-0.1},{"$f":"CA!H54+'T1'!H21+'T2'!H21+'T3'!H21","v":-0.1},{"$f":"CA!I54+'T1'!I21+'T2'!I21+'T3'!I21","v":-0.1},{"$f":"CA!J54+'T1'!J21+'T2'!J21+'T3'!J21","v":-0.1},{"$f":"CA!K54+'T1'!K21+'T2'!K21+'T3'!K21","v":-0.1},{"$f":"CA!L54+'T1'!L21+'T2'!L21+'T3'!L21","v":-0.1},{"$f":"CA!M54+'T1'!M21+'T2'!M21+'T3'!M21","v":-0.1},{"$f":"CA!N54+'T1'!N21+'T2'!N21+'T3'!N21","v":-0.1},{"$f":"CA!O54+'T1'!O21+'T2'!O21+'T3'!O21","v":-0.1},{"$f":"CA!P54+'T1'!P21+'T2'!P21+'T3'!P21","v":-0.1},{"$f":"CA!Q54+'T1'!Q21+'T2'!Q21+'T3'!Q21","v":-0.1},{"$f":"CA!R54+'T1'!R21+'T2'!R21+'T3'!R21","v":-0.1},{"$f":"CA!S54+'T1'!S21+'T2'!S21+'T3'!S21","v":-0.1},{"$f":"CA!T54+'T1'!T21+'T2'!T21+'T3'!T21","v":-0.1},{"$f":"CA!U54+'T1'!U21+'T2'!U21+'T3'!U21","v":-0.1},{"$f":"CA!V54+'T1'!V21+'T2'!V21+'T3'!V21","v":-0.1},{"$f":"CA!W54+'T1'!W21+'T2'!W21+'T3'!W21","v":-0.1},{"$f":"CA!X54+'T1'!X21+'T2'!X21+'T3'!X21","v":-0.1},{"$f":"CA!Y54+'T1'!Y21+'T2'!Y21+'T3'!Y21","v":-0.1},{"$f":"CA!Z54+'T1'!Z21+'T2'!Z21+'T3'!Z21","v":-0.1},{"$f":"CA!AA54+'T1'!AA21+'T2'!AA21+'T3'!AA21","v":-0.1},{"$f":"CA!AB54+'T1'!AB21+'T2'!AB21+'T3'!AB21","v":-0.1},{"$f":"CA!AC54+'T1'!AC21+'T2'!AC21+'T3'!AC21","v":-0.1},{"$f":"CA!AD54+'T1'!AD21+'T2'!AD21+'T3'!AD21","v":-0.1},{"$f":"CA!AE54+'T1'!AE21+'T2'!AE21+'T3'!AE21","v":-0.1}]
[null,{"$f":"CA!B55+'T1'!B22+'T2'!B22+'T3'!B22","v":-0.1},{"$f":"CA!C55+'T1'!C22+'T2'!C22+'T3'!C22","v":-0.1},{"$f":"CA!D55+'T1'!D22+'T2'!D22+'T3'!D22","v":-0.1},{"$f":"CA!E55+'T1'!E22+'T2'!E22+'T3'!E22","v":-0.1},{"$f":"CA!F55+'T1'!F22+'T2'!F22+'T3'!F22","v":-0.1},{"$f":"CA!G55+'T1'!G22+'T2'!G22+'T3'!G22","v":-0.1},{"$f":"CA!H55+'T1'!H22+'T2'!H22+'T3'!H22","v":-0.1},{"$f":"CA!I55+'T1'!I22+'T2'!I22+'T3'!I22","v":-0.1},{"$f":"CA!J55+'T1'!J22+'T2'!J22+'T3'!J22","v":-0.1},{"$f":"CA!K55+'T1'!K22+'T2'!K22+'T3'!K22","v":-0.1},{"$f":"CA!L55+'T1'!L22+'T2'!L22+'T3'!L22","v":-0.1},{"$f":"CA!M55+'T1'!M22+'T2'!M22+'T3'!M22","v":-0.1},{"$f":"CA!N55+'T1'!N22+'T2'!N22+'T3'!N22","v":-0.1},{"$f":"CA!O55+'T1'!O22+'T2'!O22+'T3'!O22","v":-0.1},{"$f":"CA!P55+'T1'!P22+'T2'!P22+'T3'!P22","v":-0.1},{"$f":"CA!Q55+'T1'!Q22+'T2'!Q22+'T3'!Q22","v":-0.1},{"$f":"CA!R55+'T1'!R22+'T2'!R22+'T3'!R22","v":-0.1},{"$f":"CA!S55+'T1'!S22+'T2'!S22+'T3'!S22","v":-0.1},{"$f":"CA!T55+'T1'!T22+'T2'!T22+'T3'!T22","v":-0.1},{"$f":"CA!U55+'T1'!U22+'T2'!U22+'T3'!U22","v":-0.1},{"$f":"CA!V55+'T1'!V22+'T2'!V22+'T3'!V22","v":-0.1},{"$f":"CA!W55+'T1'!W22+'T2'!W22+'T3'!W22","v":-0.1},{"$f":"CA!X55+'T1'!X22+'T2'!X22+'T3'!X22","v":-0.1},{"$f":"CA!Y55+'T1'!Y22+'T2'!Y22+'T3'!Y22","v":-0.1},{"$f":"CA!Z55+'T1'!Z22+'T2'!Z22+'T3'!Z22","v":-0.1},{"$f":"CA!AA55+'T1'!AA22+'T2'!AA22+'T3'!AA22","v":-0.1},{"$f":"CA!AB55+'T1'!AB22+'T2'!AB22+'T3'!AB22","v":-0.1},{"$f":"CA!AC55+'T1'!AC22+'T2'!AC22+'T3'!AC22","v":-0.1},{"$f":"CA!AD55+'T1'!AD22+'T2'!AD22+'T3'!AD22","v":-0.1},{"$f":"CA!AE55+'T1'!AE22+'T2'!AE22+'T3'!AE22","v":-0.1}]
[null,{"$f":"CA!B56+'T1'!B23+'T2'!B23+'T3'!B23","v":-0.1},{"$f":"CA!C56+'T1'!C23+'T2'!C23+'T3'!C23","v":-0.1},{"$f":"CA!D56+'T1'!D23+'T2'!D23+'T3'!D23","v":-0.1},{"$f":"CA!E56+'T1'!E23+'T2'!E23+'T3'!E23","v":-0.1},{"$f":"CA!F56+'T1'!F23+'T2'!F23+'T3'!F23","v":-0.1},{"$f":"CA!G56+'T1'!G23+'T2'!G23+'T3'!G23","v":-0.1},{"$f":"CA!H56+'T1'!H23+'T2'!H23+'T3'!H23","v":-0.1},{"$f":"CA!I56+'T1'!I23+'T2'!I23+'T3'!I23","v":-0.1},{"$f":"CA!J56+'T1'!J23+'T2'!J23+'T3'!J23","v":-0.1},{"$f":"CA!K56+'T1'!K23+'T2'!K23+'T3'!K23","v":-0.1},{"$f":"CA!L56+'T1'!L23+'T2'!L23+'T3'!L23","v":-0.1},{"$f":"CA!M56+'T1'!M23+'T2'!M23+'T3'!M23","v":-0.1},{"$f":"CA!N56+'T1'!N23+'T2'!N23+'T3'!N23","v":-0.1},{"$f":"CA!O56+'T1'!O23+'T2'!O23+'T3'!O23","v":-0.1},{"$f":"CA!P56+'T1'!P23+'T2'!P23+'T3'!P23","v":-0.1},{"$f":"CA!Q56+'T1'!Q23+'T2'!Q23+'T3'!Q23","v":-0.1},{"$f":"CA!R56+'T1'!R23+'T2'!R23+'T3'!R23","v":-0.1},{"$f":"CA!S56+'T1'!S23+'T2'!S23+'T3'!S23","v":-0.1},{"$f":"CA!T56+'T1'!T23+'T2'!T23+'T3'!T23","v":-0.1},{"$f":"CA!U56+'T1'!U23+'T2'!U23+'T3'!U23","v":-0.1},{"$f":"CA!V56+'T1'!V23+'T2'!V23+'T3'!V23","v":-0.1},{"$f":"CA!W56+'T1'!W23+'T2'!W23+'T3'!W23","v":-0.1},{"$f":"CA!X56+'T1'!X23+'T2'!X23+'T3'!X23","v":-0.1},{"$f":"CA!Y56+'T1'!Y23+'T2'!Y23+'T3'!Y23","v":-0.1},{"$f":"CA!Z56+'T1'!Z23+'T2'!Z23+'T3'!Z23","v":-0.1},{"$f":"CA!AA56+'T1'!AA23+'T2'!AA23+'T3'!AA23","v":-0.1},{"$f":"CA!AB56+'T1'!AB23+'T2'!AB23+'T3'!AB23","v":-0.1},{"$f":"CA!AC56+'T1'!AC23+'T2'!AC23+'T3'!AC23","v":-0.1},{"$f":"CA!AD56+'T1'!AD23+'T2'!AD23+'T3'!AD23","v":-0.1},{"$f":"CA!AE56+'T1'!AE23+'T2'!AE23+'T3'!AE23","v":-0.1}]
[null,{"$f":"CA!B57+'T1'!B24+'T2'!B24+'T3'!B24","v":-0.1},{"$f":"CA!C57+'T1'!C24+'T2'!C24+'T3'!C24","v":-0.1},{"$f":"CA!D57+'T1'!D24+'T2'!D24+'T3'!D24","v":-0.1},{"$f":"CA!E57+'T1'!E24+'T2'!E24+'T3'!E24","v":-0.1},{"$f":"CA!F57+'T1'!F24+'T2'!F24+'T3'!F24","v":-0.1},{"$f":"CA!G57+'T1'!G24+'T2'!G24+'T3'!G24","v":-0.1},{"$f":"CA!H57+'T1'!H24+'T2'!H24+'T3'!H24","v":-0.1},{"$f":"CA!I57+'T1'!I24+'T2'!I24+'T3'!I24","v":-0.1},{"$f":"CA!J57+'T1'!J24+'T2'!J24+'T3'!J24","v":-0.1},{"$f":"CA!K57+'T1'!K24+'T2'!K24+'T3'!K24","v":-0.1},{"$f":"CA!L57+'T1'!L24+'T2'!L24+'T3'!L24","v":-0.1},{"$f":"CA!M57+'T1'!M24+'T2'!M24+'T3'!M24","v":-0.1},{"$f":"CA!N57+'T1'!N24+'T2'!N24+'T3'!N24","v":-0.1},{"$f":"CA!O57+'T1'!O24+'T2'!O24+'T3'!O24","v":-0.1},{"$f":"CA!P57+'T1'!P24+'T2'!P24+'T3'!P24","v":-0.1},{"$f":"CA!Q57+'T1'!Q24+'T2'!Q24+'T3'!Q24","v":-0.1},{"$f":"CA!R57+'T1'!R24+'T2'!R24+'T3'!R24","v":-0.1},{"$f":"CA!S57+'T1'!S24+'T2'!S24+'T3'!S24","v":-0.1},{"$f":"CA!T57+'T1'!T24+'T2'!T24+'T3'!T24","v":-0.1},{"$f":"CA!U57+'T1'!U24+'T2'!U24+'T3'!U24","v":-0.1},{"$f":"CA!V57+'T1'!V24+'T2'!V24+'T3'!V24","v":-0.1},{"$f":"CA!W57+'T1'!W24+'T2'!W24+'T3'!W24","v":-0.1},{"$f":"CA!X57+'T1'!X24+'T2'!X24+'T3'!X24","v":-0.1},{"$f":"CA!Y57+'T1'!Y24+'T2'!Y24+'T3'!Y24","v":-0.1},{"$f":"CA!Z57+'T1'!Z24+'T2'!Z24+'T3'!Z24","v":-0.1},{"$f":"CA!AA57+'T1'!AA24+'T2'!AA24+'T3'!AA24","v":-0.1},{"$f":"CA!AB57+'T1'!AB24+'T2'!AB24+'T3'!AB24","v":-0.1},{"$f":"CA!AC57+'T1'!AC24+'T2'!AC24+'T3'!AC24","v":-0.1},{"$f":"CA!AD57+'T1'!AD24+'T2'!AD24+'T3'!AD24","v":-0.1},{"$f":"CA!AE57+'T1'!AE24+'T2'!AE24+'T3'!AE24","v":-0.1}]
[null,{"$f":"CA!B58+'T1'!B25+'T2'!B25+'T3'!B25","v":-9.8057377371428583E-2},{"$f":"CA!C58+'T1'!C25+'T2'!C25+'T3'!C25","v":-9.8057377371428583E-2},{"$f":"CA!D58+'T1'!D25+'T2'!D25+'T3'!D25","v":-9.8057377371428583E-2},{"$f":"CA!E58+'T1'!E25+'T2'!E25+'T3'!E25","v":-9.8057377371428583E-2},{"$f":"CA!F58+'T1'!F25+'T2'!F25+'T3'!F25","v":-9.8057377371428583E-2},{"$f":"CA!G58+'T1'!G25+'T2'!G25+'T3'!G25","v":-9.8057377371428583E-2},{"$f":"CA!H58+'T1'!H25+'T2'!H25+'T3'!H25","v":-9.8057377371428583E-2},{"$f":"CA!I58+'T1'!I25+'T2'!I25+'T3'!I25","v":-9.8057377371428583E-2},{"$f":"CA!J58+'T1'!J25+'T2'!J25+'T3'!J25","v":-9.8057377371428583E-2},{"$f":"CA!K58+'T1'!K25+'T2'!K25+'T3'!K25","v":-9.8057377371428583E-2},{"$f":"CA!L58+'T1'!L25+'T2'!L25+'T3'!L25","v":-9.8057377371428583E-2},{"$f":"CA!M58+'T1'!M25+'T2'!M25+'T3'!M25","v":-9.8057377371428583E-2},{"$f":"CA!N58+'T1'!N25+'T2'!N25+'T3'!N25","v":-9.8057377371428583E-2},{"$f":"CA!O58+'T1'!O25+'T2'!O25+'T3'!O25","v":-9.8057377371428583E-2},{"$f":"CA!P58+'T1'!P25+'T2'!P25+'T3'!P25","v":-9.8057377371428583E-2},{"$f":"CA!Q58+'T1'!Q25+'T2'!Q25+'T3'!Q25","v":-9.8057377371428583E-2},{"$f":"CA!R58+'T1'!R25+'T2'!R25+'T3'!R25","v":-9.8057377371428583E-2},{"$f":"CA!S58+'T1'!S25+'T2'!S25+'T3'!S25","v":-9.8057377371428583E-2},{"$f":"CA!T58+'T1'!T25+'T2'!T25+'T3'!T25","v":-9.8057377371428583E-2},{"$f":"CA!U58+'T1'!U25+'T2'!U25+'T3'!U25","v":-9.8057377371428583E-2},{"$f":"CA!V58+'T1'!V25+'T2'!V25+'T3'!V25","v":-9.8057377371428583E-2},{"$f":"CA!W58+'T1'!W25+'T2'!W25+'T3'!W25","v":-9.8057377371428583E-2},{"$f":"CA!X58+'T1'!X25+'T2'!X25+'T3'!X25","v":-9.8057377371428583E-2},{"$f":"CA!Y58+'T1'!Y25+'T2'!Y25+'T3'!Y25","v":-9.8057377371428583E-2},{"$f":"CA!Z58+'T1'!Z25+'T2'!Z25+'T3'!Z25","v":-9.8057377371428583E-2},{"$f":"CA!AA58+'T1'!AA25+'T2'!AA25+'T3'!AA25","v":-9.8057377371428583E-2},{"$f":"CA!AB58+'T1'!AB25+'T2'!AB25+'T3'!AB25","v":-9.8057377371428583E-2},{"$f":"CA!AC58+'T1'!AC25+'T2'!AC25+'T3'!AC25","v":-9.8057377371428583E-2},{"$f":"CA!AD58+'T1'!AD25+'T2'!AD25+'T3'!AD25","v":-9.8057377371428583E-2},{"$f":"CA!AE58+'T1'!AE25+'T2'!AE25+'T3'!AE25","v":-9.8057377371428583E-2}]
[null,{"$f":"CA!B59+'T1'!B26+'T2'!B26+'T3'!B26","v":-9.8057377371428583E-2},{"$f":"CA!C59+'T1'!C26+'T2'!C26+'T3'!C26","v":-9.8057377371428583E-2},{"$f":"CA!D59+'T1'!D26+'T2'!D26+'T3'!D26","v":-9.8057377371428583E-2},{"$f":"CA!E59+'T1'!E26+'T2'!E26+'T3'!E26","v":-9.8057377371428583E-2},{"$f":"CA!F59+'T1'!F26+'T2'!F26+'T3'!F26","v":-9.8057377371428583E-2},{"$f":"CA!G59+'T1'!G26+'T2'!G26+'T3'!G26","v":-9.8057377371428583E-2},{"$f":"CA!H59+'T1'!H26+'T2'!H26+'T3'!H26","v":-9.8057377371428583E-2},{"$f":"CA!I59+'T1'!I26+'T2'!I26+'T3'!I26","v":-9.8057377371428583E-2},{"$f":"CA!J59+'T1'!J26+'T2'!J26+'T3'!J26","v":-9.8057377371428583E-2},{"$f":"CA!K59+'T1'!K26+'T2'!K26+'T3'!K26","v":-9.8057377371428583E-2},{"$f":"CA!L59+'T1'!L26+'T2'!L26+'T3'!L26","v":-9.8057377371428583E-2},{"$f":"CA!M59+'T1'!M26+'T2'!M26+'T3'!M26","v":-9.8057377371428583E-2},{"$f":"CA!N59+'T1'!N26+'T2'!N26+'T3'!N26","v":-9.8057377371428583E-2},{"$f":"CA!O59+'T1'!O26+'T2'!O26+'T3'!O26","v":-9.8057377371428583E-2},{"$f":"CA!P59+'T1'!P26+'T2'!P26+'T3'!P26","v":-9.8057377371428583E-2},{"$f":"CA!Q59+'T1'!Q26+'T2'!Q26+'T3'!Q26","v":-9.8057377371428583E-2},{"$f":"CA!R59+'T1'!R26+'T2'!R26+'T3'!R26","v":-9.8057377371428583E-2},{"$f":"CA!S59+'T1'!S26+'T2'!S26+'T3'!S26","v":-9.8057377371428583E-2},{"$f":"CA!T59+'T1'!T26+'T2'!T26+'T3'!T26","v":-9.8057377371428583E-2},{"$f":"CA!U59+'T1'!U26+'T2'!U26+'T3'!U26","v":-9.8057377371428583E-2},{"$f":"CA!V59+'T1'!V26+'T2'!V26+'T3'!V26","v":-9.8057377371428583E-2},{"$f":"CA!W59+'T1'!W26+'T2'!W26+'T3'!W26","v":-9.8057377371428583E-2},{"$f":"CA!X59+'T1'!X26+'T2'!X26+'T3'!X26","v":-9.8057377371428583E-2},{"$f":"CA!Y59+'T1'!Y26+'T2'!Y26+'T3'!Y26","v":-9.8057377371428583E-2},{"$f":"CA!Z59+'T1'!Z26+'T2'!Z26+'T3'!Z26","v":-9.8057377371428583E-2},{"$f":"CA!AA59+'T1'!AA26+'T2'!AA26+'T3'!AA26","v":-9.8057377371428583E-2},{"$f":"CA!AB59+'T1'!AB26+'T2'!AB26+'T3'!AB26","v":-9.8057377371428583E-2},{"$f":"CA!AC59+'T1'!AC26+'T2'!AC26+'T3'!AC26","v":-9.8057377371428583E-2},{"$f":"CA!AD59+'T1'!AD26+'T2'!AD26+'T3'!AD26","v":-9.8057377371428583E-2},{"$f":"CA!AE59+'T1'!AE26+'T2'!AE26+'T3'!AE26","v":-9.8057377371428583E-2}]
[null,{"$f":"CA!B60+'T1'!B27+'T2'!B27+'T3'!B27","v":-9.8057377371428583E-2},{"$f":"CA!C60+'T1'!C27+'T2'!C27+'T3'!C27","v":-9.8057377371428583E-2},{"$f":"CA!D60+'T1'!D27+'T2'!D27+'T3'!D27","v":-9.8057377371428583E-2},{"$f":"CA!E60+'T1'!E27+'T2'!E27+'T3'!E27","v":-9.8057377371428583E-2},{"$f":"CA!F60+'T1'!F27+'T2'!F27+'T3'!F27","v":-9.8057377371428583E-2},{"$f":"CA!G60+'T1'!G27+'T2'!G27+'T3'!G27","v":-9.8057377371428583E-2},{"$f":"CA!H60+'T1'!H27+'T2'!H27+'T3'!H27","v":-9.8057377371428583E-2},{"$f":"CA!I60+'T1'!I27+'T2'!I27+'T3'!I27","v":-9.8057377371428583E-2},{"$f":"CA!J60+'T1'!J27+'T2'!J27+'T3'!J27","v":-9.8057377371428583E-2},{"$f":"CA!K60+'T1'!K27+'T2'!K27+'T3'!K27","v":-9.8057377371428583E-2},{"$f":"CA!L60+'T1'!L27+'T2'!L27+'T3'!L27","v":-9.8057377371428583E-2},{"$f":"CA!M60+'T1'!M27+'T2'!M27+'T3'!M27","v":-9.8057377371428583E-2},{"$f":"CA!N60+'T1'!N27+'T2'!N27+'T3'!N27","v":-9.8057377371428583E-2},{"$f":"CA!O60+'T1'!O27+'T2'!O27+'T3'!O27","v":-9.8057377371428583E-2},{"$f":"CA!P60+'T1'!P27+'T2'!P27+'T3'!P27","v":-9.8057377371428583E-2},{"$f":"CA!Q60+'T1'!Q27+'T2'!Q27+'T3'!Q27","v":-9.8057377371428583E-2},{"$f":"CA!R60+'T1'!R27+'T2'!R27+'T3'!R27","v":-9.8057377371428583E-2},{"$f":"CA!S60+'T1'!S27+'T2'!S27+'T3'!S27","v":-9.8057377371428583E-2},{"$f":"CA!T60+'T1'!T27+'T2'!T27+'T3'!T27","v":-9.8057377371428583E-2},{"$f":"CA!U60+'T1'!U27+'T2'!U27+'T3'!U27","v":-9.8057377371428583E-2},{"$f":"CA!V60+'T1'!V27+'T2'!V27+'T3'!V27","v":-9.8057377371428583E-2},{"$f":"CA!W60+'T1'!W27+'T2'!W27+'T3'!W27","v":-9.8057377371428583E-2},{"$f":"CA!X60+'T1'!X27+'T2'!X27+'T3'!X27","v":-9.8057377371428583E-2},{"$f":"CA!Y60+'T1'!Y27+'T2'!Y27+'T3'!Y27","v":-9.8057377371428583E-2},{"$f":"CA!Z60+'T1'!Z27+'T2'!Z27+'T3'!Z27","v":-9.8057377371428583E-2},{"$f":"CA!AA60+'T1'!AA27+'T2'!AA27+'T3'!AA27","v":-9.8057377371428583E-2},{"$f":"CA!AB60+'T1'!AB27+'T2'!AB27+'T3'!AB27","v":-9.8057377371428583E-2},{"$f":"CA!AC60+'T1'!AC27+'T2'!AC27+'T3'!AC27","v":-9.8057377371428583E-2},{"$f":"CA!AD60+'T1'!AD27+'T2'!AD27+'T3'!AD27","v":-9.8057377371428583E-2},{"$f":"CA!AE60+'T1'!AE27+'T2'!AE27+'T3'!AE27","v":-9.8057377371428583E-2}]
[null,{"$f":"CA!B61+'T1'!B28+'T2'!B28+'T3'!B28","v":-9.8057377371428583E-2},{"$f":"CA!C61+'T1'!C28+'T2'!C28+'T3'!C28","v":-9.8057377371428583E-2},{"$f":"CA!D61+'T1'!D28+'T2'!D28+'T3'!D28","v":-9.8057377371428583E-2},{"$f":"CA!E61+'T1'!E28+'T2'!E28+'T3'!E28","v":-9.8057377371428583E-2},{"$f":"CA!F61+'T1'!F28+'T2'!F28+'T3'!F28","v":-9.8057377371428583E-2},{"$f":"CA!G61+'T1'!G28+'T2'!G28+'T3'!G28","v":-9.8057377371428583E-2},{"$f":"CA!H61+'T1'!H28+'T2'!H28+'T3'!H28","v":-9.8057377371428583E-2},{"$f":"CA!I61+'T1'!I28+'T2'!I28+'T3'!I28","v":-9.8057377371428583E-2},{"$f":"CA!J61+'T1'!J28+'T2'!J28+'T3'!J28","v":-9.8057377371428583E-2},{"$f":"CA!K61+'T1'!K28+'T2'!K28+'T3'!K28","v":-9.8057377371428583E-2},{"$f":"CA!L61+'T1'!L28+'T2'!L28+'T3'!L28","v":-9.8057377371428583E-2},{"$f":"CA!M61+'T1'!M28+'T2'!M28+'T3'!M28","v":-9.8057377371428583E-2},{"$f":"CA!N61+'T1'!N28+'T2'!N28+'T3'!N28","v":-9.8057377371428583E-2},{"$f":"CA!O61+'T1'!O28+'T2'!O28+'T3'!O28","v":-9.8057377371428583E-2},{"$f":"CA!P61+'T1'!P28+'T2'!P28+'T3'!P28","v":-9.8057377371428583E-2},{"$f":"CA!Q61+'T1'!Q28+'T2'!Q28+'T3'!Q28","v":-9.8057377371428583E-2},{"$f":"CA!R61+'T1'!R28+'T2'!R28+'T3'!R28","v":-9.8057377371428583E-2},{"$f":"CA!S61+'T1'!S28+'T2'!S28+'T3'!S28","v":-9.8057377371428583E-2},{"$f":"CA!T61+'T1'!T28+'T2'!T28+'T3'!T28","v":-9.8057377371428583E-2},{"$f":"CA!U61+'T1'!U28+'T2'!U28+'T3'!U28","v":-9.8057377371428583E-2},{"$f":"CA!V61+'T1'!V28+'T2'!V28+'T3'!V28","v":-9.8057377371428583E-2},{"$f":"CA!W61+'T1'!W28+'T2'!W28+'T3'!W28","v":-9.8057377371428583E-2},{"$f":"CA!X61+'T1'!X28+'T2'!X28+'T3'!X28","v":-9.8057377371428583E-2},{"$f":"CA!Y61+'T1'!Y28+'T2'!Y28+'T3'!Y28","v":-9.8057377371428583E-2},{"$f":"CA!Z61+'T1'!Z28+'T2'!Z28+'T3'!Z28","v":-9.8057377371428583E-2},{"$f":"CA!AA61+'T1'!AA28+'T2'!AA28+'T3'!AA28","v":-9.8057377371428583E-2},{"$f":"CA!AB61+'T1'!AB28+'T2'!AB28+'T3'!AB28","v":-9.8057377371428583E-2},{"$f":"CA!AC61+'T1'!AC28+'T2'!AC28+'T3'!AC28","v":-9.8057377371428583E-2},{"$f":"CA!AD61+'T1'!AD28+'T2'!AD28+'T3'!AD28","v":-9.8057377371428583E-2},{"$f":"CA!AE61+'T1'!AE28+'T2'!AE28+'T3'!AE28","v":-9.8057377371428583E-2}]
[null,{"$f":"CA!B62+'T1'!B29+'T2'!B29+'T3'!B29","v":-9.8057377371428583E-2},{"$f":"CA!C62+'T1'!C29+'T2'!C29+'T3'!C29","v":-9.8057377371428583E-2},{"$f":"CA!D62+'T1'!D29+'T2'!D29+'T3'!D29","v":-9.8057377371428583E-2},{"$f":"CA!E62+'T1'!E29+'T2'!E29+'T3'!E29","v":-9.8057377371428583E-2},{"$f":"CA!F62+'T1'!F29+'T2'!F29+'T3'!F29","v":-9.8057377371428583E-2},{"$f":"CA!G62+'T1'!G29+'T2'!G29+'T3'!G29","v":-9.8057377371428583E-2},{"$f":"CA!H62+'T1'!H29+'T2'!H29+'T3'!H29","v":-9.8057377371428583E-2},{"$f":"CA!I62+'T1'!I29+'T2'!I29+'T3'!I29","v":-9.8057377371428583E-2},{"$f":"CA!J62+'T1'!J29+'T2'!J29+'T3'!J29","v":-9.8057377371428583E-2},{"$f":"CA!K62+'T1'!K29+'T2'!K29+'T3'!K29","v":-9.8057377371428583E-2},{"$f":"CA!L62+'T1'!L29+'T2'!L29+'T3'!L29","v":-9.8057377371428583E-2},{"$f":"CA!M62+'T1'!M29+'T2'!M29+'T3'!M29","v":-9.8057377371428583E-2},{"$f":"CA!N62+'T1'!N29+'T2'!N29+'T3'!N29","v":-9.8057377371428583E-2},{"$f":"CA!O62+'T1'!O29+'T2'!O29+'T3'!O29","v":-9.8057377371428583E-2},{"$f":"CA!P62+'T1'!P29+'T2'!P29+'T3'!P29","v":-9.8057377371428583E-2},{"$f":"CA!Q62+'T1'!Q29+'T2'!Q29+'T3'!Q29","v":-9.8057377371428583E-2},{"$f":"CA!R62+'T1'!R29+'T2'!R29+'T3'!R29","v":-9.8057377371428583E-2},{"$f":"CA!S62+'T1'!S29+'T2'!S29+'T3'!S29","v":-9.8057377371428583E-2},{"$f":"CA!T62+'T1'!T29+'T2'!T29+'T3'!T29","v":-9.8057377371428583E-2},{"$f":"CA!U62+'T1'!U29+'T2'!U29+'T3'!U29","v":-9.8057377371428583E-2},{"$f":"CA!V62+'T1'!V29+'T2'!V29+'T3'!V29","v":-9.8057377371428583E-2},{"$f":"CA!W62+'T1'!W29+'T2'!W29+'T3'!W29","v":-9.8057377371428583E-2},{"$f":"CA!X62+'T1'!X29+'T2'!X29+'T3'!X29","v":-9.8057377371428583E-2},{"$f":"CA!Y62+'T1'!Y29+'T2'!Y29+'T3'!Y29","v":-9.8057377371428583E-2},{"$f":"CA!Z62+'T1'!Z29+'T2'!Z29+'T3'!Z29","v":-9.8057377371428583E-2},{"$f":"CA!AA62+'T1'!AA29+'T2'!AA29+'T3'!AA29","v":-9.8057377371428583E-2},{"$f":"CA!AB62+'T1'!AB29+'T2'!AB29+'T3'!AB29","v":-9.8057377371428583E-2},{"$f":"CA!AC62+'T1'!AC29+'T2'!AC29+'T3'!AC29","v":-9.8057377371428583E-2},{"$f":"CA!AD62+'T1'!AD29+'T2'!AD29+'T3'!AD29","v":-9.8057377371428583E-2},{"$f":"CA!AE62+'T1'!AE29+'T2'!AE29+'T3'!AE29","v":-9.8057377371428583E-2}]
[null,{"$f":"CA!B63+'T1'!B30+'T2'!B30+'T3'!B30","v":-9.8057377371428583E-2},{"$f":"CA!C63+'T1'!C30+'T2'!C30+'T3'!C30","v":-9.8057377371428583E-2},{"$f":"CA!D63+'T1'!D30+'T2'!D30+'T3'!D30","v":-9.8057377371428583E-2},{"$f":"CA!E63+'T1'!E30+'T2'!E30+'T3'!E30","v":-9.8057377371428583E-2},{"$f":"CA!F63+'T1'!F30+'T2'!F30+'T3'!F30","v":-9.8057377371428583E-2},{"$f":"CA!G63+'T1'!G30+'T2'!G30+'T3'!G30","v":-9.8057377371428583E-2},{"$f":"CA!H63+'T1'!H30+'T2'!H30+'T3'!H30","v":-9.8057377371428583E-2},{"$f":"CA!I63+'T1'!I30+'T2'!I30+'T3'!I30","v":-9.8057377371428583E-2},{"$f":"CA!J63+'T1'!J30+'T2'!J30+'T3'!J30","v":-9.8057377371428583E-2},{"$f":"CA!K63+'T1'!K30+'T2'!K30+'T3'!K30","v":-9.8057377371428583E-2},{"$f":"CA!L63+'T1'!L30+'T2'!L30+'T3'!L30","v":-9.8057377371428583E-2},{"$f":"CA!M63+'T1'!M30+'T2'!M30+'T3'!M30","v":-9.8057377371428583E-2},{"$f":"CA!N63+'T1'!N30+'T2'!N30+'T3'!N30","v":-9.8057377371428583E-2},{"$f":"CA!O63+'T1'!O30+'T2'!O30+'T3'!O30","v":-9.8057377371428583E-2},{"$f":"CA!P63+'T1'!P30+'T2'!P30+'T3'!P30","v":-9.8057377371428583E-2},{"$f":"CA!Q63+'T1'!Q30+'T2'!Q30+'T3'!Q30","v":-9.8057377371428583E-2},{"$f":"CA!R63+'T1'!R30+'T2'!R30+'T3'!R30","v":-9.8057377371428583E-2},{"$f":"CA!S63+'T1'!S30+'T2'!S30+'T3'!S30","v":-9.8057377371428583E-2},{"$f":"CA!T63+'T1'!T30+'T2'!T30+'T3'!T30","v":-9.8057377371428583E-2},{"$f":"CA!U63+'T1'!U30+'T2'!U30+'T3'!U30","v":-9.8057377371428583E-2},{"$f":"CA!V63+'T1'!V30+'T2'!V30+'T3'!V30","v":-9.8057377371428583E-2},{"$f":"CA!W63+'T1'!W30+'T2'!W30+'T3'!W30","v":-9.8057377371428583E-2},{"$f":"CA!X63+'T1'!X30+'T2'!X30+'T3'!X30","v":-9.8057377371428583E-2},{"$f":"CA!Y63+'T1'!Y30+'T2'!Y30+'T3'!Y30","v":-9.8057377371428583E-2},{"$f":"CA!Z63+'T1'!Z30+'T2'!Z30+'T3'!Z30","v":-9.8057377371428583E-2},{"$f":"CA!AA63+'T1'!AA30+'T2'!AA30+'T3'!AA30","v":-9.8057377371428583E-2},{"$f":"CA!AB63+'T1'!AB30+'T2'!AB30+'T3'!AB30","v":-9.8057377371428583E-2},{"$f":"CA!AC63+'T1'!AC30+'T2'!AC30+'T3'!AC30","v":-9.8057377371428583E-2},{"$f":"CA!AD63+'T1'!AD30+'T2'!AD30+'T3'!AD30","v":-9.8057377371428583E-2},{"$f":"CA!AE63+'T1'!AE30+'T2'!AE30+'T3'!AE30","v":-9.8057377371428583E-2}]
[null,{"$f":"CA!B64+'T1'!B31+'T2'!B31+'T3'!B31","v":-9.8057377371428583E-2},{"$f":"CA!C64+'T1'!C31+'T2'!C31+'T3'!C31","v":-9.8057377371428583E-2},{"$f":"CA!D64+'T1'!D31+'T2'!D31+'T3'!D31","v":-9.8057377371428583E-2},{"$f":"CA!E64+'T1'!E31+'T2'!E31+'T3'!E31","v":-9.8057377371428583E-2},{"$f":"CA!F64+'T1'!F31+'T2'!F31+'T3'!F31","v":-9.8057377371428583E-2},{"$f":"CA!G64+'T1'!G31+'T2'!G31+'T3'!G31","v":-9.8057377371428583E-2},{"$f":"CA!H64+'T1'!H31+'T2'!H31+'T3'!H31","v":-9.8057377371428583E-2},{"$f":"CA!I64+'T1'!I31+'T2'!I31+'T3'!I31","v":-9.8057377371428583E-2},{"$f":"CA!J64+'T1'!J31+'T2'!J31+'T3'!J31","v":-9.8057377371428583E-2},{"$f":"CA!K64+'T1'!K31+'T2'!K31+'T3'!K31","v":-9.8057377371428583E-2},{"$f":"CA!L64+'T1'!L31+'T2'!L31+'T3'!L31","v":-9.8057377371428583E-2},{"$f":"CA!M64+'T1'!M31+'T2'!M31+'T3'!M31","v":-9.8057377371428583E-2},{"$f":"CA!N64+'T1'!N31+'T2'!N31+'T3'!N31","v":-9.8057377371428583E-2},{"$f":"CA!O64+'T1'!O31+'T2'!O31+'T3'!O31","v":-9.8057377371428583E-2},{"$f":"CA!P64+'T1'!P31+'T2'!P31+'T3'!P31","v":-9.8057377371428583E-2},{"$f":"CA!Q64+'T1'!Q31+'T2'!Q31+'T3'!Q31","v":-9.8057377371428583E-2},{"$f":"CA!R64+'T1'!R31+'T2'!R31+'T3'!R31","v":-9.8057377371428583E-2},{"$f":"CA!S64+'T1'!S31+'T2'!S31+'T3'!S31","v":-9.8057377371428583E-2},{"$f":"CA!T64+'T1'!T31+'T2'!T31+'T3'!T31","v":-9.8057377371428583E-2},{"$f":"CA!U64+'T1'!U31+'T2'!U31+'T3'!U31","v":-9.8057377371428583E-2},{"$f":"CA!V64+'T1'!V31+'T2'!V31+'T3'!V31","v":-9.8057377371428583E-2},{"$f":"CA!W64+'T1'!W31+'T2'!W31+'T3'!W31","v":-9.8057377371428583E-2},{"$f":"CA!X64+'T1'!X31+'T2'!X31+'T3'!X31","v":-9.8057377371428583E-2},{"$f":"CA!Y64+'T1'!Y31+'T2'!Y31+'T3'!Y31","v":-9.8057377371428583E-2},{"$f":"CA!Z64+'T1'!Z31+'T2'!Z31+'T3'!Z31","v":-9.8057377371428583E-2},{"$f":"CA!AA64+'T1'!AA31+'T2'!AA31+'T3'!AA31","v":-9.8057377371428583E-2},{"$f":"CA!AB64+'T1'!AB31+'T2'!AB31+'T3'!AB31","v":-9.8057377371428583E-2},{"$f":"CA!AC64+'T1'!AC31+'T2'!AC31+'T3'!AC31","v":-9.8057377371428583E-2},{"$f":"CA!AD64+'T1'!AD31+'T2'!AD31+'T3'!AD31","v":-9.8057377371428583E-2},{"$f":"CA!AE64+'T1'!AE31+'T2'!AE31+'T3'!AE31","v":-9.8057377371428583E-2}]

{"sheet":"S","index":9,"n_rows":34,"n_cols":31,"rows_kept":34,"cut":false,"hidden":true,"merged":[]}
[]
[null,{"$f":"(CA!A2+CA!C2+CA!B1+CA!B3)*Parameter!$D$11+Shape_edge!A2+Fractuation!A2*Parameter!$D$12+IF(Tilt!B2<0,COS((Tilt!B2-90)*2*PI()/360),0)","v":0},{"$f":"(CA!B2+CA!D2+CA!C1+CA!C3)*Parameter!$D$11+Shape_edge!B2+Fractuation!B2*Parameter!$D$12+IF(Tilt!C2<0,COS((Tilt!C2-90)*2*PI()/360),0)","v":0},{"$f":"(CA!C2+CA!E2+CA!D1+CA!D3)*Parameter!$D$11+Shape_edge!C2+Fractuation!C2*Parameter!$D$12+IF(Tilt!D2<0,COS((Tilt!D2-90)*2*PI()/360),0)","v":0},{"$f":"(CA!D2+CA!F2+CA!E1+CA!E3)*Parameter!$D$11+Shape_edge!D2+Fractuation!D2*Parameter!$D$12+IF(Tilt!E2<0,COS((Tilt!E2-90)*2*PI()/360),0)","v":0},{"$f":"(CA!E2+CA!G2+CA!F1+CA!F3)*Parameter!$D$11+Shape_edge!E2+Fractuation!E2*Parameter!$D$12+IF(Tilt!F2<0,COS((Tilt!F2-90)*2*PI()/360),0)","v":0},{"$f":"(CA!F2+CA!H2+CA!G1+CA!G3)*Parameter!$D$11+Shape_edge!F2+Fractuation!F2*Parameter!$D$12+IF(Tilt!G2<0,COS((Tilt!G2-90)*2*PI()/360),0)","v":0},{"$f":"(CA!G2+CA!I2+CA!H1+CA!H3)*Parameter!$D$11+Shape_edge!G2+Fractuation!G2*Parameter!$D$12+IF(Tilt!H2<0,COS((Tilt!H2-90)*2*PI()/360),0)","v":0},{"$f":"(CA!H2+CA!J2+CA!I1+CA!I3)*Parameter!$D$11+Shape_edge!H2+Fractuation!H2*Parameter!$D$12+IF(Tilt!I2<0,COS((Tilt!I2-90)*2*PI()/360),0)","v":0},{"$f":"(CA!I2+CA!K2+CA!J1+CA!J3)*Parameter!$D$11+Shape_edge!I2+Fractuation!I2*Parameter!$D$12+IF(Tilt!J2<0,COS((Tilt!J2-90)*2*PI()/360),0)","v":0},{"$f":"(CA!J2+CA!L2+CA!K1+CA!K3)*Parameter!$D$11+Shape_edge!J2+Fractuation!J2*Parameter!$D$12+IF(Tilt!K2<0,COS((Tilt!K2-90)*2*PI()/360),0)","v":0},{"$f":"(CA!K2+CA!M2+CA!L1+CA!L3)*Parameter!$D$11+Shape_edge!K2+Fractuation!K2*Parameter!$D$12+IF(Tilt!L2<0,COS((Tilt!L2-90)*2*PI()/360),0)","v":0},{"$f":"(CA!L2+CA!N2+CA!M1+CA!M3)*Parameter!$D$11+Shape_edge!L2+Fractuation!L2*Parameter!$D$12+IF(Tilt!M2<0,COS((Tilt!M2-90)*2*PI()/360),0)","v":0},{"$f":"(CA!M2+CA!O2+CA!N1+CA!N3)*Parameter!$D$11+Shape_edge!M2+Fractuation!M2*Parameter!$D$12+IF(Tilt!N2<0,COS((Tilt!N2-90)*2*PI()/360),0)","v":0},{"$f":"(CA!N2+CA!P2+CA!O1+CA!O3)*Parameter!$D$11+Shape_edge!N2+Fractuation!N2*Parameter!$D$12+IF(Tilt!O2<0,COS((Tilt!O2-90)*2*PI()/360),0)","v":0},{"$f":"(CA!O2+CA!Q2+CA!P1+CA!P3)*Parameter!$D$11+Shape_edge!O2+Fractuation!O2*Parameter!$D$12+IF(Tilt!P2<0,COS((Tilt!P2-90)*2*PI()/360),0)","v":0},{"$f":"(CA!P2+CA!R2+CA!Q1+CA!Q3)*Parameter!$D$11+Shape_edge!P2+Fractuation!P2*Parameter!$D$12+IF(Tilt!Q2<0,COS((Tilt!Q2-90)*2*PI()/360),0)","v":0},{"$f":"(CA!Q2+CA!S2+CA!R1+CA!R3)*Parameter!$D$11+Shape_edge!Q2+Fractuation!Q2*Parameter!$D$12+IF(Tilt!R2<0,COS((Tilt!R2-90)*2*PI()/360),0)","v":0},{"$f":"(CA!R2+CA!T2+CA!S1+CA!S3)*Parameter!$D$11+Shape_edge!R2+Fractuation!R2*Parameter!$D$12+IF(Tilt!S2<0,COS((Tilt!S2-90)*2*PI()/360),0)","v":0},{"$f":"(CA!S2+CA!U2+CA!T1+CA!T3)*Parameter!$D$11+Shape_edge!S2+Fractuation!S2*Parameter!$D$12+IF(Tilt!T2<0,COS((Tilt!T2-90)*2*PI()/360),0)","v":0},{"$f":"(CA!T2+CA!V2+CA!U1+CA!U3)*Parameter!$D$11+Shape_edge!T2+Fractuation!T2*Parameter!$D$12+IF(Tilt!U2<0,COS((Tilt!U2-90)*2*PI()/360),0)","v":0},{"$f":"(CA!U2+CA!W2+CA!V1+CA!V3)*Parameter!$D$11+Shape_edge!U2+Fractuation!U2*Parameter!$D$12+IF(Tilt!V2<0,COS((Tilt!V2-90)*2*PI()/360),0)","v":0},{"$f":"(CA!V2+CA!X2+CA!W1+CA!W3)*Parameter!$D$11+Shape_edge!V2+Fractuation!V2*Parameter!$D$12+IF(Tilt!W2<0,COS((Tilt!W2-90)*2*PI()/360),0)","v":0},{"$f":"(CA!W2+CA!Y2+CA!X1+CA!X3)*Parameter!$D$11+Shape_edge!W2+Fractuation!W2*Parameter!$D$12+IF(Tilt!X2<0,COS((Tilt!X2-90)*2*PI()/360),0)","v":0},{"$f":"(CA!X2+CA!Z2+CA!Y1+CA!Y3)*Parameter!$D$11+Shape_edge!X2+Fractuation!X2*Parameter!$D$12+IF(Tilt!Y2<0,COS((Tilt!Y2-90)*2*PI()/360),0)","v":0},{"$f":"(CA!Y2+CA!AA2+CA!Z1+CA!Z3)*Parameter!$D$11+Shape_edge!Y2+Fractuation!Y2*Parameter!$D$12+IF(Tilt!Z2<0,COS((Tilt!Z2-90)*2*PI()/360),0)","v":0},{"$f":"(CA!Z2+CA!AB2+CA!AA1+CA!AA3)*Parameter!$D$11+Shape_edge!Z2+Fractuation!Z2*Parameter!$D$12+IF(Tilt!AA2<0,COS((Tilt!AA2-90)*2*PI()/360),0)","v":0},{"$f":"(CA!AA2+CA!AC2+CA!AB1+CA!AB3)*Parameter!$D$11+Shape_edge!AA2+Fractuation!AA2*Parameter!$D$12+IF(Tilt!AB2<0,COS((Tilt!AB2-90)*2*PI()/360),0)","v":0},{"$f":"(CA!AB2+CA!AD2+CA!AC1+CA!AC3)*Parameter!$D$11+Shape_edge!AB2+Fractuation!AB2*Parameter!$D$12+IF(Tilt!AC2<0,COS((Tilt!AC2-90)*2*PI()/360),0)","v":0},{"$f":"(CA!AC2+CA!AE2+CA!AD1+CA!AD3)*Parameter!$D$11+Shape_edge!AC2+Fractuation!AC2*Parameter!$D$12+IF(Tilt!AD2<0,COS((Tilt!AD2-90)*2*PI()/360),0)","v":0},{"$f":"(CA!AD2+CA!AF2+CA!AE1+CA!AE3)*Parameter!$D$11+Shape_edge!AD2+Fractuation!AD2*Parameter!$D$12+IF(Tilt!AE2<0,COS((Tilt!AE2-90)*2*PI()/360),0)","v":0}]
[null,{"$f":"(CA!A3+CA!C3+CA!B2+CA!B4)*Parameter!$D$11+Shape_edge!A3+Fractuation!A3*Parameter!$D$12+IF(Tilt!B3<0,COS((Tilt!B3-90)*2*PI()/360),0)","v":0},{"$f":"(CA!B3+CA!D3+CA!C2+CA!C4)*Parameter!$D$11+Shape_edge!B3+Fractuation!B3*Parameter!$D$12+IF(Tilt!C3<0,COS((Tilt!C3-90)*2*PI()/360),0)","v":0},{"$f":"(CA!C3+CA!E3+CA!D2+CA!D4)*Parameter!$D$11+Shape_edge!C3+Fractuation!C3*Parameter!$D$12+IF(Tilt!D3<0,COS((Tilt!D3-90)*2*PI()/360),0)","v":0},{"$f":"(CA!D3+CA!F3+CA!E2+CA!E4)*Parameter!$D$11+Shape_edge!D3+Fractuation!D3*Parameter!$D$12+IF(Tilt!E3<0,COS((Tilt!E3-90)*2*PI()/360),0)","v":0},{"$f":"(CA!E3+CA!G3+CA!F2+CA!F4)*Parameter!$D$11+Shape_edge!E3+Fractuation!E3*Parameter!$D$12+IF(Tilt!F3<0,COS((Tilt!F3-90)*2*PI()/360),0)","v":0},{"$f":"(CA!F3+CA!H3+CA!G2+CA!G4)*Parameter!$D$11+Shape_edge!F3+Fractuation!F3*Parameter!$D$12+IF(Tilt!G3<0,COS((Tilt!G3-90)*2*PI()/360),0)","v":0},{"$f":"(CA!G3+CA!I3+CA!H2+CA!H4)*Parameter!$D$11+Shape_edge!G3+Fractuation!G3*Parameter!$D$12+IF(Tilt!H3<0,COS((Tilt!H3-90)*2*PI()/360),0)","v":0},{"$f":"(CA!H3+CA!J3+CA!I2+CA!I4)*Parameter!$D$11+Shape_edge!H3+Fractuation!H3*Parameter!$D$12+IF(Tilt!I3<0,COS((Tilt!I3-90)*2*PI()/360),0)","v":0},{"$f":"(CA!I3+CA!K3+CA!J2+CA!J4)*Parameter!$D$11+Shape_edge!I3+Fractuation!I3*Parameter!$D$12+IF(Tilt!J3<0,COS((Tilt!J3-90)*2*PI()/360),0)","v":0},{"$f":"(CA!J3+CA!L3+CA!K2+CA!K4)*Parameter!$D$11+Shape_edge!J3+Fractuation!J3*Parameter!$D$12+IF(Tilt!K3<0,COS((Tilt!K3-90)*2*PI()/360),0)","v":0},{"$f":"(CA!K3+CA!M3+CA!L2+CA!L4)*Parameter!$D$11+Shape_edge!K3+Fractuation!K3*Parameter!$D$12+IF(Tilt!L3<0,COS((Tilt!L3-90)*2*PI()/360),0)","v":0},{"$f":"(CA!L3+CA!N3+CA!M2+CA!M4)*Parameter!$D$11+Shape_edge!L3+Fractuation!L3*Parameter!$D$12+IF(Tilt!M3<0,COS((Tilt!M3-90)*2*PI()/360),0)","v":0},{"$f":"(CA!M3+CA!O3+CA!N2+CA!N4)*Parameter!$D$11+Shape_edge!M3+Fractuation!M3*Parameter!$D$12+IF(Tilt!N3<0,COS((Tilt!N3-90)*2*PI()/360),0)","v":0},{"$f":"(CA!N3+CA!P3+CA!O2+CA!O4)*Parameter!$D$11+Shape_edge!N3+Fractuation!N3*Parameter!$D$12+IF(Tilt!O3<0,COS((Tilt!O3-90)*2*PI()/360),0)","v":0},{"$f":"(CA!O3+CA!Q3+CA!P2+CA!P4)*Parameter!$D$11+Shape_edge!O3+Fractuation!O3*Parameter!$D$12+IF(Tilt!P3<0,COS((Tilt!P3-90)*2*PI()/360),0)","v":0},{"$f":"(CA!P3+CA!R3+CA!Q2+CA!Q4)*Parameter!$D$11+Shape_edge!P3+Fractuation!P3*Parameter!$D$12+IF(Tilt!Q3<0,COS((Tilt!Q3-90)*2*PI()/360),0)","v":0},{"$f":"(CA!Q3+CA!S3+CA!R2+CA!R4)*Parameter!$D$11+Shape_edge!Q3+Fractuation!Q3*Parameter!$D$12+IF(Tilt!R3<0,COS((Tilt!R3-90)*2*PI()/360),0)","v":0},{"$f":"(CA!R3+CA!T3+CA!S2+CA!S4)*Parameter!$D$11+Shape_edge!R3+Fractuation!R3*Parameter!$D$12+IF(Tilt!S3<0,COS((Tilt!S3-90)*2*PI()/360),0)","v":0},{"$f":"(CA!S3+CA!U3+CA!T2+CA!T4)*Parameter!$D$11+Shape_edge!S3+Fractuation!S3*Parameter!$D$12+IF(Tilt!T3<0,COS((Tilt!T3-90)*2*PI()/360),0)","v":0},{"$f":"(CA!T3+CA!V3+CA!U2+CA!U4)*Parameter!$D$11+Shape_edge!T3+Fractuation!T3*Parameter!$D$12+IF(Tilt!U3<0,COS((Tilt!U3-90)*2*PI()/360),0)","v":0},{"$f":"(CA!U3+CA!W3+CA!V2+CA!V4)*Parameter!$D$11+Shape_edge!U3+Fractuation!U3*Parameter!$D$12+IF(Tilt!V3<0,COS((Tilt!V3-90)*2*PI()/360),0)","v":0},{"$f":"(CA!V3+CA!X3+CA!W2+CA!W4)*Parameter!$D$11+Shape_edge!V3+Fractuation!V3*Parameter!$D$12+IF(Tilt!W3<0,COS((Tilt!W3-90)*2*PI()/360),0)","v":0},{"$f":"(CA!W3+CA!Y3+CA!X2+CA!X4)*Parameter!$D$11+Shape_edge!W3+Fractuation!W3*Parameter!$D$12+IF(Tilt!X3<0,COS((Tilt!X3-90)*2*PI()/360),0)","v":0},{"$f":"(CA!X3+CA!Z3+CA!Y2+CA!Y4)*Parameter!$D$11+Shape_edge!X3+Fractuation!X3*Parameter!$D$12+IF(Tilt!Y3<0,COS((Tilt!Y3-90)*2*PI()/360),0)","v":0},{"$f":"(CA!Y3+CA!AA3+CA!Z2+CA!Z4)*Parameter!$D$11+Shape_edge!Y3+Fractuation!Y3*Parameter!$D$12+IF(Tilt!Z3<0,COS((Tilt!Z3-90)*2*PI()/360),0)","v":0},{"$f":"(CA!Z3+CA!AB3+CA!AA2+CA!AA4)*Parameter!$D$11+Shape_edge!Z3+Fractuation!Z3*Parameter!$D$12+IF(Tilt!AA3<0,COS((Tilt!AA3-90)*2*PI()/360),0)","v":0},{"$f":"(CA!AA3+CA!AC3+CA!AB2+CA!AB4)*Parameter!$D$11+Shape_edge!AA3+Fractuation!AA3*Parameter!$D$12+IF(Tilt!AB3<0,COS((Tilt!AB3-90)*2*PI()/360),0)","v":0},{"$f":"(CA!AB3+CA!AD3+CA!AC2+CA!AC4)*Parameter!$D$11+Shape_edge!AB3+Fractuation!AB3*Parameter!$D$12+IF(Tilt!AC3<0,COS((Tilt!AC3-90)*2*PI()/360),0)","v":0},{"$f":"(CA!AC3+CA!AE3+CA!AD2+CA!AD4)*Parameter!$D$11+Shape_edge!AC3+Fractuation!AC3*Parameter!$D$12+IF(Tilt!AD3<0,COS((Tilt!AD3-90)*2*PI()/360),0)","v":0},{"$f":"(CA!AD3+CA!AF3+CA!AE2+CA!AE4)*Parameter!$D$11+Shape_edge!AD3+Fractuation!AD3*Parameter!$D$12+IF(Tilt!AE3<0,COS((Tilt!AE3-90)*2*PI()/360),0)","v":0}]
[null,{"$f":"(CA!A4+CA!C4+CA!B3+CA!B5)*Parameter!$D$11+Shape_edge!A4+Fractuation!A4*Parameter!$D$12+IF(Tilt!B4<0,COS((Tilt!B4-90)*2*PI()/360),0)","v":0},{"$f":"(CA!B4+CA!D4+CA!C3+CA!C5)*Parameter!$D$11+Shape_edge!B4+Fractuation!B4*Parameter!$D$12+IF(Tilt!C4<0,COS((Tilt!C4-90)*2*PI()/360),0)","v":0},{"$f":"(CA!C4+CA!E4+CA!D3+CA!D5)*Parameter!$D$11+Shape_edge!C4+Fractuation!C4*Parameter!$D$12+IF(Tilt!D4<0,COS((Tilt!D4-90)*2*PI()/360),0)","v":0},{"$f":"(CA!D4+CA!F4+CA!E3+CA!E5)*Parameter!$D$11+Shape_edge!D4+Fractuation!D4*Parameter!$D$12+IF(Tilt!E4<0,COS((Tilt!E4-90)*2*PI()/360),0)","v":0},{"$f":"(CA!E4+CA!G4+CA!F3+CA!F5)*Parameter!$D$11+Shape_edge!E4+Fractuation!E4*Parameter!$D$12+IF(Tilt!F4<0,COS((Tilt!F4-90)*2*PI()/360),0)","v":0},{"$f":"(CA!F4+CA!H4+CA!G3+CA!G5)*Parameter!$D$11+Shape_edge!F4+Fractuation!F4*Parameter!$D$12+IF(Tilt!G4<0,COS((Tilt!G4-90)*2*PI()/360),0)","v":0},{"$f":"(CA!G4+CA!I4+CA!H3+CA!H5)*Parameter!$D$11+Shape_edge!G4+Fractuation!G4*Parameter!$D$12+IF(Tilt!H4<0,COS((Tilt!H4-90)*2*PI()/360),0)","v":0},{"$f":"(CA!H4+CA!J4+CA!I3+CA!I5)*Parameter!$D$11+Shape_edge!H4+Fractuation!H4*Parameter!$D$12+IF(Tilt!I4<0,COS((Tilt!I4-90)*2*PI()/360),0)","v":0},{"$f":"(CA!I4+CA!K4+CA!J3+CA!J5)*Parameter!$D$11+Shape_edge!I4+Fractuation!I4*Parameter!$D$12+IF(Tilt!J4<0,COS((Tilt!J4-90)*2*PI()/360),0)","v":0},{"$f":"(CA!J4+CA!L4+CA!K3+CA!K5)*Parameter!$D$11+Shape_edge!J4+Fractuation!J4*Parameter!$D$12+IF(Tilt!K4<0,COS((Tilt!K4-90)*2*PI()/360),0)","v":0},{"$f":"(CA!K4+CA!M4+CA!L3+CA!L5)*Parameter!$D$11+Shape_edge!K4+Fractuation!K4*Parameter!$D$12+IF(Tilt!L4<0,COS((Tilt!L4-90)*2*PI()/360),0)","v":0},{"$f":"(CA!L4+CA!N4+CA!M3+CA!M5)*Parameter!$D$11+Shape_edge!L4+Fractuation!L4*Parameter!$D$12+IF(Tilt!M4<0,COS((Tilt!M4-90)*2*PI()/360),0)","v":0},{"$f":"(CA!M4+CA!O4+CA!N3+CA!N5)*Parameter!$D$11+Shape_edge!M4+Fractuation!M4*Parameter!$D$12+IF(Tilt!N4<0,COS((Tilt!N4-90)*2*PI()/360),0)","v":0},{"$f":"(CA!N4+CA!P4+CA!O3+CA!O5)*Parameter!$D$11+Shape_edge!N4+Fractuation!N4*Parameter!$D$12+IF(Tilt!O4<0,COS((Tilt!O4-90)*2*PI()/360),0)","v":0},{"$f":"(CA!O4+CA!Q4+CA!P3+CA!P5)*Parameter!$D$11+Shape_edge!O4+Fractuation!O4*Parameter!$D$12+IF(Tilt!P4<0,COS((Tilt!P4-90)*2*PI()/360),0)","v":0},{"$f":"(CA!P4+CA!R4+CA!Q3+CA!Q5)*Parameter!$D$11+Shape_edge!P4+Fractuation!P4*Parameter!$D$12+IF(Tilt!Q4<0,COS((Tilt!Q4-90)*2*PI()/360),0)","v":0},{"$f":"(CA!Q4+CA!S4+CA!R3+CA!R5)*Parameter!$D$11+Shape_edge!Q4+Fractuation!Q4*Parameter!$D$12+IF(Tilt!R4<0,COS((Tilt!R4-90)*2*PI()/360),0)","v":0},{"$f":"(CA!R4+CA!T4+CA!S3+CA!S5)*Parameter!$D$11+Shape_edge!R4+Fractuation!R4*Parameter!$D$12+IF(Tilt!S4<0,COS((Tilt!S4-90)*2*PI()/360),0)","v":0},{"$f":"(CA!S4+CA!U4+CA!T3+CA!T5)*Parameter!$D$11+Shape_edge!S4+Fractuation!S4*Parameter!$D$12+IF(Tilt!T4<0,COS((Tilt!T4-90)*2*PI()/360),0)","v":0},{"$f":"(CA!T4+CA!V4+CA!U3+CA!U5)*Parameter!$D$11+Shape_edge!T4+Fractuation!T4*Parameter!$D$12+IF(Tilt!U4<0,COS((Tilt!U4-90)*2*PI()/360),0)","v":0},{"$f":"(CA!U4+CA!W4+CA!V3+CA!V5)*Parameter!$D$11+Shape_edge!U4+Fractuation!U4*Parameter!$D$12+IF(Tilt!V4<0,COS((Tilt!V4-90)*2*PI()/360),0)","v":0},{"$f":"(CA!V4+CA!X4+CA!W3+CA!W5)*Parameter!$D$11+Shape_edge!V4+Fractuation!V4*Parameter!$D$12+IF(Tilt!W4<0,COS((Tilt!W4-90)*2*PI()/360),0)","v":0},{"$f":"(CA!W4+CA!Y4+CA!X3+CA!X5)*Parameter!$D$11+Shape_edge!W4+Fractuation!W4*Parameter!$D$12+IF(Tilt!X4<0,COS((Tilt!X4-90)*2*PI()/360),0)","v":0},{"$f":"(CA!X4+CA!Z4+CA!Y3+CA!Y5)*Parameter!$D$11+Shape_edge!X4+Fractuation!X4*Parameter!$D$12+IF(Tilt!Y4<0,COS((Tilt!Y4-90)*2*PI()/360),0)","v":0},{"$f":"(CA!Y4+CA!AA4+CA!Z3+CA!Z5)*Parameter!$D$11+Shape_edge!Y4+Fractuation!Y4*Parameter!$D$12+IF(Tilt!Z4<0,COS((Tilt!Z4-90)*2*PI()/360),0)","v":0},{"$f":"(CA!Z4+CA!AB4+CA!AA3+CA!AA5)*Parameter!$D$11+Shape_edge!Z4+Fractuation!Z4*Parameter!$D$12+IF(Tilt!AA4<0,COS((Tilt!AA4-90)*2*PI()/360),0)","v":0},{"$f":"(CA!AA4+CA!AC4+CA!AB3+CA!AB5)*Parameter!$D$11+Shape_edge!AA4+Fractuation!AA4*Parameter!$D$12+IF(Tilt!AB4<0,COS((Tilt!AB4-90)*2*PI()/360),0)","v":0},{"$f":"(CA!AB4+CA!AD4+CA!AC3+CA!AC5)*Parameter!$D$11+Shape_edge!AB4+Fractuation!AB4*Parameter!$D$12+IF(Tilt!AC4<0,COS((Tilt!AC4-90)*2*PI()/360),0)","v":0},{"$f":"(CA!AC4+CA!AE4+CA!AD3+CA!AD5)*Parameter!$D$11+Shape_edge!AC4+Fractuation!AC4*Parameter!$D$12+IF(Tilt!AD4<0,COS((Tilt!AD4-90)*2*PI()/360),0)","v":0},{"$f":"(CA!AD4+CA!AF4+CA!AE3+CA!AE5)*Parameter!$D$11+Shape_edge!AD4+Fractuation!AD4*Parameter!$D$12+IF(Tilt!AE4<0,COS((Tilt!AE4-90)*2*PI()/360),0)","v":0}]
[null,{"$f":"(CA!A5+CA!C5+CA!B4+CA!B6)*Parameter!$D$11+Shape_edge!A5+Fractuation!A5*Parameter!$D$12+IF(Tilt!B5<0,COS((Tilt!B5-90)*2*PI()/360),0)","v":0},{"$f":"(CA!B5+CA!D5+CA!C4+CA!C6)*Parameter!$D$11+Shape_edge!B5+Fractuation!B5*Parameter!$D$12+IF(Tilt!C5<0,COS((Tilt!C5-90)*2*PI()/360),0)","v":0},{"$f":"(CA!C5+CA!E5+CA!D4+CA!D6)*Parameter!$D$11+Shape_edge!C5+Fractuation!C5*Parameter!$D$12+IF(Tilt!D5<0,COS((Tilt!D5-90)*2*PI()/360),0)","v":0},{"$f":"(CA!D5+CA!F5+CA!E4+CA!E6)*Parameter!$D$11+Shape_edge!D5+Fractuation!D5*Parameter!$D$12+IF(Tilt!E5<0,COS((Tilt!E5-90)*2*PI()/360),0)","v":0},{"$f":"(CA!E5+CA!G5+CA!F4+CA!F6)*Parameter!$D$11+Shape_edge!E5+Fractuation!E5*Parameter!$D$12+IF(Tilt!F5<0,COS((Tilt!F5-90)*2*PI()/360),0)","v":0},{"$f":"(CA!F5+CA!H5+CA!G4+CA!G6)*Parameter!$D$11+Shape_edge!F5+Fractuation!F5*Parameter!$D$12+IF(Tilt!G5<0,COS((Tilt!G5-90)*2*PI()/360),0)","v":0},{"$f":"(CA!G5+CA!I5+CA!H4+CA!H6)*Parameter!$D$11+Shape_edge!G5+Fractuation!G5*Parameter!$D$12+IF(Tilt!H5<0,COS((Tilt!H5-90)*2*PI()/360),0)","v":0},{"$f":"(CA!H5+CA!J5+CA!I4+CA!I6)*Parameter!$D$11+Shape_edge!H5+Fractuation!H5*Parameter!$D$12+IF(Tilt!I5<0,COS((Tilt!I5-90)*2*PI()/360),0)","v":0},{"$f":"(CA!I5+CA!K5+CA!J4+CA!J6)*Parameter!$D$11+Shape_edge!I5+Fractuation!I5*Parameter!$D$12+IF(Tilt!J5<0,COS((Tilt!J5-90)*2*PI()/360),0)","v":0},{"$f":"(CA!J5+CA!L5+CA!K4+CA!K6)*Parameter!$D$11+Shape_edge!J5+Fractuation!J5*Parameter!$D$12+IF(Tilt!K5<0,COS((Tilt!K5-90)*2*PI()/360),0)","v":0},{"$f":"(CA!K5+CA!M5+CA!L4+CA!L6)*Parameter!$D$11+Shape_edge!K5+Fractuation!K5*Parameter!$D$12+IF(Tilt!L5<0,COS((Tilt!L5-90)*2*PI()/360),0)","v":0},{"$f":"(CA!L5+CA!N5+CA!M4+CA!M6)*Parameter!$D$11+Shape_edge!L5+Fractuation!L5*Parameter!$D$12+IF(Tilt!M5<0,COS((Tilt!M5-90)*2*PI()/360),0)","v":0},{"$f":"(CA!M5+CA!O5+CA!N4+CA!N6)*Parameter!$D$11+Shape_edge!M5+Fractuation!M5*Parameter!$D$12+IF(Tilt!N5<0,COS((Tilt!N5-90)*2*PI()/360),0)","v":0},{"$f":"(CA!N5+CA!P5+CA!O4+CA!O6)*Parameter!$D$11+Shape_edge!N5+Fractuation!N5*Parameter!$D$12+IF(Tilt!O5<0,COS((Tilt!O5-90)*2*PI()/360),0)","v":0},{"$f":"(CA!O5+CA!Q5+CA!P4+CA!P6)*Parameter!$D$11+Shape_edge!O5+Fractuation!O5*Parameter!$D$12+IF(Tilt!P5<0,COS((Tilt!P5-90)*2*PI()/360),0)","v":0},{"$f":"(CA!P5+CA!R5+CA!Q4+CA!Q6)*Parameter!$D$11+Shape_edge!P5+Fractuation!P5*Parameter!$D$12+IF(Tilt!Q5<0,COS((Tilt!Q5-90)*2*PI()/360),0)","v":0},{"$f":"(CA!Q5+CA!S5+CA!R4+CA!R6)*Parameter!$D$11+Shape_edge!Q5+Fractuation!Q5*Parameter!$D$12+IF(Tilt!R5<0,COS((Tilt!R5-90)*2*PI()/360),0)","v":0},{"$f":"(CA!R5+CA!T5+CA!S4+CA!S6)*Parameter!$D$11+Shape_edge!R5+Fractuation!R5*Parameter!$D$12+IF(Tilt!S5<0,COS((Tilt!S5-90)*2*PI()/360),0)","v":0},{"$f":"(CA!S5+CA!U5+CA!T4+CA!T6)*Parameter!$D$11+Shape_edge!S5+Fractuation!S5*Parameter!$D$12+IF(Tilt!T5<0,COS((Tilt!T5-90)*2*PI()/360),0)","v":0},{"$f":"(CA!T5+CA!V5+CA!U4+CA!U6)*Parameter!$D$11+Shape_edge!T5+Fractuation!T5*Parameter!$D$12+IF(Tilt!U5<0,COS((Tilt!U5-90)*2*PI()/360),0)","v":0},{"$f":"(CA!U5+CA!W5+CA!V4+CA!V6)*Parameter!$D$11+Shape_edge!U5+Fractuation!U5*Parameter!$D$12+IF(Tilt!V5<0,COS((Tilt!V5-90)*2*PI()/360),0)","v":0},{"$f":"(CA!V5+CA!X5+CA!W4+CA!W6)*Parameter!$D$11+Shape_edge!V5+Fractuation!V5*Parameter!$D$12+IF(Tilt!W5<0,COS((Tilt!W5-90)*2*PI()/360),0)","v":0},{"$f":"(CA!W5+CA!Y5+CA!X4+CA!X6)*Parameter!$D$11+Shape_edge!W5+Fractuation!W5*Parameter!$D$12+IF(Tilt!X5<0,COS((Tilt!X5-90)*2*PI()/360),0)","v":0},{"$f":"(CA!X5+CA!Z5+CA!Y4+CA!Y6)*Parameter!$D$11+Shape_edge!X5+Fractuation!X5*Parameter!$D$12+IF(Tilt!Y5<0,COS((Tilt!Y5-90)*2*PI()/360),0)","v":0},{"$f":"(CA!Y5+CA!AA5+CA!Z4+CA!Z6)*Parameter!$D$11+Shape_edge!Y5+Fractuation!Y5*Parameter!$D$12+IF(Tilt!Z5<0,COS((Tilt!Z5-90)*2*PI()/360),0)","v":0},{"$f":"(CA!Z5+CA!AB5+CA!AA4+CA!AA6)*Parameter!$D$11+Shape_edge!Z5+Fractuation!Z5*Parameter!$D$12+IF(Tilt!AA5<0,COS((Tilt!AA5-90)*2*PI()/360),0)","v":0},{"$f":"(CA!AA5+CA!AC5+CA!AB4+CA!AB6)*Parameter!$D$11+Shape_edge!AA5+Fractuation!AA5*Parameter!$D$12+IF(Tilt!AB5<0,COS((Tilt!AB5-90)*2*PI()/360),0)","v":0},{"$f":"(CA!AB5+CA!AD5+CA!AC4+CA!AC6)*Parameter!$D$11+Shape_edge!AB5+Fractuation!AB5*Parameter!$D$12+IF(Tilt!AC5<0,COS((Tilt!AC5-90)*2*PI()/360),0)","v":0},{"$f":"(CA!AC5+CA!AE5+CA!AD4+CA!AD6)*Parameter!$D$11+Shape_edge!AC5+Fractuation!AC5*Parameter!$D$12+IF(Tilt!AD5<0,COS((Tilt!AD5-90)*2*PI()/360),0)","v":0},{"$f":"(CA!AD5+CA!AF5+CA!AE4+CA!AE6)*Parameter!$D$11+Shape_edge!AD5+Fractuation!AD5*Parameter!$D$12+IF(Tilt!AE5<0,COS((Tilt!AE5-90)*2*PI()/360),0)","v":0}]
[null,{"$f":"(CA!A6+CA!C6+CA!B5+CA!B7)*Parameter!$D$11+Shape_edge!A6+Fractuation!A6*Parameter!$D$12+IF(Tilt!B6<0,COS((Tilt!B6-90)*2*PI()/360),0)","v":0},{"$f":"(CA!B6+CA!D6+CA!C5+CA!C7)*Parameter!$D$11+Shape_edge!B6+Fractuation!B6*Parameter!$D$12+IF(Tilt!C6<0,COS((Tilt!C6-90)*2*PI()/360),0)","v":0},{"$f":"(CA!C6+CA!E6+CA!D5+CA!D7)*Parameter!$D$11+Shape_edge!C6+Fractuation!C6*Parameter!$D$12+IF(Tilt!D6<0,COS((Tilt!D6-90)*2*PI()/360),0)","v":0},{"$f":"(CA!D6+CA!F6+CA!E5+CA!E7)*Parameter!$D$11+Shape_edge!D6+Fractuation!D6*Parameter!$D$12+IF(Tilt!E6<0,COS((Tilt!E6-90)*2*PI()/360),0)","v":0},{"$f":"(CA!E6+CA!G6+CA!F5+CA!F7)*Parameter!$D$11+Shape_edge!E6+Fractuation!E6*Parameter!$D$12+IF(Tilt!F6<0,COS((Tilt!F6-90)*2*PI()/360),0)","v":0},{"$f":"(CA!F6+CA!H6+CA!G5+CA!G7)*Parameter!$D$11+Shape_edge!F6+Fractuation!F6*Parameter!$D$12+IF(Tilt!G6<0,COS((Tilt!G6-90)*2*PI()/360),0)","v":0},{"$f":"(CA!G6+CA!I6+CA!H5+CA!H7)*Parameter!$D$11+Shape_edge!G6+Fractuation!G6*Parameter!$D$12+IF(Tilt!H6<0,COS((Tilt!H6-90)*2*PI()/360),0)","v":0},{"$f":"(CA!H6+CA!J6+CA!I5+CA!I7)*Parameter!$D$11+Shape_edge!H6+Fractuation!H6*Parameter!$D$12+IF(Tilt!I6<0,COS((Tilt!I6-90)*2*PI()/360),0)","v":0},{"$f":"(CA!I6+CA!K6+CA!J5+CA!J7)*Parameter!$D$11+Shape_edge!I6+Fractuation!I6*Parameter!$D$12+IF(Tilt!J6<0,COS((Tilt!J6-90)*2*PI()/360),0)","v":0},{"$f":"(CA!J6+CA!L6+CA!K5+CA!K7)*Parameter!$D$11+Shape_edge!J6+Fractuation!J6*Parameter!$D$12+IF(Tilt!K6<0,COS((Tilt!K6-90)*2*PI()/360),0)","v":0},{"$f":"(CA!K6+CA!M6+CA!L5+CA!L7)*Parameter!$D$11+Shape_edge!K6+Fractuation!K6*Parameter!$D$12+IF(Tilt!L6<0,COS((Tilt!L6-90)*2*PI()/360),0)","v":0},{"$f":"(CA!L6+CA!N6+CA!M5+CA!M7)*Parameter!$D$11+Shape_edge!L6+Fractuation!L6*Parameter!$D$12+IF(Tilt!M6<0,COS((Tilt!M6-90)*2*PI()/360),0)","v":0},{"$f":"(CA!M6+CA!O6+CA!N5+CA!N7)*Parameter!$D$11+Shape_edge!M6+Fractuation!M6*Parameter!$D$12+IF(Tilt!N6<0,COS((Tilt!N6-90)*2*PI()/360),0)","v":0},{"$f":"(CA!N6+CA!P6+CA!O5+CA!O7)*Parameter!$D$11+Shape_edge!N6+Fractuation!N6*Parameter!$D$12+IF(Tilt!O6<0,COS((Tilt!O6-90)*2*PI()/360),0)","v":0},{"$f":"(CA!O6+CA!Q6+CA!P5+CA!P7)*Parameter!$D$11+Shape_edge!O6+Fractuation!O6*Parameter!$D$12+IF(Tilt!P6<0,COS((Tilt!P6-90)*2*PI()/360),0)","v":0},{"$f":"(CA!P6+CA!R6+CA!Q5+CA!Q7)*Parameter!$D$11+Shape_edge!P6+Fractuation!P6*Parameter!$D$12+IF(Tilt!Q6<0,COS((Tilt!Q6-90)*2*PI()/360),0)","v":0},{"$f":"(CA!Q6+CA!S6+CA!R5+CA!R7)*Parameter!$D$11+Shape_edge!Q6+Fractuation!Q6*Parameter!$D$12+IF(Tilt!R6<0,COS((Tilt!R6-90)*2*PI()/360),0)","v":0},{"$f":"(CA!R6+CA!T6+CA!S5+CA!S7)*Parameter!$D$11+Shape_edge!R6+Fractuation!R6*Parameter!$D$12+IF(Tilt!S6<0,COS((Tilt!S6-90)*2*PI()/360),0)","v":0},{"$f":"(CA!S6+CA!U6+CA!T5+CA!T7)*Parameter!$D$11+Shape_edge!S6+Fractuation!S6*Parameter!$D$12+IF(Tilt!T6<0,COS((Tilt!T6-90)*2*PI()/360),0)","v":0},{"$f":"(CA!T6+CA!V6+CA!U5+CA!U7)*Parameter!$D$11+Shape_edge!T6+Fractuation!T6*Parameter!$D$12+IF(Tilt!U6<0,COS((Tilt!U6-90)*2*PI()/360),0)","v":0},{"$f":"(CA!U6+CA!W6+CA!V5+CA!V7)*Parameter!$D$11+Shape_edge!U6+Fractuation!U6*Parameter!$D$12+IF(Tilt!V6<0,COS((Tilt!V6-90)*2*PI()/360),0)","v":0},{"$f":"(CA!V6+CA!X6+CA!W5+CA!W7)*Parameter!$D$11+Shape_edge!V6+Fractuation!V6*Parameter!$D$12+IF(Tilt!W6<0,COS((Tilt!W6-90)*2*PI()/360),0)","v":0},{"$f":"(CA!W6+CA!Y6+CA!X5+CA!X7)*Parameter!$D$11+Shape_edge!W6+Fractuation!W6*Parameter!$D$12+IF(Tilt!X6<0,COS((Tilt!X6-90)*2*PI()/360),0)","v":0},{"$f":"(CA!X6+CA!Z6+CA!Y5+CA!Y7)*Parameter!$D$11+Shape_edge!X6+Fractuation!X6*Parameter!$D$12+IF(Tilt!Y6<0,COS((Tilt!Y6-90)*2*PI()/360),0)","v":0},{"$f":"(CA!Y6+CA!AA6+CA!Z5+CA!Z7)*Parameter!$D$11+Shape_edge!Y6+Fractuation!Y6*Parameter!$D$12+IF(Tilt!Z6<0,COS((Tilt!Z6-90)*2*PI()/360),0)","v":0},{"$f":"(CA!Z6+CA!AB6+CA!AA5+CA!AA7)*Parameter!$D$11+Shape_edge!Z6+Fractuation!Z6*Parameter!$D$12+IF(Tilt!AA6<0,COS((Tilt!AA6-90)*2*PI()/360),0)","v":0},{"$f":"(CA!AA6+CA!AC6+CA!AB5+CA!AB7)*Parameter!$D$11+Shape_edge!AA6+Fractuation!AA6*Parameter!$D$12+IF(Tilt!AB6<0,COS((Tilt!AB6-90)*2*PI()/360),0)","v":0},{"$f":"(CA!AB6+CA!AD6+CA!AC5+CA!AC7)*Parameter!$D$11+Shape_edge!AB6+Fractuation!AB6*Parameter!$D$12+IF(Tilt!AC6<0,COS((Tilt!AC6-90)*2*PI()/360),0)","v":0},{"$f":"(CA!AC6+CA!AE6+CA!AD5+CA!AD7)*Parameter!$D$11+Shape_edge!AC6+Fractuation!AC6*Parameter!$D$12+IF(Tilt!AD6<0,COS((Tilt!AD6-90)*2*PI()/360),0)","v":0},{"$f":"(CA!AD6+CA!AF6+CA!AE5+CA!AE7)*Parameter!$D$11+Shape_edge!AD6+Fractuation!AD6*Parameter!$D$12+IF(Tilt!AE6<0,COS((Tilt!AE6-90)*2*PI()/360),0)","v":0}]
[null,{"$f":"(CA!A7+CA!C7+CA!B6+CA!B8)*Parameter!$D$11+Shape_edge!A7+Fractuation!A7*Parameter!$D$12+IF(Tilt!B7<0,COS((Tilt!B7-90)*2*PI()/360),0)","v":0},{"$f":"(CA!B7+CA!D7+CA!C6+CA!C8)*Parameter!$D$11+Shape_edge!B7+Fractuation!B7*Parameter!$D$12+IF(Tilt!C7<0,COS((Tilt!C7-90)*2*PI()/360),0)","v":0},{"$f":"(CA!C7+CA!E7+CA!D6+CA!D8)*Parameter!$D$11+Shape_edge!C7+Fractuation!C7*Parameter!$D$12+IF(Tilt!D7<0,COS((Tilt!D7-90)*2*PI()/360),0)","v":0},{"$f":"(CA!D7+CA!F7+CA!E6+CA!E8)*Parameter!$D$11+Shape_edge!D7+Fractuation!D7*Parameter!$D$12+IF(Tilt!E7<0,COS((Tilt!E7-90)*2*PI()/360),0)","v":0},{"$f":"(CA!E7+CA!G7+CA!F6+CA!F8)*Parameter!$D$11+Shape_edge!E7+Fractuation!E7*Parameter!$D$12+IF(Tilt!F7<0,COS((Tilt!F7-90)*2*PI()/360),0)","v":0},{"$f":"(CA!F7+CA!H7+CA!G6+CA!G8)*Parameter!$D$11+Shape_edge!F7+Fractuation!F7*Parameter!$D$12+IF(Tilt!G7<0,COS((Tilt!G7-90)*2*PI()/360),0)","v":0},{"$f":"(CA!G7+CA!I7+CA!H6+CA!H8)*Parameter!$D$11+Shape_edge!G7+Fractuation!G7*Parameter!$D$12+IF(Tilt!H7<0,COS((Tilt!H7-90)*2*PI()/360),0)","v":0},{"$f":"(CA!H7+CA!J7+CA!I6+CA!I8)*Parameter!$D$11+Shape_edge!H7+Fractuation!H7*Parameter!$D$12+IF(Tilt!I7<0,COS((Tilt!I7-90)*2*PI()/360),0)","v":0},{"$f":"(CA!I7+CA!K7+CA!J6+CA!J8)*Parameter!$D$11+Shape_edge!I7+Fractuation!I7*Parameter!$D$12+IF(Tilt!J7<0,COS((Tilt!J7-90)*2*PI()/360),0)","v":0},{"$f":"(CA!J7+CA!L7+CA!K6+CA!K8)*Parameter!$D$11+Shape_edge!J7+Fractuation!J7*Parameter!$D$12+IF(Tilt!K7<0,COS((Tilt!K7-90)*2*PI()/360),0)","v":0},{"$f":"(CA!K7+CA!M7+CA!L6+CA!L8)*Parameter!$D$11+Shape_edge!K7+Fractuation!K7*Parameter!$D$12+IF(Tilt!L7<0,COS((Tilt!L7-90)*2*PI()/360),0)","v":0},{"$f":"(CA!L7+CA!N7+CA!M6+CA!M8)*Parameter!$D$11+Shape_edge!L7+Fractuation!L7*Parameter!$D$12+IF(Tilt!M7<0,COS((Tilt!M7-90)*2*PI()/360),0)","v":0},{"$f":"(CA!M7+CA!O7+CA!N6+CA!N8)*Parameter!$D$11+Shape_edge!M7+Fractuation!M7*Parameter!$D$12+IF(Tilt!N7<0,COS((Tilt!N7-90)*2*PI()/360),0)","v":0},{"$f":"(CA!N7+CA!P7+CA!O6+CA!O8)*Parameter!$D$11+Shape_edge!N7+Fractuation!N7*Parameter!$D$12+IF(Tilt!O7<0,COS((Tilt!O7-90)*2*PI()/360),0)","v":0},{"$f":"(CA!O7+CA!Q7+CA!P6+CA!P8)*Parameter!$D$11+Shape_edge!O7+Fractuation!O7*Parameter!$D$12+IF(Tilt!P7<0,COS((Tilt!P7-90)*2*PI()/360),0)","v":0},{"$f":"(CA!P7+CA!R7+CA!Q6+CA!Q8)*Parameter!$D$11+Shape_edge!P7+Fractuation!P7*Parameter!$D$12+IF(Tilt!Q7<0,COS((Tilt!Q7-90)*2*PI()/360),0)","v":0},{"$f":"(CA!Q7+CA!S7+CA!R6+CA!R8)*Parameter!$D$11+Shape_edge!Q7+Fractuation!Q7*Parameter!$D$12+IF(Tilt!R7<0,COS((Tilt!R7-90)*2*PI()/360),0)","v":0},{"$f":"(CA!R7+CA!T7+CA!S6+CA!S8)*Parameter!$D$11+Shape_edge!R7+Fractuation!R7*Parameter!$D$12+IF(Tilt!S7<0,COS((Tilt!S7-90)*2*PI()/360),0)","v":0},{"$f":"(CA!S7+CA!U7+CA!T6+CA!T8)*Parameter!$D$11+Shape_edge!S7+Fractuation!S7*Parameter!$D$12+IF(Tilt!T7<0,COS((Tilt!T7-90)*2*PI()/360),0)","v":0},{"$f":"(CA!T7+CA!V7+CA!U6+CA!U8)*Parameter!$D$11+Shape_edge!T7+Fractuation!T7*Parameter!$D$12+IF(Tilt!U7<0,COS((Tilt!U7-90)*2*PI()/360),0)","v":0},{"$f":"(CA!U7+CA!W7+CA!V6+CA!V8)*Parameter!$D$11+Shape_edge!U7+Fractuation!U7*Parameter!$D$12+IF(Tilt!V7<0,COS((Tilt!V7-90)*2*PI()/360),0)","v":0},{"$f":"(CA!V7+CA!X7+CA!W6+CA!W8)*Parameter!$D$11+Shape_edge!V7+Fractuation!V7*Parameter!$D$12+IF(Tilt!W7<0,COS((Tilt!W7-90)*2*PI()/360),0)","v":0},{"$f":"(CA!W7+CA!Y7+CA!X6+CA!X8)*Parameter!$D$11+Shape_edge!W7+Fractuation!W7*Parameter!$D$12+IF(Tilt!X7<0,COS((Tilt!X7-90)*2*PI()/360),0)","v":0},{"$f":"(CA!X7+CA!Z7+CA!Y6+CA!Y8)*Parameter!$D$11+Shape_edge!X7+Fractuation!X7*Parameter!$D$12+IF(Tilt!Y7<0,COS((Tilt!Y7-90)*2*PI()/360),0)","v":0},{"$f":"(CA!Y7+CA!AA7+CA!Z6+CA!Z8)*Parameter!$D$11+Shape_edge!Y7+Fractuation!Y7*Parameter!$D$12+IF(Tilt!Z7<0,COS((Tilt!Z7-90)*2*PI()/360),0)","v":0},{"$f":"(CA!Z7+CA!AB7+CA!AA6+CA!AA8)*Parameter!$D$11+Shape_edge!Z7+Fractuation!Z7*Parameter!$D$12+IF(Tilt!AA7<0,COS((Tilt!AA7-90)*2*PI()/360),0)","v":0},{"$f":"(CA!AA7+CA!AC7+CA!AB6+CA!AB8)*Parameter!$D$11+Shape_edge!AA7+Fractuation!AA7*Parameter!$D$12+IF(Tilt!AB7<0,COS((Tilt!AB7-90)*2*PI()/360),0)","v":0},{"$f":"(CA!AB7+CA!AD7+CA!AC6+CA!AC8)*Parameter!$D$11+Shape_edge!AB7+Fractuation!AB7*Parameter!$D$12+IF(Tilt!AC7<0,COS((Tilt!AC7-90)*2*PI()/360),0)","v":0},{"$f":"(CA!AC7+CA!AE7+CA!AD6+CA!AD8)*Parameter!$D$11+Shape_edge!AC7+Fractuation!AC7*Parameter!$D$12+IF(Tilt!AD7<0,COS((Tilt!AD7-90)*2*PI()/360),0)","v":0},{"$f":"(CA!AD7+CA!AF7+CA!AE6+CA!AE8)*Parameter!$D$11+Shape_edge!AD7+Fractuation!AD7*Parameter!$D$12+IF(Tilt!AE7<0,COS((Tilt!AE7-90)*2*PI()/360),0)","v":0}]
[null,{"$f":"(CA!A8+CA!C8+CA!B7+CA!B9)*Parameter!$D$11+Shape_edge!A8+Fractuation!A8*Parameter!$D$12+IF(Tilt!B8<0,COS((Tilt!B8-90)*2*PI()/360),0)","v":0},{"$f":"(CA!B8+CA!D8+CA!C7+CA!C9)*Parameter!$D$11+Shape_edge!B8+Fractuation!B8*Parameter!$D$12+IF(Tilt!C8<0,COS((Tilt!C8-90)*2*PI()/360),0)","v":0},{"$f":"(CA!C8+CA!E8+CA!D7+CA!D9)*Parameter!$D$11+Shape_edge!C8+Fractuation!C8*Parameter!$D$12+IF(Tilt!D8<0,COS((Tilt!D8-90)*2*PI()/360),0)","v":0},{"$f":"(CA!D8+CA!F8+CA!E7+CA!E9)*Parameter!$D$11+Shape_edge!D8+Fractuation!D8*Parameter!$D$12+IF(Tilt!E8<0,COS((Tilt!E8-90)*2*PI()/360),0)","v":0},{"$f":"(CA!E8+CA!G8+CA!F7+CA!F9)*Parameter!$D$11+Shape_edge!E8+Fractuation!E8*Parameter!$D$12+IF(Tilt!F8<0,COS((Tilt!F8-90)*2*PI()/360),0)","v":0},{"$f":"(CA!F8+CA!H8+CA!G7+CA!G9)*Parameter!$D$11+Shape_edge!F8+Fractuation!F8*Parameter!$D$12+IF(Tilt!G8<0,COS((Tilt!G8-90)*2*PI()/360),0)","v":0},{"$f":"(CA!G8+CA!I8+CA!H7+CA!H9)*Parameter!$D$11+Shape_edge!G8+Fractuation!G8*Parameter!$D$12+IF(Tilt!H8<0,COS((Tilt!H8-90)*2*PI()/360),0)","v":0},{"$f":"(CA!H8+CA!J8+CA!I7+CA!I9)*Parameter!$D$11+Shape_edge!H8+Fractuation!H8*Parameter!$D$12+IF(Tilt!I8<0,COS((Tilt!I8-90)*2*PI()/360),0)","v":0},{"$f":"(CA!I8+CA!K8+CA!J7+CA!J9)*Parameter!$D$11+Shape_edge!I8+Fractuation!I8*Parameter!$D$12+IF(Tilt!J8<0,COS((Tilt!J8-90)*2*PI()/360),0)","v":0},{"$f":"(CA!J8+CA!L8+CA!K7+CA!K9)*Parameter!$D$11+Shape_edge!J8+Fractuation!J8*Parameter!$D$12+IF(Tilt!K8<0,COS((Tilt!K8-90)*2*PI()/360),0)","v":0},{"$f":"(CA!K8+CA!M8+CA!L7+CA!L9)*Parameter!$D$11+Shape_edge!K8+Fractuation!K8*Parameter!$D$12+IF(Tilt!L8<0,COS((Tilt!L8-90)*2*PI()/360),0)","v":0},{"$f":"(CA!L8+CA!N8+CA!M7+CA!M9)*Parameter!$D$11+Shape_edge!L8+Fractuation!L8*Parameter!$D$12+IF(Tilt!M8<0,COS((Tilt!M8-90)*2*PI()/360),0)","v":0},{"$f":"(CA!M8+CA!O8+CA!N7+CA!N9)*Parameter!$D$11+Shape_edge!M8+Fractuation!M8*Parameter!$D$12+IF(Tilt!N8<0,COS((Tilt!N8-90)*2*PI()/360),0)","v":0},{"$f":"(CA!N8+CA!P8+CA!O7+CA!O9)*Parameter!$D$11+Shape_edge!N8+Fractuation!N8*Parameter!$D$12+IF(Tilt!O8<0,COS((Tilt!O8-90)*2*PI()/360),0)","v":0},{"$f":"(CA!O8+CA!Q8+CA!P7+CA!P9)*Parameter!$D$11+Shape_edge!O8+Fractuation!O8*Parameter!$D$12+IF(Tilt!P8<0,COS((Tilt!P8-90)*2*PI()/360),0)","v":0},{"$f":"(CA!P8+CA!R8+CA!Q7+CA!Q9)*Parameter!$D$11+Shape_edge!P8+Fractuation!P8*Parameter!$D$12+IF(Tilt!Q8<0,COS((Tilt!Q8-90)*2*PI()/360),0)","v":0},{"$f":"(CA!Q8+CA!S8+CA!R7+CA!R9)*Parameter!$D$11+Shape_edge!Q8+Fractuation!Q8*Parameter!$D$12+IF(Tilt!R8<0,COS((Tilt!R8-90)*2*PI()/360),0)","v":0},{"$f":"(CA!R8+CA!T8+CA!S7+CA!S9)*Parameter!$D$11+Shape_edge!R8+Fractuation!R8*Parameter!$D$12+IF(Tilt!S8<0,COS((Tilt!S8-90)*2*PI()/360),0)","v":0},{"$f":"(CA!S8+CA!U8+CA!T7+CA!T9)*Parameter!$D$11+Shape_edge!S8+Fractuation!S8*Parameter!$D$12+IF(Tilt!T8<0,COS((Tilt!T8-90)*2*PI()/360),0)","v":0},{"$f":"(CA!T8+CA!V8+CA!U7+CA!U9)*Parameter!$D$11+Shape_edge!T8+Fractuation!T8*Parameter!$D$12+IF(Tilt!U8<0,COS((Tilt!U8-90)*2*PI()/360),0)","v":0},{"$f":"(CA!U8+CA!W8+CA!V7+CA!V9)*Parameter!$D$11+Shape_edge!U8+Fractuation!U8*Parameter!$D$12+IF(Tilt!V8<0,COS((Tilt!V8-90)*2*PI()/360),0)","v":0},{"$f":"(CA!V8+CA!X8+CA!W7+CA!W9)*Parameter!$D$11+Shape_edge!V8+Fractuation!V8*Parameter!$D$12+IF(Tilt!W8<0,COS((Tilt!W8-90)*2*PI()/360),0)","v":0},{"$f":"(CA!W8+CA!Y8+CA!X7+CA!X9)*Parameter!$D$11+Shape_edge!W8+Fractuation!W8*Parameter!$D$12+IF(Tilt!X8<0,COS((Tilt!X8-90)*2*PI()/360),0)","v":0},{"$f":"(CA!X8+CA!Z8+CA!Y7+CA!Y9)*Parameter!$D$11+Shape_edge!X8+Fractuation!X8*Parameter!$D$12+IF(Tilt!Y8<0,COS((Tilt!Y8-90)*2*PI()/360),0)","v":0},{"$f":"(CA!Y8+CA!AA8+CA!Z7+CA!Z9)*Parameter!$D$11+Shape_edge!Y8+Fractuation!Y8*Parameter!$D$12+IF(Tilt!Z8<0,COS((Tilt!Z8-90)*2*PI()/360),0)","v":0},{"$f":"(CA!Z8+CA!AB8+CA!AA7+CA!AA9)*Parameter!$D$11+Shape_edge!Z8+Fractuation!Z8*Parameter!$D$12+IF(Tilt!AA8<0,COS((Tilt!AA8-90)*2*PI()/360),0)","v":0},{"$f":"(CA!AA8+CA!AC8+CA!AB7+CA!AB9)*Parameter!$D$11+Shape_edge!AA8+Fractuation!AA8*Parameter!$D$12+IF(Tilt!AB8<0,COS((Tilt!AB8-90)*2*PI()/360),0)","v":0},{"$f":"(CA!AB8+CA!AD8+CA!AC7+CA!AC9)*Parameter!$D$11+Shape_edge!AB8+Fractuation!AB8*Parameter!$D$12+IF(Tilt!AC8<0,COS((Tilt!AC8-90)*2*PI()/360),0)","v":0},{"$f":"(CA!AC8+CA!AE8+CA!AD7+CA!AD9)*Parameter!$D$11+Shape_edge!AC8+Fractuation!AC8*Parameter!$D$12+IF(Tilt!AD8<0,COS((Tilt!AD8-90)*2*PI()/360),0)","v":0},{"$f":"(CA!AD8+CA!AF8+CA!AE7+CA!AE9)*Parameter!$D$11+Shape_edge!AD8+Fractuation!AD8*Parameter!$D$12+IF(Tilt!AE8<0,COS((Tilt!AE8-90)*2*PI()/360),0)","v":0}]
[null,{"$f":"(CA!A9+CA!C9+CA!B8+CA!B10)*Parameter!$D$11+Shape_edge!A9+Fractuation!A9*Parameter!$D$12+IF(Tilt!B9<0,COS((Tilt!B9-90)*2*PI()/360),0)","v":-0.16277638659402127},{"$f":"(CA!B9+CA!D9+CA!C8+CA!C10)*Parameter!$D$11+Shape_edge!B9+Fractuation!B9*Parameter!$D$12+IF(Tilt!C9<0,COS((Tilt!C9-90)*2*PI()/360),0)","v":-0.78357877074319604},{"$f":"(CA!C9+CA!E9+CA!D8+CA!D10)*Parameter!$D$11+Shape_edge!C9+Fractuation!C9*Parameter!$D$12+IF(Tilt!D9<0,COS((Tilt!D9-90)*2*PI()/360),0)","v":-0.60108340038341967},{"$f":"(CA!D9+CA!F9+CA!E8+CA!E10)*Parameter!$D$11+Shape_edge!D9+Fractuation!D9*Parameter!$D$12+IF(Tilt!E9<0,COS((Tilt!E9-90)*2*PI()/360),0)","v":0.56020470431055336},{"$f":"(CA!E9+CA!G9+CA!F8+CA!F10)*Parameter!$D$11+Shape_edge!E9+Fractuation!E9*Parameter!$D$12+IF(Tilt!F9<0,COS((Tilt!F9-90)*2*PI()/360),0)","v":-1.1199172492605498},{"$f":"(CA!F9+CA!H9+CA!G8+CA!G10)*Parameter!$D$11+Shape_edge!F9+Fractuation!F9*Parameter!$D$12+IF(Tilt!G9<0,COS((Tilt!G9-90)*2*PI()/360),0)","v":-1.0596374450587616},{"$f":"(CA!G9+CA!I9+CA!H8+CA!H10)*Parameter!$D$11+Shape_edge!G9+Fractuation!G9*Parameter!$D$12+IF(Tilt!H9<0,COS((Tilt!H9-90)*2*PI()/360),0)","v":-2.7516444166730993},{"$f":"(CA!H9+CA!J9+CA!I8+CA!I10)*Parameter!$D$11+Shape_edge!H9+Fractuation!H9*Parameter!$D$12+IF(Tilt!I9<0,COS((Tilt!I9-90)*2*PI()/360),0)","v":-3.6803672933857303},{"$f":"(CA!I9+CA!K9+CA!J8+CA!J10)*Parameter!$D$11+Shape_edge!I9+Fractuation!I9*Parameter!$D$12+IF(Tilt!J9<0,COS((Tilt!J9-90)*2*PI()/360),0)","v":-1.0481437432641203},{"$f":"(CA!J9+CA!L9+CA!K8+CA!K10)*Parameter!$D$11+Shape_edge!J9+Fractuation!J9*Parameter!$D$12+IF(Tilt!K9<0,COS((Tilt!K9-90)*2*PI()/360),0)","v":-1.2689925358042216},{"$f":"(CA!K9+CA!M9+CA!L8+CA!L10)*Parameter!$D$11+Shape_edge!K9+Fractuation!K9*Parameter!$D$12+IF(Tilt!L9<0,COS((Tilt!L9-90)*2*PI()/360),0)","v":-1.2225021106236196},{"$f":"(CA!L9+CA!N9+CA!M8+CA!M10)*Parameter!$D$11+Shape_edge!L9+Fractuation!L9*Parameter!$D$12+IF(Tilt!M9<0,COS((Tilt!M9-90)*2*PI()/360),0)","v":9.2758368675525782E-2},{"$f":"(CA!M9+CA!O9+CA!N8+CA!N10)*Parameter!$D$11+Shape_edge!M9+Fractuation!M9*Parameter!$D$12+IF(Tilt!N9<0,COS((Tilt!N9-90)*2*PI()/360),0)","v":-1.3906494675221923},{"$f":"(CA!N9+CA!P9+CA!O8+CA!O10)*Parameter!$D$11+Shape_edge!N9+Fractuation!N9*Parameter!$D$12+IF(Tilt!O9<0,COS((Tilt!O9-90)*2*PI()/360),0)","v":-1.5117269376924476},{"$f":"(CA!O9+CA!Q9+CA!P8+CA!P10)*Parameter!$D$11+Shape_edge!O9+Fractuation!O9*Parameter!$D$12+IF(Tilt!P9<0,COS((Tilt!P9-90)*2*PI()/360),0)","v":-0.9957127282739533},{"$f":"(CA!P9+CA!R9+CA!Q8+CA!Q10)*Parameter!$D$11+Shape_edge!P9+Fractuation!P9*Parameter!$D$12+IF(Tilt!Q9<0,COS((Tilt!Q9-90)*2*PI()/360),0)","v":-2.1645149172335518},{"$f":"(CA!Q9+CA!S9+CA!R8+CA!R10)*Parameter!$D$11+Shape_edge!Q9+Fractuation!Q9*Parameter!$D$12+IF(Tilt!R9<0,COS((Tilt!R9-90)*2*PI()/360),0)","v":0.50089383400061793},{"$f":"(CA!R9+CA!T9+CA!S8+CA!S10)*Parameter!$D$11+Shape_edge!R9+Fractuation!R9*Parameter!$D$12+IF(Tilt!S9<0,COS((Tilt!S9-90)*2*PI()/360),0)","v":-0.90371889044046816},{"$f":"(CA!S9+CA!U9+CA!T8+CA!T10)*Parameter!$D$11+Shape_edge!S9+Fractuation!S9*Parameter!$D$12+IF(Tilt!T9<0,COS((Tilt!T9-90)*2*PI()/360),0)","v":-4.9100567454737565E-2},{"$f":"(CA!T9+CA!V9+CA!U8+CA!U10)*Parameter!$D$11+Shape_edge!T9+Fractuation!T9*Parameter!$D$12+IF(Tilt!U9<0,COS((Tilt!U9-90)*2*PI()/360),0)","v":-1.3371069374831137},{"$f":"(CA!U9+CA!W9+CA!V8+CA!V10)*Parameter!$D$11+Shape_edge!U9+Fractuation!U9*Parameter!$D$12+IF(Tilt!V9<0,COS((Tilt!V9-90)*2*PI()/360),0)","v":-0.38912186541171767},{"$f":"(CA!V9+CA!X9+CA!W8+CA!W10)*Parameter!$D$11+Shape_edge!V9+Fractuation!V9*Parameter!$D$12+IF(Tilt!W9<0,COS((Tilt!W9-90)*2*PI()/360),0)","v":-0.87714640729466076},{"$f":"(CA!W9+CA!Y9+CA!X8+CA!X10)*Parameter!$D$11+Shape_edge!W9+Fractuation!W9*Parameter!$D$12+IF(Tilt!X9<0,COS((Tilt!X9-90)*2*PI()/360),0)","v":-0.63194000072077083},{"$f":"(CA!X9+CA!Z9+CA!Y8+CA!Y10)*Parameter!$D$11+Shape_edge!X9+Fractuation!X9*Parameter!$D$12+IF(Tilt!Y9<0,COS((Tilt!Y9-90)*2*PI()/360),0)","v":-0.79445262089462465},{"$f":"(CA!Y9+CA!AA9+CA!Z8+CA!Z10)*Parameter!$D$11+Shape_edge!Y9+Fractuation!Y9*Parameter!$D$12+IF(Tilt!Z9<0,COS((Tilt!Z9-90)*2*PI()/360),0)","v":-1.1677491837615774},{"$f":"(CA!Z9+CA!AB9+CA!AA8+CA!AA10)*Parameter!$D$11+Shape_edge!Z9+Fractuation!Z9*Parameter!$D$12+IF(Tilt!AA9<0,COS((Tilt!AA9-90)*2*PI()/360),0)","v":-1.2039256008111179},{"$f":"(CA!AA9+CA!AC9+CA!AB8+CA!AB10)*Parameter!$D$11+Shape_edge!AA9+Fractuation!AA9*Parameter!$D$12+IF(Tilt!AB9<0,COS((Tilt!AB9-90)*2*PI()/360),0)","v":0.87381549821295201},{"$f":"(CA!AB9+CA!AD9+CA!AC8+CA!AC10)*Parameter!$D$11+Shape_edge!AB9+Fractuation!AB9*Parameter!$D$12+IF(Tilt!AC9<0,COS((Tilt!AC9-90)*2*PI()/360),0)","v":-0.81972760471174855},{"$f":"(CA!AC9+CA!AE9+CA!AD8+CA!AD10)*Parameter!$D$11+Shape_edge!AC9+Fractuation!AC9*Parameter!$D$12+IF(Tilt!AD9<0,COS((Tilt!AD9-90)*2*PI()/360),0)","v":-0.39104676995855769},{"$f":"(CA!AD9+CA!AF9+CA!AE8+CA!AE10)*Parameter!$D$11+Shape_edge!AD9+Fractuation!AD9*Parameter!$D$12+IF(Tilt!AE9<0,COS((Tilt!AE9-90)*2*PI()/360),0)","v":-1.5291166734006008}]
[null,{"$f":"(CA!A10+CA!C10+CA!B9+CA!B11)*Parameter!$D$11+Shape_edge!A10+Fractuation!A10*Parameter!$D$12+IF(Tilt!B10<0,COS((Tilt!B10-90)*2*PI()/360),0)","v":-0.63333683658100881},{"$f":"(CA!B10+CA!D10+CA!C9+CA!C11)*Parameter!$D$11+Shape_edge!B10+Fractuation!B10*Parameter!$D$12+IF(Tilt!C10<0,COS((Tilt!C10-90)*2*PI()/360),0)","v":-1.0196391280303692},{"$f":"(CA!C10+CA!E10+CA!D9+CA!D11)*Parameter!$D$11+Shape_edge!C10+Fractuation!C10*Parameter!$D$12+IF(Tilt!D10<0,COS((Tilt!D10-90)*2*PI()/360),0)","v":-0.16235696671586941},{"$f":"(CA!D10+CA!F10+CA!E9+CA!E11)*Parameter!$D$11+Shape_edge!D10+Fractuation!D10*Parameter!$D$12+IF(Tilt!E10<0,COS((Tilt!E10-90)*2*PI()/360),0)","v":-0.66352826743980975},{"$f":"(CA!E10+CA!G10+CA!F9+CA!F11)*Parameter!$D$11+Shape_edge!E10+Fractuation!E10*Parameter!$D$12+IF(Tilt!F10<0,COS((Tilt!F10-90)*2*PI()/360),0)","v":-2.7254161112101114},{"$f":"(CA!F10+CA!H10+CA!G9+CA!G11)*Parameter!$D$11+Shape_edge!F10+Fractuation!F10*Parameter!$D$12+IF(Tilt!G10<0,COS((Tilt!G10-90)*2*PI()/360),0)","v":-1.7015472863291277},{"$f":"(CA!G10+CA!I10+CA!H9+CA!H11)*Parameter!$D$11+Shape_edge!G10+Fractuation!G10*Parameter!$D$12+IF(Tilt!H10<0,COS((Tilt!H10-90)*2*PI()/360),0)","v":-0.89215379952252649},{"$f":"(CA!H10+CA!J10+CA!I9+CA!I11)*Parameter!$D$11+Shape_edge!H10+Fractuation!H10*Parameter!$D$12+IF(Tilt!I10<0,COS((Tilt!I10-90)*2*PI()/360),0)","v":-1.9188412450377332},{"$f":"(CA!I10+CA!K10+CA!J9+CA!J11)*Parameter!$D$11+Shape_edge!I10+Fractuation!I10*Parameter!$D$12+IF(Tilt!J10<0,COS((Tilt!J10-90)*2*PI()/360),0)","v":-0.27088145344373982},{"$f":"(CA!J10+CA!L10+CA!K9+CA!K11)*Parameter!$D$11+Shape_edge!J10+Fractuation!J10*Parameter!$D$12+IF(Tilt!K10<0,COS((Tilt!K10-90)*2*PI()/360),0)","v":-1.1724488458567943},{"$f":"(CA!K10+CA!M10+CA!L9+CA!L11)*Parameter!$D$11+Shape_edge!K10+Fractuation!K10*Parameter!$D$12+IF(Tilt!L10<0,COS((Tilt!L10-90)*2*PI()/360),0)","v":-1.6717554682689415},{"$f":"(CA!L10+CA!N10+CA!M9+CA!M11)*Parameter!$D$11+Shape_edge!L10+Fractuation!L10*Parameter!$D$12+IF(Tilt!M10<0,COS((Tilt!M10-90)*2*PI()/360),0)","v":-0.49564357059353981},{"$f":"(CA!M10+CA!O10+CA!N9+CA!N11)*Parameter!$D$11+Shape_edge!M10+Fractuation!M10*Parameter!$D$12+IF(Tilt!N10<0,COS((Tilt!N10-90)*2*PI()/360),0)","v":-1.2987397486897314},{"$f":"(CA!N10+CA!P10+CA!O9+CA!O11)*Parameter!$D$11+Shape_edge!N10+Fractuation!N10*Parameter!$D$12+IF(Tilt!O10<0,COS((Tilt!O10-90)*2*PI()/360),0)","v":0.13325226680747893},{"$f":"(CA!O10+CA!Q10+CA!P9+CA!P11)*Parameter!$D$11+Shape_edge!O10+Fractuation!O10*Parameter!$D$12+IF(Tilt!P10<0,COS((Tilt!P10-90)*2*PI()/360),0)","v":-2.3071247853847003},{"$f":"(CA!P10+CA!R10+CA!Q9+CA!Q11)*Parameter!$D$11+Shape_edge!P10+Fractuation!P10*Parameter!$D$12+IF(Tilt!Q10<0,COS((Tilt!Q10-90)*2*PI()/360),0)","v":-0.73876660947866646},{"$f":"(CA!Q10+CA!S10+CA!R9+CA!R11)*Parameter!$D$11+Shape_edge!Q10+Fractuation!Q10*Parameter!$D$12+IF(Tilt!R10<0,COS((Tilt!R10-90)*2*PI()/360),0)","v":-2.2038033611505563},{"$f":"(CA!R10+CA!T10+CA!S9+CA!S11)*Parameter!$D$11+Shape_edge!R10+Fractuation!R10*Parameter!$D$12+IF(Tilt!S10<0,COS((Tilt!S10-90)*2*PI()/360),0)","v":-1.8146815920212336},{"$f":"(CA!S10+CA!U10+CA!T9+CA!T11)*Parameter!$D$11+Shape_edge!S10+Fractuation!S10*Parameter!$D$12+IF(Tilt!T10<0,COS((Tilt!T10-90)*2*PI()/360),0)","v":-1.5695830205333328},{"$f":"(CA!T10+CA!V10+CA!U9+CA!U11)*Parameter!$D$11+Shape_edge!T10+Fractuation!T10*Parameter!$D$12+IF(Tilt!U10<0,COS((Tilt!U10-90)*2*PI()/360),0)","v":-0.6743853531023678},{"$f":"(CA!U10+CA!W10+CA!V9+CA!V11)*Parameter!$D$11+Shape_edge!U10+Fractuation!U10*Parameter!$D$12+IF(Tilt!V10<0,COS((Tilt!V10-90)*2*PI()/360),0)","v":-0.1567156413022861},{"$f":"(CA!V10+CA!X10+CA!W9+CA!W11)*Parameter!$D$11+Shape_edge!V10+Fractuation!V10*Parameter!$D$12+IF(Tilt!W10<0,COS((Tilt!W10-90)*2*PI()/360),0)","v":-0.4867814581369907},{"$f":"(CA!W10+CA!Y10+CA!X9+CA!X11)*Parameter!$D$11+Shape_edge!W10+Fractuation!W10*Parameter!$D$12+IF(Tilt!X10<0,COS((Tilt!X10-90)*2*PI()/360),0)","v":-2.4004364036135422},{"$f":"(CA!X10+CA!Z10+CA!Y9+CA!Y11)*Parameter!$D$11+Shape_edge!X10+Fractuation!X10*Parameter!$D$12+IF(Tilt!Y10<0,COS((Tilt!Y10-90)*2*PI()/360),0)","v":-1.1944334246442643},{"$f":"(CA!Y10+CA!AA10+CA!Z9+CA!Z11)*Parameter!$D$11+Shape_edge!Y10+Fractuation!Y10*Parameter!$D$12+IF(Tilt!Z10<0,COS((Tilt!Z10-90)*2*PI()/360),0)","v":-0.41765412175843886},{"$f":"(CA!Z10+CA!AB10+CA!AA9+CA!AA11)*Parameter!$D$11+Shape_edge!Z10+Fractuation!Z10*Parameter!$D$12+IF(Tilt!AA10<0,COS((Tilt!AA10-90)*2*PI()/360),0)","v":-1.6187400337303788},{"$f":"(CA!AA10+CA!AC10+CA!AB9+CA!AB11)*Parameter!$D$11+Shape_edge!AA10+Fractuation!AA10*Parameter!$D$12+IF(Tilt!AB10<0,COS((Tilt!AB10-90)*2*PI()/360),0)","v":-1.0140959419422331},{"$f":"(CA!AB10+CA!AD10+CA!AC9+CA!AC11)*Parameter!$D$11+Shape_edge!AB10+Fractuation!AB10*Parameter!$D$12+IF(Tilt!AC10<0,COS((Tilt!AC10-90)*2*PI()/360),0)","v":-7.3884294384201077E-2},{"$f":"(CA!AC10+CA!AE10+CA!AD9+CA!AD11)*Parameter!$D$11+Shape_edge!AC10+Fractuation!AC10*Parameter!$D$12+IF(Tilt!AD10<0,COS((Tilt!AD10-90)*2*PI()/360),0)","v":-0.86599125880074579},{"$f":"(CA!AD10+CA!AF10+CA!AE9+CA!AE11)*Parameter!$D$11+Shape_edge!AD10+Fractuation!AD10*Parameter!$D$12+IF(Tilt!AE10<0,COS((Tilt!AE10-90)*2*PI()/360),0)","v":-2.5871718596490183}]
[null,{"$f":"(CA!A11+CA!C11+CA!B10+CA!B12)*Parameter!$D$11+Shape_edge!A11+Fractuation!A11*Parameter!$D$12+IF(Tilt!B11<0,COS((Tilt!B11-90)*2*PI()/360),0)","v":-1.818630733857558},{"$f":"(CA!B11+CA!D11+CA!C10+CA!C12)*Parameter!$D$11+Shape_edge!B11+Fractuation!B11*Parameter!$D$12+IF(Tilt!C11<0,COS((Tilt!C11-90)*2*PI()/360),0)","v":-0.70743780056830186},{"$f":"(CA!C11+CA!E11+CA!D10+CA!D12)*Parameter!$D$11+Shape_edge!C11+Fractuation!C11*Parameter!$D$12+IF(Tilt!D11<0,COS((Tilt!D11-90)*2*PI()/360),0)","v":-2.0536270505753045},{"$f":"(CA!D11+CA!F11+CA!E10+CA!E12)*Parameter!$D$11+Shape_edge!D11+Fractuation!D11*Parameter!$D$12+IF(Tilt!E11<0,COS((Tilt!E11-90)*2*PI()/360),0)","v":-0.52790227013596214},{"$f":"(CA!E11+CA!G11+CA!F10+CA!F12)*Parameter!$D$11+Shape_edge!E11+Fractuation!E11*Parameter!$D$12+IF(Tilt!F11<0,COS((Tilt!F11-90)*2*PI()/360),0)","v":-1.4406424452130437},{"$f":"(CA!F11+CA!H11+CA!G10+CA!G12)*Parameter!$D$11+Shape_edge!F11+Fractuation!F11*Parameter!$D$12+IF(Tilt!G11<0,COS((Tilt!G11-90)*2*PI()/360),0)","v":-2.6885883658520262},{"$f":"(CA!G11+CA!I11+CA!H10+CA!H12)*Parameter!$D$11+Shape_edge!G11+Fractuation!G11*Parameter!$D$12+IF(Tilt!H11<0,COS((Tilt!H11-90)*2*PI()/360),0)","v":-1.1803055075610889},{"$f":"(CA!H11+CA!J11+CA!I10+CA!I12)*Parameter!$D$11+Shape_edge!H11+Fractuation!H11*Parameter!$D$12+IF(Tilt!I11<0,COS((Tilt!I11-90)*2*PI()/360),0)","v":-0.79509608914611252},{"$f":"(CA!I11+CA!K11+CA!J10+CA!J12)*Parameter!$D$11+Shape_edge!I11+Fractuation!I11*Parameter!$D$12+IF(Tilt!J11<0,COS((Tilt!J11-90)*2*PI()/360),0)","v":-0.51511144805970743},{"$f":"(CA!J11+CA!L11+CA!K10+CA!K12)*Parameter!$D$11+Shape_edge!J11+Fractuation!J11*Parameter!$D$12+IF(Tilt!K11<0,COS((Tilt!K11-90)*2*PI()/360),0)","v":-0.65654491815154903},{"$f":"(CA!K11+CA!M11+CA!L10+CA!L12)*Parameter!$D$11+Shape_edge!K11+Fractuation!K11*Parameter!$D$12+IF(Tilt!L11<0,COS((Tilt!L11-90)*2*PI()/360),0)","v":-0.89155913006014087},{"$f":"(CA!L11+CA!N11+CA!M10+CA!M12)*Parameter!$D$11+Shape_edge!L11+Fractuation!L11*Parameter!$D$12+IF(Tilt!M11<0,COS((Tilt!M11-90)*2*PI()/360),0)","v":-0.72886374075096838},{"$f":"(CA!M11+CA!O11+CA!N10+CA!N12)*Parameter!$D$11+Shape_edge!M11+Fractuation!M11*Parameter!$D$12+IF(Tilt!N11<0,COS((Tilt!N11-90)*2*PI()/360),0)","v":-0.88040004757206725},{"$f":"(CA!N11+CA!P11+CA!O10+CA!O12)*Parameter!$D$11+Shape_edge!N11+Fractuation!N11*Parameter!$D$12+IF(Tilt!O11<0,COS((Tilt!O11-90)*2*PI()/360),0)","v":-1.982859324019675},{"$f":"(CA!O11+CA!Q11+CA!P10+CA!P12)*Parameter!$D$11+Shape_edge!O11+Fractuation!O11*Parameter!$D$12+IF(Tilt!P11<0,COS((Tilt!P11-90)*2*PI()/360),0)","v":-2.5181273185525357},{"$f":"(CA!P11+CA!R11+CA!Q10+CA!Q12)*Parameter!$D$11+Shape_edge!P11+Fractuation!P11*Parameter!$D$12+IF(Tilt!Q11<0,COS((Tilt!Q11-90)*2*PI()/360),0)","v":-1.3033773793481196},{"$f":"(CA!Q11+CA!S11+CA!R10+CA!R12)*Parameter!$D$11+Shape_edge!Q11+Fractuation!Q11*Parameter!$D$12+IF(Tilt!R11<0,COS((Tilt!R11-90)*2*PI()/360),0)","v":0.64057001995575447},{"$f":"(CA!R11+CA!T11+CA!S10+CA!S12)*Parameter!$D$11+Shape_edge!R11+Fractuation!R11*Parameter!$D$12+IF(Tilt!S11<0,COS((Tilt!S11-90)*2*PI()/360),0)","v":-1.2292861079136335},{"$f":"(CA!S11+CA!U11+CA!T10+CA!T12)*Parameter!$D$11+Shape_edge!S11+Fractuation!S11*Parameter!$D$12+IF(Tilt!T11<0,COS((Tilt!T11-90)*2*PI()/360),0)","v":-0.95563527092223566},{"$f":"(CA!T11+CA!V11+CA!U10+CA!U12)*Parameter!$D$11+Shape_edge!T11+Fractuation!T11*Parameter!$D$12+IF(Tilt!U11<0,COS((Tilt!U11-90)*2*PI()/360),0)","v":-1.0385914635531697},{"$f":"(CA!U11+CA!W11+CA!V10+CA!V12)*Parameter!$D$11+Shape_edge!U11+Fractuation!U11*Parameter!$D$12+IF(Tilt!V11<0,COS((Tilt!V11-90)*2*PI()/360),0)","v":-2.3080447668749899},{"$f":"(CA!V11+CA!X11+CA!W10+CA!W12)*Parameter!$D$11+Shape_edge!V11+Fractuation!V11*Parameter!$D$12+IF(Tilt!W11<0,COS((Tilt!W11-90)*2*PI()/360),0)","v":-1.5365974570847116},{"$f":"(CA!W11+CA!Y11+CA!X10+CA!X12)*Parameter!$D$11+Shape_edge!W11+Fractuation!W11*Parameter!$D$12+IF(Tilt!X11<0,COS((Tilt!X11-90)*2*PI()/360),0)","v":-2.2931833666318946},{"$f":"(CA!X11+CA!Z11+CA!Y10+CA!Y12)*Parameter!$D$11+Shape_edge!X11+Fractuation!X11*Parameter!$D$12+IF(Tilt!Y11<0,COS((Tilt!Y11-90)*2*PI()/360),0)","v":-1.8576789441402286},{"$f":"(CA!Y11+CA!AA11+CA!Z10+CA!Z12)*Parameter!$D$11+Shape_edge!Y11+Fractuation!Y11*Parameter!$D$12+IF(Tilt!Z11<0,COS((Tilt!Z11-90)*2*PI()/360),0)","v":-1.208039145337007},{"$f":"(CA!Z11+CA!AB11+CA!AA10+CA!AA12)*Parameter!$D$11+Shape_edge!Z11+Fractuation!Z11*Parameter!$D$12+IF(Tilt!AA11<0,COS((Tilt!AA11-90)*2*PI()/360),0)","v":-1.2274506152647784},{"$f":"(CA!AA11+CA!AC11+CA!AB10+CA!AB12)*Parameter!$D$11+Shape_edge!AA11+Fractuation!AA11*Parameter!$D$12+IF(Tilt!AB11<0,COS((Tilt!AB11-90)*2*PI()/360),0)","v":-0.10478488579906498},{"$f":"(CA!AB11+CA!AD11+CA!AC10+CA!AC12)*Parameter!$D$11+Shape_edge!AB11+Fractuation!AB11*Parameter!$D$12+IF(Tilt!AC11<0,COS((Tilt!AC11-90)*2*PI()/360),0)","v":-1.2491468207352614},{"$f":"(CA!AC11+CA!AE11+CA!AD10+CA!AD12)*Parameter!$D$11+Shape_edge!AC11+Fractuation!AC11*Parameter!$D$12+IF(Tilt!AD11<0,COS((Tilt!AD11-90)*2*PI()/360),0)","v":-0.97952806100233336},{"$f":"(CA!AD11+CA!AF11+CA!AE10+CA!AE12)*Parameter!$D$11+Shape_edge!AD11+Fractuation!AD11*Parameter!$D$12+IF(Tilt!AE11<0,COS((Tilt!AE11-90)*2*PI()/360),0)","v":0.92630214290182589}]
[null,{"$f":"(CA!A12+CA!C12+CA!B11+CA!B13)*Parameter!$D$11+Shape_edge!A12+Fractuation!A12*Parameter!$D$12+IF(Tilt!B12<0,COS((Tilt!B12-90)*2*PI()/360),0)","v":-0.66834793636403256},{"$f":"(CA!B12+CA!D12+CA!C11+CA!C13)*Parameter!$D$11+Shape_edge!B12+Fractuation!B12*Parameter!$D$12+IF(Tilt!C12<0,COS((Tilt!C12-90)*2*PI()/360),0)","v":-1.6184719226848789},{"$f":"(CA!C12+CA!E12+CA!D11+CA!D13)*Parameter!$D$11+Shape_edge!C12+Fractuation!C12*Parameter!$D$12+IF(Tilt!D12<0,COS((Tilt!D12-90)*2*PI()/360),0)","v":-0.98310085106701917},{"$f":"(CA!D12+CA!F12+CA!E11+CA!E13)*Parameter!$D$11+Shape_edge!D12+Fractuation!D12*Parameter!$D$12+IF(Tilt!E12<0,COS((Tilt!E12-90)*2*PI()/360),0)","v":-1.3477374652541325},{"$f":"(CA!E12+CA!G12+CA!F11+CA!F13)*Parameter!$D$11+Shape_edge!E12+Fractuation!E12*Parameter!$D$12+IF(Tilt!F12<0,COS((Tilt!F12-90)*2*PI()/360),0)","v":-2.3459859231343403},{"$f":"(CA!F12+CA!H12+CA!G11+CA!G13)*Parameter!$D$11+Shape_edge!F12+Fractuation!F12*Parameter!$D$12+IF(Tilt!G12<0,COS((Tilt!G12-90)*2*PI()/360),0)","v":-0.47319937300762982},{"$f":"(CA!G12+CA!I12+CA!H11+CA!H13)*Parameter!$D$11+Shape_edge!G12+Fractuation!G12*Parameter!$D$12+IF(Tilt!H12<0,COS((Tilt!H12-90)*2*PI()/360),0)","v":-0.18956304390531153},{"$f":"(CA!H12+CA!J12+CA!I11+CA!I13)*Parameter!$D$11+Shape_edge!H12+Fractuation!H12*Parameter!$D$12+IF(Tilt!I12<0,COS((Tilt!I12-90)*2*PI()/360),0)","v":-0.77298862974074534},{"$f":"(CA!I12+CA!K12+CA!J11+CA!J13)*Parameter!$D$11+Shape_edge!I12+Fractuation!I12*Parameter!$D$12+IF(Tilt!J12<0,COS((Tilt!J12-90)*2*PI()/360),0)","v":-1.3002042065202386},{"$f":"(CA!J12+CA!L12+CA!K11+CA!K13)*Parameter!$D$11+Shape_edge!J12+Fractuation!J12*Parameter!$D$12+IF(Tilt!K12<0,COS((Tilt!K12-90)*2*PI()/360),0)","v":-0.84639322304908449},{"$f":"(CA!K12+CA!M12+CA!L11+CA!L13)*Parameter!$D$11+Shape_edge!K12+Fractuation!K12*Parameter!$D$12+IF(Tilt!L12<0,COS((Tilt!L12-90)*2*PI()/360),0)","v":1.1507803020219698},{"$f":"(CA!L12+CA!N12+CA!M11+CA!M13)*Parameter!$D$11+Shape_edge!L12+Fractuation!L12*Parameter!$D$12+IF(Tilt!M12<0,COS((Tilt!M12-90)*2*PI()/360),0)","v":-0.77263601069435872},{"$f":"(CA!M12+CA!O12+CA!N11+CA!N13)*Parameter!$D$11+Shape_edge!M12+Fractuation!M12*Parameter!$D$12+IF(Tilt!N12<0,COS((Tilt!N12-90)*2*PI()/360),0)","v":0.75561381204844236},{"$f":"(CA!N12+CA!P12+CA!O11+CA!O13)*Parameter!$D$11+Shape_edge!N12+Fractuation!N12*Parameter!$D$12+IF(Tilt!O12<0,COS((Tilt!O12-90)*2*PI()/360),0)","v":-0.89726442254628813},{"$f":"(CA!O12+CA!Q12+CA!P11+CA!P13)*Parameter!$D$11+Shape_edge!O12+Fractuation!O12*Parameter!$D$12+IF(Tilt!P12<0,COS((Tilt!P12-90)*2*PI()/360),0)","v":-1.8288936769032746},{"$f":"(CA!P12+CA!R12+CA!Q11+CA!Q13)*Parameter!$D$11+Shape_edge!P12+Fractuation!P12*Parameter!$D$12+IF(Tilt!Q12<0,COS((Tilt!Q12-90)*2*PI()/360),0)","v":-1.311414653528221},{"$f":"(CA!Q12+CA!S12+CA!R11+CA!R13)*Parameter!$D$11+Shape_edge!Q12+Fractuation!Q12*Parameter!$D$12+IF(Tilt!R12<0,COS((Tilt!R12-90)*2*PI()/360),0)","v":-0.62778643052928795},{"$f":"(CA!R12+CA!T12+CA!S11+CA!S13)*Parameter!$D$11+Shape_edge!R12+Fractuation!R12*Parameter!$D$12+IF(Tilt!S12<0,COS((Tilt!S12-90)*2*PI()/360),0)","v":-0.30621138592859565},{"$f":"(CA!S12+CA!U12+CA!T11+CA!T13)*Parameter!$D$11+Shape_edge!S12+Fractuation!S12*Parameter!$D$12+IF(Tilt!T12<0,COS((Tilt!T12-90)*2*PI()/360),0)","v":-2.1585457389323865},{"$f":"(CA!T12+CA!V12+CA!U11+CA!U13)*Parameter!$D$11+Shape_edge!T12+Fractuation!T12*Parameter!$D$12+IF(Tilt!U12<0,COS((Tilt!U12-90)*2*PI()/360),0)","v":-0.93762366801036257},{"$f":"(CA!U12+CA!W12+CA!V11+CA!V13)*Parameter!$D$11+Shape_edge!U12+Fractuation!U12*Parameter!$D$12+IF(Tilt!V12<0,COS((Tilt!V12-90)*2*PI()/360),0)","v":-2.5574882604077755},{"$f":"(CA!V12+CA!X12+CA!W11+CA!W13)*Parameter!$D$11+Shape_edge!V12+Fractuation!V12*Parameter!$D$12+IF(Tilt!W12<0,COS((Tilt!W12-90)*2*PI()/360),0)","v":-0.75586271335835553},{"$f":"(CA!W12+CA!Y12+CA!X11+CA!X13)*Parameter!$D$11+Shape_edge!W12+Fractuation!W12*Parameter!$D$12+IF(Tilt!X12<0,COS((Tilt!X12-90)*2*PI()/360),0)","v":-0.68121995032281035},{"$f":"(CA!X12+CA!Z12+CA!Y11+CA!Y13)*Parameter!$D$11+Shape_edge!X12+Fractuation!X12*Parameter!$D$12+IF(Tilt!Y12<0,COS((Tilt!Y12-90)*2*PI()/360),0)","v":-1.9546653614148097},{"$f":"(CA!Y12+CA!AA12+CA!Z11+CA!Z13)*Parameter!$D$11+Shape_edge!Y12+Fractuation!Y12*Parameter!$D$12+IF(Tilt!Z12<0,COS((Tilt!Z12-90)*2*PI()/360),0)","v":-1.5216113064207573},{"$f":"(CA!Z12+CA!AB12+CA!AA11+CA!AA13)*Parameter!$D$11+Shape_edge!Z12+Fractuation!Z12*Parameter!$D$12+IF(Tilt!AA12<0,COS((Tilt!AA12-90)*2*PI()/360),0)","v":-0.49139537508268505},{"$f":"(CA!AA12+CA!AC12+CA!AB11+CA!AB13)*Parameter!$D$11+Shape_edge!AA12+Fractuation!AA12*Parameter!$D$12+IF(Tilt!AB12<0,COS((Tilt!AB12-90)*2*PI()/360),0)","v":-1.370305257440716},{"$f":"(CA!AB12+CA!AD12+CA!AC11+CA!AC13)*Parameter!$D$11+Shape_edge!AB12+Fractuation!AB12*Parameter!$D$12+IF(Tilt!AC12<0,COS((Tilt!AC12-90)*2*PI()/360),0)","v":-0.37355579332282385},{"$f":"(CA!AC12+CA!AE12+CA!AD11+CA!AD13)*Parameter!$D$11+Shape_edge!AC12+Fractuation!AC12*Parameter!$D$12+IF(Tilt!AD12<0,COS((Tilt!AD12-90)*2*PI()/360),0)","v":-2.202301808861991},{"$f":"(CA!AD12+CA!AF12+CA!AE11+CA!AE13)*Parameter!$D$11+Shape_edge!AD12+Fractuation!AD12*Parameter!$D$12+IF(Tilt!AE12<0,COS((Tilt!AE12-90)*2*PI()/360),0)","v":-1.1826576372095954}]
[null,{"$f":"(CA!A13+CA!C13+CA!B12+CA!B14)*Parameter!$D$11+Shape_edge!A13+Fractuation!A13*Parameter!$D$12+IF(Tilt!B13<0,COS((Tilt!B13-90)*2*PI()/360),0)","v":-1.309143460641645},{"$f":"(CA!B13+CA!D13+CA!C12+CA!C14)*Parameter!$D$11+Shape_edge!B13+Fractuation!B13*Parameter!$D$12+IF(Tilt!C13<0,COS((Tilt!C13-90)*2*PI()/360),0)","v":-1.8074661827480711},{"$f":"(CA!C13+CA!E13+CA!D12+CA!D14)*Parameter!$D$11+Shape_edge!C13+Fractuation!C13*Parameter!$D$12+IF(Tilt!D13<0,COS((Tilt!D13-90)*2*PI()/360),0)","v":-0.1810354335384996},{"$f":"(CA!D13+CA!F13+CA!E12+CA!E14)*Parameter!$D$11+Shape_edge!D13+Fractuation!D13*Parameter!$D$12+IF(Tilt!E13<0,COS((Tilt!E13-90)*2*PI()/360),0)","v":-1.7796452988514655},{"$f":"(CA!E13+CA!G13+CA!F12+CA!F14)*Parameter!$D$11+Shape_edge!E13+Fractuation!E13*Parameter!$D$12+IF(Tilt!F13<0,COS((Tilt!F13-90)*2*PI()/360),0)","v":-0.53667642253300141},{"$f":"(CA!F13+CA!H13+CA!G12+CA!G14)*Parameter!$D$11+Shape_edge!F13+Fractuation!F13*Parameter!$D$12+IF(Tilt!G13<0,COS((Tilt!G13-90)*2*PI()/360),0)","v":-1.4505492862776324},{"$f":"(CA!G13+CA!I13+CA!H12+CA!H14)*Parameter!$D$11+Shape_edge!G13+Fractuation!G13*Parameter!$D$12+IF(Tilt!H13<0,COS((Tilt!H13-90)*2*PI()/360),0)","v":-0.27063215559043452},{"$f":"(CA!H13+CA!J13+CA!I12+CA!I14)*Parameter!$D$11+Shape_edge!H13+Fractuation!H13*Parameter!$D$12+IF(Tilt!I13<0,COS((Tilt!I13-90)*2*PI()/360),0)","v":-1.8986302600929399},{"$f":"(CA!I13+CA!K13+CA!J12+CA!J14)*Parameter!$D$11+Shape_edge!I13+Fractuation!I13*Parameter!$D$12+IF(Tilt!J13<0,COS((Tilt!J13-90)*2*PI()/360),0)","v":-3.1203399209542648},{"$f":"(CA!J13+CA!L13+CA!K12+CA!K14)*Parameter!$D$11+Shape_edge!J13+Fractuation!J13*Parameter!$D$12+IF(Tilt!K13<0,COS((Tilt!K13-90)*2*PI()/360),0)","v":-0.79426066226843306},{"$f":"(CA!K13+CA!M13+CA!L12+CA!L14)*Parameter!$D$11+Shape_edge!K13+Fractuation!K13*Parameter!$D$12+IF(Tilt!L13<0,COS((Tilt!L13-90)*2*PI()/360),0)","v":0.45826712958877747},{"$f":"(CA!L13+CA!N13+CA!M12+CA!M14)*Parameter!$D$11+Shape_edge!L13+Fractuation!L13*Parameter!$D$12+IF(Tilt!M13<0,COS((Tilt!M13-90)*2*PI()/360),0)","v":0.63115400298012725},{"$f":"(CA!M13+CA!O13+CA!N12+CA!N14)*Parameter!$D$11+Shape_edge!M13+Fractuation!M13*Parameter!$D$12+IF(Tilt!N13<0,COS((Tilt!N13-90)*2*PI()/360),0)","v":0.36400858362600563},{"$f":"(CA!N13+CA!P13+CA!O12+CA!O14)*Parameter!$D$11+Shape_edge!N13+Fractuation!N13*Parameter!$D$12+IF(Tilt!O13<0,COS((Tilt!O13-90)*2*PI()/360),0)","v":-0.88188574660938346},{"$f":"(CA!O13+CA!Q13+CA!P12+CA!P14)*Parameter!$D$11+Shape_edge!O13+Fractuation!O13*Parameter!$D$12+IF(Tilt!P13<0,COS((Tilt!P13-90)*2*PI()/360),0)","v":-0.73936808219184824},{"$f":"(CA!P13+CA!R13+CA!Q12+CA!Q14)*Parameter!$D$11+Shape_edge!P13+Fractuation!P13*Parameter!$D$12+IF(Tilt!Q13<0,COS((Tilt!Q13-90)*2*PI()/360),0)","v":0.42863325883542536},{"$f":"(CA!Q13+CA!S13+CA!R12+CA!R14)*Parameter!$D$11+Shape_edge!Q13+Fractuation!Q13*Parameter!$D$12+IF(Tilt!R13<0,COS((Tilt!R13-90)*2*PI()/360),0)","v":-0.97726760759754927},{"$f":"(CA!R13+CA!T13+CA!S12+CA!S14)*Parameter!$D$11+Shape_edge!R13+Fractuation!R13*Parameter!$D$12+IF(Tilt!S13<0,COS((Tilt!S13-90)*2*PI()/360),0)","v":-1.940255210559731},{"$f":"(CA!S13+CA!U13+CA!T12+CA!T14)*Parameter!$D$11+Shape_edge!S13+Fractuation!S13*Parameter!$D$12+IF(Tilt!T13<0,COS((Tilt!T13-90)*2*PI()/360),0)","v":-1.8186768967598075},{"$f":"(CA!T13+CA!V13+CA!U12+CA!U14)*Parameter!$D$11+Shape_edge!T13+Fractuation!T13*Parameter!$D$12+IF(Tilt!U13<0,COS((Tilt!U13-90)*2*PI()/360),0)","v":1.0780323993949121},{"$f":"(CA!U13+CA!W13+CA!V12+CA!V14)*Parameter!$D$11+Shape_edge!U13+Fractuation!U13*Parameter!$D$12+IF(Tilt!V13<0,COS((Tilt!V13-90)*2*PI()/360),0)","v":-0.47411968499377632},{"$f":"(CA!V13+CA!X13+CA!W12+CA!W14)*Parameter!$D$11+Shape_edge!V13+Fractuation!V13*Parameter!$D$12+IF(Tilt!W13<0,COS((Tilt!W13-90)*2*PI()/360),0)","v":-2.0583280574087537},{"$f":"(CA!W13+CA!Y13+CA!X12+CA!X14)*Parameter!$D$11+Shape_edge!W13+Fractuation!W13*Parameter!$D$12+IF(Tilt!X13<0,COS((Tilt!X13-90)*2*PI()/360),0)","v":-2.6117835307380886},{"$f":"(CA!X13+CA!Z13+CA!Y12+CA!Y14)*Parameter!$D$11+Shape_edge!X13+Fractuation!X13*Parameter!$D$12+IF(Tilt!Y13<0,COS((Tilt!Y13-90)*2*PI()/360),0)","v":-0.70661449650704466},{"$f":"(CA!Y13+CA!AA13+CA!Z12+CA!Z14)*Parameter!$D$11+Shape_edge!Y13+Fractuation!Y13*Parameter!$D$12+IF(Tilt!Z13<0,COS((Tilt!Z13-90)*2*PI()/360),0)","v":-1.4409478710292398},{"$f":"(CA!Z13+CA!AB13+CA!AA12+CA!AA14)*Parameter!$D$11+Shape_edge!Z13+Fractuation!Z13*Parameter!$D$12+IF(Tilt!AA13<0,COS((Tilt!AA13-90)*2*PI()/360),0)","v":-0.43216328265060966},{"$f":"(CA!AA13+CA!AC13+CA!AB12+CA!AB14)*Parameter!$D$11+Shape_edge!AA13+Fractuation!AA13*Parameter!$D$12+IF(Tilt!AB13<0,COS((Tilt!AB13-90)*2*PI()/360),0)","v":-2.2934378375954303},{"$f":"(CA!AB13+CA!AD13+CA!AC12+CA!AC14)*Parameter!$D$11+Shape_edge!AB13+Fractuation!AB13*Parameter!$D$12+IF(Tilt!AC13<0,COS((Tilt!AC13-90)*2*PI()/360),0)","v":1.0502375225026768},{"$f":"(CA!AC13+CA!AE13+CA!AD12+CA!AD14)*Parameter!$D$11+Shape_edge!AC13+Fractuation!AC13*Parameter!$D$12+IF(Tilt!AD13<0,COS((Tilt!AD13-90)*2*PI()/360),0)","v":-2.6622380267126489E-2},{"$f":"(CA!AD13+CA!AF13+CA!AE12+CA!AE14)*Parameter!$D$11+Shape_edge!AD13+Fractuation!AD13*Parameter!$D$12+IF(Tilt!AE13<0,COS((Tilt!AE13-90)*2*PI()/360),0)","v":-0.8357774505060116}]
[null,{"$f":"(CA!A14+CA!C14+CA!B13+CA!B15)*Parameter!$D$11+Shape_edge!A14+Fractuation!A14*Parameter!$D$12+IF(Tilt!B14<0,COS((Tilt!B14-90)*2*PI()/360),0)","v":-0.30886238670467603},{"$f":"(CA!B14+CA!D14+CA!C13+CA!C15)*Parameter!$D$11+Shape_edge!B14+Fractuation!B14*Parameter!$D$12+IF(Tilt!C14<0,COS((Tilt!C14-90)*2*PI()/360),0)","v":-1.5912740912944017},{"$f":"(CA!C14+CA!E14+CA!D13+CA!D15)*Parameter!$D$11+Shape_edge!C14+Fractuation!C14*Parameter!$D$12+IF(Tilt!D14<0,COS((Tilt!D14-90)*2*PI()/360),0)","v":-0.69396874757369043},{"$f":"(CA!D14+CA!F14+CA!E13+CA!E15)*Parameter!$D$11+Shape_edge!D14+Fractuation!D14*Parameter!$D$12+IF(Tilt!E14<0,COS((Tilt!E14-90)*2*PI()/360),0)","v":-1.746172550360592},{"$f":"(CA!E14+CA!G14+CA!F13+CA!F15)*Parameter!$D$11+Shape_edge!E14+Fractuation!E14*Parameter!$D$12+IF(Tilt!F14<0,COS((Tilt!F14-90)*2*PI()/360),0)","v":-0.66025472958971987},{"$f":"(CA!F14+CA!H14+CA!G13+CA!G15)*Parameter!$D$11+Shape_edge!F14+Fractuation!F14*Parameter!$D$12+IF(Tilt!G14<0,COS((Tilt!G14-90)*2*PI()/360),0)","v":6.8760795164887423E-2},{"$f":"(CA!G14+CA!I14+CA!H13+CA!H15)*Parameter!$D$11+Shape_edge!G14+Fractuation!G14*Parameter!$D$12+IF(Tilt!H14<0,COS((Tilt!H14-90)*2*PI()/360),0)","v":-1.3081312116125468},{"$f":"(CA!H14+CA!J14+CA!I13+CA!I15)*Parameter!$D$11+Shape_edge!H14+Fractuation!H14*Parameter!$D$12+IF(Tilt!I14<0,COS((Tilt!I14-90)*2*PI()/360),0)","v":-1.2631996966256798},{"$f":"(CA!I14+CA!K14+CA!J13+CA!J15)*Parameter!$D$11+Shape_edge!I14+Fractuation!I14*Parameter!$D$12+IF(Tilt!J14<0,COS((Tilt!J14-90)*2*PI()/360),0)","v":-0.29328057895818982},{"$f":"(CA!J14+CA!L14+CA!K13+CA!K15)*Parameter!$D$11+Shape_edge!J14+Fractuation!J14*Parameter!$D$12+IF(Tilt!K14<0,COS((Tilt!K14-90)*2*PI()/360),0)","v":-0.76612690838382114},{"$f":"(CA!K14+CA!M14+CA!L13+CA!L15)*Parameter!$D$11+Shape_edge!K14+Fractuation!K14*Parameter!$D$12+IF(Tilt!L14<0,COS((Tilt!L14-90)*2*PI()/360),0)","v":-1.5722990991042183},{"$f":"(CA!L14+CA!N14+CA!M13+CA!M15)*Parameter!$D$11+Shape_edge!L14+Fractuation!L14*Parameter!$D$12+IF(Tilt!M14<0,COS((Tilt!M14-90)*2*PI()/360),0)","v":-1.7957386811504734},{"$f":"(CA!M14+CA!O14+CA!N13+CA!N15)*Parameter!$D$11+Shape_edge!M14+Fractuation!M14*Parameter!$D$12+IF(Tilt!N14<0,COS((Tilt!N14-90)*2*PI()/360),0)","v":0.41595368773686947},{"$f":"(CA!N14+CA!P14+CA!O13+CA!O15)*Parameter!$D$11+Shape_edge!N14+Fractuation!N14*Parameter!$D$12+IF(Tilt!O14<0,COS((Tilt!O14-90)*2*PI()/360),0)","v":-1.1411834809940629},{"$f":"(CA!O14+CA!Q14+CA!P13+CA!P15)*Parameter!$D$11+Shape_edge!O14+Fractuation!O14*Parameter!$D$12+IF(Tilt!P14<0,COS((Tilt!P14-90)*2*PI()/360),0)","v":-1.2497913879269742},{"$f":"(CA!P14+CA!R14+CA!Q13+CA!Q15)*Parameter!$D$11+Shape_edge!P14+Fractuation!P14*Parameter!$D$12+IF(Tilt!Q14<0,COS((Tilt!Q14-90)*2*PI()/360),0)","v":-3.00224486281859},{"$f":"(CA!Q14+CA!S14+CA!R13+CA!R15)*Parameter!$D$11+Shape_edge!Q14+Fractuation!Q14*Parameter!$D$12+IF(Tilt!R14<0,COS((Tilt!R14-90)*2*PI()/360),0)","v":-1.8263399141387011},{"$f":"(CA!R14+CA!T14+CA!S13+CA!S15)*Parameter!$D$11+Shape_edge!R14+Fractuation!R14*Parameter!$D$12+IF(Tilt!S14<0,COS((Tilt!S14-90)*2*PI()/360),0)","v":-2.4135114640171178},{"$f":"(CA!S14+CA!U14+CA!T13+CA!T15)*Parameter!$D$11+Shape_edge!S14+Fractuation!S14*Parameter!$D$12+IF(Tilt!T14<0,COS((Tilt!T14-90)*2*PI()/360),0)","v":-1.3914660084549266},{"$f":"(CA!T14+CA!V14+CA!U13+CA!U15)*Parameter!$D$11+Shape_edge!T14+Fractuation!T14*Parameter!$D$12+IF(Tilt!U14<0,COS((Tilt!U14-90)*2*PI()/360),0)","v":-0.69665218822343},{"$f":"(CA!U14+CA!W14+CA!V13+CA!V15)*Parameter!$D$11+Shape_edge!U14+Fractuation!U14*Parameter!$D$12+IF(Tilt!V14<0,COS((Tilt!V14-90)*2*PI()/360),0)","v":-1.2192360139428646},{"$f":"(CA!V14+CA!X14+CA!W13+CA!W15)*Parameter!$D$11+Shape_edge!V14+Fractuation!V14*Parameter!$D$12+IF(Tilt!W14<0,COS((Tilt!W14-90)*2*PI()/360),0)","v":-2.0907654985187043},{"$f":"(CA!W14+CA!Y14+CA!X13+CA!X15)*Parameter!$D$11+Shape_edge!W14+Fractuation!W14*Parameter!$D$12+IF(Tilt!X14<0,COS((Tilt!X14-90)*2*PI()/360),0)","v":-1.4904386628438817},{"$f":"(CA!X14+CA!Z14+CA!Y13+CA!Y15)*Parameter!$D$11+Shape_edge!X14+Fractuation!X14*Parameter!$D$12+IF(Tilt!Y14<0,COS((Tilt!Y14-90)*2*PI()/360),0)","v":-1.007342060012558},{"$f":"(CA!Y14+CA!AA14+CA!Z13+CA!Z15)*Parameter!$D$11+Shape_edge!Y14+Fractuation!Y14*Parameter!$D$12+IF(Tilt!Z14<0,COS((Tilt!Z14-90)*2*PI()/360),0)","v":-2.4138097358910384},{"$f":"(CA!Z14+CA!AB14+CA!AA13+CA!AA15)*Parameter!$D$11+Shape_edge!Z14+Fractuation!Z14*Parameter!$D$12+IF(Tilt!AA14<0,COS((Tilt!AA14-90)*2*PI()/360),0)","v":-1.0785378517854745},{"$f":"(CA!AA14+CA!AC14+CA!AB13+CA!AB15)*Parameter!$D$11+Shape_edge!AA14+Fractuation!AA14*Parameter!$D$12+IF(Tilt!AB14<0,COS((Tilt!AB14-90)*2*PI()/360),0)","v":-0.13938318103522063},{"$f":"(CA!AB14+CA!AD14+CA!AC13+CA!AC15)*Parameter!$D$11+Shape_edge!AB14+Fractuation!AB14*Parameter!$D$12+IF(Tilt!AC14<0,COS((Tilt!AC14-90)*2*PI()/360),0)","v":0.3364467965546929},{"$f":"(CA!AC14+CA!AE14+CA!AD13+CA!AD15)*Parameter!$D$11+Shape_edge!AC14+Fractuation!AC14*Parameter!$D$12+IF(Tilt!AD14<0,COS((Tilt!AD14-90)*2*PI()/360),0)","v":-1.877109140295774},{"$f":"(CA!AD14+CA!AF14+CA!AE13+CA!AE15)*Parameter!$D$11+Shape_edge!AD14+Fractuation!AD14*Parameter!$D$12+IF(Tilt!AE14<0,COS((Tilt!AE14-90)*2*PI()/360),0)","v":-1.6039247558148388}]
[null,{"$f":"(CA!A15+CA!C15+CA!B14+CA!B16)*Parameter!$D$11+Shape_edge!A15+Fractuation!A15*Parameter!$D$12+IF(Tilt!B15<0,COS((Tilt!B15-90)*2*PI()/360),0)","v":-0.37653448034951775},{"$f":"(CA!B15+CA!D15+CA!C14+CA!C16)*Parameter!$D$11+Shape_edge!B15+Fractuation!B15*Parameter!$D$12+IF(Tilt!C15<0,COS((Tilt!C15-90)*2*PI()/360),0)","v":-1.5879588401851619},{"$f":"(CA!C15+CA!E15+CA!D14+CA!D16)*Parameter!$D$11+Shape_edge!C15+Fractuation!C15*Parameter!$D$12+IF(Tilt!D15<0,COS((Tilt!D15-90)*2*PI()/360),0)","v":-0.8910962321751591},{"$f":"(CA!D15+CA!F15+CA!E14+CA!E16)*Parameter!$D$11+Shape_edge!D15+Fractuation!D15*Parameter!$D$12+IF(Tilt!E15<0,COS((Tilt!E15-90)*2*PI()/360),0)","v":-1.5886228293364291},{"$f":"(CA!E15+CA!G15+CA!F14+CA!F16)*Parameter!$D$11+Shape_edge!E15+Fractuation!E15*Parameter!$D$12+IF(Tilt!F15<0,COS((Tilt!F15-90)*2*PI()/360),0)","v":-1.367598605247639},{"$f":"(CA!F15+CA!H15+CA!G14+CA!G16)*Parameter!$D$11+Shape_edge!F15+Fractuation!F15*Parameter!$D$12+IF(Tilt!G15<0,COS((Tilt!G15-90)*2*PI()/360),0)","v":-2.0396737977802761},{"$f":"(CA!G15+CA!I15+CA!H14+CA!H16)*Parameter!$D$11+Shape_edge!G15+Fractuation!G15*Parameter!$D$12+IF(Tilt!H15<0,COS((Tilt!H15-90)*2*PI()/360),0)","v":-1.025494082238013},{"$f":"(CA!H15+CA!J15+CA!I14+CA!I16)*Parameter!$D$11+Shape_edge!H15+Fractuation!H15*Parameter!$D$12+IF(Tilt!I15<0,COS((Tilt!I15-90)*2*PI()/360),0)","v":-0.54915534797763366},{"$f":"(CA!I15+CA!K15+CA!J14+CA!J16)*Parameter!$D$11+Shape_edge!I15+Fractuation!I15*Parameter!$D$12+IF(Tilt!J15<0,COS((Tilt!J15-90)*2*PI()/360),0)","v":-2.3215886488182722},{"$f":"(CA!J15+CA!L15+CA!K14+CA!K16)*Parameter!$D$11+Shape_edge!J15+Fractuation!J15*Parameter!$D$12+IF(Tilt!K15<0,COS((Tilt!K15-90)*2*PI()/360),0)","v":-1.2641185616792052},{"$f":"(CA!K15+CA!M15+CA!L14+CA!L16)*Parameter!$D$11+Shape_edge!K15+Fractuation!K15*Parameter!$D$12+IF(Tilt!L15<0,COS((Tilt!L15-90)*2*PI()/360),0)","v":-2.8314988032122179E-2},{"$f":"(CA!L15+CA!N15+CA!M14+CA!M16)*Parameter!$D$11+Shape_edge!L15+Fractuation!L15*Parameter!$D$12+IF(Tilt!M15<0,COS((Tilt!M15-90)*2*PI()/360),0)","v":-2.4959591637378598},{"$f":"(CA!M15+CA!O15+CA!N14+CA!N16)*Parameter!$D$11+Shape_edge!M15+Fractuation!M15*Parameter!$D$12+IF(Tilt!N15<0,COS((Tilt!N15-90)*2*PI()/360),0)","v":-1.5296842336359111},{"$f":"(CA!N15+CA!P15+CA!O14+CA!O16)*Parameter!$D$11+Shape_edge!N15+Fractuation!N15*Parameter!$D$12+IF(Tilt!O15<0,COS((Tilt!O15-90)*2*PI()/360),0)","v":-3.0789950806428323},{"$f":"(CA!O15+CA!Q15+CA!P14+CA!P16)*Parameter!$D$11+Shape_edge!O15+Fractuation!O15*Parameter!$D$12+IF(Tilt!P15<0,COS((Tilt!P15-90)*2*PI()/360),0)","v":-1.4149460335131261},{"$f":"(CA!P15+CA!R15+CA!Q14+CA!Q16)*Parameter!$D$11+Shape_edge!P15+Fractuation!P15*Parameter!$D$12+IF(Tilt!Q15<0,COS((Tilt!Q15-90)*2*PI()/360),0)","v":-1.9244702437551144},{"$f":"(CA!Q15+CA!S15+CA!R14+CA!R16)*Parameter!$D$11+Shape_edge!Q15+Fractuation!Q15*Parameter!$D$12+IF(Tilt!R15<0,COS((Tilt!R15-90)*2*PI()/360),0)","v":0.13851308846800858},{"$f":"(CA!R15+CA!T15+CA!S14+CA!S16)*Parameter!$D$11+Shape_edge!R15+Fractuation!R15*Parameter!$D$12+IF(Tilt!S15<0,COS((Tilt!S15-90)*2*PI()/360),0)","v":-1.9926448996862636},{"$f":"(CA!S15+CA!U15+CA!T14+CA!T16)*Parameter!$D$11+Shape_edge!S15+Fractuation!S15*Parameter!$D$12+IF(Tilt!T15<0,COS((Tilt!T15-90)*2*PI()/360),0)","v":0.37972270911920925},{"$f":"(CA!T15+CA!V15+CA!U14+CA!U16)*Parameter!$D$11+Shape_edge!T15+Fractuation!T15*Parameter!$D$12+IF(Tilt!U15<0,COS((Tilt!U15-90)*2*PI()/360),0)","v":-1.8147992337088581},{"$f":"(CA!U15+CA!W15+CA!V14+CA!V16)*Parameter!$D$11+Shape_edge!U15+Fractuation!U15*Parameter!$D$12+IF(Tilt!V15<0,COS((Tilt!V15-90)*2*PI()/360),0)","v":-2.6989124544473961},{"$f":"(CA!V15+CA!X15+CA!W14+CA!W16)*Parameter!$D$11+Shape_edge!V15+Fractuation!V15*Parameter!$D$12+IF(Tilt!W15<0,COS((Tilt!W15-90)*2*PI()/360),0)","v":-1.0502081377395305},{"$f":"(CA!W15+CA!Y15+CA!X14+CA!X16)*Parameter!$D$11+Shape_edge!W15+Fractuation!W15*Parameter!$D$12+IF(Tilt!X15<0,COS((Tilt!X15-90)*2*PI()/360),0)","v":-0.53000867521595707},{"$f":"(CA!X15+CA!Z15+CA!Y14+CA!Y16)*Parameter!$D$11+Shape_edge!X15+Fractuation!X15*Parameter!$D$12+IF(Tilt!Y15<0,COS((Tilt!Y15-90)*2*PI()/360),0)","v":0.18327590324162402},{"$f":"(CA!Y15+CA!AA15+CA!Z14+CA!Z16)*Parameter!$D$11+Shape_edge!Y15+Fractuation!Y15*Parameter!$D$12+IF(Tilt!Z15<0,COS((Tilt!Z15-90)*2*PI()/360),0)","v":-2.3869109081996869},{"$f":"(CA!Z15+CA!AB15+CA!AA14+CA!AA16)*Parameter!$D$11+Shape_edge!Z15+Fractuation!Z15*Parameter!$D$12+IF(Tilt!AA15<0,COS((Tilt!AA15-90)*2*PI()/360),0)","v":-1.7040575839759708},{"$f":"(CA!AA15+CA!AC15+CA!AB14+CA!AB16)*Parameter!$D$11+Shape_edge!AA15+Fractuation!AA15*Parameter!$D$12+IF(Tilt!AB15<0,COS((Tilt!AB15-90)*2*PI()/360),0)","v":-2.0133953435210401},{"$f":"(CA!AB15+CA!AD15+CA!AC14+CA!AC16)*Parameter!$D$11+Shape_edge!AB15+Fractuation!AB15*Parameter!$D$12+IF(Tilt!AC15<0,COS((Tilt!AC15-90)*2*PI()/360),0)","v":0.15486066970981249},{"$f":"(CA!AC15+CA!AE15+CA!AD14+CA!AD16)*Parameter!$D$11+Shape_edge!AC15+Fractuation!AC15*Parameter!$D$12+IF(Tilt!AD15<0,COS((Tilt!AD15-90)*2*PI()/360),0)","v":-0.68742898823963738},{"$f":"(CA!AD15+CA!AF15+CA!AE14+CA!AE16)*Parameter!$D$11+Shape_edge!AD15+Fractuation!AD15*Parameter!$D$12+IF(Tilt!AE15<0,COS((Tilt!AE15-90)*2*PI()/360),0)","v":-0.46866593928366185}]
[null,{"$f":"(CA!A16+CA!C16+CA!B15+CA!B17)*Parameter!$D$11+Shape_edge!A16+Fractuation!A16*Parameter!$D$12+IF(Tilt!B16<0,COS((Tilt!B16-90)*2*PI()/360),0)","v":-1.1093300152129049},{"$f":"(CA!B16+CA!D16+CA!C15+CA!C17)*Parameter!$D$11+Shape_edge!B16+Fractuation!B16*Parameter!$D$12+IF(Tilt!C16<0,COS((Tilt!C16-90)*2*PI()/360),0)","v":-0.2609164609871224},{"$f":"(CA!C16+CA!E16+CA!D15+CA!D17)*Parameter!$D$11+Shape_edge!C16+Fractuation!C16*Parameter!$D$12+IF(Tilt!D16<0,COS((Tilt!D16-90)*2*PI()/360),0)","v":-0.7496118864803738},{"$f":"(CA!D16+CA!F16+CA!E15+CA!E17)*Parameter!$D$11+Shape_edge!D16+Fractuation!D16*Parameter!$D$12+IF(Tilt!E16<0,COS((Tilt!E16-90)*2*PI()/360),0)","v":-0.32334451006845455},{"$f":"(CA!E16+CA!G16+CA!F15+CA!F17)*Parameter!$D$11+Shape_edge!E16+Fractuation!E16*Parameter!$D$12+IF(Tilt!F16<0,COS((Tilt!F16-90)*2*PI()/360),0)","v":-1.9829273786722772},{"$f":"(CA!F16+CA!H16+CA!G15+CA!G17)*Parameter!$D$11+Shape_edge!F16+Fractuation!F16*Parameter!$D$12+IF(Tilt!G16<0,COS((Tilt!G16-90)*2*PI()/360),0)","v":-1.1757093743786449},{"$f":"(CA!G16+CA!I16+CA!H15+CA!H17)*Parameter!$D$11+Shape_edge!G16+Fractuation!G16*Parameter!$D$12+IF(Tilt!H16<0,COS((Tilt!H16-90)*2*PI()/360),0)","v":0.25602331190037009},{"$f":"(CA!H16+CA!J16+CA!I15+CA!I17)*Parameter!$D$11+Shape_edge!H16+Fractuation!H16*Parameter!$D$12+IF(Tilt!I16<0,COS((Tilt!I16-90)*2*PI()/360),0)","v":-1.167579280659363},{"$f":"(CA!I16+CA!K16+CA!J15+CA!J17)*Parameter!$D$11+Shape_edge!I16+Fractuation!I16*Parameter!$D$12+IF(Tilt!J16<0,COS((Tilt!J16-90)*2*PI()/360),0)","v":-1.7741903800059409},{"$f":"(CA!J16+CA!L16+CA!K15+CA!K17)*Parameter!$D$11+Shape_edge!J16+Fractuation!J16*Parameter!$D$12+IF(Tilt!K16<0,COS((Tilt!K16-90)*2*PI()/360),0)","v":0.20864347670106342},{"$f":"(CA!K16+CA!M16+CA!L15+CA!L17)*Parameter!$D$11+Shape_edge!K16+Fractuation!K16*Parameter!$D$12+IF(Tilt!L16<0,COS((Tilt!L16-90)*2*PI()/360),0)","v":-2.0250202317429444},{"$f":"(CA!L16+CA!N16+CA!M15+CA!M17)*Parameter!$D$11+Shape_edge!L16+Fractuation!L16*Parameter!$D$12+IF(Tilt!M16<0,COS((Tilt!M16-90)*2*PI()/360),0)","v":-0.89484534332439281},{"$f":"(CA!M16+CA!O16+CA!N15+CA!N17)*Parameter!$D$11+Shape_edge!M16+Fractuation!M16*Parameter!$D$12+IF(Tilt!N16<0,COS((Tilt!N16-90)*2*PI()/360),0)","v":-1.5783810605116928},{"$f":"(CA!N16+CA!P16+CA!O15+CA!O17)*Parameter!$D$11+Shape_edge!N16+Fractuation!N16*Parameter!$D$12+IF(Tilt!O16<0,COS((Tilt!O16-90)*2*PI()/360),0)","v":-1.1691809044398001},{"$f":"(CA!O16+CA!Q16+CA!P15+CA!P17)*Parameter!$D$11+Shape_edge!O16+Fractuation!O16*Parameter!$D$12+IF(Tilt!P16<0,COS((Tilt!P16-90)*2*PI()/360),0)","v":-0.80076972703317995},{"$f":"(CA!P16+CA!R16+CA!Q15+CA!Q17)*Parameter!$D$11+Shape_edge!P16+Fractuation!P16*Parameter!$D$12+IF(Tilt!Q16<0,COS((Tilt!Q16-90)*2*PI()/360),0)","v":-0.62055524872701295},{"$f":"(CA!Q16+CA!S16+CA!R15+CA!R17)*Parameter!$D$11+Shape_edge!Q16+Fractuation!Q16*Parameter!$D$12+IF(Tilt!R16<0,COS((Tilt!R16-90)*2*PI()/360),0)","v":-2.0253467102167626},{"$f":"(CA!R16+CA!T16+CA!S15+CA!S17)*Parameter!$D$11+Shape_edge!R16+Fractuation!R16*Parameter!$D$12+IF(Tilt!S16<0,COS((Tilt!S16-90)*2*PI()/360),0)","v":-2.7067664435316043},{"$f":"(CA!S16+CA!U16+CA!T15+CA!T17)*Parameter!$D$11+Shape_edge!S16+Fractuation!S16*Parameter!$D$12+IF(Tilt!T16<0,COS((Tilt!T16-90)*2*PI()/360),0)","v":-2.772063913653648},{"$f":"(CA!T16+CA!V16+CA!U15+CA!U17)*Parameter!$D$11+Shape_edge!T16+Fractuation!T16*Parameter!$D$12+IF(Tilt!U16<0,COS((Tilt!U16-90)*2*PI()/360),0)","v":-1.603938203022655},{"$f":"(CA!U16+CA!W16+CA!V15+CA!V17)*Parameter!$D$11+Shape_edge!U16+Fractuation!U16*Parameter!$D$12+IF(Tilt!V16<0,COS((Tilt!V16-90)*2*PI()/360),0)","v":-0.62387737269649146},{"$f":"(CA!V16+CA!X16+CA!W15+CA!W17)*Parameter!$D$11+Shape_edge!V16+Fractuation!V16*Parameter!$D$12+IF(Tilt!W16<0,COS((Tilt!W16-90)*2*PI()/360),0)","v":-0.53803246229215773},{"$f":"(CA!W16+CA!Y16+CA!X15+CA!X17)*Parameter!$D$11+Shape_edge!W16+Fractuation!W16*Parameter!$D$12+IF(Tilt!X16<0,COS((Tilt!X16-90)*2*PI()/360),0)","v":-2.3578390197944854},{"$f":"(CA!X16+CA!Z16+CA!Y15+CA!Y17)*Parameter!$D$11+Shape_edge!X16+Fractuation!X16*Parameter!$D$12+IF(Tilt!Y16<0,COS((Tilt!Y16-90)*2*PI()/360),0)","v":-2.0227669218870377},{"$f":"(CA!Y16+CA!AA16+CA!Z15+CA!Z17)*Parameter!$D$11+Shape_edge!Y16+Fractuation!Y16*Parameter!$D$12+IF(Tilt!Z16<0,COS((Tilt!Z16-90)*2*PI()/360),0)","v":1.4966472563035267},{"$f":"(CA!Z16+CA!AB16+CA!AA15+CA!AA17)*Parameter!$D$11+Shape_edge!Z16+Fractuation!Z16*Parameter!$D$12+IF(Tilt!AA16<0,COS((Tilt!AA16-90)*2*PI()/360),0)","v":-1.330488748276637},{"$f":"(CA!AA16+CA!AC16+CA!AB15+CA!AB17)*Parameter!$D$11+Shape_edge!AA16+Fractuation!AA16*Parameter!$D$12+IF(Tilt!AB16<0,COS((Tilt!AB16-90)*2*PI()/360),0)","v":-0.38896774434037484},{"$f":"(CA!AB16+CA!AD16+CA!AC15+CA!AC17)*Parameter!$D$11+Shape_edge!AB16+Fractuation!AB16*Parameter!$D$12+IF(Tilt!AC16<0,COS((Tilt!AC16-90)*2*PI()/360),0)","v":0.78264878771122781},{"$f":"(CA!AC16+CA!AE16+CA!AD15+CA!AD17)*Parameter!$D$11+Shape_edge!AC16+Fractuation!AC16*Parameter!$D$12+IF(Tilt!AD16<0,COS((Tilt!AD16-90)*2*PI()/360),0)","v":0.16798574663247257},{"$f":"(CA!AD16+CA!AF16+CA!AE15+CA!AE17)*Parameter!$D$11+Shape_edge!AD16+Fractuation!AD16*Parameter!$D$12+IF(Tilt!AE16<0,COS((Tilt!AE16-90)*2*PI()/360),0)","v":-1.7596311804860214}]
[null,{"$f":"(CA!A17+CA!C17+CA!B16+CA!B18)*Parameter!$D$11+Shape_edge!A17+Fractuation!A17*Parameter!$D$12+IF(Tilt!B17<0,COS((Tilt!B17-90)*2*PI()/360),0)","v":-1.0166487080932924},{"$f":"(CA!B17+CA!D17+CA!C16+CA!C18)*Parameter!$D$11+Shape_edge!B17+Fractuation!B17*Parameter!$D$12+IF(Tilt!C17<0,COS((Tilt!C17-90)*2*PI()/360),0)","v":-1.4324932166433171},{"$f":"(CA!C17+CA!E17+CA!D16+CA!D18)*Parameter!$D$11+Shape_edge!C17+Fractuation!C17*Parameter!$D$12+IF(Tilt!D17<0,COS((Tilt!D17-90)*2*PI()/360),0)","v":-1.6316955076829784},{"$f":"(CA!D17+CA!F17+CA!E16+CA!E18)*Parameter!$D$11+Shape_edge!D17+Fractuation!D17*Parameter!$D$12+IF(Tilt!E17<0,COS((Tilt!E17-90)*2*PI()/360),0)","v":-1.2212705336778642},{"$f":"(CA!E17+CA!G17+CA!F16+CA!F18)*Parameter!$D$11+Shape_edge!E17+Fractuation!E17*Parameter!$D$12+IF(Tilt!F17<0,COS((Tilt!F17-90)*2*PI()/360),0)","v":-0.80865100438803572},{"$f":"(CA!F17+CA!H17+CA!G16+CA!G18)*Parameter!$D$11+Shape_edge!F17+Fractuation!F17*Parameter!$D$12+IF(Tilt!G17<0,COS((Tilt!G17-90)*2*PI()/360),0)","v":-1.5780654902509283},{"$f":"(CA!G17+CA!I17+CA!H16+CA!H18)*Parameter!$D$11+Shape_edge!G17+Fractuation!G17*Parameter!$D$12+IF(Tilt!H17<0,COS((Tilt!H17-90)*2*PI()/360),0)","v":-0.54999470566227693},{"$f":"(CA!H17+CA!J17+CA!I16+CA!I18)*Parameter!$D$11+Shape_edge!H17+Fractuation!H17*Parameter!$D$12+IF(Tilt!I17<0,COS((Tilt!I17-90)*2*PI()/360),0)","v":-1.227356630010761},{"$f":"(CA!I17+CA!K17+CA!J16+CA!J18)*Parameter!$D$11+Shape_edge!I17+Fractuation!I17*Parameter!$D$12+IF(Tilt!J17<0,COS((Tilt!J17-90)*2*PI()/360),0)","v":-0.99384888787055359},{"$f":"(CA!J17+CA!L17+CA!K16+CA!K18)*Parameter!$D$11+Shape_edge!J17+Fractuation!J17*Parameter!$D$12+IF(Tilt!K17<0,COS((Tilt!K17-90)*2*PI()/360),0)","v":-0.49683108004233234},{"$f":"(CA!K17+CA!M17+CA!L16+CA!L18)*Parameter!$D$11+Shape_edge!K17+Fractuation!K17*Parameter!$D$12+IF(Tilt!L17<0,COS((Tilt!L17-90)*2*PI()/360),0)","v":0.59793272536127162},{"$f":"(CA!L17+CA!N17+CA!M16+CA!M18)*Parameter!$D$11+Shape_edge!L17+Fractuation!L17*Parameter!$D$12+IF(Tilt!M17<0,COS((Tilt!M17-90)*2*PI()/360),0)","v":-2.1244058468136675},{"$f":"(CA!M17+CA!O17+CA!N16+CA!N18)*Parameter!$D$11+Shape_edge!M17+Fractuation!M17*Parameter!$D$12+IF(Tilt!N17<0,COS((Tilt!N17-90)*2*PI()/360),0)","v":-1.5172306887970388},{"$f":"(CA!N17+CA!P17+CA!O16+CA!O18)*Parameter!$D$11+Shape_edge!N17+Fractuation!N17*Parameter!$D$12+IF(Tilt!O17<0,COS((Tilt!O17-90)*2*PI()/360),0)","v":1.1329108139964643},{"$f":"(CA!O17+CA!Q17+CA!P16+CA!P18)*Parameter!$D$11+Shape_edge!O17+Fractuation!O17*Parameter!$D$12+IF(Tilt!P17<0,COS((Tilt!P17-90)*2*PI()/360),0)","v":-1.2137362637384637},{"$f":"(CA!P17+CA!R17+CA!Q16+CA!Q18)*Parameter!$D$11+Shape_edge!P17+Fractuation!P17*Parameter!$D$12+IF(Tilt!Q17<0,COS((Tilt!Q17-90)*2*PI()/360),0)","v":-0.99154960656795088},{"$f":"(CA!Q17+CA!S17+CA!R16+CA!R18)*Parameter!$D$11+Shape_edge!Q17+Fractuation!Q17*Parameter!$D$12+IF(Tilt!R17<0,COS((Tilt!R17-90)*2*PI()/360),0)","v":-2.201135246108743E-2},{"$f":"(CA!R17+CA!T17+CA!S16+CA!S18)*Parameter!$D$11+Shape_edge!R17+Fractuation!R17*Parameter!$D$12+IF(Tilt!S17<0,COS((Tilt!S17-90)*2*PI()/360),0)","v":-2.5785149547495188},{"$f":"(CA!S17+CA!U17+CA!T16+CA!T18)*Parameter!$D$11+Shape_edge!S17+Fractuation!S17*Parameter!$D$12+IF(Tilt!T17<0,COS((Tilt!T17-90)*2*PI()/360),0)","v":-1.5847971652946691},{"$f":"(CA!T17+CA!V17+CA!U16+CA!U18)*Parameter!$D$11+Shape_edge!T17+Fractuation!T17*Parameter!$D$12+IF(Tilt!U17<0,COS((Tilt!U17-90)*2*PI()/360),0)","v":-1.2016086065588503},{"$f":"(CA!U17+CA!W17+CA!V16+CA!V18)*Parameter!$D$11+Shape_edge!U17+Fractuation!U17*Parameter!$D$12+IF(Tilt!V17<0,COS((Tilt!V17-90)*2*PI()/360),0)","v":-1.4828923048577969},{"$f":"(CA!V17+CA!X17+CA!W16+CA!W18)*Parameter!$D$11+Shape_edge!V17+Fractuation!V17*Parameter!$D$12+IF(Tilt!W17<0,COS((Tilt!W17-90)*2*PI()/360),0)","v":-2.2189430200036009},{"$f":"(CA!W17+CA!Y17+CA!X16+CA!X18)*Parameter!$D$11+Shape_edge!W17+Fractuation!W17*Parameter!$D$12+IF(Tilt!X17<0,COS((Tilt!X17-90)*2*PI()/360),0)","v":-1.6537733148436924},{"$f":"(CA!X17+CA!Z17+CA!Y16+CA!Y18)*Parameter!$D$11+Shape_edge!X17+Fractuation!X17*Parameter!$D$12+IF(Tilt!Y17<0,COS((Tilt!Y17-90)*2*PI()/360),0)","v":-1.2204334091987543},{"$f":"(CA!Y17+CA!AA17+CA!Z16+CA!Z18)*Parameter!$D$11+Shape_edge!Y17+Fractuation!Y17*Parameter!$D$12+IF(Tilt!Z17<0,COS((Tilt!Z17-90)*2*PI()/360),0)","v":-0.96555838675697903},{"$f":"(CA!Z17+CA!AB17+CA!AA16+CA!AA18)*Parameter!$D$11+Shape_edge!Z17+Fractuation!Z17*Parameter!$D$12+IF(Tilt!AA17<0,COS((Tilt!AA17-90)*2*PI()/360),0)","v":0.29633325338425798},{"$f":"(CA!AA17+CA!AC17+CA!AB16+CA!AB18)*Parameter!$D$11+Shape_edge!AA17+Fractuation!AA17*Parameter!$D$12+IF(Tilt!AB17<0,COS((Tilt!AB17-90)*2*PI()/360),0)","v":-1.68641540803885},{"$f":"(CA!AB17+CA!AD17+CA!AC16+CA!AC18)*Parameter!$D$11+Shape_edge!AB17+Fractuation!AB17*Parameter!$D$12+IF(Tilt!AC17<0,COS((Tilt!AC17-90)*2*PI()/360),0)","v":-2.897427314043675},{"$f":"(CA!AC17+CA!AE17+CA!AD16+CA!AD18)*Parameter!$D$11+Shape_edge!AC17+Fractuation!AC17*Parameter!$D$12+IF(Tilt!AD17<0,COS((Tilt!AD17-90)*2*PI()/360),0)","v":-1.5450288842400268},{"$f":"(CA!AD17+CA!AF17+CA!AE16+CA!AE18)*Parameter!$D$11+Shape_edge!AD17+Fractuation!AD17*Parameter!$D$12+IF(Tilt!AE17<0,COS((Tilt!AE17-90)*2*PI()/360),0)","v":-0.69496171679090879}]
[null,{"$f":"(CA!A18+CA!C18+CA!B17+CA!B19)*Parameter!$D$11+Shape_edge!A18+Fractuation!A18*Parameter!$D$12+IF(Tilt!B18<0,COS((Tilt!B18-90)*2*PI()/360),0)","v":-1.1013386927466573},{"$f":"(CA!B18+CA!D18+CA!C17+CA!C19)*Parameter!$D$11+Shape_edge!B18+Fractuation!B18*Parameter!$D$12+IF(Tilt!C18<0,COS((Tilt!C18-90)*2*PI()/360),0)","v":-0.60337572563875908},{"$f":"(CA!C18+CA!E18+CA!D17+CA!D19)*Parameter!$D$11+Shape_edge!C18+Fractuation!C18*Parameter!$D$12+IF(Tilt!D18<0,COS((Tilt!D18-90)*2*PI()/360),0)","v":-0.84647138251318754},{"$f":"(CA!D18+CA!F18+CA!E17+CA!E19)*Parameter!$D$11+Shape_edge!D18+Fractuation!D18*Parameter!$D$12+IF(Tilt!E18<0,COS((Tilt!E18-90)*2*PI()/360),0)","v":-1.4505859981330851},{"$f":"(CA!E18+CA!G18+CA!F17+CA!F19)*Parameter!$D$11+Shape_edge!E18+Fractuation!E18*Parameter!$D$12+IF(Tilt!F18<0,COS((Tilt!F18-90)*2*PI()/360),0)","v":-0.62062493039235211},{"$f":"(CA!F18+CA!H18+CA!G17+CA!G19)*Parameter!$D$11+Shape_edge!F18+Fractuation!F18*Parameter!$D$12+IF(Tilt!G18<0,COS((Tilt!G18-90)*2*PI()/360),0)","v":-4.6618402397705205E-2},{"$f":"(CA!G18+CA!I18+CA!H17+CA!H19)*Parameter!$D$11+Shape_edge!G18+Fractuation!G18*Parameter!$D$12+IF(Tilt!H18<0,COS((Tilt!H18-90)*2*PI()/360),0)","v":0.68658019396893488},{"$f":"(CA!H18+CA!J18+CA!I17+CA!I19)*Parameter!$D$11+Shape_edge!H18+Fractuation!H18*Parameter!$D$12+IF(Tilt!I18<0,COS((Tilt!I18-90)*2*PI()/360),0)","v":-1.1332616403322857},{"$f":"(CA!I18+CA!K18+CA!J17+CA!J19)*Parameter!$D$11+Shape_edge!I18+Fractuation!I18*Parameter!$D$12+IF(Tilt!J18<0,COS((Tilt!J18-90)*2*PI()/360),0)","v":1.0321666450340259},{"$f":"(CA!J18+CA!L18+CA!K17+CA!K19)*Parameter!$D$11+Shape_edge!J18+Fractuation!J18*Parameter!$D$12+IF(Tilt!K18<0,COS((Tilt!K18-90)*2*PI()/360),0)","v":-2.3413922902200839},{"$f":"(CA!K18+CA!M18+CA!L17+CA!L19)*Parameter!$D$11+Shape_edge!K18+Fractuation!K18*Parameter!$D$12+IF(Tilt!L18<0,COS((Tilt!L18-90)*2*PI()/360),0)","v":-0.74120298924113159},{"$f":"(CA!L18+CA!N18+CA!M17+CA!M19)*Parameter!$D$11+Shape_edge!L18+Fractuation!L18*Parameter!$D$12+IF(Tilt!M18<0,COS((Tilt!M18-90)*2*PI()/360),0)","v":-1.1231368157978125},{"$f":"(CA!M18+CA!O18+CA!N17+CA!N19)*Parameter!$D$11+Shape_edge!M18+Fractuation!M18*Parameter!$D$12+IF(Tilt!N18<0,COS((Tilt!N18-90)*2*PI()/360),0)","v":-0.66818013322305747},{"$f":"(CA!N18+CA!P18+CA!O17+CA!O19)*Parameter!$D$11+Shape_edge!N18+Fractuation!N18*Parameter!$D$12+IF(Tilt!O18<0,COS((Tilt!O18-90)*2*PI()/360),0)","v":-2.1672735221758472},{"$f":"(CA!O18+CA!Q18+CA!P17+CA!P19)*Parameter!$D$11+Shape_edge!O18+Fractuation!O18*Parameter!$D$12+IF(Tilt!P18<0,COS((Tilt!P18-90)*2*PI()/360),0)","v":-1.8051428232034052},{"$f":"(CA!P18+CA!R18+CA!Q17+CA!Q19)*Parameter!$D$11+Shape_edge!P18+Fractuation!P18*Parameter!$D$12+IF(Tilt!Q18<0,COS((Tilt!Q18-90)*2*PI()/360),0)","v":-1.7204382878293665},{"$f":"(CA!Q18+CA!S18+CA!R17+CA!R19)*Parameter!$D$11+Shape_edge!Q18+Fractuation!Q18*Parameter!$D$12+IF(Tilt!R18<0,COS((Tilt!R18-90)*2*PI()/360),0)","v":-2.2288526452000621},{"$f":"(CA!R18+CA!T18+CA!S17+CA!S19)*Parameter!$D$11+Shape_edge!R18+Fractuation!R18*Parameter!$D$12+IF(Tilt!S18<0,COS((Tilt!S18-90)*2*PI()/360),0)","v":-2.4511355988475723},{"$f":"(CA!S18+CA!U18+CA!T17+CA!T19)*Parameter!$D$11+Shape_edge!S18+Fractuation!S18*Parameter!$D$12+IF(Tilt!T18<0,COS((Tilt!T18-90)*2*PI()/360),0)","v":-1.7832726327902904},{"$f":"(CA!T18+CA!V18+CA!U17+CA!U19)*Parameter!$D$11+Shape_edge!T18+Fractuation!T18*Parameter!$D$12+IF(Tilt!U18<0,COS((Tilt!U18-90)*2*PI()/360),0)","v":-1.157586752572668},{"$f":"(CA!U18+CA!W18+CA!V17+CA!V19)*Parameter!$D$11+Shape_edge!U18+Fractuation!U18*Parameter!$D$12+IF(Tilt!V18<0,COS((Tilt!V18-90)*2*PI()/360),0)","v":-0.51232758506505816},{"$f":"(CA!V18+CA!X18+CA!W17+CA!W19)*Parameter!$D$11+Shape_edge!V18+Fractuation!V18*Parameter!$D$12+IF(Tilt!W18<0,COS((Tilt!W18-90)*2*PI()/360),0)","v":-6.6953084891112957E-2},{"$f":"(CA!W18+CA!Y18+CA!X17+CA!X19)*Parameter!$D$11+Shape_edge!W18+Fractuation!W18*Parameter!$D$12+IF(Tilt!X18<0,COS((Tilt!X18-90)*2*PI()/360),0)","v":-1.3390655227640553},{"$f":"(CA!X18+CA!Z18+CA!Y17+CA!Y19)*Parameter!$D$11+Shape_edge!X18+Fractuation!X18*Parameter!$D$12+IF(Tilt!Y18<0,COS((Tilt!Y18-90)*2*PI()/360),0)","v":-1.7191385541574706},{"$f":"(CA!Y18+CA!AA18+CA!Z17+CA!Z19)*Parameter!$D$11+Shape_edge!Y18+Fractuation!Y18*Parameter!$D$12+IF(Tilt!Z18<0,COS((Tilt!Z18-90)*2*PI()/360),0)","v":-1.4417090625345832},{"$f":"(CA!Z18+CA!AB18+CA!AA17+CA!AA19)*Parameter!$D$11+Shape_edge!Z18+Fractuation!Z18*Parameter!$D$12+IF(Tilt!AA18<0,COS((Tilt!AA18-90)*2*PI()/360),0)","v":-2.8670026933147481},{"$f":"(CA!AA18+CA!AC18+CA!AB17+CA!AB19)*Parameter!$D$11+Shape_edge!AA18+Fractuation!AA18*Parameter!$D$12+IF(Tilt!AB18<0,COS((Tilt!AB18-90)*2*PI()/360),0)","v":-7.4763270791959102E-2},{"$f":"(CA!AB18+CA!AD18+CA!AC17+CA!AC19)*Parameter!$D$11+Shape_edge!AB18+Fractuation!AB18*Parameter!$D$12+IF(Tilt!AC18<0,COS((Tilt!AC18-90)*2*PI()/360),0)","v":-1.461003611780711},{"$f":"(CA!AC18+CA!AE18+CA!AD17+CA!AD19)*Parameter!$D$11+Shape_edge!AC18+Fractuation!AC18*Parameter!$D$12+IF(Tilt!AD18<0,COS((Tilt!AD18-90)*2*PI()/360),0)","v":-2.1115999013111972},{"$f":"(CA!AD18+CA!AF18+CA!AE17+CA!AE19)*Parameter!$D$11+Shape_edge!AD18+Fractuation!AD18*Parameter!$D$12+IF(Tilt!AE18<0,COS((Tilt!AE18-90)*2*PI()/360),0)","v":-1.2565696824891717}]
[null,{"$f":"(CA!A19+CA!C19+CA!B18+CA!B20)*Parameter!$D$11+Shape_edge!A19+Fractuation!A19*Parameter!$D$12+IF(Tilt!B19<0,COS((Tilt!B19-90)*2*PI()/360),0)","v":-3.4989698099829991E-2},{"$f":"(CA!B19+CA!D19+CA!C18+CA!C20)*Parameter!$D$11+Shape_edge!B19+Fractuation!B19*Parameter!$D$12+IF(Tilt!C19<0,COS((Tilt!C19-90)*2*PI()/360),0)","v":-2.4469652335978669},{"$f":"(CA!C19+CA!E19+CA!D18+CA!D20)*Parameter!$D$11+Shape_edge!C19+Fractuation!C19*Parameter!$D$12+IF(Tilt!D19<0,COS((Tilt!D19-90)*2*PI()/360),0)","v":-0.76513824486247428},{"$f":"(CA!D19+CA!F19+CA!E18+CA!E20)*Parameter!$D$11+Shape_edge!D19+Fractuation!D19*Parameter!$D$12+IF(Tilt!E19<0,COS((Tilt!E19-90)*2*PI()/360),0)","v":-1.4538586091169581},{"$f":"(CA!E19+CA!G19+CA!F18+CA!F20)*Parameter!$D$11+Shape_edge!E19+Fractuation!E19*Parameter!$D$12+IF(Tilt!F19<0,COS((Tilt!F19-90)*2*PI()/360),0)","v":0.49891610735209713},{"$f":"(CA!F19+CA!H19+CA!G18+CA!G20)*Parameter!$D$11+Shape_edge!F19+Fractuation!F19*Parameter!$D$12+IF(Tilt!G19<0,COS((Tilt!G19-90)*2*PI()/360),0)","v":-1.0802840866222376},{"$f":"(CA!G19+CA!I19+CA!H18+CA!H20)*Parameter!$D$11+Shape_edge!G19+Fractuation!G19*Parameter!$D$12+IF(Tilt!H19<0,COS((Tilt!H19-90)*2*PI()/360),0)","v":-0.40356169693904165},{"$f":"(CA!H19+CA!J19+CA!I18+CA!I20)*Parameter!$D$11+Shape_edge!H19+Fractuation!H19*Parameter!$D$12+IF(Tilt!I19<0,COS((Tilt!I19-90)*2*PI()/360),0)","v":-2.2849210458222946},{"$f":"(CA!I19+CA!K19+CA!J18+CA!J20)*Parameter!$D$11+Shape_edge!I19+Fractuation!I19*Parameter!$D$12+IF(Tilt!J19<0,COS((Tilt!J19-90)*2*PI()/360),0)","v":-0.77460755606549425},{"$f":"(CA!J19+CA!L19+CA!K18+CA!K20)*Parameter!$D$11+Shape_edge!J19+Fractuation!J19*Parameter!$D$12+IF(Tilt!K19<0,COS((Tilt!K19-90)*2*PI()/360),0)","v":-0.16799372427551229},{"$f":"(CA!K19+CA!M19+CA!L18+CA!L20)*Parameter!$D$11+Shape_edge!K19+Fractuation!K19*Parameter!$D$12+IF(Tilt!L19<0,COS((Tilt!L19-90)*2*PI()/360),0)","v":0.16694936226776735},{"$f":"(CA!L19+CA!N19+CA!M18+CA!M20)*Parameter!$D$11+Shape_edge!L19+Fractuation!L19*Parameter!$D$12+IF(Tilt!M19<0,COS((Tilt!M19-90)*2*PI()/360),0)","v":-0.60825491924194286},{"$f":"(CA!M19+CA!O19+CA!N18+CA!N20)*Parameter!$D$11+Shape_edge!M19+Fractuation!M19*Parameter!$D$12+IF(Tilt!N19<0,COS((Tilt!N19-90)*2*PI()/360),0)","v":-1.4601126936943039},{"$f":"(CA!N19+CA!P19+CA!O18+CA!O20)*Parameter!$D$11+Shape_edge!N19+Fractuation!N19*Parameter!$D$12+IF(Tilt!O19<0,COS((Tilt!O19-90)*2*PI()/360),0)","v":0.3338827848823942},{"$f":"(CA!O19+CA!Q19+CA!P18+CA!P20)*Parameter!$D$11+Shape_edge!O19+Fractuation!O19*Parameter!$D$12+IF(Tilt!P19<0,COS((Tilt!P19-90)*2*PI()/360),0)","v":-2.4458625037904409},{"$f":"(CA!P19+CA!R19+CA!Q18+CA!Q20)*Parameter!$D$11+Shape_edge!P19+Fractuation!P19*Parameter!$D$12+IF(Tilt!Q19<0,COS((Tilt!Q19-90)*2*PI()/360),0)","v":-0.72340861768604703},{"$f":"(CA!Q19+CA!S19+CA!R18+CA!R20)*Parameter!$D$11+Shape_edge!Q19+Fractuation!Q19*Parameter!$D$12+IF(Tilt!R19<0,COS((Tilt!R19-90)*2*PI()/360),0)","v":-1.1723019038488118},{"$f":"(CA!R19+CA!T19+CA!S18+CA!S20)*Parameter!$D$11+Shape_edge!R19+Fractuation!R19*Parameter!$D$12+IF(Tilt!S19<0,COS((Tilt!S19-90)*2*PI()/360),0)","v":-2.2510799399039114},{"$f":"(CA!S19+CA!U19+CA!T18+CA!T20)*Parameter!$D$11+Shape_edge!S19+Fractuation!S19*Parameter!$D$12+IF(Tilt!T19<0,COS((Tilt!T19-90)*2*PI()/360),0)","v":-0.469001421933953},{"$f":"(CA!T19+CA!V19+CA!U18+CA!U20)*Parameter!$D$11+Shape_edge!T19+Fractuation!T19*Parameter!$D$12+IF(Tilt!U19<0,COS((Tilt!U19-90)*2*PI()/360),0)","v":-1.572226592149133},{"$f":"(CA!U19+CA!W19+CA!V18+CA!V20)*Parameter!$D$11+Shape_edge!U19+Fractuation!U19*Parameter!$D$12+IF(Tilt!V19<0,COS((Tilt!V19-90)*2*PI()/360),0)","v":-1.0929288776836454},{"$f":"(CA!V19+CA!X19+CA!W18+CA!W20)*Parameter!$D$11+Shape_edge!V19+Fractuation!V19*Parameter!$D$12+IF(Tilt!W19<0,COS((Tilt!W19-90)*2*PI()/360),0)","v":-0.33693743141249988},{"$f":"(CA!W19+CA!Y19+CA!X18+CA!X20)*Parameter!$D$11+Shape_edge!W19+Fractuation!W19*Parameter!$D$12+IF(Tilt!X19<0,COS((Tilt!X19-90)*2*PI()/360),0)","v":-1.6767883004827531},{"$f":"(CA!X19+CA!Z19+CA!Y18+CA!Y20)*Parameter!$D$11+Shape_edge!X19+Fractuation!X19*Parameter!$D$12+IF(Tilt!Y19<0,COS((Tilt!Y19-90)*2*PI()/360),0)","v":0.27865466423076724},{"$f":"(CA!Y19+CA!AA19+CA!Z18+CA!Z20)*Parameter!$D$11+Shape_edge!Y19+Fractuation!Y19*Parameter!$D$12+IF(Tilt!Z19<0,COS((Tilt!Z19-90)*2*PI()/360),0)","v":-2.0350992079509806},{"$f":"(CA!Z19+CA!AB19+CA!AA18+CA!AA20)*Parameter!$D$11+Shape_edge!Z19+Fractuation!Z19*Parameter!$D$12+IF(Tilt!AA19<0,COS((Tilt!AA19-90)*2*PI()/360),0)","v":-2.6154299313971823},{"$f":"(CA!AA19+CA!AC19+CA!AB18+CA!AB20)*Parameter!$D$11+Shape_edge!AA19+Fractuation!AA19*Parameter!$D$12+IF(Tilt!AB19<0,COS((Tilt!AB19-90)*2*PI()/360),0)","v":-0.71955275284477849},{"$f":"(CA!AB19+CA!AD19+CA!AC18+CA!AC20)*Parameter!$D$11+Shape_edge!AB19+Fractuation!AB19*Parameter!$D$12+IF(Tilt!AC19<0,COS((Tilt!AC19-90)*2*PI()/360),0)","v":-0.8112262572851856},{"$f":"(CA!AC19+CA!AE19+CA!AD18+CA!AD20)*Parameter!$D$11+Shape_edge!AC19+Fractuation!AC19*Parameter!$D$12+IF(Tilt!AD19<0,COS((Tilt!AD19-90)*2*PI()/360),0)","v":-1.7763011945303067},{"$f":"(CA!AD19+CA!AF19+CA!AE18+CA!AE20)*Parameter!$D$11+Shape_edge!AD19+Fractuation!AD19*Parameter!$D$12+IF(Tilt!AE19<0,COS((Tilt!AE19-90)*2*PI()/360),0)","v":-1.4931546758971406}]
[null,{"$f":"(CA!A20+CA!C20+CA!B19+CA!B21)*Parameter!$D$11+Shape_edge!A20+Fractuation!A20*Parameter!$D$12+IF(Tilt!B20<0,COS((Tilt!B20-90)*2*PI()/360),0)","v":-1.2259204228579383},{"$f":"(CA!B20+CA!D20+CA!C19+CA!C21)*Parameter!$D$11+Shape_edge!B20+Fractuation!B20*Parameter!$D$12+IF(Tilt!C20<0,COS((Tilt!C20-90)*2*PI()/360),0)","v":-1.2307333927405277},{"$f":"(CA!C20+CA!E20+CA!D19+CA!D21)*Parameter!$D$11+Shape_edge!C20+Fractuation!C20*Parameter!$D$12+IF(Tilt!D20<0,COS((Tilt!D20-90)*2*PI()/360),0)","v":-1.3459556067863849},{"$f":"(CA!D20+CA!F20+CA!E19+CA!E21)*Parameter!$D$11+Shape_edge!D20+Fractuation!D20*Parameter!$D$12+IF(Tilt!E20<0,COS((Tilt!E20-90)*2*PI()/360),0)","v":-0.49691467593452576},{"$f":"(CA!E20+CA!G20+CA!F19+CA!F21)*Parameter!$D$11+Shape_edge!E20+Fractuation!E20*Parameter!$D$12+IF(Tilt!F20<0,COS((Tilt!F20-90)*2*PI()/360),0)","v":-1.4352391496416828},{"$f":"(CA!F20+CA!H20+CA!G19+CA!G21)*Parameter!$D$11+Shape_edge!F20+Fractuation!F20*Parameter!$D$12+IF(Tilt!G20<0,COS((Tilt!G20-90)*2*PI()/360),0)","v":-1.6183516308964432},{"$f":"(CA!G20+CA!I20+CA!H19+CA!H21)*Parameter!$D$11+Shape_edge!G20+Fractuation!G20*Parameter!$D$12+IF(Tilt!H20<0,COS((Tilt!H20-90)*2*PI()/360),0)","v":-1.1232810379387592},{"$f":"(CA!H20+CA!J20+CA!I19+CA!I21)*Parameter!$D$11+Shape_edge!H20+Fractuation!H20*Parameter!$D$12+IF(Tilt!I20<0,COS((Tilt!I20-90)*2*PI()/360),0)","v":-1.3759617935220105},{"$f":"(CA!I20+CA!K20+CA!J19+CA!J21)*Parameter!$D$11+Shape_edge!I20+Fractuation!I20*Parameter!$D$12+IF(Tilt!J20<0,COS((Tilt!J20-90)*2*PI()/360),0)","v":-0.31822028978528716},{"$f":"(CA!J20+CA!L20+CA!K19+CA!K21)*Parameter!$D$11+Shape_edge!J20+Fractuation!J20*Parameter!$D$12+IF(Tilt!K20<0,COS((Tilt!K20-90)*2*PI()/360),0)","v":0.59882833477325836},{"$f":"(CA!K20+CA!M20+CA!L19+CA!L21)*Parameter!$D$11+Shape_edge!K20+Fractuation!K20*Parameter!$D$12+IF(Tilt!L20<0,COS((Tilt!L20-90)*2*PI()/360),0)","v":-1.5258513211804781},{"$f":"(CA!L20+CA!N20+CA!M19+CA!M21)*Parameter!$D$11+Shape_edge!L20+Fractuation!L20*Parameter!$D$12+IF(Tilt!M20<0,COS((Tilt!M20-90)*2*PI()/360),0)","v":-0.92517969379868792},{"$f":"(CA!M20+CA!O20+CA!N19+CA!N21)*Parameter!$D$11+Shape_edge!M20+Fractuation!M20*Parameter!$D$12+IF(Tilt!N20<0,COS((Tilt!N20-90)*2*PI()/360),0)","v":-0.48625456456118032},{"$f":"(CA!N20+CA!P20+CA!O19+CA!O21)*Parameter!$D$11+Shape_edge!N20+Fractuation!N20*Parameter!$D$12+IF(Tilt!O20<0,COS((Tilt!O20-90)*2*PI()/360),0)","v":-1.320137087276791},{"$f":"(CA!O20+CA!Q20+CA!P19+CA!P21)*Parameter!$D$11+Shape_edge!O20+Fractuation!O20*Parameter!$D$12+IF(Tilt!P20<0,COS((Tilt!P20-90)*2*PI()/360),0)","v":-2.0828478851309127},{"$f":"(CA!P20+CA!R20+CA!Q19+CA!Q21)*Parameter!$D$11+Shape_edge!P20+Fractuation!P20*Parameter!$D$12+IF(Tilt!Q20<0,COS((Tilt!Q20-90)*2*PI()/360),0)","v":-0.21255730750414858},{"$f":"(CA!Q20+CA!S20+CA!R19+CA!R21)*Parameter!$D$11+Shape_edge!Q20+Fractuation!Q20*Parameter!$D$12+IF(Tilt!R20<0,COS((Tilt!R20-90)*2*PI()/360),0)","v":0.60072024008099767},{"$f":"(CA!R20+CA!T20+CA!S19+CA!S21)*Parameter!$D$11+Shape_edge!R20+Fractuation!R20*Parameter!$D$12+IF(Tilt!S20<0,COS((Tilt!S20-90)*2*PI()/360),0)","v":-0.81610118746225346},{"$f":"(CA!S20+CA!U20+CA!T19+CA!T21)*Parameter!$D$11+Shape_edge!S20+Fractuation!S20*Parameter!$D$12+IF(Tilt!T20<0,COS((Tilt!T20-90)*2*PI()/360),0)","v":-1.8226515715749161},{"$f":"(CA!T20+CA!V20+CA!U19+CA!U21)*Parameter!$D$11+Shape_edge!T20+Fractuation!T20*Parameter!$D$12+IF(Tilt!U20<0,COS((Tilt!U20-90)*2*PI()/360),0)","v":-0.3795337273995586},{"$f":"(CA!U20+CA!W20+CA!V19+CA!V21)*Parameter!$D$11+Shape_edge!U20+Fractuation!U20*Parameter!$D$12+IF(Tilt!V20<0,COS((Tilt!V20-90)*2*PI()/360),0)","v":-2.1347030301164169},{"$f":"(CA!V20+CA!X20+CA!W19+CA!W21)*Parameter!$D$11+Shape_edge!V20+Fractuation!V20*Parameter!$D$12+IF(Tilt!W20<0,COS((Tilt!W20-90)*2*PI()/360),0)","v":-1.1185191308026725},{"$f":"(CA!W20+CA!Y20+CA!X19+CA!X21)*Parameter!$D$11+Shape_edge!W20+Fractuation!W20*Parameter!$D$12+IF(Tilt!X20<0,COS((Tilt!X20-90)*2*PI()/360),0)","v":-1.8237275525146308},{"$f":"(CA!X20+CA!Z20+CA!Y19+CA!Y21)*Parameter!$D$11+Shape_edge!X20+Fractuation!X20*Parameter!$D$12+IF(Tilt!Y20<0,COS((Tilt!Y20-90)*2*PI()/360),0)","v":-1.2408539649225661},{"$f":"(CA!Y20+CA!AA20+CA!Z19+CA!Z21)*Parameter!$D$11+Shape_edge!Y20+Fractuation!Y20*Parameter!$D$12+IF(Tilt!Z20<0,COS((Tilt!Z20-90)*2*PI()/360),0)","v":-1.2561117409332416},{"$f":"(CA!Z20+CA!AB20+CA!AA19+CA!AA21)*Parameter!$D$11+Shape_edge!Z20+Fractuation!Z20*Parameter!$D$12+IF(Tilt!AA20<0,COS((Tilt!AA20-90)*2*PI()/360),0)","v":-0.5909097362807274},{"$f":"(CA!AA20+CA!AC20+CA!AB19+CA!AB21)*Parameter!$D$11+Shape_edge!AA20+Fractuation!AA20*Parameter!$D$12+IF(Tilt!AB20<0,COS((Tilt!AB20-90)*2*PI()/360),0)","v":0.29301066372737439},{"$f":"(CA!AB20+CA!AD20+CA!AC19+CA!AC21)*Parameter!$D$11+Shape_edge!AB20+Fractuation!AB20*Parameter!$D$12+IF(Tilt!AC20<0,COS((Tilt!AC20-90)*2*PI()/360),0)","v":-1.7612235619987464},{"$f":"(CA!AC20+CA!AE20+CA!AD19+CA!AD21)*Parameter!$D$11+Shape_edge!AC20+Fractuation!AC20*Parameter!$D$12+IF(Tilt!AD20<0,COS((Tilt!AD20-90)*2*PI()/360),0)","v":-0.98542142484942474},{"$f":"(CA!AD20+CA!AF20+CA!AE19+CA!AE21)*Parameter!$D$11+Shape_edge!AD20+Fractuation!AD20*Parameter!$D$12+IF(Tilt!AE20<0,COS((Tilt!AE20-90)*2*PI()/360),0)","v":-1.2806175687599373}]
[null,{"$f":"(CA!A21+CA!C21+CA!B20+CA!B22)*Parameter!$D$11+Shape_edge!A21+Fractuation!A21*Parameter!$D$12+IF(Tilt!B21<0,COS((Tilt!B21-90)*2*PI()/360),0)","v":-0.95318469635480996},{"$f":"(CA!B21+CA!D21+CA!C20+CA!C22)*Parameter!$D$11+Shape_edge!B21+Fractuation!B21*Parameter!$D$12+IF(Tilt!C21<0,COS((Tilt!C21-90)*2*PI()/360),0)","v":-0.69950429402330705},{"$f":"(CA!C21+CA!E21+CA!D20+CA!D22)*Parameter!$D$11+Shape_edge!C21+Fractuation!C21*Parameter!$D$12+IF(Tilt!D21<0,COS((Tilt!D21-90)*2*PI()/360),0)","v":-0.38374597810892908},{"$f":"(CA!D21+CA!F21+CA!E20+CA!E22)*Parameter!$D$11+Shape_edge!D21+Fractuation!D21*Parameter!$D$12+IF(Tilt!E21<0,COS((Tilt!E21-90)*2*PI()/360),0)","v":-1.2113669410518688},{"$f":"(CA!E21+CA!G21+CA!F20+CA!F22)*Parameter!$D$11+Shape_edge!E21+Fractuation!E21*Parameter!$D$12+IF(Tilt!F21<0,COS((Tilt!F21-90)*2*PI()/360),0)","v":-0.28265244449985338},{"$f":"(CA!F21+CA!H21+CA!G20+CA!G22)*Parameter!$D$11+Shape_edge!F21+Fractuation!F21*Parameter!$D$12+IF(Tilt!G21<0,COS((Tilt!G21-90)*2*PI()/360),0)","v":0.28345636578507993},{"$f":"(CA!G21+CA!I21+CA!H20+CA!H22)*Parameter!$D$11+Shape_edge!G21+Fractuation!G21*Parameter!$D$12+IF(Tilt!H21<0,COS((Tilt!H21-90)*2*PI()/360),0)","v":0.20587004231635353},{"$f":"(CA!H21+CA!J21+CA!I20+CA!I22)*Parameter!$D$11+Shape_edge!H21+Fractuation!H21*Parameter!$D$12+IF(Tilt!I21<0,COS((Tilt!I21-90)*2*PI()/360),0)","v":-4.4903213808217552},{"$f":"(CA!I21+CA!K21+CA!J20+CA!J22)*Parameter!$D$11+Shape_edge!I21+Fractuation!I21*Parameter!$D$12+IF(Tilt!J21<0,COS((Tilt!J21-90)*2*PI()/360),0)","v":-0.80999203353314153},{"$f":"(CA!J21+CA!L21+CA!K20+CA!K22)*Parameter!$D$11+Shape_edge!J21+Fractuation!J21*Parameter!$D$12+IF(Tilt!K21<0,COS((Tilt!K21-90)*2*PI()/360),0)","v":0.67598049619844924},{"$f":"(CA!K21+CA!M21+CA!L20+CA!L22)*Parameter!$D$11+Shape_edge!K21+Fractuation!K21*Parameter!$D$12+IF(Tilt!L21<0,COS((Tilt!L21-90)*2*PI()/360),0)","v":-1.6136249953876634},{"$f":"(CA!L21+CA!N21+CA!M20+CA!M22)*Parameter!$D$11+Shape_edge!L21+Fractuation!L21*Parameter!$D$12+IF(Tilt!M21<0,COS((Tilt!M21-90)*2*PI()/360),0)","v":0.29941263833429299},{"$f":"(CA!M21+CA!O21+CA!N20+CA!N22)*Parameter!$D$11+Shape_edge!M21+Fractuation!M21*Parameter!$D$12+IF(Tilt!N21<0,COS((Tilt!N21-90)*2*PI()/360),0)","v":-0.13295512983614433},{"$f":"(CA!N21+CA!P21+CA!O20+CA!O22)*Parameter!$D$11+Shape_edge!N21+Fractuation!N21*Parameter!$D$12+IF(Tilt!O21<0,COS((Tilt!O21-90)*2*PI()/360),0)","v":-1.2125668880959155},{"$f":"(CA!O21+CA!Q21+CA!P20+CA!P22)*Parameter!$D$11+Shape_edge!O21+Fractuation!O21*Parameter!$D$12+IF(Tilt!P21<0,COS((Tilt!P21-90)*2*PI()/360),0)","v":-0.78650570524821006},{"$f":"(CA!P21+CA!R21+CA!Q20+CA!Q22)*Parameter!$D$11+Shape_edge!P21+Fractuation!P21*Parameter!$D$12+IF(Tilt!Q21<0,COS((Tilt!Q21-90)*2*PI()/360),0)","v":-1.2491959842144287},{"$f":"(CA!Q21+CA!S21+CA!R20+CA!R22)*Parameter!$D$11+Shape_edge!Q21+Fractuation!Q21*Parameter!$D$12+IF(Tilt!R21<0,COS((Tilt!R21-90)*2*PI()/360),0)","v":8.2970610166244629E-2},{"$f":"(CA!R21+CA!T21+CA!S20+CA!S22)*Parameter!$D$11+Shape_edge!R21+Fractuation!R21*Parameter!$D$12+IF(Tilt!S21<0,COS((Tilt!S21-90)*2*PI()/360),0)","v":-2.0870553516887487},{"$f":"(CA!S21+CA!U21+CA!T20+CA!T22)*Parameter!$D$11+Shape_edge!S21+Fractuation!S21*Parameter!$D$12+IF(Tilt!T21<0,COS((Tilt!T21-90)*2*PI()/360),0)","v":-2.6423107635164262},{"$f":"(CA!T21+CA!V21+CA!U20+CA!U22)*Parameter!$D$11+Shape_edge!T21+Fractuation!T21*Parameter!$D$12+IF(Tilt!U21<0,COS((Tilt!U21-90)*2*PI()/360),0)","v":-0.60549126004693399},{"$f":"(CA!U21+CA!W21+CA!V20+CA!V22)*Parameter!$D$11+Shape_edge!U21+Fractuation!U21*Parameter!$D$12+IF(Tilt!V21<0,COS((Tilt!V21-90)*2*PI()/360),0)","v":-0.79711608787217914},{"$f":"(CA!V21+CA!X21+CA!W20+CA!W22)*Parameter!$D$11+Shape_edge!V21+Fractuation!V21*Parameter!$D$12+IF(Tilt!W21<0,COS((Tilt!W21-90)*2*PI()/360),0)","v":-1.4114029748812138},{"$f":"(CA!W21+CA!Y21+CA!X20+CA!X22)*Parameter!$D$11+Shape_edge!W21+Fractuation!W21*Parameter!$D$12+IF(Tilt!X21<0,COS((Tilt!X21-90)*2*PI()/360),0)","v":-1.9824380193064939},{"$f":"(CA!X21+CA!Z21+CA!Y20+CA!Y22)*Parameter!$D$11+Shape_edge!X21+Fractuation!X21*Parameter!$D$12+IF(Tilt!Y21<0,COS((Tilt!Y21-90)*2*PI()/360),0)","v":-0.90763980896328},{"$f":"(CA!Y21+CA!AA21+CA!Z20+CA!Z22)*Parameter!$D$11+Shape_edge!Y21+Fractuation!Y21*Parameter!$D$12+IF(Tilt!Z21<0,COS((Tilt!Z21-90)*2*PI()/360),0)","v":0.23336075190442007},{"$f":"(CA!Z21+CA!AB21+CA!AA20+CA!AA22)*Parameter!$D$11+Shape_edge!Z21+Fractuation!Z21*Parameter!$D$12+IF(Tilt!AA21<0,COS((Tilt!AA21-90)*2*PI()/360),0)","v":-1.6897556512859766},{"$f":"(CA!AA21+CA!AC21+CA!AB20+CA!AB22)*Parameter!$D$11+Shape_edge!AA21+Fractuation!AA21*Parameter!$D$12+IF(Tilt!AB21<0,COS((Tilt!AB21-90)*2*PI()/360),0)","v":-2.5928805909234525},{"$f":"(CA!AB21+CA!AD21+CA!AC20+CA!AC22)*Parameter!$D$11+Shape_edge!AB21+Fractuation!AB21*Parameter!$D$12+IF(Tilt!AC21<0,COS((Tilt!AC21-90)*2*PI()/360),0)","v":-0.33802335247400361},{"$f":"(CA!AC21+CA!AE21+CA!AD20+CA!AD22)*Parameter!$D$11+Shape_edge!AC21+Fractuation!AC21*Parameter!$D$12+IF(Tilt!AD21<0,COS((Tilt!AD21-90)*2*PI()/360),0)","v":-1.2368626669726235},{"$f":"(CA!AD21+CA!AF21+CA!AE20+CA!AE22)*Parameter!$D$11+Shape_edge!AD21+Fractuation!AD21*Parameter!$D$12+IF(Tilt!AE21<0,COS((Tilt!AE21-90)*2*PI()/360),0)","v":-0.49700030297022968}]
[null,{"$f":"(CA!A22+CA!C22+CA!B21+CA!B23)*Parameter!$D$11+Shape_edge!A22+Fractuation!A22*Parameter!$D$12+IF(Tilt!B22<0,COS((Tilt!B22-90)*2*PI()/360),0)","v":-1.9393582987035276},{"$f":"(CA!B22+CA!D22+CA!C21+CA!C23)*Parameter!$D$11+Shape_edge!B22+Fractuation!B22*Parameter!$D$12+IF(Tilt!C22<0,COS((Tilt!C22-90)*2*PI()/360),0)","v":-1.3492290136259737},{"$f":"(CA!C22+CA!E22+CA!D21+CA!D23)*Parameter!$D$11+Shape_edge!C22+Fractuation!C22*Parameter!$D$12+IF(Tilt!D22<0,COS((Tilt!D22-90)*2*PI()/360),0)","v":-2.6016527202290245},{"$f":"(CA!D22+CA!F22+CA!E21+CA!E23)*Parameter!$D$11+Shape_edge!D22+Fractuation!D22*Parameter!$D$12+IF(Tilt!E22<0,COS((Tilt!E22-90)*2*PI()/360),0)","v":-0.7828919820019663},{"$f":"(CA!E22+CA!G22+CA!F21+CA!F23)*Parameter!$D$11+Shape_edge!E22+Fractuation!E22*Parameter!$D$12+IF(Tilt!F22<0,COS((Tilt!F22-90)*2*PI()/360),0)","v":-2.5466298244101697},{"$f":"(CA!F22+CA!H22+CA!G21+CA!G23)*Parameter!$D$11+Shape_edge!F22+Fractuation!F22*Parameter!$D$12+IF(Tilt!G22<0,COS((Tilt!G22-90)*2*PI()/360),0)","v":0.2764441486095881},{"$f":"(CA!G22+CA!I22+CA!H21+CA!H23)*Parameter!$D$11+Shape_edge!G22+Fractuation!G22*Parameter!$D$12+IF(Tilt!H22<0,COS((Tilt!H22-90)*2*PI()/360),0)","v":-1.8075512587620852},{"$f":"(CA!H22+CA!J22+CA!I21+CA!I23)*Parameter!$D$11+Shape_edge!H22+Fractuation!H22*Parameter!$D$12+IF(Tilt!I22<0,COS((Tilt!I22-90)*2*PI()/360),0)","v":-0.60958225689310752},{"$f":"(CA!I22+CA!K22+CA!J21+CA!J23)*Parameter!$D$11+Shape_edge!I22+Fractuation!I22*Parameter!$D$12+IF(Tilt!J22<0,COS((Tilt!J22-90)*2*PI()/360),0)","v":-0.29211286634863232},{"$f":"(CA!J22+CA!L22+CA!K21+CA!K23)*Parameter!$D$11+Shape_edge!J22+Fractuation!J22*Parameter!$D$12+IF(Tilt!K22<0,COS((Tilt!K22-90)*2*PI()/360),0)","v":-2.2244733945979265},{"$f":"(CA!K22+CA!M22+CA!L21+CA!L23)*Parameter!$D$11+Shape_edge!K22+Fractuation!K22*Parameter!$D$12+IF(Tilt!L22<0,COS((Tilt!L22-90)*2*PI()/360),0)","v":-0.59556120728422601},{"$f":"(CA!L22+CA!N22+CA!M21+CA!M23)*Parameter!$D$11+Shape_edge!L22+Fractuation!L22*Parameter!$D$12+IF(Tilt!M22<0,COS((Tilt!M22-90)*2*PI()/360),0)","v":-0.80615105933184017},{"$f":"(CA!M22+CA!O22+CA!N21+CA!N23)*Parameter!$D$11+Shape_edge!M22+Fractuation!M22*Parameter!$D$12+IF(Tilt!N22<0,COS((Tilt!N22-90)*2*PI()/360),0)","v":-1.5054271713825589},{"$f":"(CA!N22+CA!P22+CA!O21+CA!O23)*Parameter!$D$11+Shape_edge!N22+Fractuation!N22*Parameter!$D$12+IF(Tilt!O22<0,COS((Tilt!O22-90)*2*PI()/360),0)","v":-1.6939870510753179},{"$f":"(CA!O22+CA!Q22+CA!P21+CA!P23)*Parameter!$D$11+Shape_edge!O22+Fractuation!O22*Parameter!$D$12+IF(Tilt!P22<0,COS((Tilt!P22-90)*2*PI()/360),0)","v":-2.3496788586352704},{"$f":"(CA!P22+CA!R22+CA!Q21+CA!Q23)*Parameter!$D$11+Shape_edge!P22+Fractuation!P22*Parameter!$D$12+IF(Tilt!Q22<0,COS((Tilt!Q22-90)*2*PI()/360),0)","v":-1.603627690021348},{"$f":"(CA!Q22+CA!S22+CA!R21+CA!R23)*Parameter!$D$11+Shape_edge!Q22+Fractuation!Q22*Parameter!$D$12+IF(Tilt!R22<0,COS((Tilt!R22-90)*2*PI()/360),0)","v":-2.0581198707817872},{"$f":"(CA!R22+CA!T22+CA!S21+CA!S23)*Parameter!$D$11+Shape_edge!R22+Fractuation!R22*Parameter!$D$12+IF(Tilt!S22<0,COS((Tilt!S22-90)*2*PI()/360),0)","v":0.15509704131749591},{"$f":"(CA!S22+CA!U22+CA!T21+CA!T23)*Parameter!$D$11+Shape_edge!S22+Fractuation!S22*Parameter!$D$12+IF(Tilt!T22<0,COS((Tilt!T22-90)*2*PI()/360),0)","v":-3.1370319131852424},{"$f":"(CA!T22+CA!V22+CA!U21+CA!U23)*Parameter!$D$11+Shape_edge!T22+Fractuation!T22*Parameter!$D$12+IF(Tilt!U22<0,COS((Tilt!U22-90)*2*PI()/360),0)","v":0.48750640417730007},{"$f":"(CA!U22+CA!W22+CA!V21+CA!V23)*Parameter!$D$11+Shape_edge!U22+Fractuation!U22*Parameter!$D$12+IF(Tilt!V22<0,COS((Tilt!V22-90)*2*PI()/360),0)","v":-1.1941633266451266},{"$f":"(CA!V22+CA!X22+CA!W21+CA!W23)*Parameter!$D$11+Shape_edge!V22+Fractuation!V22*Parameter!$D$12+IF(Tilt!W22<0,COS((Tilt!W22-90)*2*PI()/360),0)","v":-0.95482542249331603},{"$f":"(CA!W22+CA!Y22+CA!X21+CA!X23)*Parameter!$D$11+Shape_edge!W22+Fractuation!W22*Parameter!$D$12+IF(Tilt!X22<0,COS((Tilt!X22-90)*2*PI()/360),0)","v":-3.181268010963231},{"$f":"(CA!X22+CA!Z22+CA!Y21+CA!Y23)*Parameter!$D$11+Shape_edge!X22+Fractuation!X22*Parameter!$D$12+IF(Tilt!Y22<0,COS((Tilt!Y22-90)*2*PI()/360),0)","v":-0.13058719511573247},{"$f":"(CA!Y22+CA!AA22+CA!Z21+CA!Z23)*Parameter!$D$11+Shape_edge!Y22+Fractuation!Y22*Parameter!$D$12+IF(Tilt!Z22<0,COS((Tilt!Z22-90)*2*PI()/360),0)","v":-0.81465818712179461},{"$f":"(CA!Z22+CA!AB22+CA!AA21+CA!AA23)*Parameter!$D$11+Shape_edge!Z22+Fractuation!Z22*Parameter!$D$12+IF(Tilt!AA22<0,COS((Tilt!AA22-90)*2*PI()/360),0)","v":-2.5579979779528528},{"$f":"(CA!AA22+CA!AC22+CA!AB21+CA!AB23)*Parameter!$D$11+Shape_edge!AA22+Fractuation!AA22*Parameter!$D$12+IF(Tilt!AB22<0,COS((Tilt!AB22-90)*2*PI()/360),0)","v":-0.8894485464865215},{"$f":"(CA!AB22+CA!AD22+CA!AC21+CA!AC23)*Parameter!$D$11+Shape_edge!AB22+Fractuation!AB22*Parameter!$D$12+IF(Tilt!AC22<0,COS((Tilt!AC22-90)*2*PI()/360),0)","v":1.3548869372520227},{"$f":"(CA!AC22+CA!AE22+CA!AD21+CA!AD23)*Parameter!$D$11+Shape_edge!AC22+Fractuation!AC22*Parameter!$D$12+IF(Tilt!AD22<0,COS((Tilt!AD22-90)*2*PI()/360),0)","v":-0.63853435652701651},{"$f":"(CA!AD22+CA!AF22+CA!AE21+CA!AE23)*Parameter!$D$11+Shape_edge!AD22+Fractuation!AD22*Parameter!$D$12+IF(Tilt!AE22<0,COS((Tilt!AE22-90)*2*PI()/360),0)","v":1.0350670232098222}]
[null,{"$f":"(CA!A23+CA!C23+CA!B22+CA!B24)*Parameter!$D$11+Shape_edge!A23+Fractuation!A23*Parameter!$D$12+IF(Tilt!B23<0,COS((Tilt!B23-90)*2*PI()/360),0)","v":-0.81713050716984015},{"$f":"(CA!B23+CA!D23+CA!C22+CA!C24)*Parameter!$D$11+Shape_edge!B23+Fractuation!B23*Parameter!$D$12+IF(Tilt!C23<0,COS((Tilt!C23-90)*2*PI()/360),0)","v":-0.55601521689900024},{"$f":"(CA!C23+CA!E23+CA!D22+CA!D24)*Parameter!$D$11+Shape_edge!C23+Fractuation!C23*Parameter!$D$12+IF(Tilt!D23<0,COS((Tilt!D23-90)*2*PI()/360),0)","v":-0.7886985564759299},{"$f":"(CA!D23+CA!F23+CA!E22+CA!E24)*Parameter!$D$11+Shape_edge!D23+Fractuation!D23*Parameter!$D$12+IF(Tilt!E23<0,COS((Tilt!E23-90)*2*PI()/360),0)","v":-1.6335987920149355},{"$f":"(CA!E23+CA!G23+CA!F22+CA!F24)*Parameter!$D$11+Shape_edge!E23+Fractuation!E23*Parameter!$D$12+IF(Tilt!F23<0,COS((Tilt!F23-90)*2*PI()/360),0)","v":-0.9551382263264736},{"$f":"(CA!F23+CA!H23+CA!G22+CA!G24)*Parameter!$D$11+Shape_edge!F23+Fractuation!F23*Parameter!$D$12+IF(Tilt!G23<0,COS((Tilt!G23-90)*2*PI()/360),0)","v":-1.2187690460979426},{"$f":"(CA!G23+CA!I23+CA!H22+CA!H24)*Parameter!$D$11+Shape_edge!G23+Fractuation!G23*Parameter!$D$12+IF(Tilt!H23<0,COS((Tilt!H23-90)*2*PI()/360),0)","v":-0.85689163765796472},{"$f":"(CA!H23+CA!J23+CA!I22+CA!I24)*Parameter!$D$11+Shape_edge!H23+Fractuation!H23*Parameter!$D$12+IF(Tilt!I23<0,COS((Tilt!I23-90)*2*PI()/360),0)","v":-2.1295224011715979},{"$f":"(CA!I23+CA!K23+CA!J22+CA!J24)*Parameter!$D$11+Shape_edge!I23+Fractuation!I23*Parameter!$D$12+IF(Tilt!J23<0,COS((Tilt!J23-90)*2*PI()/360),0)","v":-1.6801307130999363},{"$f":"(CA!J23+CA!L23+CA!K22+CA!K24)*Parameter!$D$11+Shape_edge!J23+Fractuation!J23*Parameter!$D$12+IF(Tilt!K23<0,COS((Tilt!K23-90)*2*PI()/360),0)","v":-1.4371536428378273},{"$f":"(CA!K23+CA!M23+CA!L22+CA!L24)*Parameter!$D$11+Shape_edge!K23+Fractuation!K23*Parameter!$D$12+IF(Tilt!L23<0,COS((Tilt!L23-90)*2*PI()/360),0)","v":-1.1098842737903321},{"$f":"(CA!L23+CA!N23+CA!M22+CA!M24)*Parameter!$D$11+Shape_edge!L23+Fractuation!L23*Parameter!$D$12+IF(Tilt!M23<0,COS((Tilt!M23-90)*2*PI()/360),0)","v":0.18104943087869851},{"$f":"(CA!M23+CA!O23+CA!N22+CA!N24)*Parameter!$D$11+Shape_edge!M23+Fractuation!M23*Parameter!$D$12+IF(Tilt!N23<0,COS((Tilt!N23-90)*2*PI()/360),0)","v":1.4547363382927925},{"$f":"(CA!N23+CA!P23+CA!O22+CA!O24)*Parameter!$D$11+Shape_edge!N23+Fractuation!N23*Parameter!$D$12+IF(Tilt!O23<0,COS((Tilt!O23-90)*2*PI()/360),0)","v":-1.8630436231977729},{"$f":"(CA!O23+CA!Q23+CA!P22+CA!P24)*Parameter!$D$11+Shape_edge!O23+Fractuation!O23*Parameter!$D$12+IF(Tilt!P23<0,COS((Tilt!P23-90)*2*PI()/360),0)","v":0.58629243801273234},{"$f":"(CA!P23+CA!R23+CA!Q22+CA!Q24)*Parameter!$D$11+Shape_edge!P23+Fractuation!P23*Parameter!$D$12+IF(Tilt!Q23<0,COS((Tilt!Q23-90)*2*PI()/360),0)","v":-2.0888810942785776},{"$f":"(CA!Q23+CA!S23+CA!R22+CA!R24)*Parameter!$D$11+Shape_edge!Q23+Fractuation!Q23*Parameter!$D$12+IF(Tilt!R23<0,COS((Tilt!R23-90)*2*PI()/360),0)","v":-2.4471275577535376},{"$f":"(CA!R23+CA!T23+CA!S22+CA!S24)*Parameter!$D$11+Shape_edge!R23+Fractuation!R23*Parameter!$D$12+IF(Tilt!S23<0,COS((Tilt!S23-90)*2*PI()/360),0)","v":-0.48227970662893804},{"$f":"(CA!S23+CA!U23+CA!T22+CA!T24)*Parameter!$D$11+Shape_edge!S23+Fractuation!S23*Parameter!$D$12+IF(Tilt!T23<0,COS((Tilt!T23-90)*2*PI()/360),0)","v":0.74806890893438016},{"$f":"(CA!T23+CA!V23+CA!U22+CA!U24)*Parameter!$D$11+Shape_edge!T23+Fractuation!T23*Parameter!$D$12+IF(Tilt!U23<0,COS((Tilt!U23-90)*2*PI()/360),0)","v":-0.88882250353029446},{"$f":"(CA!U23+CA!W23+CA!V22+CA!V24)*Parameter!$D$11+Shape_edge!U23+Fractuation!U23*Parameter!$D$12+IF(Tilt!V23<0,COS((Tilt!V23-90)*2*PI()/360),0)","v":-1.7755644983827279},{"$f":"(CA!V23+CA!X23+CA!W22+CA!W24)*Parameter!$D$11+Shape_edge!V23+Fractuation!V23*Parameter!$D$12+IF(Tilt!W23<0,COS((Tilt!W23-90)*2*PI()/360),0)","v":-1.0225304483952318},{"$f":"(CA!W23+CA!Y23+CA!X22+CA!X24)*Parameter!$D$11+Shape_edge!W23+Fractuation!W23*Parameter!$D$12+IF(Tilt!X23<0,COS((Tilt!X23-90)*2*PI()/360),0)","v":-1.3390826973362231},{"$f":"(CA!X23+CA!Z23+CA!Y22+CA!Y24)*Parameter!$D$11+Shape_edge!X23+Fractuation!X23*Parameter!$D$12+IF(Tilt!Y23<0,COS((Tilt!Y23-90)*2*PI()/360),0)","v":-0.55702603540435658},{"$f":"(CA!Y23+CA!AA23+CA!Z22+CA!Z24)*Parameter!$D$11+Shape_edge!Y23+Fractuation!Y23*Parameter!$D$12+IF(Tilt!Z23<0,COS((Tilt!Z23-90)*2*PI()/360),0)","v":-0.2032207172328635},{"$f":"(CA!Z23+CA!AB23+CA!AA22+CA!AA24)*Parameter!$D$11+Shape_edge!Z23+Fractuation!Z23*Parameter!$D$12+IF(Tilt!AA23<0,COS((Tilt!AA23-90)*2*PI()/360),0)","v":-2.9666105214943173E-2},{"$f":"(CA!AA23+CA!AC23+CA!AB22+CA!AB24)*Parameter!$D$11+Shape_edge!AA23+Fractuation!AA23*Parameter!$D$12+IF(Tilt!AB23<0,COS((Tilt!AB23-90)*2*PI()/360),0)","v":-6.9002187215434607E-2},{"$f":"(CA!AB23+CA!AD23+CA!AC22+CA!AC24)*Parameter!$D$11+Shape_edge!AB23+Fractuation!AB23*Parameter!$D$12+IF(Tilt!AC23<0,COS((Tilt!AC23-90)*2*PI()/360),0)","v":0.14639064192822282},{"$f":"(CA!AC23+CA!AE23+CA!AD22+CA!AD24)*Parameter!$D$11+Shape_edge!AC23+Fractuation!AC23*Parameter!$D$12+IF(Tilt!AD23<0,COS((Tilt!AD23-90)*2*PI()/360),0)","v":-1.5956925695809738},{"$f":"(CA!AD23+CA!AF23+CA!AE22+CA!AE24)*Parameter!$D$11+Shape_edge!AD23+Fractuation!AD23*Parameter!$D$12+IF(Tilt!AE23<0,COS((Tilt!AE23-90)*2*PI()/360),0)","v":-1.8772036876014107}]
[null,{"$f":"(CA!A24+CA!C24+CA!B23+CA!B25)*Parameter!$D$11+Shape_edge!A24+Fractuation!A24*Parameter!$D$12+IF(Tilt!B24<0,COS((Tilt!B24-90)*2*PI()/360),0)","v":-0.85150942508373151},{"$f":"(CA!B24+CA!D24+CA!C23+CA!C25)*Parameter!$D$11+Shape_edge!B24+Fractuation!B24*Parameter!$D$12+IF(Tilt!C24<0,COS((Tilt!C24-90)*2*PI()/360),0)","v":-1.6745739705193374},{"$f":"(CA!C24+CA!E24+CA!D23+CA!D25)*Parameter!$D$11+Shape_edge!C24+Fractuation!C24*Parameter!$D$12+IF(Tilt!D24<0,COS((Tilt!D24-90)*2*PI()/360),0)","v":-0.86140916755483821},{"$f":"(CA!D24+CA!F24+CA!E23+CA!E25)*Parameter!$D$11+Shape_edge!D24+Fractuation!D24*Parameter!$D$12+IF(Tilt!E24<0,COS((Tilt!E24-90)*2*PI()/360),0)","v":-1.2785594900037247},{"$f":"(CA!E24+CA!G24+CA!F23+CA!F25)*Parameter!$D$11+Shape_edge!E24+Fractuation!E24*Parameter!$D$12+IF(Tilt!F24<0,COS((Tilt!F24-90)*2*PI()/360),0)","v":0.80815800203232824},{"$f":"(CA!F24+CA!H24+CA!G23+CA!G25)*Parameter!$D$11+Shape_edge!F24+Fractuation!F24*Parameter!$D$12+IF(Tilt!G24<0,COS((Tilt!G24-90)*2*PI()/360),0)","v":-0.90397237268076891},{"$f":"(CA!G24+CA!I24+CA!H23+CA!H25)*Parameter!$D$11+Shape_edge!G24+Fractuation!G24*Parameter!$D$12+IF(Tilt!H24<0,COS((Tilt!H24-90)*2*PI()/360),0)","v":-1.4716471593435501},{"$f":"(CA!H24+CA!J24+CA!I23+CA!I25)*Parameter!$D$11+Shape_edge!H24+Fractuation!H24*Parameter!$D$12+IF(Tilt!I24<0,COS((Tilt!I24-90)*2*PI()/360),0)","v":-0.5209111137426472},{"$f":"(CA!I24+CA!K24+CA!J23+CA!J25)*Parameter!$D$11+Shape_edge!I24+Fractuation!I24*Parameter!$D$12+IF(Tilt!J24<0,COS((Tilt!J24-90)*2*PI()/360),0)","v":-1.5301726851602071},{"$f":"(CA!J24+CA!L24+CA!K23+CA!K25)*Parameter!$D$11+Shape_edge!J24+Fractuation!J24*Parameter!$D$12+IF(Tilt!K24<0,COS((Tilt!K24-90)*2*PI()/360),0)","v":0.11911135300617182},{"$f":"(CA!K24+CA!M24+CA!L23+CA!L25)*Parameter!$D$11+Shape_edge!K24+Fractuation!K24*Parameter!$D$12+IF(Tilt!L24<0,COS((Tilt!L24-90)*2*PI()/360),0)","v":-0.61207073493178676},{"$f":"(CA!L24+CA!N24+CA!M23+CA!M25)*Parameter!$D$11+Shape_edge!L24+Fractuation!L24*Parameter!$D$12+IF(Tilt!M24<0,COS((Tilt!M24-90)*2*PI()/360),0)","v":1.1001467080937202},{"$f":"(CA!M24+CA!O24+CA!N23+CA!N25)*Parameter!$D$11+Shape_edge!M24+Fractuation!M24*Parameter!$D$12+IF(Tilt!N24<0,COS((Tilt!N24-90)*2*PI()/360),0)","v":-1.0784476314582783},{"$f":"(CA!N24+CA!P24+CA!O23+CA!O25)*Parameter!$D$11+Shape_edge!N24+Fractuation!N24*Parameter!$D$12+IF(Tilt!O24<0,COS((Tilt!O24-90)*2*PI()/360),0)","v":-0.41417348074934301},{"$f":"(CA!O24+CA!Q24+CA!P23+CA!P25)*Parameter!$D$11+Shape_edge!O24+Fractuation!O24*Parameter!$D$12+IF(Tilt!P24<0,COS((Tilt!P24-90)*2*PI()/360),0)","v":-0.93830058644050329},{"$f":"(CA!P24+CA!R24+CA!Q23+CA!Q25)*Parameter!$D$11+Shape_edge!P24+Fractuation!P24*Parameter!$D$12+IF(Tilt!Q24<0,COS((Tilt!Q24-90)*2*PI()/360),0)","v":-2.7147174001572476},{"$f":"(CA!Q24+CA!S24+CA!R23+CA!R25)*Parameter!$D$11+Shape_edge!Q24+Fractuation!Q24*Parameter!$D$12+IF(Tilt!R24<0,COS((Tilt!R24-90)*2*PI()/360),0)","v":-0.97563309329372427},{"$f":"(CA!R24+CA!T24+CA!S23+CA!S25)*Parameter!$D$11+Shape_edge!R24+Fractuation!R24*Parameter!$D$12+IF(Tilt!S24<0,COS((Tilt!S24-90)*2*PI()/360),0)","v":-0.75235507276625668},{"$f":"(CA!S24+CA!U24+CA!T23+CA!T25)*Parameter!$D$11+Shape_edge!S24+Fractuation!S24*Parameter!$D$12+IF(Tilt!T24<0,COS((Tilt!T24-90)*2*PI()/360),0)","v":-1.5875685256282095},{"$f":"(CA!T24+CA!V24+CA!U23+CA!U25)*Parameter!$D$11+Shape_edge!T24+Fractuation!T24*Parameter!$D$12+IF(Tilt!U24<0,COS((Tilt!U24-90)*2*PI()/360),0)","v":-1.3451377164013529},{"$f":"(CA!U24+CA!W24+CA!V23+CA!V25)*Parameter!$D$11+Shape_edge!U24+Fractuation!U24*Parameter!$D$12+IF(Tilt!V24<0,COS((Tilt!V24-90)*2*PI()/360),0)","v":-3.3487439390007046},{"$f":"(CA!V24+CA!X24+CA!W23+CA!W25)*Parameter!$D$11+Shape_edge!V24+Fractuation!V24*Parameter!$D$12+IF(Tilt!W24<0,COS((Tilt!W24-90)*2*PI()/360),0)","v":-1.9401078420434075},{"$f":"(CA!W24+CA!Y24+CA!X23+CA!X25)*Parameter!$D$11+Shape_edge!W24+Fractuation!W24*Parameter!$D$12+IF(Tilt!X24<0,COS((Tilt!X24-90)*2*PI()/360),0)","v":1.3086544781770959E-2},{"$f":"(CA!X24+CA!Z24+CA!Y23+CA!Y25)*Parameter!$D$11+Shape_edge!X24+Fractuation!X24*Parameter!$D$12+IF(Tilt!Y24<0,COS((Tilt!Y24-90)*2*PI()/360),0)","v":-0.33362030542865984},{"$f":"(CA!Y24+CA!AA24+CA!Z23+CA!Z25)*Parameter!$D$11+Shape_edge!Y24+Fractuation!Y24*Parameter!$D$12+IF(Tilt!Z24<0,COS((Tilt!Z24-90)*2*PI()/360),0)","v":0.85719816051089315},{"$f":"(CA!Z24+CA!AB24+CA!AA23+CA!AA25)*Parameter!$D$11+Shape_edge!Z24+Fractuation!Z24*Parameter!$D$12+IF(Tilt!AA24<0,COS((Tilt!AA24-90)*2*PI()/360),0)","v":-1.6462430587446411},{"$f":"(CA!AA24+CA!AC24+CA!AB23+CA!AB25)*Parameter!$D$11+Shape_edge!AA24+Fractuation!AA24*Parameter!$D$12+IF(Tilt!AB24<0,COS((Tilt!AB24-90)*2*PI()/360),0)","v":0.64393818998392782},{"$f":"(CA!AB24+CA!AD24+CA!AC23+CA!AC25)*Parameter!$D$11+Shape_edge!AB24+Fractuation!AB24*Parameter!$D$12+IF(Tilt!AC24<0,COS((Tilt!AC24-90)*2*PI()/360),0)","v":-0.15598370890217439},{"$f":"(CA!AC24+CA!AE24+CA!AD23+CA!AD25)*Parameter!$D$11+Shape_edge!AC24+Fractuation!AC24*Parameter!$D$12+IF(Tilt!AD24<0,COS((Tilt!AD24-90)*2*PI()/360),0)","v":-1.0752377264879847},{"$f":"(CA!AD24+CA!AF24+CA!AE23+CA!AE25)*Parameter!$D$11+Shape_edge!AD24+Fractuation!AD24*Parameter!$D$12+IF(Tilt!AE24<0,COS((Tilt!AE24-90)*2*PI()/360),0)","v":-0.49462138009422585}]
[null,{"$f":"(CA!A25+CA!C25+CA!B24+CA!B26)*Parameter!$D$11+Shape_edge!A25+Fractuation!A25*Parameter!$D$12+IF(Tilt!B25<0,COS((Tilt!B25-90)*2*PI()/360),0)","v":0},{"$f":"(CA!B25+CA!D25+CA!C24+CA!C26)*Parameter!$D$11+Shape_edge!B25+Fractuation!B25*Parameter!$D$12+IF(Tilt!C25<0,COS((Tilt!C25-90)*2*PI()/360),0)","v":0},{"$f":"(CA!C25+CA!E25+CA!D24+CA!D26)*Parameter!$D$11+Shape_edge!C25+Fractuation!C25*Parameter!$D$12+IF(Tilt!D25<0,COS((Tilt!D25-90)*2*PI()/360),0)","v":0},{"$f":"(CA!D25+CA!F25+CA!E24+CA!E26)*Parameter!$D$11+Shape_edge!D25+Fractuation!D25*Parameter!$D$12+IF(Tilt!E25<0,COS((Tilt!E25-90)*2*PI()/360),0)","v":0},{"$f":"(CA!E25+CA!G25+CA!F24+CA!F26)*Parameter!$D$11+Shape_edge!E25+Fractuation!E25*Parameter!$D$12+IF(Tilt!F25<0,COS((Tilt!F25-90)*2*PI()/360),0)","v":0},{"$f":"(CA!F25+CA!H25+CA!G24+CA!G26)*Parameter!$D$11+Shape_edge!F25+Fractuation!F25*Parameter!$D$12+IF(Tilt!G25<0,COS((Tilt!G25-90)*2*PI()/360),0)","v":0},{"$f":"(CA!G25+CA!I25+CA!H24+CA!H26)*Parameter!$D$11+Shape_edge!G25+Fractuation!G25*Parameter!$D$12+IF(Tilt!H25<0,COS((Tilt!H25-90)*2*PI()/360),0)","v":0},{"$f":"(CA!H25+CA!J25+CA!I24+CA!I26)*Parameter!$D$11+Shape_edge!H25+Fractuation!H25*Parameter!$D$12+IF(Tilt!I25<0,COS((Tilt!I25-90)*2*PI()/360),0)","v":0},{"$f":"(CA!I25+CA!K25+CA!J24+CA!J26)*Parameter!$D$11+Shape_edge!I25+Fractuation!I25*Parameter!$D$12+IF(Tilt!J25<0,COS((Tilt!J25-90)*2*PI()/360),0)","v":0},{"$f":"(CA!J25+CA!L25+CA!K24+CA!K26)*Parameter!$D$11+Shape_edge!J25+Fractuation!J25*Parameter!$D$12+IF(Tilt!K25<0,COS((Tilt!K25-90)*2*PI()/360),0)","v":0},{"$f":"(CA!K25+CA!M25+CA!L24+CA!L26)*Parameter!$D$11+Shape_edge!K25+Fractuation!K25*Parameter!$D$12+IF(Tilt!L25<0,COS((Tilt!L25-90)*2*PI()/360),0)","v":0},{"$f":"(CA!L25+CA!N25+CA!M24+CA!M26)*Parameter!$D$11+Shape_edge!L25+Fractuation!L25*Parameter!$D$12+IF(Tilt!M25<0,COS((Tilt!M25-90)*2*PI()/360),0)","v":0},{"$f":"(CA!M25+CA!O25+CA!N24+CA!N26)*Parameter!$D$11+Shape_edge!M25+Fractuation!M25*Parameter!$D$12+IF(Tilt!N25<0,COS((Tilt!N25-90)*2*PI()/360),0)","v":0},{"$f":"(CA!N25+CA!P25+CA!O24+CA!O26)*Parameter!$D$11+Shape_edge!N25+Fractuation!N25*Parameter!$D$12+IF(Tilt!O25<0,COS((Tilt!O25-90)*2*PI()/360),0)","v":0},{"$f":"(CA!O25+CA!Q25+CA!P24+CA!P26)*Parameter!$D$11+Shape_edge!O25+Fractuation!O25*Parameter!$D$12+IF(Tilt!P25<0,COS((Tilt!P25-90)*2*PI()/360),0)","v":0},{"$f":"(CA!P25+CA!R25+CA!Q24+CA!Q26)*Parameter!$D$11+Shape_edge!P25+Fractuation!P25*Parameter!$D$12+IF(Tilt!Q25<0,COS((Tilt!Q25-90)*2*PI()/360),0)","v":0},{"$f":"(CA!Q25+CA!S25+CA!R24+CA!R26)*Parameter!$D$11+Shape_edge!Q25+Fractuation!Q25*Parameter!$D$12+IF(Tilt!R25<0,COS((Tilt!R25-90)*2*PI()/360),0)","v":0},{"$f":"(CA!R25+CA!T25+CA!S24+CA!S26)*Parameter!$D$11+Shape_edge!R25+Fractuation!R25*Parameter!$D$12+IF(Tilt!S25<0,COS((Tilt!S25-90)*2*PI()/360),0)","v":0},{"$f":"(CA!S25+CA!U25+CA!T24+CA!T26)*Parameter!$D$11+Shape_edge!S25+Fractuation!S25*Parameter!$D$12+IF(Tilt!T25<0,COS((Tilt!T25-90)*2*PI()/360),0)","v":0},{"$f":"(CA!T25+CA!V25+CA!U24+CA!U26)*Parameter!$D$11+Shape_edge!T25+Fractuation!T25*Parameter!$D$12+IF(Tilt!U25<0,COS((Tilt!U25-90)*2*PI()/360),0)","v":0},{"$f":"(CA!U25+CA!W25+CA!V24+CA!V26)*Parameter!$D$11+Shape_edge!U25+Fractuation!U25*Parameter!$D$12+IF(Tilt!V25<0,COS((Tilt!V25-90)*2*PI()/360),0)","v":0},{"$f":"(CA!V25+CA!X25+CA!W24+CA!W26)*Parameter!$D$11+Shape_edge!V25+Fractuation!V25*Parameter!$D$12+IF(Tilt!W25<0,COS((Tilt!W25-90)*2*PI()/360),0)","v":0},{"$f":"(CA!W25+CA!Y25+CA!X24+CA!X26)*Parameter!$D$11+Shape_edge!W25+Fractuation!W25*Parameter!$D$12+IF(Tilt!X25<0,COS((Tilt!X25-90)*2*PI()/360),0)","v":0},{"$f":"(CA!X25+CA!Z25+CA!Y24+CA!Y26)*Parameter!$D$11+Shape_edge!X25+Fractuation!X25*Parameter!$D$12+IF(Tilt!Y25<0,COS((Tilt!Y25-90)*2*PI()/360),0)","v":0},{"$f":"(CA!Y25+CA!AA25+CA!Z24+CA!Z26)*Parameter!$D$11+Shape_edge!Y25+Fractuation!Y25*Parameter!$D$12+IF(Tilt!Z25<0,COS((Tilt!Z25-90)*2*PI()/360),0)","v":0},{"$f":"(CA!Z25+CA!AB25+CA!AA24+CA!AA26)*Parameter!$D$11+Shape_edge!Z25+Fractuation!Z25*Parameter!$D$12+IF(Tilt!AA25<0,COS((Tilt!AA25-90)*2*PI()/360),0)","v":0},{"$f":"(CA!AA25+CA!AC25+CA!AB24+CA!AB26)*Parameter!$D$11+Shape_edge!AA25+Fractuation!AA25*Parameter!$D$12+IF(Tilt!AB25<0,COS((Tilt!AB25-90)*2*PI()/360),0)","v":0},{"$f":"(CA!AB25+CA!AD25+CA!AC24+CA!AC26)*Parameter!$D$11+Shape_edge!AB25+Fractuation!AB25*Parameter!$D$12+IF(Tilt!AC25<0,COS((Tilt!AC25-90)*2*PI()/360),0)","v":0},{"$f":"(CA!AC25+CA!AE25+CA!AD24+CA!AD26)*Parameter!$D$11+Shape_edge!AC25+Fractuation!AC25*Parameter!$D$12+IF(Tilt!AD25<0,COS((Tilt!AD25-90)*2*PI()/360),0)","v":0},{"$f":"(CA!AD25+CA!AF25+CA!AE24+CA!AE26)*Parameter!$D$11+Shape_edge!AD25+Fractuation!AD25*Parameter!$D$12+IF(Tilt!AE25<0,COS((Tilt!AE25-90)*2*PI()/360),0)","v":0}]
[null,{"$f":"(CA!A26+CA!C26+CA!B25+CA!B27)*Parameter!$D$11+Shape_edge!A26+Fractuation!A26*Parameter!$D$12+IF(Tilt!B26<0,COS((Tilt!B26-90)*2*PI()/360),0)","v":0},{"$f":"(CA!B26+CA!D26+CA!C25+CA!C27)*Parameter!$D$11+Shape_edge!B26+Fractuation!B26*Parameter!$D$12+IF(Tilt!C26<0,COS((Tilt!C26-90)*2*PI()/360),0)","v":0},{"$f":"(CA!C26+CA!E26+CA!D25+CA!D27)*Parameter!$D$11+Shape_edge!C26+Fractuation!C26*Parameter!$D$12+IF(Tilt!D26<0,COS((Tilt!D26-90)*2*PI()/360),0)","v":0},{"$f":"(CA!D26+CA!F26+CA!E25+CA!E27)*Parameter!$D$11+Shape_edge!D26+Fractuation!D26*Parameter!$D$12+IF(Tilt!E26<0,COS((Tilt!E26-90)*2*PI()/360),0)","v":0},{"$f":"(CA!E26+CA!G26+CA!F25+CA!F27)*Parameter!$D$11+Shape_edge!E26+Fractuation!E26*Parameter!$D$12+IF(Tilt!F26<0,COS((Tilt!F26-90)*2*PI()/360),0)","v":0},{"$f":"(CA!F26+CA!H26+CA!G25+CA!G27)*Parameter!$D$11+Shape_edge!F26+Fractuation!F26*Parameter!$D$12+IF(Tilt!G26<0,COS((Tilt!G26-90)*2*PI()/360),0)","v":0},{"$f":"(CA!G26+CA!I26+CA!H25+CA!H27)*Parameter!$D$11+Shape_edge!G26+Fractuation!G26*Parameter!$D$12+IF(Tilt!H26<0,COS((Tilt!H26-90)*2*PI()/360),0)","v":0},{"$f":"(CA!H26+CA!J26+CA!I25+CA!I27)*Parameter!$D$11+Shape_edge!H26+Fractuation!H26*Parameter!$D$12+IF(Tilt!I26<0,COS((Tilt!I26-90)*2*PI()/360),0)","v":0},{"$f":"(CA!I26+CA!K26+CA!J25+CA!J27)*Parameter!$D$11+Shape_edge!I26+Fractuation!I26*Parameter!$D$12+IF(Tilt!J26<0,COS((Tilt!J26-90)*2*PI()/360),0)","v":0},{"$f":"(CA!J26+CA!L26+CA!K25+CA!K27)*Parameter!$D$11+Shape_edge!J26+Fractuation!J26*Parameter!$D$12+IF(Tilt!K26<0,COS((Tilt!K26-90)*2*PI()/360),0)","v":0},{"$f":"(CA!K26+CA!M26+CA!L25+CA!L27)*Parameter!$D$11+Shape_edge!K26+Fractuation!K26*Parameter!$D$12+IF(Tilt!L26<0,COS((Tilt!L26-90)*2*PI()/360),0)","v":0},{"$f":"(CA!L26+CA!N26+CA!M25+CA!M27)*Parameter!$D$11+Shape_edge!L26+Fractuation!L26*Parameter!$D$12+IF(Tilt!M26<0,COS((Tilt!M26-90)*2*PI()/360),0)","v":0},{"$f":"(CA!M26+CA!O26+CA!N25+CA!N27)*Parameter!$D$11+Shape_edge!M26+Fractuation!M26*Parameter!$D$12+IF(Tilt!N26<0,COS((Tilt!N26-90)*2*PI()/360),0)","v":0},{"$f":"(CA!N26+CA!P26+CA!O25+CA!O27)*Parameter!$D$11+Shape_edge!N26+Fractuation!N26*Parameter!$D$12+IF(Tilt!O26<0,COS((Tilt!O26-90)*2*PI()/360),0)","v":0},{"$f":"(CA!O26+CA!Q26+CA!P25+CA!P27)*Parameter!$D$11+Shape_edge!O26+Fractuation!O26*Parameter!$D$12+IF(Tilt!P26<0,COS((Tilt!P26-90)*2*PI()/360),0)","v":0},{"$f":"(CA!P26+CA!R26+CA!Q25+CA!Q27)*Parameter!$D$11+Shape_edge!P26+Fractuation!P26*Parameter!$D$12+IF(Tilt!Q26<0,COS((Tilt!Q26-90)*2*PI()/360),0)","v":0},{"$f":"(CA!Q26+CA!S26+CA!R25+CA!R27)*Parameter!$D$11+Shape_edge!Q26+Fractuation!Q26*Parameter!$D$12+IF(Tilt!R26<0,COS((Tilt!R26-90)*2*PI()/360),0)","v":0},{"$f":"(CA!R26+CA!T26+CA!S25+CA!S27)*Parameter!$D$11+Shape_edge!R26+Fractuation!R26*Parameter!$D$12+IF(Tilt!S26<0,COS((Tilt!S26-90)*2*PI()/360),0)","v":0},{"$f":"(CA!S26+CA!U26+CA!T25+CA!T27)*Parameter!$D$11+Shape_edge!S26+Fractuation!S26*Parameter!$D$12+IF(Tilt!T26<0,COS((Tilt!T26-90)*2*PI()/360),0)","v":0},{"$f":"(CA!T26+CA!V26+CA!U25+CA!U27)*Parameter!$D$11+Shape_edge!T26+Fractuation!T26*Parameter!$D$12+IF(Tilt!U26<0,COS((Tilt!U26-90)*2*PI()/360),0)","v":0},{"$f":"(CA!U26+CA!W26+CA!V25+CA!V27)*Parameter!$D$11+Shape_edge!U26+Fractuation!U26*Parameter!$D$12+IF(Tilt!V26<0,COS((Tilt!V26-90)*2*PI()/360),0)","v":0},{"$f":"(CA!V26+CA!X26+CA!W25+CA!W27)*Parameter!$D$11+Shape_edge!V26+Fractuation!V26*Parameter!$D$12+IF(Tilt!W26<0,COS((Tilt!W26-90)*2*PI()/360),0)","v":0},{"$f":"(CA!W26+CA!Y26+CA!X25+CA!X27)*Parameter!$D$11+Shape_edge!W26+Fractuation!W26*Parameter!$D$12+IF(Tilt!X26<0,COS((Tilt!X26-90)*2*PI()/360),0)","v":0},{"$f":"(CA!X26+CA!Z26+CA!Y25+CA!Y27)*Parameter!$D$11+Shape_edge!X26+Fractuation!X26*Parameter!$D$12+IF(Tilt!Y26<0,COS((Tilt!Y26-90)*2*PI()/360),0)","v":0},{"$f":"(CA!Y26+CA!AA26+CA!Z25+CA!Z27)*Parameter!$D$11+Shape_edge!Y26+Fractuation!Y26*Parameter!$D$12+IF(Tilt!Z26<0,COS((Tilt!Z26-90)*2*PI()/360),0)","v":0},{"$f":"(CA!Z26+CA!AB26+CA!AA25+CA!AA27)*Parameter!$D$11+Shape_edge!Z26+Fractuation!Z26*Parameter!$D$12+IF(Tilt!AA26<0,COS((Tilt!AA26-90)*2*PI()/360),0)","v":0},{"$f":"(CA!AA26+CA!AC26+CA!AB25+CA!AB27)*Parameter!$D$11+Shape_edge!AA26+Fractuation!AA26*Parameter!$D$12+IF(Tilt!AB26<0,COS((Tilt!AB26-90)*2*PI()/360),0)","v":0},{"$f":"(CA!AB26+CA!AD26+CA!AC25+CA!AC27)*Parameter!$D$11+Shape_edge!AB26+Fractuation!AB26*Parameter!$D$12+IF(Tilt!AC26<0,COS((Tilt!AC26-90)*2*PI()/360),0)","v":0},{"$f":"(CA!AC26+CA!AE26+CA!AD25+CA!AD27)*Parameter!$D$11+Shape_edge!AC26+Fractuation!AC26*Parameter!$D$12+IF(Tilt!AD26<0,COS((Tilt!AD26-90)*2*PI()/360),0)","v":0},{"$f":"(CA!AD26+CA!AF26+CA!AE25+CA!AE27)*Parameter!$D$11+Shape_edge!AD26+Fractuation!AD26*Parameter!$D$12+IF(Tilt!AE26<0,COS((Tilt!AE26-90)*2*PI()/360),0)","v":0}]
[null,{"$f":"(CA!A27+CA!C27+CA!B26+CA!B28)*Parameter!$D$11+Shape_edge!A27+Fractuation!A27*Parameter!$D$12+IF(Tilt!B27<0,COS((Tilt!B27-90)*2*PI()/360),0)","v":0},{"$f":"(CA!B27+CA!D27+CA!C26+CA!C28)*Parameter!$D$11+Shape_edge!B27+Fractuation!B27*Parameter!$D$12+IF(Tilt!C27<0,COS((Tilt!C27-90)*2*PI()/360),0)","v":0},{"$f":"(CA!C27+CA!E27+CA!D26+CA!D28)*Parameter!$D$11+Shape_edge!C27+Fractuation!C27*Parameter!$D$12+IF(Tilt!D27<0,COS((Tilt!D27-90)*2*PI()/360),0)","v":0},{"$f":"(CA!D27+CA!F27+CA!E26+CA!E28)*Parameter!$D$11+Shape_edge!D27+Fractuation!D27*Parameter!$D$12+IF(Tilt!E27<0,COS((Tilt!E27-90)*2*PI()/360),0)","v":0},{"$f":"(CA!E27+CA!G27+CA!F26+CA!F28)*Parameter!$D$11+Shape_edge!E27+Fractuation!E27*Parameter!$D$12+IF(Tilt!F27<0,COS((Tilt!F27-90)*2*PI()/360),0)","v":0},{"$f":"(CA!F27+CA!H27+CA!G26+CA!G28)*Parameter!$D$11+Shape_edge!F27+Fractuation!F27*Parameter!$D$12+IF(Tilt!G27<0,COS((Tilt!G27-90)*2*PI()/360),0)","v":0},{"$f":"(CA!G27+CA!I27+CA!H26+CA!H28)*Parameter!$D$11+Shape_edge!G27+Fractuation!G27*Parameter!$D$12+IF(Tilt!H27<0,COS((Tilt!H27-90)*2*PI()/360),0)","v":0},{"$f":"(CA!H27+CA!J27+CA!I26+CA!I28)*Parameter!$D$11+Shape_edge!H27+Fractuation!H27*Parameter!$D$12+IF(Tilt!I27<0,COS((Tilt!I27-90)*2*PI()/360),0)","v":0},{"$f":"(CA!I27+CA!K27+CA!J26+CA!J28)*Parameter!$D$11+Shape_edge!I27+Fractuation!I27*Parameter!$D$12+IF(Tilt!J27<0,COS((Tilt!J27-90)*2*PI()/360),0)","v":0},{"$f":"(CA!J27+CA!L27+CA!K26+CA!K28)*Parameter!$D$11+Shape_edge!J27+Fractuation!J27*Parameter!$D$12+IF(Tilt!K27<0,COS((Tilt!K27-90)*2*PI()/360),0)","v":0},{"$f":"(CA!K27+CA!M27+CA!L26+CA!L28)*Parameter!$D$11+Shape_edge!K27+Fractuation!K27*Parameter!$D$12+IF(Tilt!L27<0,COS((Tilt!L27-90)*2*PI()/360),0)","v":0},{"$f":"(CA!L27+CA!N27+CA!M26+CA!M28)*Parameter!$D$11+Shape_edge!L27+Fractuation!L27*Parameter!$D$12+IF(Tilt!M27<0,COS((Tilt!M27-90)*2*PI()/360),0)","v":0},{"$f":"(CA!M27+CA!O27+CA!N26+CA!N28)*Parameter!$D$11+Shape_edge!M27+Fractuation!M27*Parameter!$D$12+IF(Tilt!N27<0,COS((Tilt!N27-90)*2*PI()/360),0)","v":0},{"$f":"(CA!N27+CA!P27+CA!O26+CA!O28)*Parameter!$D$11+Shape_edge!N27+Fractuation!N27*Parameter!$D$12+IF(Tilt!O27<0,COS((Tilt!O27-90)*2*PI()/360),0)","v":0},{"$f":"(CA!O27+CA!Q27+CA!P26+CA!P28)*Parameter!$D$11+Shape_edge!O27+Fractuation!O27*Parameter!$D$12+IF(Tilt!P27<0,COS((Tilt!P27-90)*2*PI()/360),0)","v":0},{"$f":"(CA!P27+CA!R27+CA!Q26+CA!Q28)*Parameter!$D$11+Shape_edge!P27+Fractuation!P27*Parameter!$D$12+IF(Tilt!Q27<0,COS((Tilt!Q27-90)*2*PI()/360),0)","v":0},{"$f":"(CA!Q27+CA!S27+CA!R26+CA!R28)*Parameter!$D$11+Shape_edge!Q27+Fractuation!Q27*Parameter!$D$12+IF(Tilt!R27<0,COS((Tilt!R27-90)*2*PI()/360),0)","v":0},{"$f":"(CA!R27+CA!T27+CA!S26+CA!S28)*Parameter!$D$11+Shape_edge!R27+Fractuation!R27*Parameter!$D$12+IF(Tilt!S27<0,COS((Tilt!S27-90)*2*PI()/360),0)","v":0},{"$f":"(CA!S27+CA!U27+CA!T26+CA!T28)*Parameter!$D$11+Shape_edge!S27+Fractuation!S27*Parameter!$D$12+IF(Tilt!T27<0,COS((Tilt!T27-90)*2*PI()/360),0)","v":0},{"$f":"(CA!T27+CA!V27+CA!U26+CA!U28)*Parameter!$D$11+Shape_edge!T27+Fractuation!T27*Parameter!$D$12+IF(Tilt!U27<0,COS((Tilt!U27-90)*2*PI()/360),0)","v":0},{"$f":"(CA!U27+CA!W27+CA!V26+CA!V28)*Parameter!$D$11+Shape_edge!U27+Fractuation!U27*Parameter!$D$12+IF(Tilt!V27<0,COS((Tilt!V27-90)*2*PI()/360),0)","v":0},{"$f":"(CA!V27+CA!X27+CA!W26+CA!W28)*Parameter!$D$11+Shape_edge!V27+Fractuation!V27*Parameter!$D$12+IF(Tilt!W27<0,COS((Tilt!W27-90)*2*PI()/360),0)","v":0},{"$f":"(CA!W27+CA!Y27+CA!X26+CA!X28)*Parameter!$D$11+Shape_edge!W27+Fractuation!W27*Parameter!$D$12+IF(Tilt!X27<0,COS((Tilt!X27-90)*2*PI()/360),0)","v":0},{"$f":"(CA!X27+CA!Z27+CA!Y26+CA!Y28)*Parameter!$D$11+Shape_edge!X27+Fractuation!X27*Parameter!$D$12+IF(Tilt!Y27<0,COS((Tilt!Y27-90)*2*PI()/360),0)","v":0},{"$f":"(CA!Y27+CA!AA27+CA!Z26+CA!Z28)*Parameter!$D$11+Shape_edge!Y27+Fractuation!Y27*Parameter!$D$12+IF(Tilt!Z27<0,COS((Tilt!Z27-90)*2*PI()/360),0)","v":0},{"$f":"(CA!Z27+CA!AB27+CA!AA26+CA!AA28)*Parameter!$D$11+Shape_edge!Z27+Fractuation!Z27*Parameter!$D$12+IF(Tilt!AA27<0,COS((Tilt!AA27-90)*2*PI()/360),0)","v":0},{"$f":"(CA!AA27+CA!AC27+CA!AB26+CA!AB28)*Parameter!$D$11+Shape_edge!AA27+Fractuation!AA27*Parameter!$D$12+IF(Tilt!AB27<0,COS((Tilt!AB27-90)*2*PI()/360),0)","v":0},{"$f":"(CA!AB27+CA!AD27+CA!AC26+CA!AC28)*Parameter!$D$11+Shape_edge!AB27+Fractuation!AB27*Parameter!$D$12+IF(Tilt!AC27<0,COS((Tilt!AC27-90)*2*PI()/360),0)","v":0},{"$f":"(CA!AC27+CA!AE27+CA!AD26+CA!AD28)*Parameter!$D$11+Shape_edge!AC27+Fractuation!AC27*Parameter!$D$12+IF(Tilt!AD27<0,COS((Tilt!AD27-90)*2*PI()/360),0)","v":0},{"$f":"(CA!AD27+CA!AF27+CA!AE26+CA!AE28)*Parameter!$D$11+Shape_edge!AD27+Fractuation!AD27*Parameter!$D$12+IF(Tilt!AE27<0,COS((Tilt!AE27-90)*2*PI()/360),0)","v":0}]
[null,{"$f":"(CA!A28+CA!C28+CA!B27+CA!B29)*Parameter!$D$11+Shape_edge!A28+Fractuation!A28*Parameter!$D$12+IF(Tilt!B28<0,COS((Tilt!B28-90)*2*PI()/360),0)","v":0},{"$f":"(CA!B28+CA!D28+CA!C27+CA!C29)*Parameter!$D$11+Shape_edge!B28+Fractuation!B28*Parameter!$D$12+IF(Tilt!C28<0,COS((Tilt!C28-90)*2*PI()/360),0)","v":0},{"$f":"(CA!C28+CA!E28+CA!D27+CA!D29)*Parameter!$D$11+Shape_edge!C28+Fractuation!C28*Parameter!$D$12+IF(Tilt!D28<0,COS((Tilt!D28-90)*2*PI()/360),0)","v":0},{"$f":"(CA!D28+CA!F28+CA!E27+CA!E29)*Parameter!$D$11+Shape_edge!D28+Fractuation!D28*Parameter!$D$12+IF(Tilt!E28<0,COS((Tilt!E28-90)*2*PI()/360),0)","v":0},{"$f":"(CA!E28+CA!G28+CA!F27+CA!F29)*Parameter!$D$11+Shape_edge!E28+Fractuation!E28*Parameter!$D$12+IF(Tilt!F28<0,COS((Tilt!F28-90)*2*PI()/360),0)","v":0},{"$f":"(CA!F28+CA!H28+CA!G27+CA!G29)*Parameter!$D$11+Shape_edge!F28+Fractuation!F28*Parameter!$D$12+IF(Tilt!G28<0,COS((Tilt!G28-90)*2*PI()/360),0)","v":0},{"$f":"(CA!G28+CA!I28+CA!H27+CA!H29)*Parameter!$D$11+Shape_edge!G28+Fractuation!G28*Parameter!$D$12+IF(Tilt!H28<0,COS((Tilt!H28-90)*2*PI()/360),0)","v":0},{"$f":"(CA!H28+CA!J28+CA!I27+CA!I29)*Parameter!$D$11+Shape_edge!H28+Fractuation!H28*Parameter!$D$12+IF(Tilt!I28<0,COS((Tilt!I28-90)*2*PI()/360),0)","v":0},{"$f":"(CA!I28+CA!K28+CA!J27+CA!J29)*Parameter!$D$11+Shape_edge!I28+Fractuation!I28*Parameter!$D$12+IF(Tilt!J28<0,COS((Tilt!J28-90)*2*PI()/360),0)","v":0},{"$f":"(CA!J28+CA!L28+CA!K27+CA!K29)*Parameter!$D$11+Shape_edge!J28+Fractuation!J28*Parameter!$D$12+IF(Tilt!K28<0,COS((Tilt!K28-90)*2*PI()/360),0)","v":0},{"$f":"(CA!K28+CA!M28+CA!L27+CA!L29)*Parameter!$D$11+Shape_edge!K28+Fractuation!K28*Parameter!$D$12+IF(Tilt!L28<0,COS((Tilt!L28-90)*2*PI()/360),0)","v":0},{"$f":"(CA!L28+CA!N28+CA!M27+CA!M29)*Parameter!$D$11+Shape_edge!L28+Fractuation!L28*Parameter!$D$12+IF(Tilt!M28<0,COS((Tilt!M28-90)*2*PI()/360),0)","v":0},{"$f":"(CA!M28+CA!O28+CA!N27+CA!N29)*Parameter!$D$11+Shape_edge!M28+Fractuation!M28*Parameter!$D$12+IF(Tilt!N28<0,COS((Tilt!N28-90)*2*PI()/360),0)","v":0},{"$f":"(CA!N28+CA!P28+CA!O27+CA!O29)*Parameter!$D$11+Shape_edge!N28+Fractuation!N28*Parameter!$D$12+IF(Tilt!O28<0,COS((Tilt!O28-90)*2*PI()/360),0)","v":0},{"$f":"(CA!O28+CA!Q28+CA!P27+CA!P29)*Parameter!$D$11+Shape_edge!O28+Fractuation!O28*Parameter!$D$12+IF(Tilt!P28<0,COS((Tilt!P28-90)*2*PI()/360),0)","v":0},{"$f":"(CA!P28+CA!R28+CA!Q27+CA!Q29)*Parameter!$D$11+Shape_edge!P28+Fractuation!P28*Parameter!$D$12+IF(Tilt!Q28<0,COS((Tilt!Q28-90)*2*PI()/360),0)","v":0},{"$f":"(CA!Q28+CA!S28+CA!R27+CA!R29)*Parameter!$D$11+Shape_edge!Q28+Fractuation!Q28*Parameter!$D$12+IF(Tilt!R28<0,COS((Tilt!R28-90)*2*PI()/360),0)","v":0},{"$f":"(CA!R28+CA!T28+CA!S27+CA!S29)*Parameter!$D$11+Shape_edge!R28+Fractuation!R28*Parameter!$D$12+IF(Tilt!S28<0,COS((Tilt!S28-90)*2*PI()/360),0)","v":0},{"$f":"(CA!S28+CA!U28+CA!T27+CA!T29)*Parameter!$D$11+Shape_edge!S28+Fractuation!S28*Parameter!$D$12+IF(Tilt!T28<0,COS((Tilt!T28-90)*2*PI()/360),0)","v":0},{"$f":"(CA!T28+CA!V28+CA!U27+CA!U29)*Parameter!$D$11+Shape_edge!T28+Fractuation!T28*Parameter!$D$12+IF(Tilt!U28<0,COS((Tilt!U28-90)*2*PI()/360),0)","v":0},{"$f":"(CA!U28+CA!W28+CA!V27+CA!V29)*Parameter!$D$11+Shape_edge!U28+Fractuation!U28*Parameter!$D$12+IF(Tilt!V28<0,COS((Tilt!V28-90)*2*PI()/360),0)","v":0},{"$f":"(CA!V28+CA!X28+CA!W27+CA!W29)*Parameter!$D$11+Shape_edge!V28+Fractuation!V28*Parameter!$D$12+IF(Tilt!W28<0,COS((Tilt!W28-90)*2*PI()/360),0)","v":0},{"$f":"(CA!W28+CA!Y28+CA!X27+CA!X29)*Parameter!$D$11+Shape_edge!W28+Fractuation!W28*Parameter!$D$12+IF(Tilt!X28<0,COS((Tilt!X28-90)*2*PI()/360),0)","v":0},{"$f":"(CA!X28+CA!Z28+CA!Y27+CA!Y29)*Parameter!$D$11+Shape_edge!X28+Fractuation!X28*Parameter!$D$12+IF(Tilt!Y28<0,COS((Tilt!Y28-90)*2*PI()/360),0)","v":0},{"$f":"(CA!Y28+CA!AA28+CA!Z27+CA!Z29)*Parameter!$D$11+Shape_edge!Y28+Fractuation!Y28*Parameter!$D$12+IF(Tilt!Z28<0,COS((Tilt!Z28-90)*2*PI()/360),0)","v":0},{"$f":"(CA!Z28+CA!AB28+CA!AA27+CA!AA29)*Parameter!$D$11+Shape_edge!Z28+Fractuation!Z28*Parameter!$D$12+IF(Tilt!AA28<0,COS((Tilt!AA28-90)*2*PI()/360),0)","v":0},{"$f":"(CA!AA28+CA!AC28+CA!AB27+CA!AB29)*Parameter!$D$11+Shape_edge!AA28+Fractuation!AA28*Parameter!$D$12+IF(Tilt!AB28<0,COS((Tilt!AB28-90)*2*PI()/360),0)","v":0},{"$f":"(CA!AB28+CA!AD28+CA!AC27+CA!AC29)*Parameter!$D$11+Shape_edge!AB28+Fractuation!AB28*Parameter!$D$12+IF(Tilt!AC28<0,COS((Tilt!AC28-90)*2*PI()/360),0)","v":0},{"$f":"(CA!AC28+CA!AE28+CA!AD27+CA!AD29)*Parameter!$D$11+Shape_edge!AC28+Fractuation!AC28*Parameter!$D$12+IF(Tilt!AD28<0,COS((Tilt!AD28-90)*2*PI()/360),0)","v":0},{"$f":"(CA!AD28+CA!AF28+CA!AE27+CA!AE29)*Parameter!$D$11+Shape_edge!AD28+Fractuation!AD28*Parameter!$D$12+IF(Tilt!AE28<0,COS((Tilt!AE28-90)*2*PI()/360),0)","v":0}]
[null,{"$f":"(CA!A29+CA!C29+CA!B28+CA!B30)*Parameter!$D$11+Shape_edge!A29+Fractuation!A29*Parameter!$D$12+IF(Tilt!B29<0,COS((Tilt!B29-90)*2*PI()/360),0)","v":0},{"$f":"(CA!B29+CA!D29+CA!C28+CA!C30)*Parameter!$D$11+Shape_edge!B29+Fractuation!B29*Parameter!$D$12+IF(Tilt!C29<0,COS((Tilt!C29-90)*2*PI()/360),0)","v":0},{"$f":"(CA!C29+CA!E29+CA!D28+CA!D30)*Parameter!$D$11+Shape_edge!C29+Fractuation!C29*Parameter!$D$12+IF(Tilt!D29<0,COS((Tilt!D29-90)*2*PI()/360),0)","v":0},{"$f":"(CA!D29+CA!F29+CA!E28+CA!E30)*Parameter!$D$11+Shape_edge!D29+Fractuation!D29*Parameter!$D$12+IF(Tilt!E29<0,COS((Tilt!E29-90)*2*PI()/360),0)","v":0},{"$f":"(CA!E29+CA!G29+CA!F28+CA!F30)*Parameter!$D$11+Shape_edge!E29+Fractuation!E29*Parameter!$D$12+IF(Tilt!F29<0,COS((Tilt!F29-90)*2*PI()/360),0)","v":0},{"$f":"(CA!F29+CA!H29+CA!G28+CA!G30)*Parameter!$D$11+Shape_edge!F29+Fractuation!F29*Parameter!$D$12+IF(Tilt!G29<0,COS((Tilt!G29-90)*2*PI()/360),0)","v":0},{"$f":"(CA!G29+CA!I29+CA!H28+CA!H30)*Parameter!$D$11+Shape_edge!G29+Fractuation!G29*Parameter!$D$12+IF(Tilt!H29<0,COS((Tilt!H29-90)*2*PI()/360),0)","v":0},{"$f":"(CA!H29+CA!J29+CA!I28+CA!I30)*Parameter!$D$11+Shape_edge!H29+Fractuation!H29*Parameter!$D$12+IF(Tilt!I29<0,COS((Tilt!I29-90)*2*PI()/360),0)","v":0},{"$f":"(CA!I29+CA!K29+CA!J28+CA!J30)*Parameter!$D$11+Shape_edge!I29+Fractuation!I29*Parameter!$D$12+IF(Tilt!J29<0,COS((Tilt!J29-90)*2*PI()/360),0)","v":0},{"$f":"(CA!J29+CA!L29+CA!K28+CA!K30)*Parameter!$D$11+Shape_edge!J29+Fractuation!J29*Parameter!$D$12+IF(Tilt!K29<0,COS((Tilt!K29-90)*2*PI()/360),0)","v":0},{"$f":"(CA!K29+CA!M29+CA!L28+CA!L30)*Parameter!$D$11+Shape_edge!K29+Fractuation!K29*Parameter!$D$12+IF(Tilt!L29<0,COS((Tilt!L29-90)*2*PI()/360),0)","v":0},{"$f":"(CA!L29+CA!N29+CA!M28+CA!M30)*Parameter!$D$11+Shape_edge!L29+Fractuation!L29*Parameter!$D$12+IF(Tilt!M29<0,COS((Tilt!M29-90)*2*PI()/360),0)","v":0},{"$f":"(CA!M29+CA!O29+CA!N28+CA!N30)*Parameter!$D$11+Shape_edge!M29+Fractuation!M29*Parameter!$D$12+IF(Tilt!N29<0,COS((Tilt!N29-90)*2*PI()/360),0)","v":0},{"$f":"(CA!N29+CA!P29+CA!O28+CA!O30)*Parameter!$D$11+Shape_edge!N29+Fractuation!N29*Parameter!$D$12+IF(Tilt!O29<0,COS((Tilt!O29-90)*2*PI()/360),0)","v":0},{"$f":"(CA!O29+CA!Q29+CA!P28+CA!P30)*Parameter!$D$11+Shape_edge!O29+Fractuation!O29*Parameter!$D$12+IF(Tilt!P29<0,COS((Tilt!P29-90)*2*PI()/360),0)","v":0},{"$f":"(CA!P29+CA!R29+CA!Q28+CA!Q30)*Parameter!$D$11+Shape_edge!P29+Fractuation!P29*Parameter!$D$12+IF(Tilt!Q29<0,COS((Tilt!Q29-90)*2*PI()/360),0)","v":0},{"$f":"(CA!Q29+CA!S29+CA!R28+CA!R30)*Parameter!$D$11+Shape_edge!Q29+Fractuation!Q29*Parameter!$D$12+IF(Tilt!R29<0,COS((Tilt!R29-90)*2*PI()/360),0)","v":0},{"$f":"(CA!R29+CA!T29+CA!S28+CA!S30)*Parameter!$D$11+Shape_edge!R29+Fractuation!R29*Parameter!$D$12+IF(Tilt!S29<0,COS((Tilt!S29-90)*2*PI()/360),0)","v":0},{"$f":"(CA!S29+CA!U29+CA!T28+CA!T30)*Parameter!$D$11+Shape_edge!S29+Fractuation!S29*Parameter!$D$12+IF(Tilt!T29<0,COS((Tilt!T29-90)*2*PI()/360),0)","v":0},{"$f":"(CA!T29+CA!V29+CA!U28+CA!U30)*Parameter!$D$11+Shape_edge!T29+Fractuation!T29*Parameter!$D$12+IF(Tilt!U29<0,COS((Tilt!U29-90)*2*PI()/360),0)","v":0},{"$f":"(CA!U29+CA!W29+CA!V28+CA!V30)*Parameter!$D$11+Shape_edge!U29+Fractuation!U29*Parameter!$D$12+IF(Tilt!V29<0,COS((Tilt!V29-90)*2*PI()/360),0)","v":0},{"$f":"(CA!V29+CA!X29+CA!W28+CA!W30)*Parameter!$D$11+Shape_edge!V29+Fractuation!V29*Parameter!$D$12+IF(Tilt!W29<0,COS((Tilt!W29-90)*2*PI()/360),0)","v":0},{"$f":"(CA!W29+CA!Y29+CA!X28+CA!X30)*Parameter!$D$11+Shape_edge!W29+Fractuation!W29*Parameter!$D$12+IF(Tilt!X29<0,COS((Tilt!X29-90)*2*PI()/360),0)","v":0},{"$f":"(CA!X29+CA!Z29+CA!Y28+CA!Y30)*Parameter!$D$11+Shape_edge!X29+Fractuation!X29*Parameter!$D$12+IF(Tilt!Y29<0,COS((Tilt!Y29-90)*2*PI()/360),0)","v":0},{"$f":"(CA!Y29+CA!AA29+CA!Z28+CA!Z30)*Parameter!$D$11+Shape_edge!Y29+Fractuation!Y29*Parameter!$D$12+IF(Tilt!Z29<0,COS((Tilt!Z29-90)*2*PI()/360),0)","v":0},{"$f":"(CA!Z29+CA!AB29+CA!AA28+CA!AA30)*Parameter!$D$11+Shape_edge!Z29+Fractuation!Z29*Parameter!$D$12+IF(Tilt!AA29<0,COS((Tilt!AA29-90)*2*PI()/360),0)","v":0},{"$f":"(CA!AA29+CA!AC29+CA!AB28+CA!AB30)*Parameter!$D$11+Shape_edge!AA29+Fractuation!AA29*Parameter!$D$12+IF(Tilt!AB29<0,COS((Tilt!AB29-90)*2*PI()/360),0)","v":0},{"$f":"(CA!AB29+CA!AD29+CA!AC28+CA!AC30)*Parameter!$D$11+Shape_edge!AB29+Fractuation!AB29*Parameter!$D$12+IF(Tilt!AC29<0,COS((Tilt!AC29-90)*2*PI()/360),0)","v":0},{"$f":"(CA!AC29+CA!AE29+CA!AD28+CA!AD30)*Parameter!$D$11+Shape_edge!AC29+Fractuation!AC29*Parameter!$D$12+IF(Tilt!AD29<0,COS((Tilt!AD29-90)*2*PI()/360),0)","v":0},{"$f":"(CA!AD29+CA!AF29+CA!AE28+CA!AE30)*Parameter!$D$11+Shape_edge!AD29+Fractuation!AD29*Parameter!$D$12+IF(Tilt!AE29<0,COS((Tilt!AE29-90)*2*PI()/360),0)","v":0}]
[null,{"$f":"(CA!A30+CA!C30+CA!B29+CA!B31)*Parameter!$D$11+Shape_edge!A30+Fractuation!A30*Parameter!$D$12+IF(Tilt!B30<0,COS((Tilt!B30-90)*2*PI()/360),0)","v":0},{"$f":"(CA!B30+CA!D30+CA!C29+CA!C31)*Parameter!$D$11+Shape_edge!B30+Fractuation!B30*Parameter!$D$12+IF(Tilt!C30<0,COS((Tilt!C30-90)*2*PI()/360),0)","v":0},{"$f":"(CA!C30+CA!E30+CA!D29+CA!D31)*Parameter!$D$11+Shape_edge!C30+Fractuation!C30*Parameter!$D$12+IF(Tilt!D30<0,COS((Tilt!D30-90)*2*PI()/360),0)","v":0},{"$f":"(CA!D30+CA!F30+CA!E29+CA!E31)*Parameter!$D$11+Shape_edge!D30+Fractuation!D30*Parameter!$D$12+IF(Tilt!E30<0,COS((Tilt!E30-90)*2*PI()/360),0)","v":0},{"$f":"(CA!E30+CA!G30+CA!F29+CA!F31)*Parameter!$D$11+Shape_edge!E30+Fractuation!E30*Parameter!$D$12+IF(Tilt!F30<0,COS((Tilt!F30-90)*2*PI()/360),0)","v":0},{"$f":"(CA!F30+CA!H30+CA!G29+CA!G31)*Parameter!$D$11+Shape_edge!F30+Fractuation!F30*Parameter!$D$12+IF(Tilt!G30<0,COS((Tilt!G30-90)*2*PI()/360),0)","v":0},{"$f":"(CA!G30+CA!I30+CA!H29+CA!H31)*Parameter!$D$11+Shape_edge!G30+Fractuation!G30*Parameter!$D$12+IF(Tilt!H30<0,COS((Tilt!H30-90)*2*PI()/360),0)","v":0},{"$f":"(CA!H30+CA!J30+CA!I29+CA!I31)*Parameter!$D$11+Shape_edge!H30+Fractuation!H30*Parameter!$D$12+IF(Tilt!I30<0,COS((Tilt!I30-90)*2*PI()/360),0)","v":0},{"$f":"(CA!I30+CA!K30+CA!J29+CA!J31)*Parameter!$D$11+Shape_edge!I30+Fractuation!I30*Parameter!$D$12+IF(Tilt!J30<0,COS((Tilt!J30-90)*2*PI()/360),0)","v":0},{"$f":"(CA!J30+CA!L30+CA!K29+CA!K31)*Parameter!$D$11+Shape_edge!J30+Fractuation!J30*Parameter!$D$12+IF(Tilt!K30<0,COS((Tilt!K30-90)*2*PI()/360),0)","v":0},{"$f":"(CA!K30+CA!M30+CA!L29+CA!L31)*Parameter!$D$11+Shape_edge!K30+Fractuation!K30*Parameter!$D$12+IF(Tilt!L30<0,COS((Tilt!L30-90)*2*PI()/360),0)","v":0},{"$f":"(CA!L30+CA!N30+CA!M29+CA!M31)*Parameter!$D$11+Shape_edge!L30+Fractuation!L30*Parameter!$D$12+IF(Tilt!M30<0,COS((Tilt!M30-90)*2*PI()/360),0)","v":0},{"$f":"(CA!M30+CA!O30+CA!N29+CA!N31)*Parameter!$D$11+Shape_edge!M30+Fractuation!M30*Parameter!$D$12+IF(Tilt!N30<0,COS((Tilt!N30-90)*2*PI()/360),0)","v":0},{"$f":"(CA!N30+CA!P30+CA!O29+CA!O31)*Parameter!$D$11+Shape_edge!N30+Fractuation!N30*Parameter!$D$12+IF(Tilt!O30<0,COS((Tilt!O30-90)*2*PI()/360),0)","v":0},{"$f":"(CA!O30+CA!Q30+CA!P29+CA!P31)*Parameter!$D$11+Shape_edge!O30+Fractuation!O30*Parameter!$D$12+IF(Tilt!P30<0,COS((Tilt!P30-90)*2*PI()/360),0)","v":0},{"$f":"(CA!P30+CA!R30+CA!Q29+CA!Q31)*Parameter!$D$11+Shape_edge!P30+Fractuation!P30*Parameter!$D$12+IF(Tilt!Q30<0,COS((Tilt!Q30-90)*2*PI()/360),0)","v":0},{"$f":"(CA!Q30+CA!S30+CA!R29+CA!R31)*Parameter!$D$11+Shape_edge!Q30+Fractuation!Q30*Parameter!$D$12+IF(Tilt!R30<0,COS((Tilt!R30-90)*2*PI()/360),0)","v":0},{"$f":"(CA!R30+CA!T30+CA!S29+CA!S31)*Parameter!$D$11+Shape_edge!R30+Fractuation!R30*Parameter!$D$12+IF(Tilt!S30<0,COS((Tilt!S30-90)*2*PI()/360),0)","v":0},{"$f":"(CA!S30+CA!U30+CA!T29+CA!T31)*Parameter!$D$11+Shape_edge!S30+Fractuation!S30*Parameter!$D$12+IF(Tilt!T30<0,COS((Tilt!T30-90)*2*PI()/360),0)","v":0},{"$f":"(CA!T30+CA!V30+CA!U29+CA!U31)*Parameter!$D$11+Shape_edge!T30+Fractuation!T30*Parameter!$D$12+IF(Tilt!U30<0,COS((Tilt!U30-90)*2*PI()/360),0)","v":0},{"$f":"(CA!U30+CA!W30+CA!V29+CA!V31)*Parameter!$D$11+Shape_edge!U30+Fractuation!U30*Parameter!$D$12+IF(Tilt!V30<0,COS((Tilt!V30-90)*2*PI()/360),0)","v":0},{"$f":"(CA!V30+CA!X30+CA!W29+CA!W31)*Parameter!$D$11+Shape_edge!V30+Fractuation!V30*Parameter!$D$12+IF(Tilt!W30<0,COS((Tilt!W30-90)*2*PI()/360),0)","v":0},{"$f":"(CA!W30+CA!Y30+CA!X29+CA!X31)*Parameter!$D$11+Shape_edge!W30+Fractuation!W30*Parameter!$D$12+IF(Tilt!X30<0,COS((Tilt!X30-90)*2*PI()/360),0)","v":0},{"$f":"(CA!X30+CA!Z30+CA!Y29+CA!Y31)*Parameter!$D$11+Shape_edge!X30+Fractuation!X30*Parameter!$D$12+IF(Tilt!Y30<0,COS((Tilt!Y30-90)*2*PI()/360),0)","v":0},{"$f":"(CA!Y30+CA!AA30+CA!Z29+CA!Z31)*Parameter!$D$11+Shape_edge!Y30+Fractuation!Y30*Parameter!$D$12+IF(Tilt!Z30<0,COS((Tilt!Z30-90)*2*PI()/360),0)","v":0},{"$f":"(CA!Z30+CA!AB30+CA!AA29+CA!AA31)*Parameter!$D$11+Shape_edge!Z30+Fractuation!Z30*Parameter!$D$12+IF(Tilt!AA30<0,COS((Tilt!AA30-90)*2*PI()/360),0)","v":0},{"$f":"(CA!AA30+CA!AC30+CA!AB29+CA!AB31)*Parameter!$D$11+Shape_edge!AA30+Fractuation!AA30*Parameter!$D$12+IF(Tilt!AB30<0,COS((Tilt!AB30-90)*2*PI()/360),0)","v":0},{"$f":"(CA!AB30+CA!AD30+CA!AC29+CA!AC31)*Parameter!$D$11+Shape_edge!AB30+Fractuation!AB30*Parameter!$D$12+IF(Tilt!AC30<0,COS((Tilt!AC30-90)*2*PI()/360),0)","v":0},{"$f":"(CA!AC30+CA!AE30+CA!AD29+CA!AD31)*Parameter!$D$11+Shape_edge!AC30+Fractuation!AC30*Parameter!$D$12+IF(Tilt!AD30<0,COS((Tilt!AD30-90)*2*PI()/360),0)","v":0},{"$f":"(CA!AD30+CA!AF30+CA!AE29+CA!AE31)*Parameter!$D$11+Shape_edge!AD30+Fractuation!AD30*Parameter!$D$12+IF(Tilt!AE30<0,COS((Tilt!AE30-90)*2*PI()/360),0)","v":0}]
[null,{"$f":"(CA!A31+CA!C31+CA!B30+CA!B32)*Parameter!$D$11+Shape_edge!A31+Fractuation!A31*Parameter!$D$12+IF(Tilt!B31<0,COS((Tilt!B31-90)*2*PI()/360),0)","v":0},{"$f":"(CA!B31+CA!D31+CA!C30+CA!C32)*Parameter!$D$11+Shape_edge!B31+Fractuation!B31*Parameter!$D$12+IF(Tilt!C31<0,COS((Tilt!C31-90)*2*PI()/360),0)","v":0},{"$f":"(CA!C31+CA!E31+CA!D30+CA!D32)*Parameter!$D$11+Shape_edge!C31+Fractuation!C31*Parameter!$D$12+IF(Tilt!D31<0,COS((Tilt!D31-90)*2*PI()/360),0)","v":0},{"$f":"(CA!D31+CA!F31+CA!E30+CA!E32)*Parameter!$D$11+Shape_edge!D31+Fractuation!D31*Parameter!$D$12+IF(Tilt!E31<0,COS((Tilt!E31-90)*2*PI()/360),0)","v":0},{"$f":"(CA!E31+CA!G31+CA!F30+CA!F32)*Parameter!$D$11+Shape_edge!E31+Fractuation!E31*Parameter!$D$12+IF(Tilt!F31<0,COS((Tilt!F31-90)*2*PI()/360),0)","v":0},{"$f":"(CA!F31+CA!H31+CA!G30+CA!G32)*Parameter!$D$11+Shape_edge!F31+Fractuation!F31*Parameter!$D$12+IF(Tilt!G31<0,COS((Tilt!G31-90)*2*PI()/360),0)","v":0},{"$f":"(CA!G31+CA!I31+CA!H30+CA!H32)*Parameter!$D$11+Shape_edge!G31+Fractuation!G31*Parameter!$D$12+IF(Tilt!H31<0,COS((Tilt!H31-90)*2*PI()/360),0)","v":0},{"$f":"(CA!H31+CA!J31+CA!I30+CA!I32)*Parameter!$D$11+Shape_edge!H31+Fractuation!H31*Parameter!$D$12+IF(Tilt!I31<0,COS((Tilt!I31-90)*2*PI()/360),0)","v":0},{"$f":"(CA!I31+CA!K31+CA!J30+CA!J32)*Parameter!$D$11+Shape_edge!I31+Fractuation!I31*Parameter!$D$12+IF(Tilt!J31<0,COS((Tilt!J31-90)*2*PI()/360),0)","v":0},{"$f":"(CA!J31+CA!L31+CA!K30+CA!K32)*Parameter!$D$11+Shape_edge!J31+Fractuation!J31*Parameter!$D$12+IF(Tilt!K31<0,COS((Tilt!K31-90)*2*PI()/360),0)","v":0},{"$f":"(CA!K31+CA!M31+CA!L30+CA!L32)*Parameter!$D$11+Shape_edge!K31+Fractuation!K31*Parameter!$D$12+IF(Tilt!L31<0,COS((Tilt!L31-90)*2*PI()/360),0)","v":0},{"$f":"(CA!L31+CA!N31+CA!M30+CA!M32)*Parameter!$D$11+Shape_edge!L31+Fractuation!L31*Parameter!$D$12+IF(Tilt!M31<0,COS((Tilt!M31-90)*2*PI()/360),0)","v":0},{"$f":"(CA!M31+CA!O31+CA!N30+CA!N32)*Parameter!$D$11+Shape_edge!M31+Fractuation!M31*Parameter!$D$12+IF(Tilt!N31<0,COS((Tilt!N31-90)*2*PI()/360),0)","v":0},{"$f":"(CA!N31+CA!P31+CA!O30+CA!O32)*Parameter!$D$11+Shape_edge!N31+Fractuation!N31*Parameter!$D$12+IF(Tilt!O31<0,COS((Tilt!O31-90)*2*PI()/360),0)","v":0},{"$f":"(CA!O31+CA!Q31+CA!P30+CA!P32)*Parameter!$D$11+Shape_edge!O31+Fractuation!O31*Parameter!$D$12+IF(Tilt!P31<0,COS((Tilt!P31-90)*2*PI()/360),0)","v":0},{"$f":"(CA!P31+CA!R31+CA!Q30+CA!Q32)*Parameter!$D$11+Shape_edge!P31+Fractuation!P31*Parameter!$D$12+IF(Tilt!Q31<0,COS((Tilt!Q31-90)*2*PI()/360),0)","v":0},{"$f":"(CA!Q31+CA!S31+CA!R30+CA!R32)*Parameter!$D$11+Shape_edge!Q31+Fractuation!Q31*Parameter!$D$12+IF(Tilt!R31<0,COS((Tilt!R31-90)*2*PI()/360),0)","v":0},{"$f":"(CA!R31+CA!T31+CA!S30+CA!S32)*Parameter!$D$11+Shape_edge!R31+Fractuation!R31*Parameter!$D$12+IF(Tilt!S31<0,COS((Tilt!S31-90)*2*PI()/360),0)","v":0},{"$f":"(CA!S31+CA!U31+CA!T30+CA!T32)*Parameter!$D$11+Shape_edge!S31+Fractuation!S31*Parameter!$D$12+IF(Tilt!T31<0,COS((Tilt!T31-90)*2*PI()/360),0)","v":0},{"$f":"(CA!T31+CA!V31+CA!U30+CA!U32)*Parameter!$D$11+Shape_edge!T31+Fractuation!T31*Parameter!$D$12+IF(Tilt!U31<0,COS((Tilt!U31-90)*2*PI()/360),0)","v":0},{"$f":"(CA!U31+CA!W31+CA!V30+CA!V32)*Parameter!$D$11+Shape_edge!U31+Fractuation!U31*Parameter!$D$12+IF(Tilt!V31<0,COS((Tilt!V31-90)*2*PI()/360),0)","v":0},{"$f":"(CA!V31+CA!X31+CA!W30+CA!W32)*Parameter!$D$11+Shape_edge!V31+Fractuation!V31*Parameter!$D$12+IF(Tilt!W31<0,COS((Tilt!W31-90)*2*PI()/360),0)","v":0},{"$f":"(CA!W31+CA!Y31+CA!X30+CA!X32)*Parameter!$D$11+Shape_edge!W31+Fractuation!W31*Parameter!$D$12+IF(Tilt!X31<0,COS((Tilt!X31-90)*2*PI()/360),0)","v":0},{"$f":"(CA!X31+CA!Z31+CA!Y30+CA!Y32)*Parameter!$D$11+Shape_edge!X31+Fractuation!X31*Parameter!$D$12+IF(Tilt!Y31<0,COS((Tilt!Y31-90)*2*PI()/360),0)","v":0},{"$f":"(CA!Y31+CA!AA31+CA!Z30+CA!Z32)*Parameter!$D$11+Shape_edge!Y31+Fractuation!Y31*Parameter!$D$12+IF(Tilt!Z31<0,COS((Tilt!Z31-90)*2*PI()/360),0)","v":0},{"$f":"(CA!Z31+CA!AB31+CA!AA30+CA!AA32)*Parameter!$D$11+Shape_edge!Z31+Fractuation!Z31*Parameter!$D$12+IF(Tilt!AA31<0,COS((Tilt!AA31-90)*2*PI()/360),0)","v":0},{"$f":"(CA!AA31+CA!AC31+CA!AB30+CA!AB32)*Parameter!$D$11+Shape_edge!AA31+Fractuation!AA31*Parameter!$D$12+IF(Tilt!AB31<0,COS((Tilt!AB31-90)*2*PI()/360),0)","v":0},{"$f":"(CA!AB31+CA!AD31+CA!AC30+CA!AC32)*Parameter!$D$11+Shape_edge!AB31+Fractuation!AB31*Parameter!$D$12+IF(Tilt!AC31<0,COS((Tilt!AC31-90)*2*PI()/360),0)","v":0},{"$f":"(CA!AC31+CA!AE31+CA!AD30+CA!AD32)*Parameter!$D$11+Shape_edge!AC31+Fractuation!AC31*Parameter!$D$12+IF(Tilt!AD31<0,COS((Tilt!AD31-90)*2*PI()/360),0)","v":0},{"$f":"(CA!AD31+CA!AF31+CA!AE30+CA!AE32)*Parameter!$D$11+Shape_edge!AD31+Fractuation!AD31*Parameter!$D$12+IF(Tilt!AE31<0,COS((Tilt!AE31-90)*2*PI()/360),0)","v":0}]
[]
[]
[null,null,"相変態モチベーション"]

{"sheet":"T1","index":10,"n_rows":34,"n_cols":34,"rows_kept":34,"cut":false,"hidden":true,"merged":[]}
[null,null,null,null,null,null,null,null,null,null,null,null,null,null,null,null,null,null,null,null,null,null,null,null,null,null,null,null,null,null,null,null,{"$f":"Parameter!D14","v":1E-4},"潜熱"]
[null,{"$f":"IF(AND(CA!B2=1, S!B2>0, CA!B35<=Parameter!$F$5), $AG$1,0)+IF(AND(CA!B2=2, S!B2>0, CA!B35>Parameter!$F$5), -$AG$1,0)","v":0},{"$f":"IF(AND(CA!C2=1, S!C2>0, CA!C35<=Parameter!$F$5), $AG$1,0)+IF(AND(CA!C2=2, S!C2>0, CA!C35>Parameter!$F$5), -$AG$1,0)","v":0},{"$f":"IF(AND(CA!D2=1, S!D2>0, CA!D35<=Parameter!$F$5), $AG$1,0)+IF(AND(CA!D2=2, S!D2>0, CA!D35>Parameter!$F$5), -$AG$1,0)","v":0},{"$f":"IF(AND(CA!E2=1, S!E2>0, CA!E35<=Parameter!$F$5), $AG$1,0)+IF(AND(CA!E2=2, S!E2>0, CA!E35>Parameter!$F$5), -$AG$1,0)","v":0},{"$f":"IF(AND(CA!F2=1, S!F2>0, CA!F35<=Parameter!$F$5), $AG$1,0)+IF(AND(CA!F2=2, S!F2>0, CA!F35>Parameter!$F$5), -$AG$1,0)","v":0},{"$f":"IF(AND(CA!G2=1, S!G2>0, CA!G35<=Parameter!$F$5), $AG$1,0)+IF(AND(CA!G2=2, S!G2>0, CA!G35>Parameter!$F$5), -$AG$1,0)","v":0},{"$f":"IF(AND(CA!H2=1, S!H2>0, CA!H35<=Parameter!$F$5), $AG$1,0)+IF(AND(CA!H2=2, S!H2>0, CA!H35>Parameter!$F$5), -$AG$1,0)","v":0},{"$f":"IF(AND(CA!I2=1, S!I2>0, CA!I35<=Parameter!$F$5), $AG$1,0)+IF(AND(CA!I2=2, S!I2>0, CA!I35>Parameter!$F$5), -$AG$1,0)","v":0},{"$f":"IF(AND(CA!J2=1, S!J2>0, CA!J35<=Parameter!$F$5), $AG$1,0)+IF(AND(CA!J2=2, S!J2>0, CA!J35>Parameter!$F$5), -$AG$1,0)","v":0},{"$f":"IF(AND(CA!K2=1, S!K2>0, CA!K35<=Parameter!$F$5), $AG$1,0)+IF(AND(CA!K2=2, S!K2>0, CA!K35>Parameter!$F$5), -$AG$1,0)","v":0},{"$f":"IF(AND(CA!L2=1, S!L2>0, CA!L35<=Parameter!$F$5), $AG$1,0)+IF(AND(CA!L2=2, S!L2>0, CA!L35>Parameter!$F$5), -$AG$1,0)","v":0},{"$f":"IF(AND(CA!M2=1, S!M2>0, CA!M35<=Parameter!$F$5), $AG$1,0)+IF(AND(CA!M2=2, S!M2>0, CA!M35>Parameter!$F$5), -$AG$1,0)","v":0},{"$f":"IF(AND(CA!N2=1, S!N2>0, CA!N35<=Parameter!$F$5), $AG$1,0)+IF(AND(CA!N2=2, S!N2>0, CA!N35>Parameter!$F$5), -$AG$1,0)","v":0},{"$f":"IF(AND(CA!O2=1, S!O2>0, CA!O35<=Parameter!$F$5), $AG$1,0)+IF(AND(CA!O2=2, S!O2>0, CA!O35>Parameter!$F$5), -$AG$1,0)","v":0},{"$f":"IF(AND(CA!P2=1, S!P2>0, CA!P35<=Parameter!$F$5), $AG$1,0)+IF(AND(CA!P2=2, S!P2>0, CA!P35>Parameter!$F$5), -$AG$1,0)","v":0},{"$f":"IF(AND(CA!Q2=1, S!Q2>0, CA!Q35<=Parameter!$F$5), $AG$1,0)+IF(AND(CA!Q2=2, S!Q2>0, CA!Q35>Parameter!$F$5), -$AG$1,0)","v":0},{"$f":"IF(AND(CA!R2=1, S!R2>0, CA!R35<=Parameter!$F$5), $AG$1,0)+IF(AND(CA!R2=2, S!R2>0, CA!R35>Parameter!$F$5), -$AG$1,0)","v":0},{"$f":"IF(AND(CA!S2=1, S!S2>0, CA!S35<=Parameter!$F$5), $AG$1,0)+IF(AND(CA!S2=2, S!S2>0, CA!S35>Parameter!$F$5), -$AG$1,0)","v":0},{"$f":"IF(AND(CA!T2=1, S!T2>0, CA!T35<=Parameter!$F$5), $AG$1,0)+IF(AND(CA!T2=2, S!T2>0, CA!T35>Parameter!$F$5), -$AG$1,0)","v":0},{"$f":"IF(AND(CA!U2=1, S!U2>0, CA!U35<=Parameter!$F$5), $AG$1,0)+IF(AND(CA!U2=2, S!U2>0, CA!U35>Parameter!$F$5), -$AG$1,0)","v":0},{"$f":"IF(AND(CA!V2=1, S!V2>0, CA!V35<=Parameter!$F$5), $AG$1,0)+IF(AND(CA!V2=2, S!V2>0, CA!V35>Parameter!$F$5), -$AG$1,0)","v":0},{"$f":"IF(AND(CA!W2=1, S!W2>0, CA!W35<=Parameter!$F$5), $AG$1,0)+IF(AND(CA!W2=2, S!W2>0, CA!W35>Parameter!$F$5), -$AG$1,0)","v":0},{"$f":"IF(AND(CA!X2=1, S!X2>0, CA!X35<=Parameter!$F$5), $AG$1,0)+IF(AND(CA!X2=2, S!X2>0, CA!X35>Parameter!$F$5), -$AG$1,0)","v":0},{"$f":"IF(AND(CA!Y2=1, S!Y2>0, CA!Y35<=Parameter!$F$5), $AG$1,0)+IF(AND(CA!Y2=2, S!Y2>0, CA!Y35>Parameter!$F$5), -$AG$1,0)","v":0},{"$f":"IF(AND(CA!Z2=1, S!Z2>0, CA!Z35<=Parameter!$F$5), $AG$1,0)+IF(AND(CA!Z2=2, S!Z2>0, CA!Z35>Parameter!$F$5), -$AG$1,0)","v":0},{"$f":"IF(AND(CA!AA2=1, S!AA2>0, CA!AA35<=Parameter!$F$5), $AG$1,0)+IF(AND(CA!AA2=2, S!AA2>0, CA!AA35>Parameter!$F$5), -$AG$1,0)","v":0},{"$f":"IF(AND(CA!AB2=1, S!AB2>0, CA!AB35<=Parameter!$F$5), $AG$1,0)+IF(AND(CA!AB2=2, S!AB2>0, CA!AB35>Parameter!$F$5), -$AG$1,0)","v":0},{"$f":"IF(AND(CA!AC2=1, S!AC2>0, CA!AC35<=Parameter!$F$5), $AG$1,0)+IF(AND(CA!AC2=2, S!AC2>0, CA!AC35>Parameter!$F$5), -$AG$1,0)","v":0},{"$f":"IF(AND(CA!AD2=1, S!AD2>0, CA!AD35<=Parameter!$F$5), $AG$1,0)+IF(AND(CA!AD2=2, S!AD2>0, CA!AD35>Parameter!$F$5), -$AG$1,0)","v":0},{"$f":"IF(AND(CA!AE2=1, S!AE2>0, CA!AE35<=Parameter!$F$5), $AG$1,0)+IF(AND(CA!AE2=2, S!AE2>0, CA!AE35>Parameter!$F$5), -$AG$1,0)","v":0}]
[null,{"$f":"IF(AND(CA!B3=1, S!B3>0, CA!B36<=Parameter!$F$5), $AG$1,0)+IF(AND(CA!B3=2, S!B3>0, CA!B36>Parameter!$F$5), -$AG$1,0)","v":0},{"$f":"IF(AND(CA!C3=1, S!C3>0, CA!C36<=Parameter!$F$5), $AG$1,0)+IF(AND(CA!C3=2, S!C3>0, CA!C36>Parameter!$F$5), -$AG$1,0)","v":0},{"$f":"IF(AND(CA!D3=1, S!D3>0, CA!D36<=Parameter!$F$5), $AG$1,0)+IF(AND(CA!D3=2, S!D3>0, CA!D36>Parameter!$F$5), -$AG$1,0)","v":0},{"$f":"IF(AND(CA!E3=1, S!E3>0, CA!E36<=Parameter!$F$5), $AG$1,0)+IF(AND(CA!E3=2, S!E3>0, CA!E36>Parameter!$F$5), -$AG$1,0)","v":0},{"$f":"IF(AND(CA!F3=1, S!F3>0, CA!F36<=Parameter!$F$5), $AG$1,0)+IF(AND(CA!F3=2, S!F3>0, CA!F36>Parameter!$F$5), -$AG$1,0)","v":0},{"$f":"IF(AND(CA!G3=1, S!G3>0, CA!G36<=Parameter!$F$5), $AG$1,0)+IF(AND(CA!G3=2, S!G3>0, CA!G36>Parameter!$F$5), -$AG$1,0)","v":0},{"$f":"IF(AND(CA!H3=1, S!H3>0, CA!H36<=Parameter!$F$5), $AG$1,0)+IF(AND(CA!H3=2, S!H3>0, CA!H36>Parameter!$F$5), -$AG$1,0)","v":0},{"$f":"IF(AND(CA!I3=1, S!I3>0, CA!I36<=Parameter!$F$5), $AG$1,0)+IF(AND(CA!I3=2, S!I3>0, CA!I36>Parameter!$F$5), -$AG$1,0)","v":0},{"$f":"IF(AND(CA!J3=1, S!J3>0, CA!J36<=Parameter!$F$5), $AG$1,0)+IF(AND(CA!J3=2, S!J3>0, CA!J36>Parameter!$F$5), -$AG$1,0)","v":0},{"$f":"IF(AND(CA!K3=1, S!K3>0, CA!K36<=Parameter!$F$5), $AG$1,0)+IF(AND(CA!K3=2, S!K3>0, CA!K36>Parameter!$F$5), -$AG$1,0)","v":0},{"$f":"IF(AND(CA!L3=1, S!L3>0, CA!L36<=Parameter!$F$5), $AG$1,0)+IF(AND(CA!L3=2, S!L3>0, CA!L36>Parameter!$F$5), -$AG$1,0)","v":0},{"$f":"IF(AND(CA!M3=1, S!M3>0, CA!M36<=Parameter!$F$5), $AG$1,0)+IF(AND(CA!M3=2, S!M3>0, CA!M36>Parameter!$F$5), -$AG$1,0)","v":0},{"$f":"IF(AND(CA!N3=1, S!N3>0, CA!N36<=Parameter!$F$5), $AG$1,0)+IF(AND(CA!N3=2, S!N3>0, CA!N36>Parameter!$F$5), -$AG$1,0)","v":0},{"$f":"IF(AND(CA!O3=1, S!O3>0, CA!O36<=Parameter!$F$5), $AG$1,0)+IF(AND(CA!O3=2, S!O3>0, CA!O36>Parameter!$F$5), -$AG$1,0)","v":0},{"$f":"IF(AND(CA!P3=1, S!P3>0, CA!P36<=Parameter!$F$5), $AG$1,0)+IF(AND(CA!P3=2, S!P3>0, CA!P36>Parameter!$F$5), -$AG$1,0)","v":0},{"$f":"IF(AND(CA!Q3=1, S!Q3>0, CA!Q36<=Parameter!$F$5), $AG$1,0)+IF(AND(CA!Q3=2, S!Q3>0, CA!Q36>Parameter!$F$5), -$AG$1,0)","v":0},{"$f":"IF(AND(CA!R3=1, S!R3>0, CA!R36<=Parameter!$F$5), $AG$1,0)+IF(AND(CA!R3=2, S!R3>0, CA!R36>Parameter!$F$5), -$AG$1,0)","v":0},{"$f":"IF(AND(CA!S3=1, S!S3>0, CA!S36<=Parameter!$F$5), $AG$1,0)+IF(AND(CA!S3=2, S!S3>0, CA!S36>Parameter!$F$5), -$AG$1,0)","v":0},{"$f":"IF(AND(CA!T3=1, S!T3>0, CA!T36<=Parameter!$F$5), $AG$1,0)+IF(AND(CA!T3=2, S!T3>0, CA!T36>Parameter!$F$5), -$AG$1,0)","v":0},{"$f":"IF(AND(CA!U3=1, S!U3>0, CA!U36<=Parameter!$F$5), $AG$1,0)+IF(AND(CA!U3=2, S!U3>0, CA!U36>Parameter!$F$5), -$AG$1,0)","v":0},{"$f":"IF(AND(CA!V3=1, S!V3>0, CA!V36<=Parameter!$F$5), $AG$1,0)+IF(AND(CA!V3=2, S!V3>0, CA!V36>Parameter!$F$5), -$AG$1,0)","v":0},{"$f":"IF(AND(CA!W3=1, S!W3>0, CA!W36<=Parameter!$F$5), $AG$1,0)+IF(AND(CA!W3=2, S!W3>0, CA!W36>Parameter!$F$5), -$AG$1,0)","v":0},{"$f":"IF(AND(CA!X3=1, S!X3>0, CA!X36<=Parameter!$F$5), $AG$1,0)+IF(AND(CA!X3=2, S!X3>0, CA!X36>Parameter!$F$5), -$AG$1,0)","v":0},{"$f":"IF(AND(CA!Y3=1, S!Y3>0, CA!Y36<=Parameter!$F$5), $AG$1,0)+IF(AND(CA!Y3=2, S!Y3>0, CA!Y36>Parameter!$F$5), -$AG$1,0)","v":0},{"$f":"IF(AND(CA!Z3=1, S!Z3>0, CA!Z36<=Parameter!$F$5), $AG$1,0)+IF(AND(CA!Z3=2, S!Z3>0, CA!Z36>Parameter!$F$5), -$AG$1,0)","v":0},{"$f":"IF(AND(CA!AA3=1, S!AA3>0, CA!AA36<=Parameter!$F$5), $AG$1,0)+IF(AND(CA!AA3=2, S!AA3>0, CA!AA36>Parameter!$F$5), -$AG$1,0)","v":0},{"$f":"IF(AND(CA!AB3=1, S!AB3>0, CA!AB36<=Parameter!$F$5), $AG$1,0)+IF(AND(CA!AB3=2, S!AB3>0, CA!AB36>Parameter!$F$5), -$AG$1,0)","v":0},{"$f":"IF(AND(CA!AC3=1, S!AC3>0, CA!AC36<=Parameter!$F$5), $AG$1,0)+IF(AND(CA!AC3=2, S!AC3>0, CA!AC36>Parameter!$F$5), -$AG$1,0)","v":0},{"$f":"IF(AND(CA!AD3=1, S!AD3>0, CA!AD36<=Parameter!$F$5), $AG$1,0)+IF(AND(CA!AD3=2, S!AD3>0, CA!AD36>Parameter!$F$5), -$AG$1,0)","v":0},{"$f":"IF(AND(CA!AE3=1, S!AE3>0, CA!AE36<=Parameter!$F$5), $AG$1,0)+IF(AND(CA!AE3=2, S!AE3>0, CA!AE36>Parameter!$F$5), -$AG$1,0)","v":0}]
[null,{"$f":"IF(AND(CA!B4=1, S!B4>0, CA!B37<=Parameter!$F$5), $AG$1,0)+IF(AND(CA!B4=2, S!B4>0, CA!B37>Parameter!$F$5), -$AG$1,0)","v":0},{"$f":"IF(AND(CA!C4=1, S!C4>0, CA!C37<=Parameter!$F$5), $AG$1,0)+IF(AND(CA!C4=2, S!C4>0, CA!C37>Parameter!$F$5), -$AG$1,0)","v":0},{"$f":"IF(AND(CA!D4=1, S!D4>0, CA!D37<=Parameter!$F$5), $AG$1,0)+IF(AND(CA!D4=2, S!D4>0, CA!D37>Parameter!$F$5), -$AG$1,0)","v":0},{"$f":"IF(AND(CA!E4=1, S!E4>0, CA!E37<=Parameter!$F$5), $AG$1,0)+IF(AND(CA!E4=2, S!E4>0, CA!E37>Parameter!$F$5), -$AG$1,0)","v":0},{"$f":"IF(AND(CA!F4=1, S!F4>0, CA!F37<=Parameter!$F$5), $AG$1,0)+IF(AND(CA!F4=2, S!F4>0, CA!F37>Parameter!$F$5), -$AG$1,0)","v":0},{"$f":"IF(AND(CA!G4=1, S!G4>0, CA!G37<=Parameter!$F$5), $AG$1,0)+IF(AND(CA!G4=2, S!G4>0, CA!G37>Parameter!$F$5), -$AG$1,0)","v":0},{"$f":"IF(AND(CA!H4=1, S!H4>0, CA!H37<=Parameter!$F$5), $AG$1,0)+IF(AND(CA!H4=2, S!H4>0, CA!H37>Parameter!$F$5), -$AG$1,0)","v":0},{"$f":"IF(AND(CA!I4=1, S!I4>0, CA!I37<=Parameter!$F$5), $AG$1,0)+IF(AND(CA!I4=2, S!I4>0, CA!I37>Parameter!$F$5), -$AG$1,0)","v":0},{"$f":"IF(AND(CA!J4=1, S!J4>0, CA!J37<=Parameter!$F$5), $AG$1,0)+IF(AND(CA!J4=2, S!J4>0, CA!J37>Parameter!$F$5), -$AG$1,0)","v":0},{"$f":"IF(AND(CA!K4=1, S!K4>0, CA!K37<=Parameter!$F$5), $AG$1,0)+IF(AND(CA!K4=2, S!K4>0, CA!K37>Parameter!$F$5), -$AG$1,0)","v":0},{"$f":"IF(AND(CA!L4=1, S!L4>0, CA!L37<=Parameter!$F$5), $AG$1,0)+IF(AND(CA!L4=2, S!L4>0, CA!L37>Parameter!$F$5), -$AG$1,0)","v":0},{"$f":"IF(AND(CA!M4=1, S!M4>0, CA!M37<=Parameter!$F$5), $AG$1,0)+IF(AND(CA!M4=2, S!M4>0, CA!M37>Parameter!$F$5), -$AG$1,0)","v":0},{"$f":"IF(AND(CA!N4=1, S!N4>0, CA!N37<=Parameter!$F$5), $AG$1,0)+IF(AND(CA!N4=2, S!N4>0, CA!N37>Parameter!$F$5), -$AG$1,0)","v":0},{"$f":"IF(AND(CA!O4=1, S!O4>0, CA!O37<=Parameter!$F$5), $AG$1,0)+IF(AND(CA!O4=2, S!O4>0, CA!O37>Parameter!$F$5), -$AG$1,0)","v":0},{"$f":"IF(AND(CA!P4=1, S!P4>0, CA!P37<=Parameter!$F$5), $AG$1,0)+IF(AND(CA!P4=2, S!P4>0, CA!P37>Parameter!$F$5), -$AG$1,0)","v":0},{"$f":"IF(AND(CA!Q4=1, S!Q4>0, CA!Q37<=Parameter!$F$5), $AG$1,0)+IF(AND(CA!Q4=2, S!Q4>0, CA!Q37>Parameter!$F$5), -$AG$1,0)","v":0},{"$f":"IF(AND(CA!R4=1, S!R4>0, CA!R37<=Parameter!$F$5), $AG$1,0)+IF(AND(CA!R4=2, S!R4>0, CA!R37>Parameter!$F$5), -$AG$1,0)","v":0},{"$f":"IF(AND(CA!S4=1, S!S4>0, CA!S37<=Parameter!$F$5), $AG$1,0)+IF(AND(CA!S4=2, S!S4>0, CA!S37>Parameter!$F$5), -$AG$1,0)","v":0},{"$f":"IF(AND(CA!T4=1, S!T4>0, CA!T37<=Parameter!$F$5), $AG$1,0)+IF(AND(CA!T4=2, S!T4>0, CA!T37>Parameter!$F$5), -$AG$1,0)","v":0},{"$f":"IF(AND(CA!U4=1, S!U4>0, CA!U37<=Parameter!$F$5), $AG$1,0)+IF(AND(CA!U4=2, S!U4>0, CA!U37>Parameter!$F$5), -$AG$1,0)","v":0},{"$f":"IF(AND(CA!V4=1, S!V4>0, CA!V37<=Parameter!$F$5), $AG$1,0)+IF(AND(CA!V4=2, S!V4>0, CA!V37>Parameter!$F$5), -$AG$1,0)","v":0},{"$f":"IF(AND(CA!W4=1, S!W4>0, CA!W37<=Parameter!$F$5), $AG$1,0)+IF(AND(CA!W4=2, S!W4>0, CA!W37>Parameter!$F$5), -$AG$1,0)","v":0},{"$f":"IF(AND(CA!X4=1, S!X4>0, CA!X37<=Parameter!$F$5), $AG$1,0)+IF(AND(CA!X4=2, S!X4>0, CA!X37>Parameter!$F$5), -$AG$1,0)","v":0},{"$f":"IF(AND(CA!Y4=1, S!Y4>0, CA!Y37<=Parameter!$F$5), $AG$1,0)+IF(AND(CA!Y4=2, S!Y4>0, CA!Y37>Parameter!$F$5), -$AG$1,0)","v":0},{"$f":"IF(AND(CA!Z4=1, S!Z4>0, CA!Z37<=Parameter!$F$5), $AG$1,0)+IF(AND(CA!Z4=2, S!Z4>0, CA!Z37>Parameter!$F$5), -$AG$1,0)","v":0},{"$f":"IF(AND(CA!AA4=1, S!AA4>0, CA!AA37<=Parameter!$F$5), $AG$1,0)+IF(AND(CA!AA4=2, S!AA4>0, CA!AA37>Parameter!$F$5), -$AG$1,0)","v":0},{"$f":"IF(AND(CA!AB4=1, S!AB4>0, CA!AB37<=Parameter!$F$5), $AG$1,0)+IF(AND(CA!AB4=2, S!AB4>0, CA!AB37>Parameter!$F$5), -$AG$1,0)","v":0},{"$f":"IF(AND(CA!AC4=1, S!AC4>0, CA!AC37<=Parameter!$F$5), $AG$1,0)+IF(AND(CA!AC4=2, S!AC4>0, CA!AC37>Parameter!$F$5), -$AG$1,0)","v":0},{"$f":"IF(AND(CA!AD4=1, S!AD4>0, CA!AD37<=Parameter!$F$5), $AG$1,0)+IF(AND(CA!AD4=2, S!AD4>0, CA!AD37>Parameter!$F$5), -$AG$1,0)","v":0},{"$f":"IF(AND(CA!AE4=1, S!AE4>0, CA!AE37<=Parameter!$F$5), $AG$1,0)+IF(AND(CA!AE4=2, S!AE4>0, CA!AE37>Parameter!$F$5), -$AG$1,0)","v":0}]
[null,{"$f":"IF(AND(CA!B5=1, S!B5>0, CA!B38<=Parameter!$F$5), $AG$1,0)+IF(AND(CA!B5=2, S!B5>0, CA!B38>Parameter!$F$5), -$AG$1,0)","v":0},{"$f":"IF(AND(CA!C5=1, S!C5>0, CA!C38<=Parameter!$F$5), $AG$1,0)+IF(AND(CA!C5=2, S!C5>0, CA!C38>Parameter!$F$5), -$AG$1,0)","v":0},{"$f":"IF(AND(CA!D5=1, S!D5>0, CA!D38<=Parameter!$F$5), $AG$1,0)+IF(AND(CA!D5=2, S!D5>0, CA!D38>Parameter!$F$5), -$AG$1,0)","v":0},{"$f":"IF(AND(CA!E5=1, S!E5>0, CA!E38<=Parameter!$F$5), $AG$1,0)+IF(AND(CA!E5=2, S!E5>0, CA!E38>Parameter!$F$5), -$AG$1,0)","v":0},{"$f":"IF(AND(CA!F5=1, S!F5>0, CA!F38<=Parameter!$F$5), $AG$1,0)+IF(AND(CA!F5=2, S!F5>0, CA!F38>Parameter!$F$5), -$AG$1,0)","v":0},{"$f":"IF(AND(CA!G5=1, S!G5>0, CA!G38<=Parameter!$F$5), $AG$1,0)+IF(AND(CA!G5=2, S!G5>0, CA!G38>Parameter!$F$5), -$AG$1,0)","v":0},{"$f":"IF(AND(CA!H5=1, S!H5>0, CA!H38<=Parameter!$F$5), $AG$1,0)+IF(AND(CA!H5=2, S!H5>0, CA!H38>Parameter!$F$5), -$AG$1,0)","v":0},{"$f":"IF(AND(CA!I5=1, S!I5>0, CA!I38<=Parameter!$F$5), $AG$1,0)+IF(AND(CA!I5=2, S!I5>0, CA!I38>Parameter!$F$5), -$AG$1,0)","v":0},{"$f":"IF(AND(CA!J5=1, S!J5>0, CA!J38<=Parameter!$F$5), $AG$1,0)+IF(AND(CA!J5=2, S!J5>0, CA!J38>Parameter!$F$5), -$AG$1,0)","v":0},{"$f":"IF(AND(CA!K5=1, S!K5>0, CA!K38<=Parameter!$F$5), $AG$1,0)+IF(AND(CA!K5=2, S!K5>0, CA!K38>Parameter!$F$5), -$AG$1,0)","v":0},{"$f":"IF(AND(CA!L5=1, S!L5>0, CA!L38<=Parameter!$F$5), $AG$1,0)+IF(AND(CA!L5=2, S!L5>0, CA!L38>Parameter!$F$5), -$AG$1,0)","v":0},{"$f":"IF(AND(CA!M5=1, S!M5>0, CA!M38<=Parameter!$F$5), $AG$1,0)+IF(AND(CA!M5=2, S!M5>0, CA!M38>Parameter!$F$5), -$AG$1,0)","v":0},{"$f":"IF(AND(CA!N5=1, S!N5>0, CA!N38<=Parameter!$F$5), $AG$1,0)+IF(AND(CA!N5=2, S!N5>0, CA!N38>Parameter!$F$5), -$AG$1,0)","v":0},{"$f":"IF(AND(CA!O5=1, S!O5>0, CA!O38<=Parameter!$F$5), $AG$1,0)+IF(AND(CA!O5=2, S!O5>0, CA!O38>Parameter!$F$5), -$AG$1,0)","v":0},{"$f":"IF(AND(CA!P5=1, S!P5>0, CA!P38<=Parameter!$F$5), $AG$1,0)+IF(AND(CA!P5=2, S!P5>0, CA!P38>Parameter!$F$5), -$AG$1,0)","v":0},{"$f":"IF(AND(CA!Q5=1, S!Q5>0, CA!Q38<=Parameter!$F$5), $AG$1,0)+IF(AND(CA!Q5=2, S!Q5>0, CA!Q38>Parameter!$F$5), -$AG$1,0)","v":0},{"$f":"IF(AND(CA!R5=1, S!R5>0, CA!R38<=Parameter!$F$5), $AG$1,0)+IF(AND(CA!R5=2, S!R5>0, CA!R38>Parameter!$F$5), -$AG$1,0)","v":0},{"$f":"IF(AND(CA!S5=1, S!S5>0, CA!S38<=Parameter!$F$5), $AG$1,0)+IF(AND(CA!S5=2, S!S5>0, CA!S38>Parameter!$F$5), -$AG$1,0)","v":0},{"$f":"IF(AND(CA!T5=1, S!T5>0, CA!T38<=Parameter!$F$5), $AG$1,0)+IF(AND(CA!T5=2, S!T5>0, CA!T38>Parameter!$F$5), -$AG$1,0)","v":0},{"$f":"IF(AND(CA!U5=1, S!U5>0, CA!U38<=Parameter!$F$5), $AG$1,0)+IF(AND(CA!U5=2, S!U5>0, CA!U38>Parameter!$F$5), -$AG$1,0)","v":0},{"$f":"IF(AND(CA!V5=1, S!V5>0, CA!V38<=Parameter!$F$5), $AG$1,0)+IF(AND(CA!V5=2, S!V5>0, CA!V38>Parameter!$F$5), -$AG$1,0)","v":0},{"$f":"IF(AND(CA!W5=1, S!W5>0, CA!W38<=Parameter!$F$5), $AG$1,0)+IF(AND(CA!W5=2, S!W5>0, CA!W38>Parameter!$F$5), -$AG$1,0)","v":0},{"$f":"IF(AND(CA!X5=1, S!X5>0, CA!X38<=Parameter!$F$5), $AG$1,0)+IF(AND(CA!X5=2, S!X5>0, CA!X38>Parameter!$F$5), -$AG$1,0)","v":0},{"$f":"IF(AND(CA!Y5=1, S!Y5>0, CA!Y38<=Parameter!$F$5), $AG$1,0)+IF(AND(CA!Y5=2, S!Y5>0, CA!Y38>Parameter!$F$5), -$AG$1,0)","v":0},{"$f":"IF(AND(CA!Z5=1, S!Z5>0, CA!Z38<=Parameter!$F$5), $AG$1,0)+IF(AND(CA!Z5=2, S!Z5>0, CA!Z38>Parameter!$F$5), -$AG$1,0)","v":0},{"$f":"IF(AND(CA!AA5=1, S!AA5>0, CA!AA38<=Parameter!$F$5), $AG$1,0)+IF(AND(CA!AA5=2, S!AA5>0, CA!AA38>Parameter!$F$5), -$AG$1,0)","v":0},{"$f":"IF(AND(CA!AB5=1, S!AB5>0, CA!AB38<=Parameter!$F$5), $AG$1,0)+IF(AND(CA!AB5=2, S!AB5>0, CA!AB38>Parameter!$F$5), -$AG$1,0)","v":0},{"$f":"IF(AND(CA!AC5=1, S!AC5>0, CA!AC38<=Parameter!$F$5), $AG$1,0)+IF(AND(CA!AC5=2, S!AC5>0, CA!AC38>Parameter!$F$5), -$AG$1,0)","v":0},{"$f":"IF(AND(CA!AD5=1, S!AD5>0, CA!AD38<=Parameter!$F$5), $AG$1,0)+IF(AND(CA!AD5=2, S!AD5>0, CA!AD38>Parameter!$F$5), -$AG$1,0)","v":0},{"$f":"IF(AND(CA!AE5=1, S!AE5>0, CA!AE38<=Parameter!$F$5), $AG$1,0)+IF(AND(CA!AE5=2, S!AE5>0, CA!AE38>Parameter!$F$5), -$AG$1,0)","v":0}]
[null,{"$f":"IF(AND(CA!B6=1, S!B6>0, CA!B39<=Parameter!$F$5), $AG$1,0)+IF(AND(CA!B6=2, S!B6>0, CA!B39>Parameter!$F$5), -$AG$1,0)","v":0},{"$f":"IF(AND(CA!C6=1, S!C6>0, CA!C39<=Parameter!$F$5), $AG$1,0)+IF(AND(CA!C6=2, S!C6>0, CA!C39>Parameter!$F$5), -$AG$1,0)","v":0},{"$f":"IF(AND(CA!D6=1, S!D6>0, CA!D39<=Parameter!$F$5), $AG$1,0)+IF(AND(CA!D6=2, S!D6>0, CA!D39>Parameter!$F$5), -$AG$1,0)","v":0},{"$f":"IF(AND(CA!E6=1, S!E6>0, CA!E39<=Parameter!$F$5), $AG$1,0)+IF(AND(CA!E6=2, S!E6>0, CA!E39>Parameter!$F$5), -$AG$1,0)","v":0},{"$f":"IF(AND(CA!F6=1, S!F6>0, CA!F39<=Parameter!$F$5), $AG$1,0)+IF(AND(CA!F6=2, S!F6>0, CA!F39>Parameter!$F$5), -$AG$1,0)","v":0},{"$f":"IF(AND(CA!G6=1, S!G6>0, CA!G39<=Parameter!$F$5), $AG$1,0)+IF(AND(CA!G6=2, S!G6>0, CA!G39>Parameter!$F$5), -$AG$1,0)","v":0},{"$f":"IF(AND(CA!H6=1, S!H6>0, CA!H39<=Parameter!$F$5), $AG$1,0)+IF(AND(CA!H6=2, S!H6>0, CA!H39>Parameter!$F$5), -$AG$1,0)","v":0},{"$f":"IF(AND(CA!I6=1, S!I6>0, CA!I39<=Parameter!$F$5), $AG$1,0)+IF(AND(CA!I6=2, S!I6>0, CA!I39>Parameter!$F$5), -$AG$1,0)","v":0},{"$f":"IF(AND(CA!J6=1, S!J6>0, CA!J39<=Parameter!$F$5), $AG$1,0)+IF(AND(CA!J6=2, S!J6>0, CA!J39>Parameter!$F$5), -$AG$1,0)","v":0},{"$f":"IF(AND(CA!K6=1, S!K6>0, CA!K39<=Parameter!$F$5), $AG$1,0)+IF(AND(CA!K6=2, S!K6>0, CA!K39>Parameter!$F$5), -$AG$1,0)","v":0},{"$f":"IF(AND(CA!L6=1, S!L6>0, CA!L39<=Parameter!$F$5), $AG$1,0)+IF(AND(CA!L6=2, S!L6>0, CA!L39>Parameter!$F$5), -$AG$1,0)","v":0},{"$f":"IF(AND(CA!M6=1, S!M6>0, CA!M39<=Parameter!$F$5), $AG$1,0)+IF(AND(CA!M6=2, S!M6>0, CA!M39>Parameter!$F$5), -$AG$1,0)","v":0},{"$f":"IF(AND(CA!N6=1, S!N6>0, CA!N39<=Parameter!$F$5), $AG$1,0)+IF(AND(CA!N6=2, S!N6>0, CA!N39>Parameter!$F$5), -$AG$1,0)","v":0},{"$f":"IF(AND(CA!O6=1, S!O6>0, CA!O39<=Parameter!$F$5), $AG$1,0)+IF(AND(CA!O6=2, S!O6>0, CA!O39>Parameter!$F$5), -$AG$1,0)","v":0},{"$f":"IF(AND(CA!P6=1, S!P6>0, CA!P39<=Parameter!$F$5), $AG$1,0)+IF(AND(CA!P6=2, S!P6>0, CA!P39>Parameter!$F$5), -$AG$1,0)","v":0},{"$f":"IF(AND(CA!Q6=1, S!Q6>0, CA!Q39<=Parameter!$F$5), $AG$1,0)+IF(AND(CA!Q6=2, S!Q6>0, CA!Q39>Parameter!$F$5), -$AG$1,0)","v":0},{"$f":"IF(AND(CA!R6=1, S!R6>0, CA!R39<=Parameter!$F$5), $AG$1,0)+IF(AND(CA!R6=2, S!R6>0, CA!R39>Parameter!$F$5), -$AG$1,0)","v":0},{"$f":"IF(AND(CA!S6=1, S!S6>0, CA!S39<=Parameter!$F$5), $AG$1,0)+IF(AND(CA!S6=2, S!S6>0, CA!S39>Parameter!$F$5), -$AG$1,0)","v":0},{"$f":"IF(AND(CA!T6=1, S!T6>0, CA!T39<=Parameter!$F$5), $AG$1,0)+IF(AND(CA!T6=2, S!T6>0, CA!T39>Parameter!$F$5), -$AG$1,0)","v":0},{"$f":"IF(AND(CA!U6=1, S!U6>0, CA!U39<=Parameter!$F$5), $AG$1,0)+IF(AND(CA!U6=2, S!U6>0, CA!U39>Parameter!$F$5), -$AG$1,0)","v":0},{"$f":"IF(AND(CA!V6=1, S!V6>0, CA!V39<=Parameter!$F$5), $AG$1,0)+IF(AND(CA!V6=2, S!V6>0, CA!V39>Parameter!$F$5), -$AG$1,0)","v":0},{"$f":"IF(AND(CA!W6=1, S!W6>0, CA!W39<=Parameter!$F$5), $AG$1,0)+IF(AND(CA!W6=2, S!W6>0, CA!W39>Parameter!$F$5), -$AG$1,0)","v":0},{"$f":"IF(AND(CA!X6=1, S!X6>0, CA!X39<=Parameter!$F$5), $AG$1,0)+IF(AND(CA!X6=2, S!X6>0, CA!X39>Parameter!$F$5), -$AG$1,0)","v":0},{"$f":"IF(AND(CA!Y6=1, S!Y6>0, CA!Y39<=Parameter!$F$5), $AG$1,0)+IF(AND(CA!Y6=2, S!Y6>0, CA!Y39>Parameter!$F$5), -$AG$1,0)","v":0},{"$f":"IF(AND(CA!Z6=1, S!Z6>0, CA!Z39<=Parameter!$F$5), $AG$1,0)+IF(AND(CA!Z6=2, S!Z6>0, CA!Z39>Parameter!$F$5), -$AG$1,0)","v":0},{"$f":"IF(AND(CA!AA6=1, S!AA6>0, CA!AA39<=Parameter!$F$5), $AG$1,0)+IF(AND(CA!AA6=2, S!AA6>0, CA!AA39>Parameter!$F$5), -$AG$1,0)","v":0},{"$f":"IF(AND(CA!AB6=1, S!AB6>0, CA!AB39<=Parameter!$F$5), $AG$1,0)+IF(AND(CA!AB6=2, S!AB6>0, CA!AB39>Parameter!$F$5), -$AG$1,0)","v":0},{"$f":"IF(AND(CA!AC6=1, S!AC6>0, CA!AC39<=Parameter!$F$5), $AG$1,0)+IF(AND(CA!AC6=2, S!AC6>0, CA!AC39>Parameter!$F$5), -$AG$1,0)","v":0},{"$f":"IF(AND(CA!AD6=1, S!AD6>0, CA!AD39<=Parameter!$F$5), $AG$1,0)+IF(AND(CA!AD6=2, S!AD6>0, CA!AD39>Parameter!$F$5), -$AG$1,0)","v":0},{"$f":"IF(AND(CA!AE6=1, S!AE6>0, CA!AE39<=Parameter!$F$5), $AG$1,0)+IF(AND(CA!AE6=2, S!AE6>0, CA!AE39>Parameter!$F$5), -$AG$1,0)","v":0}]
[null,{"$f":"IF(AND(CA!B7=1, S!B7>0, CA!B40<=Parameter!$F$5), $AG$1,0)+IF(AND(CA!B7=2, S!B7>0, CA!B40>Parameter!$F$5), -$AG$1,0)","v":0},{"$f":"IF(AND(CA!C7=1, S!C7>0, CA!C40<=Parameter!$F$5), $AG$1,0)+IF(AND(CA!C7=2, S!C7>0, CA!C40>Parameter!$F$5), -$AG$1,0)","v":0},{"$f":"IF(AND(CA!D7=1, S!D7>0, CA!D40<=Parameter!$F$5), $AG$1,0)+IF(AND(CA!D7=2, S!D7>0, CA!D40>Parameter!$F$5), -$AG$1,0)","v":0},{"$f":"IF(AND(CA!E7=1, S!E7>0, CA!E40<=Parameter!$F$5), $AG$1,0)+IF(AND(CA!E7=2, S!E7>0, CA!E40>Parameter!$F$5), -$AG$1,0)","v":0},{"$f":"IF(AND(CA!F7=1, S!F7>0, CA!F40<=Parameter!$F$5), $AG$1,0)+IF(AND(CA!F7=2, S!F7>0, CA!F40>Parameter!$F$5), -$AG$1,0)","v":0},{"$f":"IF(AND(CA!G7=1, S!G7>0, CA!G40<=Parameter!$F$5), $AG$1,0)+IF(AND(CA!G7=2, S!G7>0, CA!G40>Parameter!$F$5), -$AG$1,0)","v":0},{"$f":"IF(AND(CA!H7=1, S!H7>0, CA!H40<=Parameter!$F$5), $AG$1,0)+IF(AND(CA!H7=2, S!H7>0, CA!H40>Parameter!$F$5), -$AG$1,0)","v":0},{"$f":"IF(AND(CA!I7=1, S!I7>0, CA!I40<=Parameter!$F$5), $AG$1,0)+IF(AND(CA!I7=2, S!I7>0, CA!I40>Parameter!$F$5), -$AG$1,0)","v":0},{"$f":"IF(AND(CA!J7=1, S!J7>0, CA!J40<=Parameter!$F$5), $AG$1,0)+IF(AND(CA!J7=2, S!J7>0, CA!J40>Parameter!$F$5), -$AG$1,0)","v":0},{"$f":"IF(AND(CA!K7=1, S!K7>0, CA!K40<=Parameter!$F$5), $AG$1,0)+IF(AND(CA!K7=2, S!K7>0, CA!K40>Parameter!$F$5), -$AG$1,0)","v":0},{"$f":"IF(AND(CA!L7=1, S!L7>0, CA!L40<=Parameter!$F$5), $AG$1,0)+IF(AND(CA!L7=2, S!L7>0, CA!L40>Parameter!$F$5), -$AG$1,0)","v":0},{"$f":"IF(AND(CA!M7=1, S!M7>0, CA!M40<=Parameter!$F$5), $AG$1,0)+IF(AND(CA!M7=2, S!M7>0, CA!M40>Parameter!$F$5), -$AG$1,0)","v":0},{"$f":"IF(AND(CA!N7=1, S!N7>0, CA!N40<=Parameter!$F$5), $AG$1,0)+IF(AND(CA!N7=2, S!N7>0, CA!N40>Parameter!$F$5), -$AG$1,0)","v":0},{"$f":"IF(AND(CA!O7=1, S!O7>0, CA!O40<=Parameter!$F$5), $AG$1,0)+IF(AND(CA!O7=2, S!O7>0, CA!O40>Parameter!$F$5), -$AG$1,0)","v":0},{"$f":"IF(AND(CA!P7=1, S!P7>0, CA!P40<=Parameter!$F$5), $AG$1,0)+IF(AND(CA!P7=2, S!P7>0, CA!P40>Parameter!$F$5), -$AG$1,0)","v":0},{"$f":"IF(AND(CA!Q7=1, S!Q7>0, CA!Q40<=Parameter!$F$5), $AG$1,0)+IF(AND(CA!Q7=2, S!Q7>0, CA!Q40>Parameter!$F$5), -$AG$1,0)","v":0},{"$f":"IF(AND(CA!R7=1, S!R7>0, CA!R40<=Parameter!$F$5), $AG$1,0)+IF(AND(CA!R7=2, S!R7>0, CA!R40>Parameter!$F$5), -$AG$1,0)","v":0},{"$f":"IF(AND(CA!S7=1, S!S7>0, CA!S40<=Parameter!$F$5), $AG$1,0)+IF(AND(CA!S7=2, S!S7>0, CA!S40>Parameter!$F$5), -$AG$1,0)","v":0},{"$f":"IF(AND(CA!T7=1, S!T7>0, CA!T40<=Parameter!$F$5), $AG$1,0)+IF(AND(CA!T7=2, S!T7>0, CA!T40>Parameter!$F$5), -$AG$1,0)","v":0},{"$f":"IF(AND(CA!U7=1, S!U7>0, CA!U40<=Parameter!$F$5), $AG$1,0)+IF(AND(CA!U7=2, S!U7>0, CA!U40>Parameter!$F$5), -$AG$1,0)","v":0},{"$f":"IF(AND(CA!V7=1, S!V7>0, CA!V40<=Parameter!$F$5), $AG$1,0)+IF(AND(CA!V7=2, S!V7>0, CA!V40>Parameter!$F$5), -$AG$1,0)","v":0},{"$f":"IF(AND(CA!W7=1, S!W7>0, CA!W40<=Parameter!$F$5), $AG$1,0)+IF(AND(CA!W7=2, S!W7>0, CA!W40>Parameter!$F$5), -$AG$1,0)","v":0},{"$f":"IF(AND(CA!X7=1, S!X7>0, CA!X40<=Parameter!$F$5), $AG$1,0)+IF(AND(CA!X7=2, S!X7>0, CA!X40>Parameter!$F$5), -$AG$1,0)","v":0},{"$f":"IF(AND(CA!Y7=1, S!Y7>0, CA!Y40<=Parameter!$F$5), $AG$1,0)+IF(AND(CA!Y7=2, S!Y7>0, CA!Y40>Parameter!$F$5), -$AG$1,0)","v":0},{"$f":"IF(AND(CA!Z7=1, S!Z7>0, CA!Z40<=Parameter!$F$5), $AG$1,0)+IF(AND(CA!Z7=2, S!Z7>0, CA!Z40>Parameter!$F$5), -$AG$1,0)","v":0},{"$f":"IF(AND(CA!AA7=1, S!AA7>0, CA!AA40<=Parameter!$F$5), $AG$1,0)+IF(AND(CA!AA7=2, S!AA7>0, CA!AA40>Parameter!$F$5), -$AG$1,0)","v":0},{"$f":"IF(AND(CA!AB7=1, S!AB7>0, CA!AB40<=Parameter!$F$5), $AG$1,0)+IF(AND(CA!AB7=2, S!AB7>0, CA!AB40>Parameter!$F$5), -$AG$1,0)","v":0},{"$f":"IF(AND(CA!AC7=1, S!AC7>0, CA!AC40<=Parameter!$F$5), $AG$1,0)+IF(AND(CA!AC7=2, S!AC7>0, CA!AC40>Parameter!$F$5), -$AG$1,0)","v":0},{"$f":"IF(AND(CA!AD7=1, S!AD7>0, CA!AD40<=Parameter!$F$5), $AG$1,0)+IF(AND(CA!AD7=2, S!AD7>0, CA!AD40>Parameter!$F$5), -$AG$1,0)","v":0},{"$f":"IF(AND(CA!AE7=1, S!AE7>0, CA!AE40<=Parameter!$F$5), $AG$1,0)+IF(AND(CA!AE7=2, S!AE7>0, CA!AE40>Parameter!$F$5), -$AG$1,0)","v":0}]
[null,{"$f":"IF(AND(CA!B8=1, S!B8>0, CA!B41<=Parameter!$F$5), $AG$1,0)+IF(AND(CA!B8=2, S!B8>0, CA!B41>Parameter!$F$5), -$AG$1,0)","v":0},{"$f":"IF(AND(CA!C8=1, S!C8>0, CA!C41<=Parameter!$F$5), $AG$1,0)+IF(AND(CA!C8=2, S!C8>0, CA!C41>Parameter!$F$5), -$AG$1,0)","v":0},{"$f":"IF(AND(CA!D8=1, S!D8>0, CA!D41<=Parameter!$F$5), $AG$1,0)+IF(AND(CA!D8=2, S!D8>0, CA!D41>Parameter!$F$5), -$AG$1,0)","v":0},{"$f":"IF(AND(CA!E8=1, S!E8>0, CA!E41<=Parameter!$F$5), $AG$1,0)+IF(AND(CA!E8=2, S!E8>0, CA!E41>Parameter!$F$5), -$AG$1,0)","v":0},{"$f":"IF(AND(CA!F8=1, S!F8>0, CA!F41<=Parameter!$F$5), $AG$1,0)+IF(AND(CA!F8=2, S!F8>0, CA!F41>Parameter!$F$5), -$AG$1,0)","v":0},{"$f":"IF(AND(CA!G8=1, S!G8>0, CA!G41<=Parameter!$F$5), $AG$1,0)+IF(AND(CA!G8=2, S!G8>0, CA!G41>Parameter!$F$5), -$AG$1,0)","v":0},{"$f":"IF(AND(CA!H8=1, S!H8>0, CA!H41<=Parameter!$F$5), $AG$1,0)+IF(AND(CA!H8=2, S!H8>0, CA!H41>Parameter!$F$5), -$AG$1,0)","v":0},{"$f":"IF(AND(CA!I8=1, S!I8>0, CA!I41<=Parameter!$F$5), $AG$1,0)+IF(AND(CA!I8=2, S!I8>0, CA!I41>Parameter!$F$5), -$AG$1,0)","v":0},{"$f":"IF(AND(CA!J8=1, S!J8>0, CA!J41<=Parameter!$F$5), $AG$1,0)+IF(AND(CA!J8=2, S!J8>0, CA!J41>Parameter!$F$5), -$AG$1,0)","v":0},{"$f":"IF(AND(CA!K8=1, S!K8>0, CA!K41<=Parameter!$F$5), $AG$1,0)+IF(AND(CA!K8=2, S!K8>0, CA!K41>Parameter!$F$5), -$AG$1,0)","v":0},{"$f":"IF(AND(CA!L8=1, S!L8>0, CA!L41<=Parameter!$F$5), $AG$1,0)+IF(AND(CA!L8=2, S!L8>0, CA!L41>Parameter!$F$5), -$AG$1,0)","v":0},{"$f":"IF(AND(CA!M8=1, S!M8>0, CA!M41<=Parameter!$F$5), $AG$1,0)+IF(AND(CA!M8=2, S!M8>0, CA!M41>Parameter!$F$5), -$AG$1,0)","v":0},{"$f":"IF(AND(CA!N8=1, S!N8>0, CA!N41<=Parameter!$F$5), $AG$1,0)+IF(AND(CA!N8=2, S!N8>0, CA!N41>Parameter!$F$5), -$AG$1,0)","v":0},{"$f":"IF(AND(CA!O8=1, S!O8>0, CA!O41<=Parameter!$F$5), $AG$1,0)+IF(AND(CA!O8=2, S!O8>0, CA!O41>Parameter!$F$5), -$AG$1,0)","v":0},{"$f":"IF(AND(CA!P8=1, S!P8>0, CA!P41<=Parameter!$F$5), $AG$1,0)+IF(AND(CA!P8=2, S!P8>0, CA!P41>Parameter!$F$5), -$AG$1,0)","v":0},{"$f":"IF(AND(CA!Q8=1, S!Q8>0, CA!Q41<=Parameter!$F$5), $AG$1,0)+IF(AND(CA!Q8=2, S!Q8>0, CA!Q41>Parameter!$F$5), -$AG$1,0)","v":0},{"$f":"IF(AND(CA!R8=1, S!R8>0, CA!R41<=Parameter!$F$5), $AG$1,0)+IF(AND(CA!R8=2, S!R8>0, CA!R41>Parameter!$F$5), -$AG$1,0)","v":0},{"$f":"IF(AND(CA!S8=1, S!S8>0, CA!S41<=Parameter!$F$5), $AG$1,0)+IF(AND(CA!S8=2, S!S8>0, CA!S41>Parameter!$F$5), -$AG$1,0)","v":0},{"$f":"IF(AND(CA!T8=1, S!T8>0, CA!T41<=Parameter!$F$5), $AG$1,0)+IF(AND(CA!T8=2, S!T8>0, CA!T41>Parameter!$F$5), -$AG$1,0)","v":0},{"$f":"IF(AND(CA!U8=1, S!U8>0, CA!U41<=Parameter!$F$5), $AG$1,0)+IF(AND(CA!U8=2, S!U8>0, CA!U41>Parameter!$F$5), -$AG$1,0)","v":0},{"$f":"IF(AND(CA!V8=1, S!V8>0, CA!V41<=Parameter!$F$5), $AG$1,0)+IF(AND(CA!V8=2, S!V8>0, CA!V41>Parameter!$F$5), -$AG$1,0)","v":0},{"$f":"IF(AND(CA!W8=1, S!W8>0, CA!W41<=Parameter!$F$5), $AG$1,0)+IF(AND(CA!W8=2, S!W8>0, CA!W41>Parameter!$F$5), -$AG$1,0)","v":0},{"$f":"IF(AND(CA!X8=1, S!X8>0, CA!X41<=Parameter!$F$5), $AG$1,0)+IF(AND(CA!X8=2, S!X8>0, CA!X41>Parameter!$F$5), -$AG$1,0)","v":0},{"$f":"IF(AND(CA!Y8=1, S!Y8>0, CA!Y41<=Parameter!$F$5), $AG$1,0)+IF(AND(CA!Y8=2, S!Y8>0, CA!Y41>Parameter!$F$5), -$AG$1,0)","v":0},{"$f":"IF(AND(CA!Z8=1, S!Z8>0, CA!Z41<=Parameter!$F$5), $AG$1,0)+IF(AND(CA!Z8=2, S!Z8>0, CA!Z41>Parameter!$F$5), -$AG$1,0)","v":0},{"$f":"IF(AND(CA!AA8=1, S!AA8>0, CA!AA41<=Parameter!$F$5), $AG$1,0)+IF(AND(CA!AA8=2, S!AA8>0, CA!AA41>Parameter!$F$5), -$AG$1,0)","v":0},{"$f":"IF(AND(CA!AB8=1, S!AB8>0, CA!AB41<=Parameter!$F$5), $AG$1,0)+IF(AND(CA!AB8=2, S!AB8>0, CA!AB41>Parameter!$F$5), -$AG$1,0)","v":0},{"$f":"IF(AND(CA!AC8=1, S!AC8>0, CA!AC41<=Parameter!$F$5), $AG$1,0)+IF(AND(CA!AC8=2, S!AC8>0, CA!AC41>Parameter!$F$5), -$AG$1,0)","v":0},{"$f":"IF(AND(CA!AD8=1, S!AD8>0, CA!AD41<=Parameter!$F$5), $AG$1,0)+IF(AND(CA!AD8=2, S!AD8>0, CA!AD41>Parameter!$F$5), -$AG$1,0)","v":0},{"$f":"IF(AND(CA!AE8=1, S!AE8>0, CA!AE41<=Parameter!$F$5), $AG$1,0)+IF(AND(CA!AE8=2, S!AE8>0, CA!AE41>Parameter!$F$5), -$AG$1,0)","v":0}]
[null,{"$f":"IF(AND(CA!B9=1, S!B9>0, CA!B42<=Parameter!$F$5), $AG$1,0)+IF(AND(CA!B9=2, S!B9>0, CA!B42>Parameter!$F$5), -$AG$1,0)","v":0},{"$f":"IF(AND(CA!C9=1, S!C9>0, CA!C42<=Parameter!$F$5), $AG$1,0)+IF(AND(CA!C9=2, S!C9>0, CA!C42>Parameter!$F$5), -$AG$1,0)","v":0},{"$f":"IF(AND(CA!D9=1, S!D9>0, CA!D42<=Parameter!$F$5), $AG$1,0)+IF(AND(CA!D9=2, S!D9>0, CA!D42>Parameter!$F$5), -$AG$1,0)","v":0},{"$f":"IF(AND(CA!E9=1, S!E9>0, CA!E42<=Parameter!$F$5), $AG$1,0)+IF(AND(CA!E9=2, S!E9>0, CA!E42>Parameter!$F$5), -$AG$1,0)","v":0},{"$f":"IF(AND(CA!F9=1, S!F9>0, CA!F42<=Parameter!$F$5), $AG$1,0)+IF(AND(CA!F9=2, S!F9>0, CA!F42>Parameter!$F$5), -$AG$1,0)","v":0},{"$f":"IF(AND(CA!G9=1, S!G9>0, CA!G42<=Parameter!$F$5), $AG$1,0)+IF(AND(CA!G9=2, S!G9>0, CA!G42>Parameter!$F$5), -$AG$1,0)","v":0},{"$f":"IF(AND(CA!H9=1, S!H9>0, CA!H42<=Parameter!$F$5), $AG$1,0)+IF(AND(CA!H9=2, S!H9>0, CA!H42>Parameter!$F$5), -$AG$1,0)","v":0},{"$f":"IF(AND(CA!I9=1, S!I9>0, CA!I42<=Parameter!$F$5), $AG$1,0)+IF(AND(CA!I9=2, S!I9>0, CA!I42>Parameter!$F$5), -$AG$1,0)","v":0},{"$f":"IF(AND(CA!J9=1, S!J9>0, CA!J42<=Parameter!$F$5), $AG$1,0)+IF(AND(CA!J9=2, S!J9>0, CA!J42>Parameter!$F$5), -$AG$1,0)","v":0},{"$f":"IF(AND(CA!K9=1, S!K9>0, CA!K42<=Parameter!$F$5), $AG$1,0)+IF(AND(CA!K9=2, S!K9>0, CA!K42>Parameter!$F$5), -$AG$1,0)","v":0},{"$f":"IF(AND(CA!L9=1, S!L9>0, CA!L42<=Parameter!$F$5), $AG$1,0)+IF(AND(CA!L9=2, S!L9>0, CA!L42>Parameter!$F$5), -$AG$1,0)","v":0},{"$f":"IF(AND(CA!M9=1, S!M9>0, CA!M42<=Parameter!$F$5), $AG$1,0)+IF(AND(CA!M9=2, S!M9>0, CA!M42>Parameter!$F$5), -$AG$1,0)","v":0},{"$f":"IF(AND(CA!N9=1, S!N9>0, CA!N42<=Parameter!$F$5), $AG$1,0)+IF(AND(CA!N9=2, S!N9>0, CA!N42>Parameter!$F$5), -$AG$1,0)","v":0},{"$f":"IF(AND(CA!O9=1, S!O9>0, CA!O42<=Parameter!$F$5), $AG$1,0)+IF(AND(CA!O9=2, S!O9>0, CA!O42>Parameter!$F$5), -$AG$1,0)","v":0},{"$f":"IF(AND(CA!P9=1, S!P9>0, CA!P42<=Parameter!$F$5), $AG$1,0)+IF(AND(CA!P9=2, S!P9>0, CA!P42>Parameter!$F$5), -$AG$1,0)","v":0},{"$f":"IF(AND(CA!Q9=1, S!Q9>0, CA!Q42<=Parameter!$F$5), $AG$1,0)+IF(AND(CA!Q9=2, S!Q9>0, CA!Q42>Parameter!$F$5), -$AG$1,0)","v":0},{"$f":"IF(AND(CA!R9=1, S!R9>0, CA!R42<=Parameter!$F$5), $AG$1,0)+IF(AND(CA!R9=2, S!R9>0, CA!R42>Parameter!$F$5), -$AG$1,0)","v":0},{"$f":"IF(AND(CA!S9=1, S!S9>0, CA!S42<=Parameter!$F$5), $AG$1,0)+IF(AND(CA!S9=2, S!S9>0, CA!S42>Parameter!$F$5), -$AG$1,0)","v":0},{"$f":"IF(AND(CA!T9=1, S!T9>0, CA!T42<=Parameter!$F$5), $AG$1,0)+IF(AND(CA!T9=2, S!T9>0, CA!T42>Parameter!$F$5), -$AG$1,0)","v":0},{"$f":"IF(AND(CA!U9=1, S!U9>0, CA!U42<=Parameter!$F$5), $AG$1,0)+IF(AND(CA!U9=2, S!U9>0, CA!U42>Parameter!$F$5), -$AG$1,0)","v":0},{"$f":"IF(AND(CA!V9=1, S!V9>0, CA!V42<=Parameter!$F$5), $AG$1,0)+IF(AND(CA!V9=2, S!V9>0, CA!V42>Parameter!$F$5), -$AG$1,0)","v":0},{"$f":"IF(AND(CA!W9=1, S!W9>0, CA!W42<=Parameter!$F$5), $AG$1,0)+IF(AND(CA!W9=2, S!W9>0, CA!W42>Parameter!$F$5), -$AG$1,0)","v":0},{"$f":"IF(AND(CA!X9=1, S!X9>0, CA!X42<=Parameter!$F$5), $AG$1,0)+IF(AND(CA!X9=2, S!X9>0, CA!X42>Parameter!$F$5), -$AG$1,0)","v":0},{"$f":"IF(AND(CA!Y9=1, S!Y9>0, CA!Y42<=Parameter!$F$5), $AG$1,0)+IF(AND(CA!Y9=2, S!Y9>0, CA!Y42>Parameter!$F$5), -$AG$1,0)","v":0},{"$f":"IF(AND(CA!Z9=1, S!Z9>0, CA!Z42<=Parameter!$F$5), $AG$1,0)+IF(AND(CA!Z9=2, S!Z9>0, CA!Z42>Parameter!$F$5), -$AG$1,0)","v":0},{"$f":"IF(AND(CA!AA9=1, S!AA9>0, CA!AA42<=Parameter!$F$5), $AG$1,0)+IF(AND(CA!AA9=2, S!AA9>0, CA!AA42>Parameter!$F$5), -$AG$1,0)","v":0},{"$f":"IF(AND(CA!AB9=1, S!AB9>0, CA!AB42<=Parameter!$F$5), $AG$1,0)+IF(AND(CA!AB9=2, S!AB9>0, CA!AB42>Parameter!$F$5), -$AG$1,0)","v":0},{"$f":"IF(AND(CA!AC9=1, S!AC9>0, CA!AC42<=Parameter!$F$5), $AG$1,0)+IF(AND(CA!AC9=2, S!AC9>0, CA!AC42>Parameter!$F$5), -$AG$1,0)","v":0},{"$f":"IF(AND(CA!AD9=1, S!AD9>0, CA!AD42<=Parameter!$F$5), $AG$1,0)+IF(AND(CA!AD9=2, S!AD9>0, CA!AD42>Parameter!$F$5), -$AG$1,0)","v":0},{"$f":"IF(AND(CA!AE9=1, S!AE9>0, CA!AE42<=Parameter!$F$5), $AG$1,0)+IF(AND(CA!AE9=2, S!AE9>0, CA!AE42>Parameter!$F$5), -$AG$1,0)","v":0}]
[null,{"$f":"IF(AND(CA!B10=1, S!B10>0, CA!B43<=Parameter!$F$5), $AG$1,0)+IF(AND(CA!B10=2, S!B10>0, CA!B43>Parameter!$F$5), -$AG$1,0)","v":0},{"$f":"IF(AND(CA!C10=1, S!C10>0, CA!C43<=Parameter!$F$5), $AG$1,0)+IF(AND(CA!C10=2, S!C10>0, CA!C43>Parameter!$F$5), -$AG$1,0)","v":0},{"$f":"IF(AND(CA!D10=1, S!D10>0, CA!D43<=Parameter!$F$5), $AG$1,0)+IF(AND(CA!D10=2, S!D10>0, CA!D43>Parameter!$F$5), -$AG$1,0)","v":0},{"$f":"IF(AND(CA!E10=1, S!E10>0, CA!E43<=Parameter!$F$5), $AG$1,0)+IF(AND(CA!E10=2, S!E10>0, CA!E43>Parameter!$F$5), -$AG$1,0)","v":0},{"$f":"IF(AND(CA!F10=1, S!F10>0, CA!F43<=Parameter!$F$5), $AG$1,0)+IF(AND(CA!F10=2, S!F10>0, CA!F43>Parameter!$F$5), -$AG$1,0)","v":0},{"$f":"IF(AND(CA!G10=1, S!G10>0, CA!G43<=Parameter!$F$5), $AG$1,0)+IF(AND(CA!G10=2, S!G10>0, CA!G43>Parameter!$F$5), -$AG$1,0)","v":0},{"$f":"IF(AND(CA!H10=1, S!H10>0, CA!H43<=Parameter!$F$5), $AG$1,0)+IF(AND(CA!H10=2, S!H10>0, CA!H43>Parameter!$F$5), -$AG$1,0)","v":0},{"$f":"IF(AND(CA!I10=1, S!I10>0, CA!I43<=Parameter!$F$5), $AG$1,0)+IF(AND(CA!I10=2, S!I10>0, CA!I43>Parameter!$F$5), -$AG$1,0)","v":0},{"$f":"IF(AND(CA!J10=1, S!J10>0, CA!J43<=Parameter!$F$5), $AG$1,0)+IF(AND(CA!J10=2, S!J10>0, CA!J43>Parameter!$F$5), -$AG$1,0)","v":0},{"$f":"IF(AND(CA!K10=1, S!K10>0, CA!K43<=Parameter!$F$5), $AG$1,0)+IF(AND(CA!K10=2, S!K10>0, CA!K43>Parameter!$F$5), -$AG$1,0)","v":0},{"$f":"IF(AND(CA!L10=1, S!L10>0, CA!L43<=Parameter!$F$5), $AG$1,0)+IF(AND(CA!L10=2, S!L10>0, CA!L43>Parameter!$F$5), -$AG$1,0)","v":0},{"$f":"IF(AND(CA!M10=1, S!M10>0, CA!M43<=Parameter!$F$5), $AG$1,0)+IF(AND(CA!M10=2, S!M10>0, CA!M43>Parameter!$F$5), -$AG$1,0)","v":0},{"$f":"IF(AND(CA!N10=1, S!N10>0, CA!N43<=Parameter!$F$5), $AG$1,0)+IF(AND(CA!N10=2, S!N10>0, CA!N43>Parameter!$F$5), -$AG$1,0)","v":0},{"$f":"IF(AND(CA!O10=1, S!O10>0, CA!O43<=Parameter!$F$5), $AG$1,0)+IF(AND(CA!O10=2, S!O10>0, CA!O43>Parameter!$F$5), -$AG$1,0)","v":0},{"$f":"IF(AND(CA!P10=1, S!P10>0, CA!P43<=Parameter!$F$5), $AG$1,0)+IF(AND(CA!P10=2, S!P10>0, CA!P43>Parameter!$F$5), -$AG$1,0)","v":0},{"$f":"IF(AND(CA!Q10=1, S!Q10>0, CA!Q43<=Parameter!$F$5), $AG$1,0)+IF(AND(CA!Q10=2, S!Q10>0, CA!Q43>Parameter!$F$5), -$AG$1,0)","v":0},{"$f":"IF(AND(CA!R10=1, S!R10>0, CA!R43<=Parameter!$F$5), $AG$1,0)+IF(AND(CA!R10=2, S!R10>0, CA!R43>Parameter!$F$5), -$AG$1,0)","v":0},{"$f":"IF(AND(CA!S10=1, S!S10>0, CA!S43<=Parameter!$F$5), $AG$1,0)+IF(AND(CA!S10=2, S!S10>0, CA!S43>Parameter!$F$5), -$AG$1,0)","v":0},{"$f":"IF(AND(CA!T10=1, S!T10>0, CA!T43<=Parameter!$F$5), $AG$1,0)+IF(AND(CA!T10=2, S!T10>0, CA!T43>Parameter!$F$5), -$AG$1,0)","v":0},{"$f":"IF(AND(CA!U10=1, S!U10>0, CA!U43<=Parameter!$F$5), $AG$1,0)+IF(AND(CA!U10=2, S!U10>0, CA!U43>Parameter!$F$5), -$AG$1,0)","v":0},{"$f":"IF(AND(CA!V10=1, S!V10>0, CA!V43<=Parameter!$F$5), $AG$1,0)+IF(AND(CA!V10=2, S!V10>0, CA!V43>Parameter!$F$5), -$AG$1,0)","v":0},{"$f":"IF(AND(CA!W10=1, S!W10>0, CA!W43<=Parameter!$F$5), $AG$1,0)+IF(AND(CA!W10=2, S!W10>0, CA!W43>Parameter!$F$5), -$AG$1,0)","v":0},{"$f":"IF(AND(CA!X10=1, S!X10>0, CA!X43<=Parameter!$F$5), $AG$1,0)+IF(AND(CA!X10=2, S!X10>0, CA!X43>Parameter!$F$5), -$AG$1,0)","v":0},{"$f":"IF(AND(CA!Y10=1, S!Y10>0, CA!Y43<=Parameter!$F$5), $AG$1,0)+IF(AND(CA!Y10=2, S!Y10>0, CA!Y43>Parameter!$F$5), -$AG$1,0)","v":0},{"$f":"IF(AND(CA!Z10=1, S!Z10>0, CA!Z43<=Parameter!$F$5), $AG$1,0)+IF(AND(CA!Z10=2, S!Z10>0, CA!Z43>Parameter!$F$5), -$AG$1,0)","v":0},{"$f":"IF(AND(CA!AA10=1, S!AA10>0, CA!AA43<=Parameter!$F$5), $AG$1,0)+IF(AND(CA!AA10=2, S!AA10>0, CA!AA43>Parameter!$F$5), -$AG$1,0)","v":0},{"$f":"IF(AND(CA!AB10=1, S!AB10>0, CA!AB43<=Parameter!$F$5), $AG$1,0)+IF(AND(CA!AB10=2, S!AB10>0, CA!AB43>Parameter!$F$5), -$AG$1,0)","v":0},{"$f":"IF(AND(CA!AC10=1, S!AC10>0, CA!AC43<=Parameter!$F$5), $AG$1,0)+IF(AND(CA!AC10=2, S!AC10>0, CA!AC43>Parameter!$F$5), -$AG$1,0)","v":0},{"$f":"IF(AND(CA!AD10=1, S!AD10>0, CA!AD43<=Parameter!$F$5), $AG$1,0)+IF(AND(CA!AD10=2, S!AD10>0, CA!AD43>Parameter!$F$5), -$AG$1,0)","v":0},{"$f":"IF(AND(CA!AE10=1, S!AE10>0, CA!AE43<=Parameter!$F$5), $AG$1,0)+IF(AND(CA!AE10=2, S!AE10>0, CA!AE43>Parameter!$F$5), -$AG$1,0)","v":0}]
[null,{"$f":"IF(AND(CA!B11=1, S!B11>0, CA!B44<=Parameter!$F$5), $AG$1,0)+IF(AND(CA!B11=2, S!B11>0, CA!B44>Parameter!$F$5), -$AG$1,0)","v":0},{"$f":"IF(AND(CA!C11=1, S!C11>0, CA!C44<=Parameter!$F$5), $AG$1,0)+IF(AND(CA!C11=2, S!C11>0, CA!C44>Parameter!$F$5), -$AG$1,0)","v":0},{"$f":"IF(AND(CA!D11=1, S!D11>0, CA!D44<=Parameter!$F$5), $AG$1,0)+IF(AND(CA!D11=2, S!D11>0, CA!D44>Parameter!$F$5), -$AG$1,0)","v":0},{"$f":"IF(AND(CA!E11=1, S!E11>0, CA!E44<=Parameter!$F$5), $AG$1,0)+IF(AND(CA!E11=2, S!E11>0, CA!E44>Parameter!$F$5), -$AG$1,0)","v":0},{"$f":"IF(AND(CA!F11=1, S!F11>0, CA!F44<=Parameter!$F$5), $AG$1,0)+IF(AND(CA!F11=2, S!F11>0, CA!F44>Parameter!$F$5), -$AG$1,0)","v":0},{"$f":"IF(AND(CA!G11=1, S!G11>0, CA!G44<=Parameter!$F$5), $AG$1,0)+IF(AND(CA!G11=2, S!G11>0, CA!G44>Parameter!$F$5), -$AG$1,0)","v":0},{"$f":"IF(AND(CA!H11=1, S!H11>0, CA!H44<=Parameter!$F$5), $AG$1,0)+IF(AND(CA!H11=2, S!H11>0, CA!H44>Parameter!$F$5), -$AG$1,0)","v":0},{"$f":"IF(AND(CA!I11=1, S!I11>0, CA!I44<=Parameter!$F$5), $AG$1,0)+IF(AND(CA!I11=2, S!I11>0, CA!I44>Parameter!$F$5), -$AG$1,0)","v":0},{"$f":"IF(AND(CA!J11=1, S!J11>0, CA!J44<=Parameter!$F$5), $AG$1,0)+IF(AND(CA!J11=2, S!J11>0, CA!J44>Parameter!$F$5), -$AG$1,0)","v":0},{"$f":"IF(AND(CA!K11=1, S!K11>0, CA!K44<=Parameter!$F$5), $AG$1,0)+IF(AND(CA!K11=2, S!K11>0, CA!K44>Parameter!$F$5), -$AG$1,0)","v":0},{"$f":"IF(AND(CA!L11=1, S!L11>0, CA!L44<=Parameter!$F$5), $AG$1,0)+IF(AND(CA!L11=2, S!L11>0, CA!L44>Parameter!$F$5), -$AG$1,0)","v":0},{"$f":"IF(AND(CA!M11=1, S!M11>0, CA!M44<=Parameter!$F$5), $AG$1,0)+IF(AND(CA!M11=2, S!M11>0, CA!M44>Parameter!$F$5), -$AG$1,0)","v":0},{"$f":"IF(AND(CA!N11=1, S!N11>0, CA!N44<=Parameter!$F$5), $AG$1,0)+IF(AND(CA!N11=2, S!N11>0, CA!N44>Parameter!$F$5), -$AG$1,0)","v":0},{"$f":"IF(AND(CA!O11=1, S!O11>0, CA!O44<=Parameter!$F$5), $AG$1,0)+IF(AND(CA!O11=2, S!O11>0, CA!O44>Parameter!$F$5), -$AG$1,0)","v":0},{"$f":"IF(AND(CA!P11=1, S!P11>0, CA!P44<=Parameter!$F$5), $AG$1,0)+IF(AND(CA!P11=2, S!P11>0, CA!P44>Parameter!$F$5), -$AG$1,0)","v":0},{"$f":"IF(AND(CA!Q11=1, S!Q11>0, CA!Q44<=Parameter!$F$5), $AG$1,0)+IF(AND(CA!Q11=2, S!Q11>0, CA!Q44>Parameter!$F$5), -$AG$1,0)","v":0},{"$f":"IF(AND(CA!R11=1, S!R11>0, CA!R44<=Parameter!$F$5), $AG$1,0)+IF(AND(CA!R11=2, S!R11>0, CA!R44>Parameter!$F$5), -$AG$1,0)","v":0},{"$f":"IF(AND(CA!S11=1, S!S11>0, CA!S44<=Parameter!$F$5), $AG$1,0)+IF(AND(CA!S11=2, S!S11>0, CA!S44>Parameter!$F$5), -$AG$1,0)","v":0},{"$f":"IF(AND(CA!T11=1, S!T11>0, CA!T44<=Parameter!$F$5), $AG$1,0)+IF(AND(CA!T11=2, S!T11>0, CA!T44>Parameter!$F$5), -$AG$1,0)","v":0},{"$f":"IF(AND(CA!U11=1, S!U11>0, CA!U44<=Parameter!$F$5), $AG$1,0)+IF(AND(CA!U11=2, S!U11>0, CA!U44>Parameter!$F$5), -$AG$1,0)","v":0},{"$f":"IF(AND(CA!V11=1, S!V11>0, CA!V44<=Parameter!$F$5), $AG$1,0)+IF(AND(CA!V11=2, S!V11>0, CA!V44>Parameter!$F$5), -$AG$1,0)","v":0},{"$f":"IF(AND(CA!W11=1, S!W11>0, CA!W44<=Parameter!$F$5), $AG$1,0)+IF(AND(CA!W11=2, S!W11>0, CA!W44>Parameter!$F$5), -$AG$1,0)","v":0},{"$f":"IF(AND(CA!X11=1, S!X11>0, CA!X44<=Parameter!$F$5), $AG$1,0)+IF(AND(CA!X11=2, S!X11>0, CA!X44>Parameter!$F$5), -$AG$1,0)","v":0},{"$f":"IF(AND(CA!Y11=1, S!Y11>0, CA!Y44<=Parameter!$F$5), $AG$1,0)+IF(AND(CA!Y11=2, S!Y11>0, CA!Y44>Parameter!$F$5), -$AG$1,0)","v":0},{"$f":"IF(AND(CA!Z11=1, S!Z11>0, CA!Z44<=Parameter!$F$5), $AG$1,0)+IF(AND(CA!Z11=2, S!Z11>0, CA!Z44>Parameter!$F$5), -$AG$1,0)","v":0},{"$f":"IF(AND(CA!AA11=1, S!AA11>0, CA!AA44<=Parameter!$F$5), $AG$1,0)+IF(AND(CA!AA11=2, S!AA11>0, CA!AA44>Parameter!$F$5), -$AG$1,0)","v":0},{"$f":"IF(AND(CA!AB11=1, S!AB11>0, CA!AB44<=Parameter!$F$5), $AG$1,0)+IF(AND(CA!AB11=2, S!AB11>0, CA!AB44>Parameter!$F$5), -$AG$1,0)","v":0},{"$f":"IF(AND(CA!AC11=1, S!AC11>0, CA!AC44<=Parameter!$F$5), $AG$1,0)+IF(AND(CA!AC11=2, S!AC11>0, CA!AC44>Parameter!$F$5), -$AG$1,0)","v":0},{"$f":"IF(AND(CA!AD11=1, S!AD11>0, CA!AD44<=Parameter!$F$5), $AG$1,0)+IF(AND(CA!AD11=2, S!AD11>0, CA!AD44>Parameter!$F$5), -$AG$1,0)","v":0},{"$f":"IF(AND(CA!AE11=1, S!AE11>0, CA!AE44<=Parameter!$F$5), $AG$1,0)+IF(AND(CA!AE11=2, S!AE11>0, CA!AE44>Parameter!$F$5), -$AG$1,0)","v":0}]
[null,{"$f":"IF(AND(CA!B12=1, S!B12>0, CA!B45<=Parameter!$F$5), $AG$1,0)+IF(AND(CA!B12=2, S!B12>0, CA!B45>Parameter!$F$5), -$AG$1,0)","v":0},{"$f":"IF(AND(CA!C12=1, S!C12>0, CA!C45<=Parameter!$F$5), $AG$1,0)+IF(AND(CA!C12=2, S!C12>0, CA!C45>Parameter!$F$5), -$AG$1,0)","v":0},{"$f":"IF(AND(CA!D12=1, S!D12>0, CA!D45<=Parameter!$F$5), $AG$1,0)+IF(AND(CA!D12=2, S!D12>0, CA!D45>Parameter!$F$5), -$AG$1,0)","v":0},{"$f":"IF(AND(CA!E12=1, S!E12>0, CA!E45<=Parameter!$F$5), $AG$1,0)+IF(AND(CA!E12=2, S!E12>0, CA!E45>Parameter!$F$5), -$AG$1,0)","v":0},{"$f":"IF(AND(CA!F12=1, S!F12>0, CA!F45<=Parameter!$F$5), $AG$1,0)+IF(AND(CA!F12=2, S!F12>0, CA!F45>Parameter!$F$5), -$AG$1,0)","v":0},{"$f":"IF(AND(CA!G12=1, S!G12>0, CA!G45<=Parameter!$F$5), $AG$1,0)+IF(AND(CA!G12=2, S!G12>0, CA!G45>Parameter!$F$5), -$AG$1,0)","v":0},{"$f":"IF(AND(CA!H12=1, S!H12>0, CA!H45<=Parameter!$F$5), $AG$1,0)+IF(AND(CA!H12=2, S!H12>0, CA!H45>Parameter!$F$5), -$AG$1,0)","v":0},{"$f":"IF(AND(CA!I12=1, S!I12>0, CA!I45<=Parameter!$F$5), $AG$1,0)+IF(AND(CA!I12=2, S!I12>0, CA!I45>Parameter!$F$5), -$AG$1,0)","v":0},{"$f":"IF(AND(CA!J12=1, S!J12>0, CA!J45<=Parameter!$F$5), $AG$1,0)+IF(AND(CA!J12=2, S!J12>0, CA!J45>Parameter!$F$5), -$AG$1,0)","v":0},{"$f":"IF(AND(CA!K12=1, S!K12>0, CA!K45<=Parameter!$F$5), $AG$1,0)+IF(AND(CA!K12=2, S!K12>0, CA!K45>Parameter!$F$5), -$AG$1,0)","v":0},{"$f":"IF(AND(CA!L12=1, S!L12>0, CA!L45<=Parameter!$F$5), $AG$1,0)+IF(AND(CA!L12=2, S!L12>0, CA!L45>Parameter!$F$5), -$AG$1,0)","v":0},{"$f":"IF(AND(CA!M12=1, S!M12>0, CA!M45<=Parameter!$F$5), $AG$1,0)+IF(AND(CA!M12=2, S!M12>0, CA!M45>Parameter!$F$5), -$AG$1,0)","v":0},{"$f":"IF(AND(CA!N12=1, S!N12>0, CA!N45<=Parameter!$F$5), $AG$1,0)+IF(AND(CA!N12=2, S!N12>0, CA!N45>Parameter!$F$5), -$AG$1,0)","v":0},{"$f":"IF(AND(CA!O12=1, S!O12>0, CA!O45<=Parameter!$F$5), $AG$1,0)+IF(AND(CA!O12=2, S!O12>0, CA!O45>Parameter!$F$5), -$AG$1,0)","v":0},{"$f":"IF(AND(CA!P12=1, S!P12>0, CA!P45<=Parameter!$F$5), $AG$1,0)+IF(AND(CA!P12=2, S!P12>0, CA!P45>Parameter!$F$5), -$AG$1,0)","v":0},{"$f":"IF(AND(CA!Q12=1, S!Q12>0, CA!Q45<=Parameter!$F$5), $AG$1,0)+IF(AND(CA!Q12=2, S!Q12>0, CA!Q45>Parameter!$F$5), -$AG$1,0)","v":0},{"$f":"IF(AND(CA!R12=1, S!R12>0, CA!R45<=Parameter!$F$5), $AG$1,0)+IF(AND(CA!R12=2, S!R12>0, CA!R45>Parameter!$F$5), -$AG$1,0)","v":0},{"$f":"IF(AND(CA!S12=1, S!S12>0, CA!S45<=Parameter!$F$5), $AG$1,0)+IF(AND(CA!S12=2, S!S12>0, CA!S45>Parameter!$F$5), -$AG$1,0)","v":0},{"$f":"IF(AND(CA!T12=1, S!T12>0, CA!T45<=Parameter!$F$5), $AG$1,0)+IF(AND(CA!T12=2, S!T12>0, CA!T45>Parameter!$F$5), -$AG$1,0)","v":0},{"$f":"IF(AND(CA!U12=1, S!U12>0, CA!U45<=Parameter!$F$5), $AG$1,0)+IF(AND(CA!U12=2, S!U12>0, CA!U45>Parameter!$F$5), -$AG$1,0)","v":0},{"$f":"IF(AND(CA!V12=1, S!V12>0, CA!V45<=Parameter!$F$5), $AG$1,0)+IF(AND(CA!V12=2, S!V12>0, CA!V45>Parameter!$F$5), -$AG$1,0)","v":0},{"$f":"IF(AND(CA!W12=1, S!W12>0, CA!W45<=Parameter!$F$5), $AG$1,0)+IF(AND(CA!W12=2, S!W12>0, CA!W45>Parameter!$F$5), -$AG$1,0)","v":0},{"$f":"IF(AND(CA!X12=1, S!X12>0, CA!X45<=Parameter!$F$5), $AG$1,0)+IF(AND(CA!X12=2, S!X12>0, CA!X45>Parameter!$F$5), -$AG$1,0)","v":0},{"$f":"IF(AND(CA!Y12=1, S!Y12>0, CA!Y45<=Parameter!$F$5), $AG$1,0)+IF(AND(CA!Y12=2, S!Y12>0, CA!Y45>Parameter!$F$5), -$AG$1,0)","v":0},{"$f":"IF(AND(CA!Z12=1, S!Z12>0, CA!Z45<=Parameter!$F$5), $AG$1,0)+IF(AND(CA!Z12=2, S!Z12>0, CA!Z45>Parameter!$F$5), -$AG$1,0)","v":0},{"$f":"IF(AND(CA!AA12=1, S!AA12>0, CA!AA45<=Parameter!$F$5), $AG$1,0)+IF(AND(CA!AA12=2, S!AA12>0, CA!AA45>Parameter!$F$5), -$AG$1,0)","v":0},{"$f":"IF(AND(CA!AB12=1, S!AB12>0, CA!AB45<=Parameter!$F$5), $AG$1,0)+IF(AND(CA!AB12=2, S!AB12>0, CA!AB45>Parameter!$F$5), -$AG$1,0)","v":0},{"$f":"IF(AND(CA!AC12=1, S!AC12>0, CA!AC45<=Parameter!$F$5), $AG$1,0)+IF(AND(CA!AC12=2, S!AC12>0, CA!AC45>Parameter!$F$5), -$AG$1,0)","v":0},{"$f":"IF(AND(CA!AD12=1, S!AD12>0, CA!AD45<=Parameter!$F$5), $AG$1,0)+IF(AND(CA!AD12=2, S!AD12>0, CA!AD45>Parameter!$F$5), -$AG$1,0)","v":0},{"$f":"IF(AND(CA!AE12=1, S!AE12>0, CA!AE45<=Parameter!$F$5), $AG$1,0)+IF(AND(CA!AE12=2, S!AE12>0, CA!AE45>Parameter!$F$5), -$AG$1,0)","v":0}]
[null,{"$f":"IF(AND(CA!B13=1, S!B13>0, CA!B46<=Parameter!$F$5), $AG$1,0)+IF(AND(CA!B13=2, S!B13>0, CA!B46>Parameter!$F$5), -$AG$1,0)","v":0},{"$f":"IF(AND(CA!C13=1, S!C13>0, CA!C46<=Parameter!$F$5), $AG$1,0)+IF(AND(CA!C13=2, S!C13>0, CA!C46>Parameter!$F$5), -$AG$1,0)","v":0},{"$f":"IF(AND(CA!D13=1, S!D13>0, CA!D46<=Parameter!$F$5), $AG$1,0)+IF(AND(CA!D13=2, S!D13>0, CA!D46>Parameter!$F$5), -$AG$1,0)","v":0},{"$f":"IF(AND(CA!E13=1, S!E13>0, CA!E46<=Parameter!$F$5), $AG$1,0)+IF(AND(CA!E13=2, S!E13>0, CA!E46>Parameter!$F$5), -$AG$1,0)","v":0},{"$f":"IF(AND(CA!F13=1, S!F13>0, CA!F46<=Parameter!$F$5), $AG$1,0)+IF(AND(CA!F13=2, S!F13>0, CA!F46>Parameter!$F$5), -$AG$1,0)","v":0},{"$f":"IF(AND(CA!G13=1, S!G13>0, CA!G46<=Parameter!$F$5), $AG$1,0)+IF(AND(CA!G13=2, S!G13>0, CA!G46>Parameter!$F$5), -$AG$1,0)","v":0},{"$f":"IF(AND(CA!H13=1, S!H13>0, CA!H46<=Parameter!$F$5), $AG$1,0)+IF(AND(CA!H13=2, S!H13>0, CA!H46>Parameter!$F$5), -$AG$1,0)","v":0},{"$f":"IF(AND(CA!I13=1, S!I13>0, CA!I46<=Parameter!$F$5), $AG$1,0)+IF(AND(CA!I13=2, S!I13>0, CA!I46>Parameter!$F$5), -$AG$1,0)","v":0},{"$f":"IF(AND(CA!J13=1, S!J13>0, CA!J46<=Parameter!$F$5), $AG$1,0)+IF(AND(CA!J13=2, S!J13>0, CA!J46>Parameter!$F$5), -$AG$1,0)","v":0},{"$f":"IF(AND(CA!K13=1, S!K13>0, CA!K46<=Parameter!$F$5), $AG$1,0)+IF(AND(CA!K13=2, S!K13>0, CA!K46>Parameter!$F$5), -$AG$1,0)","v":0},{"$f":"IF(AND(CA!L13=1, S!L13>0, CA!L46<=Parameter!$F$5), $AG$1,0)+IF(AND(CA!L13=2, S!L13>0, CA!L46>Parameter!$F$5), -$AG$1,0)","v":0},{"$f":"IF(AND(CA!M13=1, S!M13>0, CA!M46<=Parameter!$F$5), $AG$1,0)+IF(AND(CA!M13=2, S!M13>0, CA!M46>Parameter!$F$5), -$AG$1,0)","v":0},{"$f":"IF(AND(CA!N13=1, S!N13>0, CA!N46<=Parameter!$F$5), $AG$1,0)+IF(AND(CA!N13=2, S!N13>0, CA!N46>Parameter!$F$5), -$AG$1,0)","v":0},{"$f":"IF(AND(CA!O13=1, S!O13>0, CA!O46<=Parameter!$F$5), $AG$1,0)+IF(AND(CA!O13=2, S!O13>0, CA!O46>Parameter!$F$5), -$AG$1,0)","v":0},{"$f":"IF(AND(CA!P13=1, S!P13>0, CA!P46<=Parameter!$F$5), $AG$1,0)+IF(AND(CA!P13=2, S!P13>0, CA!P46>Parameter!$F$5), -$AG$1,0)","v":0},{"$f":"IF(AND(CA!Q13=1, S!Q13>0, CA!Q46<=Parameter!$F$5), $AG$1,0)+IF(AND(CA!Q13=2, S!Q13>0, CA!Q46>Parameter!$F$5), -$AG$1,0)","v":0},{"$f":"IF(AND(CA!R13=1, S!R13>0, CA!R46<=Parameter!$F$5), $AG$1,0)+IF(AND(CA!R13=2, S!R13>0, CA!R46>Parameter!$F$5), -$AG$1,0)","v":0},{"$f":"IF(AND(CA!S13=1, S!S13>0, CA!S46<=Parameter!$F$5), $AG$1,0)+IF(AND(CA!S13=2, S!S13>0, CA!S46>Parameter!$F$5), -$AG$1,0)","v":0},{"$f":"IF(AND(CA!T13=1, S!T13>0, CA!T46<=Parameter!$F$5), $AG$1,0)+IF(AND(CA!T13=2, S!T13>0, CA!T46>Parameter!$F$5), -$AG$1,0)","v":0},{"$f":"IF(AND(CA!U13=1, S!U13>0, CA!U46<=Parameter!$F$5), $AG$1,0)+IF(AND(CA!U13=2, S!U13>0, CA!U46>Parameter!$F$5), -$AG$1,0)","v":0},{"$f":"IF(AND(CA!V13=1, S!V13>0, CA!V46<=Parameter!$F$5), $AG$1,0)+IF(AND(CA!V13=2, S!V13>0, CA!V46>Parameter!$F$5), -$AG$1,0)","v":0},{"$f":"IF(AND(CA!W13=1, S!W13>0, CA!W46<=Parameter!$F$5), $AG$1,0)+IF(AND(CA!W13=2, S!W13>0, CA!W46>Parameter!$F$5), -$AG$1,0)","v":0},{"$f":"IF(AND(CA!X13=1, S!X13>0, CA!X46<=Parameter!$F$5), $AG$1,0)+IF(AND(CA!X13=2, S!X13>0, CA!X46>Parameter!$F$5), -$AG$1,0)","v":0},{"$f":"IF(AND(CA!Y13=1, S!Y13>0, CA!Y46<=Parameter!$F$5), $AG$1,0)+IF(AND(CA!Y13=2, S!Y13>0, CA!Y46>Parameter!$F$5), -$AG$1,0)","v":0},{"$f":"IF(AND(CA!Z13=1, S!Z13>0, CA!Z46<=Parameter!$F$5), $AG$1,0)+IF(AND(CA!Z13=2, S!Z13>0, CA!Z46>Parameter!$F$5), -$AG$1,0)","v":0},{"$f":"IF(AND(CA!AA13=1, S!AA13>0, CA!AA46<=Parameter!$F$5), $AG$1,0)+IF(AND(CA!AA13=2, S!AA13>0, CA!AA46>Parameter!$F$5), -$AG$1,0)","v":0},{"$f":"IF(AND(CA!AB13=1, S!AB13>0, CA!AB46<=Parameter!$F$5), $AG$1,0)+IF(AND(CA!AB13=2, S!AB13>0, CA!AB46>Parameter!$F$5), -$AG$1,0)","v":0},{"$f":"IF(AND(CA!AC13=1, S!AC13>0, CA!AC46<=Parameter!$F$5), $AG$1,0)+IF(AND(CA!AC13=2, S!AC13>0, CA!AC46>Parameter!$F$5), -$AG$1,0)","v":0},{"$f":"IF(AND(CA!AD13=1, S!AD13>0, CA!AD46<=Parameter!$F$5), $AG$1,0)+IF(AND(CA!AD13=2, S!AD13>0, CA!AD46>Parameter!$F$5), -$AG$1,0)","v":0},{"$f":"IF(AND(CA!AE13=1, S!AE13>0, CA!AE46<=Parameter!$F$5), $AG$1,0)+IF(AND(CA!AE13=2, S!AE13>0, CA!AE46>Parameter!$F$5), -$AG$1,0)","v":0}]
[null,{"$f":"IF(AND(CA!B14=1, S!B14>0, CA!B47<=Parameter!$F$5), $AG$1,0)+IF(AND(CA!B14=2, S!B14>0, CA!B47>Parameter!$F$5), -$AG$1,0)","v":0},{"$f":"IF(AND(CA!C14=1, S!C14>0, CA!C47<=Parameter!$F$5), $AG$1,0)+IF(AND(CA!C14=2, S!C14>0, CA!C47>Parameter!$F$5), -$AG$1,0)","v":0},{"$f":"IF(AND(CA!D14=1, S!D14>0, CA!D47<=Parameter!$F$5), $AG$1,0)+IF(AND(CA!D14=2, S!D14>0, CA!D47>Parameter!$F$5), -$AG$1,0)","v":0},{"$f":"IF(AND(CA!E14=1, S!E14>0, CA!E47<=Parameter!$F$5), $AG$1,0)+IF(AND(CA!E14=2, S!E14>0, CA!E47>Parameter!$F$5), -$AG$1,0)","v":0},{"$f":"IF(AND(CA!F14=1, S!F14>0, CA!F47<=Parameter!$F$5), $AG$1,0)+IF(AND(CA!F14=2, S!F14>0, CA!F47>Parameter!$F$5), -$AG$1,0)","v":0},{"$f":"IF(AND(CA!G14=1, S!G14>0, CA!G47<=Parameter!$F$5), $AG$1,0)+IF(AND(CA!G14=2, S!G14>0, CA!G47>Parameter!$F$5), -$AG$1,0)","v":0},{"$f":"IF(AND(CA!H14=1, S!H14>0, CA!H47<=Parameter!$F$5), $AG$1,0)+IF(AND(CA!H14=2, S!H14>0, CA!H47>Parameter!$F$5), -$AG$1,0)","v":0},{"$f":"IF(AND(CA!I14=1, S!I14>0, CA!I47<=Parameter!$F$5), $AG$1,0)+IF(AND(CA!I14=2, S!I14>0, CA!I47>Parameter!$F$5), -$AG$1,0)","v":0},{"$f":"IF(AND(CA!J14=1, S!J14>0, CA!J47<=Parameter!$F$5), $AG$1,0)+IF(AND(CA!J14=2, S!J14>0, CA!J47>Parameter!$F$5), -$AG$1,0)","v":0},{"$f":"IF(AND(CA!K14=1, S!K14>0, CA!K47<=Parameter!$F$5), $AG$1,0)+IF(AND(CA!K14=2, S!K14>0, CA!K47>Parameter!$F$5), -$AG$1,0)","v":0},{"$f":"IF(AND(CA!L14=1, S!L14>0, CA!L47<=Parameter!$F$5), $AG$1,0)+IF(AND(CA!L14=2, S!L14>0, CA!L47>Parameter!$F$5), -$AG$1,0)","v":0},{"$f":"IF(AND(CA!M14=1, S!M14>0, CA!M47<=Parameter!$F$5), $AG$1,0)+IF(AND(CA!M14=2, S!M14>0, CA!M47>Parameter!$F$5), -$AG$1,0)","v":0},{"$f":"IF(AND(CA!N14=1, S!N14>0, CA!N47<=Parameter!$F$5), $AG$1,0)+IF(AND(CA!N14=2, S!N14>0, CA!N47>Parameter!$F$5), -$AG$1,0)","v":0},{"$f":"IF(AND(CA!O14=1, S!O14>0, CA!O47<=Parameter!$F$5), $AG$1,0)+IF(AND(CA!O14=2, S!O14>0, CA!O47>Parameter!$F$5), -$AG$1,0)","v":0},{"$f":"IF(AND(CA!P14=1, S!P14>0, CA!P47<=Parameter!$F$5), $AG$1,0)+IF(AND(CA!P14=2, S!P14>0, CA!P47>Parameter!$F$5), -$AG$1,0)","v":0},{"$f":"IF(AND(CA!Q14=1, S!Q14>0, CA!Q47<=Parameter!$F$5), $AG$1,0)+IF(AND(CA!Q14=2, S!Q14>0, CA!Q47>Parameter!$F$5), -$AG$1,0)","v":0},{"$f":"IF(AND(CA!R14=1, S!R14>0, CA!R47<=Parameter!$F$5), $AG$1,0)+IF(AND(CA!R14=2, S!R14>0, CA!R47>Parameter!$F$5), -$AG$1,0)","v":0},{"$f":"IF(AND(CA!S14=1, S!S14>0, CA!S47<=Parameter!$F$5), $AG$1,0)+IF(AND(CA!S14=2, S!S14>0, CA!S47>Parameter!$F$5), -$AG$1,0)","v":0},{"$f":"IF(AND(CA!T14=1, S!T14>0, CA!T47<=Parameter!$F$5), $AG$1,0)+IF(AND(CA!T14=2, S!T14>0, CA!T47>Parameter!$F$5), -$AG$1,0)","v":0},{"$f":"IF(AND(CA!U14=1, S!U14>0, CA!U47<=Parameter!$F$5), $AG$1,0)+IF(AND(CA!U14=2, S!U14>0, CA!U47>Parameter!$F$5), -$AG$1,0)","v":0},{"$f":"IF(AND(CA!V14=1, S!V14>0, CA!V47<=Parameter!$F$5), $AG$1,0)+IF(AND(CA!V14=2, S!V14>0, CA!V47>Parameter!$F$5), -$AG$1,0)","v":0},{"$f":"IF(AND(CA!W14=1, S!W14>0, CA!W47<=Parameter!$F$5), $AG$1,0)+IF(AND(CA!W14=2, S!W14>0, CA!W47>Parameter!$F$5), -$AG$1,0)","v":0},{"$f":"IF(AND(CA!X14=1, S!X14>0, CA!X47<=Parameter!$F$5), $AG$1,0)+IF(AND(CA!X14=2, S!X14>0, CA!X47>Parameter!$F$5), -$AG$1,0)","v":0},{"$f":"IF(AND(CA!Y14=1, S!Y14>0, CA!Y47<=Parameter!$F$5), $AG$1,0)+IF(AND(CA!Y14=2, S!Y14>0, CA!Y47>Parameter!$F$5), -$AG$1,0)","v":0},{"$f":"IF(AND(CA!Z14=1, S!Z14>0, CA!Z47<=Parameter!$F$5), $AG$1,0)+IF(AND(CA!Z14=2, S!Z14>0, CA!Z47>Parameter!$F$5), -$AG$1,0)","v":0},{"$f":"IF(AND(CA!AA14=1, S!AA14>0, CA!AA47<=Parameter!$F$5), $AG$1,0)+IF(AND(CA!AA14=2, S!AA14>0, CA!AA47>Parameter!$F$5), -$AG$1,0)","v":0},{"$f":"IF(AND(CA!AB14=1, S!AB14>0, CA!AB47<=Parameter!$F$5), $AG$1,0)+IF(AND(CA!AB14=2, S!AB14>0, CA!AB47>Parameter!$F$5), -$AG$1,0)","v":0},{"$f":"IF(AND(CA!AC14=1, S!AC14>0, CA!AC47<=Parameter!$F$5), $AG$1,0)+IF(AND(CA!AC14=2, S!AC14>0, CA!AC47>Parameter!$F$5), -$AG$1,0)","v":0},{"$f":"IF(AND(CA!AD14=1, S!AD14>0, CA!AD47<=Parameter!$F$5), $AG$1,0)+IF(AND(CA!AD14=2, S!AD14>0, CA!AD47>Parameter!$F$5), -$AG$1,0)","v":0},{"$f":"IF(AND(CA!AE14=1, S!AE14>0, CA!AE47<=Parameter!$F$5), $AG$1,0)+IF(AND(CA!AE14=2, S!AE14>0, CA!AE47>Parameter!$F$5), -$AG$1,0)","v":0}]
[null,{"$f":"IF(AND(CA!B15=1, S!B15>0, CA!B48<=Parameter!$F$5), $AG$1,0)+IF(AND(CA!B15=2, S!B15>0, CA!B48>Parameter!$F$5), -$AG$1,0)","v":0},{"$f":"IF(AND(CA!C15=1, S!C15>0, CA!C48<=Parameter!$F$5), $AG$1,0)+IF(AND(CA!C15=2, S!C15>0, CA!C48>Parameter!$F$5), -$AG$1,0)","v":0},{"$f":"IF(AND(CA!D15=1, S!D15>0, CA!D48<=Parameter!$F$5), $AG$1,0)+IF(AND(CA!D15=2, S!D15>0, CA!D48>Parameter!$F$5), -$AG$1,0)","v":0},{"$f":"IF(AND(CA!E15=1, S!E15>0, CA!E48<=Parameter!$F$5), $AG$1,0)+IF(AND(CA!E15=2, S!E15>0, CA!E48>Parameter!$F$5), -$AG$1,0)","v":0},{"$f":"IF(AND(CA!F15=1, S!F15>0, CA!F48<=Parameter!$F$5), $AG$1,0)+IF(AND(CA!F15=2, S!F15>0, CA!F48>Parameter!$F$5), -$AG$1,0)","v":0},{"$f":"IF(AND(CA!G15=1, S!G15>0, CA!G48<=Parameter!$F$5), $AG$1,0)+IF(AND(CA!G15=2, S!G15>0, CA!G48>Parameter!$F$5), -$AG$1,0)","v":0},{"$f":"IF(AND(CA!H15=1, S!H15>0, CA!H48<=Parameter!$F$5), $AG$1,0)+IF(AND(CA!H15=2, S!H15>0, CA!H48>Parameter!$F$5), -$AG$1,0)","v":0},{"$f":"IF(AND(CA!I15=1, S!I15>0, CA!I48<=Parameter!$F$5), $AG$1,0)+IF(AND(CA!I15=2, S!I15>0, CA!I48>Parameter!$F$5), -$AG$1,0)","v":0},{"$f":"IF(AND(CA!J15=1, S!J15>0, CA!J48<=Parameter!$F$5), $AG$1,0)+IF(AND(CA!J15=2, S!J15>0, CA!J48>Parameter!$F$5), -$AG$1,0)","v":0},{"$f":"IF(AND(CA!K15=1, S!K15>0, CA!K48<=Parameter!$F$5), $AG$1,0)+IF(AND(CA!K15=2, S!K15>0, CA!K48>Parameter!$F$5), -$AG$1,0)","v":0},{"$f":"IF(AND(CA!L15=1, S!L15>0, CA!L48<=Parameter!$F$5), $AG$1,0)+IF(AND(CA!L15=2, S!L15>0, CA!L48>Parameter!$F$5), -$AG$1,0)","v":0},{"$f":"IF(AND(CA!M15=1, S!M15>0, CA!M48<=Parameter!$F$5), $AG$1,0)+IF(AND(CA!M15=2, S!M15>0, CA!M48>Parameter!$F$5), -$AG$1,0)","v":0},{"$f":"IF(AND(CA!N15=1, S!N15>0, CA!N48<=Parameter!$F$5), $AG$1,0)+IF(AND(CA!N15=2, S!N15>0, CA!N48>Parameter!$F$5), -$AG$1,0)","v":0},{"$f":"IF(AND(CA!O15=1, S!O15>0, CA!O48<=Parameter!$F$5), $AG$1,0)+IF(AND(CA!O15=2, S!O15>0, CA!O48>Parameter!$F$5), -$AG$1,0)","v":0},{"$f":"IF(AND(CA!P15=1, S!P15>0, CA!P48<=Parameter!$F$5), $AG$1,0)+IF(AND(CA!P15=2, S!P15>0, CA!P48>Parameter!$F$5), -$AG$1,0)","v":0},{"$f":"IF(AND(CA!Q15=1, S!Q15>0, CA!Q48<=Parameter!$F$5), $AG$1,0)+IF(AND(CA!Q15=2, S!Q15>0, CA!Q48>Parameter!$F$5), -$AG$1,0)","v":0},{"$f":"IF(AND(CA!R15=1, S!R15>0, CA!R48<=Parameter!$F$5), $AG$1,0)+IF(AND(CA!R15=2, S!R15>0, CA!R48>Parameter!$F$5), -$AG$1,0)","v":0},{"$f":"IF(AND(CA!S15=1, S!S15>0, CA!S48<=Parameter!$F$5), $AG$1,0)+IF(AND(CA!S15=2, S!S15>0, CA!S48>Parameter!$F$5), -$AG$1,0)","v":0},{"$f":"IF(AND(CA!T15=1, S!T15>0, CA!T48<=Parameter!$F$5), $AG$1,0)+IF(AND(CA!T15=2, S!T15>0, CA!T48>Parameter!$F$5), -$AG$1,0)","v":0},{"$f":"IF(AND(CA!U15=1, S!U15>0, CA!U48<=Parameter!$F$5), $AG$1,0)+IF(AND(CA!U15=2, S!U15>0, CA!U48>Parameter!$F$5), -$AG$1,0)","v":0},{"$f":"IF(AND(CA!V15=1, S!V15>0, CA!V48<=Parameter!$F$5), $AG$1,0)+IF(AND(CA!V15=2, S!V15>0, CA!V48>Parameter!$F$5), -$AG$1,0)","v":0},{"$f":"IF(AND(CA!W15=1, S!W15>0, CA!W48<=Parameter!$F$5), $AG$1,0)+IF(AND(CA!W15=2, S!W15>0, CA!W48>Parameter!$F$5), -$AG$1,0)","v":0},{"$f":"IF(AND(CA!X15=1, S!X15>0, CA!X48<=Parameter!$F$5), $AG$1,0)+IF(AND(CA!X15=2, S!X15>0, CA!X48>Parameter!$F$5), -$AG$1,0)","v":0},{"$f":"IF(AND(CA!Y15=1, S!Y15>0, CA!Y48<=Parameter!$F$5), $AG$1,0)+IF(AND(CA!Y15=2, S!Y15>0, CA!Y48>Parameter!$F$5), -$AG$1,0)","v":0},{"$f":"IF(AND(CA!Z15=1, S!Z15>0, CA!Z48<=Parameter!$F$5), $AG$1,0)+IF(AND(CA!Z15=2, S!Z15>0, CA!Z48>Parameter!$F$5), -$AG$1,0)","v":0},{"$f":"IF(AND(CA!AA15=1, S!AA15>0, CA!AA48<=Parameter!$F$5), $AG$1,0)+IF(AND(CA!AA15=2, S!AA15>0, CA!AA48>Parameter!$F$5), -$AG$1,0)","v":0},{"$f":"IF(AND(CA!AB15=1, S!AB15>0, CA!AB48<=Parameter!$F$5), $AG$1,0)+IF(AND(CA!AB15=2, S!AB15>0, CA!AB48>Parameter!$F$5), -$AG$1,0)","v":0},{"$f":"IF(AND(CA!AC15=1, S!AC15>0, CA!AC48<=Parameter!$F$5), $AG$1,0)+IF(AND(CA!AC15=2, S!AC15>0, CA!AC48>Parameter!$F$5), -$AG$1,0)","v":0},{"$f":"IF(AND(CA!AD15=1, S!AD15>0, CA!AD48<=Parameter!$F$5), $AG$1,0)+IF(AND(CA!AD15=2, S!AD15>0, CA!AD48>Parameter!$F$5), -$AG$1,0)","v":0},{"$f":"IF(AND(CA!AE15=1, S!AE15>0, CA!AE48<=Parameter!$F$5), $AG$1,0)+IF(AND(CA!AE15=2, S!AE15>0, CA!AE48>Parameter!$F$5), -$AG$1,0)","v":0}]
[null,{"$f":"IF(AND(CA!B16=1, S!B16>0, CA!B49<=Parameter!$F$5), $AG$1,0)+IF(AND(CA!B16=2, S!B16>0, CA!B49>Parameter!$F$5), -$AG$1,0)","v":0},{"$f":"IF(AND(CA!C16=1, S!C16>0, CA!C49<=Parameter!$F$5), $AG$1,0)+IF(AND(CA!C16=2, S!C16>0, CA!C49>Parameter!$F$5), -$AG$1,0)","v":0},{"$f":"IF(AND(CA!D16=1, S!D16>0, CA!D49<=Parameter!$F$5), $AG$1,0)+IF(AND(CA!D16=2, S!D16>0, CA!D49>Parameter!$F$5), -$AG$1,0)","v":0},{"$f":"IF(AND(CA!E16=1, S!E16>0, CA!E49<=Parameter!$F$5), $AG$1,0)+IF(AND(CA!E16=2, S!E16>0, CA!E49>Parameter!$F$5), -$AG$1,0)","v":0},{"$f":"IF(AND(CA!F16=1, S!F16>0, CA!F49<=Parameter!$F$5), $AG$1,0)+IF(AND(CA!F16=2, S!F16>0, CA!F49>Parameter!$F$5), -$AG$1,0)","v":0},{"$f":"IF(AND(CA!G16=1, S!G16>0, CA!G49<=Parameter!$F$5), $AG$1,0)+IF(AND(CA!G16=2, S!G16>0, CA!G49>Parameter!$F$5), -$AG$1,0)","v":0},{"$f":"IF(AND(CA!H16=1, S!H16>0, CA!H49<=Parameter!$F$5), $AG$1,0)+IF(AND(CA!H16=2, S!H16>0, CA!H49>Parameter!$F$5), -$AG$1,0)","v":0},{"$f":"IF(AND(CA!I16=1, S!I16>0, CA!I49<=Parameter!$F$5), $AG$1,0)+IF(AND(CA!I16=2, S!I16>0, CA!I49>Parameter!$F$5), -$AG$1,0)","v":0},{"$f":"IF(AND(CA!J16=1, S!J16>0, CA!J49<=Parameter!$F$5), $AG$1,0)+IF(AND(CA!J16=2, S!J16>0, CA!J49>Parameter!$F$5), -$AG$1,0)","v":0},{"$f":"IF(AND(CA!K16=1, S!K16>0, CA!K49<=Parameter!$F$5), $AG$1,0)+IF(AND(CA!K16=2, S!K16>0, CA!K49>Parameter!$F$5), -$AG$1,0)","v":0},{"$f":"IF(AND(CA!L16=1, S!L16>0, CA!L49<=Parameter!$F$5), $AG$1,0)+IF(AND(CA!L16=2, S!L16>0, CA!L49>Parameter!$F$5), -$AG$1,0)","v":0},{"$f":"IF(AND(CA!M16=1, S!M16>0, CA!M49<=Parameter!$F$5), $AG$1,0)+IF(AND(CA!M16=2, S!M16>0, CA!M49>Parameter!$F$5), -$AG$1,0)","v":0},{"$f":"IF(AND(CA!N16=1, S!N16>0, CA!N49<=Parameter!$F$5), $AG$1,0)+IF(AND(CA!N16=2, S!N16>0, CA!N49>Parameter!$F$5), -$AG$1,0)","v":0},{"$f":"IF(AND(CA!O16=1, S!O16>0, CA!O49<=Parameter!$F$5), $AG$1,0)+IF(AND(CA!O16=2, S!O16>0, CA!O49>Parameter!$F$5), -$AG$1,0)","v":0},{"$f":"IF(AND(CA!P16=1, S!P16>0, CA!P49<=Parameter!$F$5), $AG$1,0)+IF(AND(CA!P16=2, S!P16>0, CA!P49>Parameter!$F$5), -$AG$1,0)","v":0},{"$f":"IF(AND(CA!Q16=1, S!Q16>0, CA!Q49<=Parameter!$F$5), $AG$1,0)+IF(AND(CA!Q16=2, S!Q16>0, CA!Q49>Parameter!$F$5), -$AG$1,0)","v":0},{"$f":"IF(AND(CA!R16=1, S!R16>0, CA!R49<=Parameter!$F$5), $AG$1,0)+IF(AND(CA!R16=2, S!R16>0, CA!R49>Parameter!$F$5), -$AG$1,0)","v":0},{"$f":"IF(AND(CA!S16=1, S!S16>0, CA!S49<=Parameter!$F$5), $AG$1,0)+IF(AND(CA!S16=2, S!S16>0, CA!S49>Parameter!$F$5), -$AG$1,0)","v":0},{"$f":"IF(AND(CA!T16=1, S!T16>0, CA!T49<=Parameter!$F$5), $AG$1,0)+IF(AND(CA!T16=2, S!T16>0, CA!T49>Parameter!$F$5), -$AG$1,0)","v":0},{"$f":"IF(AND(CA!U16=1, S!U16>0, CA!U49<=Parameter!$F$5), $AG$1,0)+IF(AND(CA!U16=2, S!U16>0, CA!U49>Parameter!$F$5), -$AG$1,0)","v":0},{"$f":"IF(AND(CA!V16=1, S!V16>0, CA!V49<=Parameter!$F$5), $AG$1,0)+IF(AND(CA!V16=2, S!V16>0, CA!V49>Parameter!$F$5), -$AG$1,0)","v":0},{"$f":"IF(AND(CA!W16=1, S!W16>0, CA!W49<=Parameter!$F$5), $AG$1,0)+IF(AND(CA!W16=2, S!W16>0, CA!W49>Parameter!$F$5), -$AG$1,0)","v":0},{"$f":"IF(AND(CA!X16=1, S!X16>0, CA!X49<=Parameter!$F$5), $AG$1,0)+IF(AND(CA!X16=2, S!X16>0, CA!X49>Parameter!$F$5), -$AG$1,0)","v":0},{"$f":"IF(AND(CA!Y16=1, S!Y16>0, CA!Y49<=Parameter!$F$5), $AG$1,0)+IF(AND(CA!Y16=2, S!Y16>0, CA!Y49>Parameter!$F$5), -$AG$1,0)","v":0},{"$f":"IF(AND(CA!Z16=1, S!Z16>0, CA!Z49<=Parameter!$F$5), $AG$1,0)+IF(AND(CA!Z16=2, S!Z16>0, CA!Z49>Parameter!$F$5), -$AG$1,0)","v":0},{"$f":"IF(AND(CA!AA16=1, S!AA16>0, CA!AA49<=Parameter!$F$5), $AG$1,0)+IF(AND(CA!AA16=2, S!AA16>0, CA!AA49>Parameter!$F$5), -$AG$1,0)","v":0},{"$f":"IF(AND(CA!AB16=1, S!AB16>0, CA!AB49<=Parameter!$F$5), $AG$1,0)+IF(AND(CA!AB16=2, S!AB16>0, CA!AB49>Parameter!$F$5), -$AG$1,0)","v":0},{"$f":"IF(AND(CA!AC16=1, S!AC16>0, CA!AC49<=Parameter!$F$5), $AG$1,0)+IF(AND(CA!AC16=2, S!AC16>0, CA!AC49>Parameter!$F$5), -$AG$1,0)","v":0},{"$f":"IF(AND(CA!AD16=1, S!AD16>0, CA!AD49<=Parameter!$F$5), $AG$1,0)+IF(AND(CA!AD16=2, S!AD16>0, CA!AD49>Parameter!$F$5), -$AG$1,0)","v":0},{"$f":"IF(AND(CA!AE16=1, S!AE16>0, CA!AE49<=Parameter!$F$5), $AG$1,0)+IF(AND(CA!AE16=2, S!AE16>0, CA!AE49>Parameter!$F$5), -$AG$1,0)","v":0}]
[null,{"$f":"IF(AND(CA!B17=1, S!B17>0, CA!B50<=Parameter!$F$5), $AG$1,0)+IF(AND(CA!B17=2, S!B17>0, CA!B50>Parameter!$F$5), -$AG$1,0)","v":0},{"$f":"IF(AND(CA!C17=1, S!C17>0, CA!C50<=Parameter!$F$5), $AG$1,0)+IF(AND(CA!C17=2, S!C17>0, CA!C50>Parameter!$F$5), -$AG$1,0)","v":0},{"$f":"IF(AND(CA!D17=1, S!D17>0, CA!D50<=Parameter!$F$5), $AG$1,0)+IF(AND(CA!D17=2, S!D17>0, CA!D50>Parameter!$F$5), -$AG$1,0)","v":0},{"$f":"IF(AND(CA!E17=1, S!E17>0, CA!E50<=Parameter!$F$5), $AG$1,0)+IF(AND(CA!E17=2, S!E17>0, CA!E50>Parameter!$F$5), -$AG$1,0)","v":0},{"$f":"IF(AND(CA!F17=1, S!F17>0, CA!F50<=Parameter!$F$5), $AG$1,0)+IF(AND(CA!F17=2, S!F17>0, CA!F50>Parameter!$F$5), -$AG$1,0)","v":0},{"$f":"IF(AND(CA!G17=1, S!G17>0, CA!G50<=Parameter!$F$5), $AG$1,0)+IF(AND(CA!G17=2, S!G17>0, CA!G50>Parameter!$F$5), -$AG$1,0)","v":0},{"$f":"IF(AND(CA!H17=1, S!H17>0, CA!H50<=Parameter!$F$5), $AG$1,0)+IF(AND(CA!H17=2, S!H17>0, CA!H50>Parameter!$F$5), -$AG$1,0)","v":0},{"$f":"IF(AND(CA!I17=1, S!I17>0, CA!I50<=Parameter!$F$5), $AG$1,0)+IF(AND(CA!I17=2, S!I17>0, CA!I50>Parameter!$F$5), -$AG$1,0)","v":0},{"$f":"IF(AND(CA!J17=1, S!J17>0, CA!J50<=Parameter!$F$5), $AG$1,0)+IF(AND(CA!J17=2, S!J17>0, CA!J50>Parameter!$F$5), -$AG$1,0)","v":0},{"$f":"IF(AND(CA!K17=1, S!K17>0, CA!K50<=Parameter!$F$5), $AG$1,0)+IF(AND(CA!K17=2, S!K17>0, CA!K50>Parameter!$F$5), -$AG$1,0)","v":0},{"$f":"IF(AND(CA!L17=1, S!L17>0, CA!L50<=Parameter!$F$5), $AG$1,0)+IF(AND(CA!L17=2, S!L17>0, CA!L50>Parameter!$F$5), -$AG$1,0)","v":0},{"$f":"IF(AND(CA!M17=1, S!M17>0, CA!M50<=Parameter!$F$5), $AG$1,0)+IF(AND(CA!M17=2, S!M17>0, CA!M50>Parameter!$F$5), -$AG$1,0)","v":0},{"$f":"IF(AND(CA!N17=1, S!N17>0, CA!N50<=Parameter!$F$5), $AG$1,0)+IF(AND(CA!N17=2, S!N17>0, CA!N50>Parameter!$F$5), -$AG$1,0)","v":0},{"$f":"IF(AND(CA!O17=1, S!O17>0, CA!O50<=Parameter!$F$5), $AG$1,0)+IF(AND(CA!O17=2, S!O17>0, CA!O50>Parameter!$F$5), -$AG$1,0)","v":0},{"$f":"IF(AND(CA!P17=1, S!P17>0, CA!P50<=Parameter!$F$5), $AG$1,0)+IF(AND(CA!P17=2, S!P17>0, CA!P50>Parameter!$F$5), -$AG$1,0)","v":0},{"$f":"IF(AND(CA!Q17=1, S!Q17>0, CA!Q50<=Parameter!$F$5), $AG$1,0)+IF(AND(CA!Q17=2, S!Q17>0, CA!Q50>Parameter!$F$5), -$AG$1,0)","v":0},{"$f":"IF(AND(CA!R17=1, S!R17>0, CA!R50<=Parameter!$F$5), $AG$1,0)+IF(AND(CA!R17=2, S!R17>0, CA!R50>Parameter!$F$5), -$AG$1,0)","v":0},{"$f":"IF(AND(CA!S17=1, S!S17>0, CA!S50<=Parameter!$F$5), $AG$1,0)+IF(AND(CA!S17=2, S!S17>0, CA!S50>Parameter!$F$5), -$AG$1,0)","v":0},{"$f":"IF(AND(CA!T17=1, S!T17>0, CA!T50<=Parameter!$F$5), $AG$1,0)+IF(AND(CA!T17=2, S!T17>0, CA!T50>Parameter!$F$5), -$AG$1,0)","v":0},{"$f":"IF(AND(CA!U17=1, S!U17>0, CA!U50<=Parameter!$F$5), $AG$1,0)+IF(AND(CA!U17=2, S!U17>0, CA!U50>Parameter!$F$5), -$AG$1,0)","v":0},{"$f":"IF(AND(CA!V17=1, S!V17>0, CA!V50<=Parameter!$F$5), $AG$1,0)+IF(AND(CA!V17=2, S!V17>0, CA!V50>Parameter!$F$5), -$AG$1,0)","v":0},{"$f":"IF(AND(CA!W17=1, S!W17>0, CA!W50<=Parameter!$F$5), $AG$1,0)+IF(AND(CA!W17=2, S!W17>0, CA!W50>Parameter!$F$5), -$AG$1,0)","v":0},{"$f":"IF(AND(CA!X17=1, S!X17>0, CA!X50<=Parameter!$F$5), $AG$1,0)+IF(AND(CA!X17=2, S!X17>0, CA!X50>Parameter!$F$5), -$AG$1,0)","v":0},{"$f":"IF(AND(CA!Y17=1, S!Y17>0, CA!Y50<=Parameter!$F$5), $AG$1,0)+IF(AND(CA!Y17=2, S!Y17>0, CA!Y50>Parameter!$F$5), -$AG$1,0)","v":0},{"$f":"IF(AND(CA!Z17=1, S!Z17>0, CA!Z50<=Parameter!$F$5), $AG$1,0)+IF(AND(CA!Z17=2, S!Z17>0, CA!Z50>Parameter!$F$5), -$AG$1,0)","v":0},{"$f":"IF(AND(CA!AA17=1, S!AA17>0, CA!AA50<=Parameter!$F$5), $AG$1,0)+IF(AND(CA!AA17=2, S!AA17>0, CA!AA50>Parameter!$F$5), -$AG$1,0)","v":0},{"$f":"IF(AND(CA!AB17=1, S!AB17>0, CA!AB50<=Parameter!$F$5), $AG$1,0)+IF(AND(CA!AB17=2, S!AB17>0, CA!AB50>Parameter!$F$5), -$AG$1,0)","v":0},{"$f":"IF(AND(CA!AC17=1, S!AC17>0, CA!AC50<=Parameter!$F$5), $AG$1,0)+IF(AND(CA!AC17=2, S!AC17>0, CA!AC50>Parameter!$F$5), -$AG$1,0)","v":0},{"$f":"IF(AND(CA!AD17=1, S!AD17>0, CA!AD50<=Parameter!$F$5), $AG$1,0)+IF(AND(CA!AD17=2, S!AD17>0, CA!AD50>Parameter!$F$5), -$AG$1,0)","v":0},{"$f":"IF(AND(CA!AE17=1, S!AE17>0, CA!AE50<=Parameter!$F$5), $AG$1,0)+IF(AND(CA!AE17=2, S!AE17>0, CA!AE50>Parameter!$F$5), -$AG$1,0)","v":0}]
[null,{"$f":"IF(AND(CA!B18=1, S!B18>0, CA!B51<=Parameter!$F$5), $AG$1,0)+IF(AND(CA!B18=2, S!B18>0, CA!B51>Parameter!$F$5), -$AG$1,0)","v":0},{"$f":"IF(AND(CA!C18=1, S!C18>0, CA!C51<=Parameter!$F$5), $AG$1,0)+IF(AND(CA!C18=2, S!C18>0, CA!C51>Parameter!$F$5), -$AG$1,0)","v":0},{"$f":"IF(AND(CA!D18=1, S!D18>0, CA!D51<=Parameter!$F$5), $AG$1,0)+IF(AND(CA!D18=2, S!D18>0, CA!D51>Parameter!$F$5), -$AG$1,0)","v":0},{"$f":"IF(AND(CA!E18=1, S!E18>0, CA!E51<=Parameter!$F$5), $AG$1,0)+IF(AND(CA!E18=2, S!E18>0, CA!E51>Parameter!$F$5), -$AG$1,0)","v":0},{"$f":"IF(AND(CA!F18=1, S!F18>0, CA!F51<=Parameter!$F$5), $AG$1,0)+IF(AND(CA!F18=2, S!F18>0, CA!F51>Parameter!$F$5), -$AG$1,0)","v":0},{"$f":"IF(AND(CA!G18=1, S!G18>0, CA!G51<=Parameter!$F$5), $AG$1,0)+IF(AND(CA!G18=2, S!G18>0, CA!G51>Parameter!$F$5), -$AG$1,0)","v":0},{"$f":"IF(AND(CA!H18=1, S!H18>0, CA!H51<=Parameter!$F$5), $AG$1,0)+IF(AND(CA!H18=2, S!H18>0, CA!H51>Parameter!$F$5), -$AG$1,0)","v":0},{"$f":"IF(AND(CA!I18=1, S!I18>0, CA!I51<=Parameter!$F$5), $AG$1,0)+IF(AND(CA!I18=2, S!I18>0, CA!I51>Parameter!$F$5), -$AG$1,0)","v":0},{"$f":"IF(AND(CA!J18=1, S!J18>0, CA!J51<=Parameter!$F$5), $AG$1,0)+IF(AND(CA!J18=2, S!J18>0, CA!J51>Parameter!$F$5), -$AG$1,0)","v":0},{"$f":"IF(AND(CA!K18=1, S!K18>0, CA!K51<=Parameter!$F$5), $AG$1,0)+IF(AND(CA!K18=2, S!K18>0, CA!K51>Parameter!$F$5), -$AG$1,0)","v":0},{"$f":"IF(AND(CA!L18=1, S!L18>0, CA!L51<=Parameter!$F$5), $AG$1,0)+IF(AND(CA!L18=2, S!L18>0, CA!L51>Parameter!$F$5), -$AG$1,0)","v":0},{"$f":"IF(AND(CA!M18=1, S!M18>0, CA!M51<=Parameter!$F$5), $AG$1,0)+IF(AND(CA!M18=2, S!M18>0, CA!M51>Parameter!$F$5), -$AG$1,0)","v":0},{"$f":"IF(AND(CA!N18=1, S!N18>0, CA!N51<=Parameter!$F$5), $AG$1,0)+IF(AND(CA!N18=2, S!N18>0, CA!N51>Parameter!$F$5), -$AG$1,0)","v":0},{"$f":"IF(AND(CA!O18=1, S!O18>0, CA!O51<=Parameter!$F$5), $AG$1,0)+IF(AND(CA!O18=2, S!O18>0, CA!O51>Parameter!$F$5), -$AG$1,0)","v":0},{"$f":"IF(AND(CA!P18=1, S!P18>0, CA!P51<=Parameter!$F$5), $AG$1,0)+IF(AND(CA!P18=2, S!P18>0, CA!P51>Parameter!$F$5), -$AG$1,0)","v":0},{"$f":"IF(AND(CA!Q18=1, S!Q18>0, CA!Q51<=Parameter!$F$5), $AG$1,0)+IF(AND(CA!Q18=2, S!Q18>0, CA!Q51>Parameter!$F$5), -$AG$1,0)","v":0},{"$f":"IF(AND(CA!R18=1, S!R18>0, CA!R51<=Parameter!$F$5), $AG$1,0)+IF(AND(CA!R18=2, S!R18>0, CA!R51>Parameter!$F$5), -$AG$1,0)","v":0},{"$f":"IF(AND(CA!S18=1, S!S18>0, CA!S51<=Parameter!$F$5), $AG$1,0)+IF(AND(CA!S18=2, S!S18>0, CA!S51>Parameter!$F$5), -$AG$1,0)","v":0},{"$f":"IF(AND(CA!T18=1, S!T18>0, CA!T51<=Parameter!$F$5), $AG$1,0)+IF(AND(CA!T18=2, S!T18>0, CA!T51>Parameter!$F$5), -$AG$1,0)","v":0},{"$f":"IF(AND(CA!U18=1, S!U18>0, CA!U51<=Parameter!$F$5), $AG$1,0)+IF(AND(CA!U18=2, S!U18>0, CA!U51>Parameter!$F$5), -$AG$1,0)","v":0},{"$f":"IF(AND(CA!V18=1, S!V18>0, CA!V51<=Parameter!$F$5), $AG$1,0)+IF(AND(CA!V18=2, S!V18>0, CA!V51>Parameter!$F$5), -$AG$1,0)","v":0},{"$f":"IF(AND(CA!W18=1, S!W18>0, CA!W51<=Parameter!$F$5), $AG$1,0)+IF(AND(CA!W18=2, S!W18>0, CA!W51>Parameter!$F$5), -$AG$1,0)","v":0},{"$f":"IF(AND(CA!X18=1, S!X18>0, CA!X51<=Parameter!$F$5), $AG$1,0)+IF(AND(CA!X18=2, S!X18>0, CA!X51>Parameter!$F$5), -$AG$1,0)","v":0},{"$f":"IF(AND(CA!Y18=1, S!Y18>0, CA!Y51<=Parameter!$F$5), $AG$1,0)+IF(AND(CA!Y18=2, S!Y18>0, CA!Y51>Parameter!$F$5), -$AG$1,0)","v":0},{"$f":"IF(AND(CA!Z18=1, S!Z18>0, CA!Z51<=Parameter!$F$5), $AG$1,0)+IF(AND(CA!Z18=2, S!Z18>0, CA!Z51>Parameter!$F$5), -$AG$1,0)","v":0},{"$f":"IF(AND(CA!AA18=1, S!AA18>0, CA!AA51<=Parameter!$F$5), $AG$1,0)+IF(AND(CA!AA18=2, S!AA18>0, CA!AA51>Parameter!$F$5), -$AG$1,0)","v":0},{"$f":"IF(AND(CA!AB18=1, S!AB18>0, CA!AB51<=Parameter!$F$5), $AG$1,0)+IF(AND(CA!AB18=2, S!AB18>0, CA!AB51>Parameter!$F$5), -$AG$1,0)","v":0},{"$f":"IF(AND(CA!AC18=1, S!AC18>0, CA!AC51<=Parameter!$F$5), $AG$1,0)+IF(AND(CA!AC18=2, S!AC18>0, CA!AC51>Parameter!$F$5), -$AG$1,0)","v":0},{"$f":"IF(AND(CA!AD18=1, S!AD18>0, CA!AD51<=Parameter!$F$5), $AG$1,0)+IF(AND(CA!AD18=2, S!AD18>0, CA!AD51>Parameter!$F$5), -$AG$1,0)","v":0},{"$f":"IF(AND(CA!AE18=1, S!AE18>0, CA!AE51<=Parameter!$F$5), $AG$1,0)+IF(AND(CA!AE18=2, S!AE18>0, CA!AE51>Parameter!$F$5), -$AG$1,0)","v":0}]
[null,{"$f":"IF(AND(CA!B19=1, S!B19>0, CA!B52<=Parameter!$F$5), $AG$1,0)+IF(AND(CA!B19=2, S!B19>0, CA!B52>Parameter!$F$5), -$AG$1,0)","v":0},{"$f":"IF(AND(CA!C19=1, S!C19>0, CA!C52<=Parameter!$F$5), $AG$1,0)+IF(AND(CA!C19=2, S!C19>0, CA!C52>Parameter!$F$5), -$AG$1,0)","v":0},{"$f":"IF(AND(CA!D19=1, S!D19>0, CA!D52<=Parameter!$F$5), $AG$1,0)+IF(AND(CA!D19=2, S!D19>0, CA!D52>Parameter!$F$5), -$AG$1,0)","v":0},{"$f":"IF(AND(CA!E19=1, S!E19>0, CA!E52<=Parameter!$F$5), $AG$1,0)+IF(AND(CA!E19=2, S!E19>0, CA!E52>Parameter!$F$5), -$AG$1,0)","v":0},{"$f":"IF(AND(CA!F19=1, S!F19>0, CA!F52<=Parameter!$F$5), $AG$1,0)+IF(AND(CA!F19=2, S!F19>0, CA!F52>Parameter!$F$5), -$AG$1,0)","v":0},{"$f":"IF(AND(CA!G19=1, S!G19>0, CA!G52<=Parameter!$F$5), $AG$1,0)+IF(AND(CA!G19=2, S!G19>0, CA!G52>Parameter!$F$5), -$AG$1,0)","v":0},{"$f":"IF(AND(CA!H19=1, S!H19>0, CA!H52<=Parameter!$F$5), $AG$1,0)+IF(AND(CA!H19=2, S!H19>0, CA!H52>Parameter!$F$5), -$AG$1,0)","v":0},{"$f":"IF(AND(CA!I19=1, S!I19>0, CA!I52<=Parameter!$F$5), $AG$1,0)+IF(AND(CA!I19=2, S!I19>0, CA!I52>Parameter!$F$5), -$AG$1,0)","v":0},{"$f":"IF(AND(CA!J19=1, S!J19>0, CA!J52<=Parameter!$F$5), $AG$1,0)+IF(AND(CA!J19=2, S!J19>0, CA!J52>Parameter!$F$5), -$AG$1,0)","v":0},{"$f":"IF(AND(CA!K19=1, S!K19>0, CA!K52<=Parameter!$F$5), $AG$1,0)+IF(AND(CA!K19=2, S!K19>0, CA!K52>Parameter!$F$5), -$AG$1,0)","v":0},{"$f":"IF(AND(CA!L19=1, S!L19>0, CA!L52<=Parameter!$F$5), $AG$1,0)+IF(AND(CA!L19=2, S!L19>0, CA!L52>Parameter!$F$5), -$AG$1,0)","v":0},{"$f":"IF(AND(CA!M19=1, S!M19>0, CA!M52<=Parameter!$F$5), $AG$1,0)+IF(AND(CA!M19=2, S!M19>0, CA!M52>Parameter!$F$5), -$AG$1,0)","v":0},{"$f":"IF(AND(CA!N19=1, S!N19>0, CA!N52<=Parameter!$F$5), $AG$1,0)+IF(AND(CA!N19=2, S!N19>0, CA!N52>Parameter!$F$5), -$AG$1,0)","v":0},{"$f":"IF(AND(CA!O19=1, S!O19>0, CA!O52<=Parameter!$F$5), $AG$1,0)+IF(AND(CA!O19=2, S!O19>0, CA!O52>Parameter!$F$5), -$AG$1,0)","v":0},{"$f":"IF(AND(CA!P19=1, S!P19>0, CA!P52<=Parameter!$F$5), $AG$1,0)+IF(AND(CA!P19=2, S!P19>0, CA!P52>Parameter!$F$5), -$AG$1,0)","v":0},{"$f":"IF(AND(CA!Q19=1, S!Q19>0, CA!Q52<=Parameter!$F$5), $AG$1,0)+IF(AND(CA!Q19=2, S!Q19>0, CA!Q52>Parameter!$F$5), -$AG$1,0)","v":0},{"$f":"IF(AND(CA!R19=1, S!R19>0, CA!R52<=Parameter!$F$5), $AG$1,0)+IF(AND(CA!R19=2, S!R19>0, CA!R52>Parameter!$F$5), -$AG$1,0)","v":0},{"$f":"IF(AND(CA!S19=1, S!S19>0, CA!S52<=Parameter!$F$5), $AG$1,0)+IF(AND(CA!S19=2, S!S19>0, CA!S52>Parameter!$F$5), -$AG$1,0)","v":0},{"$f":"IF(AND(CA!T19=1, S!T19>0, CA!T52<=Parameter!$F$5), $AG$1,0)+IF(AND(CA!T19=2, S!T19>0, CA!T52>Parameter!$F$5), -$AG$1,0)","v":0},{"$f":"IF(AND(CA!U19=1, S!U19>0, CA!U52<=Parameter!$F$5), $AG$1,0)+IF(AND(CA!U19=2, S!U19>0, CA!U52>Parameter!$F$5), -$AG$1,0)","v":0},{"$f":"IF(AND(CA!V19=1, S!V19>0, CA!V52<=Parameter!$F$5), $AG$1,0)+IF(AND(CA!V19=2, S!V19>0, CA!V52>Parameter!$F$5), -$AG$1,0)","v":0},{"$f":"IF(AND(CA!W19=1, S!W19>0, CA!W52<=Parameter!$F$5), $AG$1,0)+IF(AND(CA!W19=2, S!W19>0, CA!W52>Parameter!$F$5), -$AG$1,0)","v":0},{"$f":"IF(AND(CA!X19=1, S!X19>0, CA!X52<=Parameter!$F$5), $AG$1,0)+IF(AND(CA!X19=2, S!X19>0, CA!X52>Parameter!$F$5), -$AG$1,0)","v":0},{"$f":"IF(AND(CA!Y19=1, S!Y19>0, CA!Y52<=Parameter!$F$5), $AG$1,0)+IF(AND(CA!Y19=2, S!Y19>0, CA!Y52>Parameter!$F$5), -$AG$1,0)","v":0},{"$f":"IF(AND(CA!Z19=1, S!Z19>0, CA!Z52<=Parameter!$F$5), $AG$1,0)+IF(AND(CA!Z19=2, S!Z19>0, CA!Z52>Parameter!$F$5), -$AG$1,0)","v":0},{"$f":"IF(AND(CA!AA19=1, S!AA19>0, CA!AA52<=Parameter!$F$5), $AG$1,0)+IF(AND(CA!AA19=2, S!AA19>0, CA!AA52>Parameter!$F$5), -$AG$1,0)","v":0},{"$f":"IF(AND(CA!AB19=1, S!AB19>0, CA!AB52<=Parameter!$F$5), $AG$1,0)+IF(AND(CA!AB19=2, S!AB19>0, CA!AB52>Parameter!$F$5), -$AG$1,0)","v":0},{"$f":"IF(AND(CA!AC19=1, S!AC19>0, CA!AC52<=Parameter!$F$5), $AG$1,0)+IF(AND(CA!AC19=2, S!AC19>0, CA!AC52>Parameter!$F$5), -$AG$1,0)","v":0},{"$f":"IF(AND(CA!AD19=1, S!AD19>0, CA!AD52<=Parameter!$F$5), $AG$1,0)+IF(AND(CA!AD19=2, S!AD19>0, CA!AD52>Parameter!$F$5), -$AG$1,0)","v":0},{"$f":"IF(AND(CA!AE19=1, S!AE19>0, CA!AE52<=Parameter!$F$5), $AG$1,0)+IF(AND(CA!AE19=2, S!AE19>0, CA!AE52>Parameter!$F$5), -$AG$1,0)","v":0}]
[null,{"$f":"IF(AND(CA!B20=1, S!B20>0, CA!B53<=Parameter!$F$5), $AG$1,0)+IF(AND(CA!B20=2, S!B20>0, CA!B53>Parameter!$F$5), -$AG$1,0)","v":0},{"$f":"IF(AND(CA!C20=1, S!C20>0, CA!C53<=Parameter!$F$5), $AG$1,0)+IF(AND(CA!C20=2, S!C20>0, CA!C53>Parameter!$F$5), -$AG$1,0)","v":0},{"$f":"IF(AND(CA!D20=1, S!D20>0, CA!D53<=Parameter!$F$5), $AG$1,0)+IF(AND(CA!D20=2, S!D20>0, CA!D53>Parameter!$F$5), -$AG$1,0)","v":0},{"$f":"IF(AND(CA!E20=1, S!E20>0, CA!E53<=Parameter!$F$5), $AG$1,0)+IF(AND(CA!E20=2, S!E20>0, CA!E53>Parameter!$F$5), -$AG$1,0)","v":0},{"$f":"IF(AND(CA!F20=1, S!F20>0, CA!F53<=Parameter!$F$5), $AG$1,0)+IF(AND(CA!F20=2, S!F20>0, CA!F53>Parameter!$F$5), -$AG$1,0)","v":0},{"$f":"IF(AND(CA!G20=1, S!G20>0, CA!G53<=Parameter!$F$5), $AG$1,0)+IF(AND(CA!G20=2, S!G20>0, CA!G53>Parameter!$F$5), -$AG$1,0)","v":0},{"$f":"IF(AND(CA!H20=1, S!H20>0, CA!H53<=Parameter!$F$5), $AG$1,0)+IF(AND(CA!H20=2, S!H20>0, CA!H53>Parameter!$F$5), -$AG$1,0)","v":0},{"$f":"IF(AND(CA!I20=1, S!I20>0, CA!I53<=Parameter!$F$5), $AG$1,0)+IF(AND(CA!I20=2, S!I20>0, CA!I53>Parameter!$F$5), -$AG$1,0)","v":0},{"$f":"IF(AND(CA!J20=1, S!J20>0, CA!J53<=Parameter!$F$5), $AG$1,0)+IF(AND(CA!J20=2, S!J20>0, CA!J53>Parameter!$F$5), -$AG$1,0)","v":0},{"$f":"IF(AND(CA!K20=1, S!K20>0, CA!K53<=Parameter!$F$5), $AG$1,0)+IF(AND(CA!K20=2, S!K20>0, CA!K53>Parameter!$F$5), -$AG$1,0)","v":0},{"$f":"IF(AND(CA!L20=1, S!L20>0, CA!L53<=Parameter!$F$5), $AG$1,0)+IF(AND(CA!L20=2, S!L20>0, CA!L53>Parameter!$F$5), -$AG$1,0)","v":0},{"$f":"IF(AND(CA!M20=1, S!M20>0, CA!M53<=Parameter!$F$5), $AG$1,0)+IF(AND(CA!M20=2, S!M20>0, CA!M53>Parameter!$F$5), -$AG$1,0)","v":0},{"$f":"IF(AND(CA!N20=1, S!N20>0, CA!N53<=Parameter!$F$5), $AG$1,0)+IF(AND(CA!N20=2, S!N20>0, CA!N53>Parameter!$F$5), -$AG$1,0)","v":0},{"$f":"IF(AND(CA!O20=1, S!O20>0, CA!O53<=Parameter!$F$5), $AG$1,0)+IF(AND(CA!O20=2, S!O20>0, CA!O53>Parameter!$F$5), -$AG$1,0)","v":0},{"$f":"IF(AND(CA!P20=1, S!P20>0, CA!P53<=Parameter!$F$5), $AG$1,0)+IF(AND(CA!P20=2, S!P20>0, CA!P53>Parameter!$F$5), -$AG$1,0)","v":0},{"$f":"IF(AND(CA!Q20=1, S!Q20>0, CA!Q53<=Parameter!$F$5), $AG$1,0)+IF(AND(CA!Q20=2, S!Q20>0, CA!Q53>Parameter!$F$5), -$AG$1,0)","v":0},{"$f":"IF(AND(CA!R20=1, S!R20>0, CA!R53<=Parameter!$F$5), $AG$1,0)+IF(AND(CA!R20=2, S!R20>0, CA!R53>Parameter!$F$5), -$AG$1,0)","v":0},{"$f":"IF(AND(CA!S20=1, S!S20>0, CA!S53<=Parameter!$F$5), $AG$1,0)+IF(AND(CA!S20=2, S!S20>0, CA!S53>Parameter!$F$5), -$AG$1,0)","v":0},{"$f":"IF(AND(CA!T20=1, S!T20>0, CA!T53<=Parameter!$F$5), $AG$1,0)+IF(AND(CA!T20=2, S!T20>0, CA!T53>Parameter!$F$5), -$AG$1,0)","v":0},{"$f":"IF(AND(CA!U20=1, S!U20>0, CA!U53<=Parameter!$F$5), $AG$1,0)+IF(AND(CA!U20=2, S!U20>0, CA!U53>Parameter!$F$5), -$AG$1,0)","v":0},{"$f":"IF(AND(CA!V20=1, S!V20>0, CA!V53<=Parameter!$F$5), $AG$1,0)+IF(AND(CA!V20=2, S!V20>0, CA!V53>Parameter!$F$5), -$AG$1,0)","v":0},{"$f":"IF(AND(CA!W20=1, S!W20>0, CA!W53<=Parameter!$F$5), $AG$1,0)+IF(AND(CA!W20=2, S!W20>0, CA!W53>Parameter!$F$5), -$AG$1,0)","v":0},{"$f":"IF(AND(CA!X20=1, S!X20>0, CA!X53<=Parameter!$F$5), $AG$1,0)+IF(AND(CA!X20=2, S!X20>0, CA!X53>Parameter!$F$5), -$AG$1,0)","v":0},{"$f":"IF(AND(CA!Y20=1, S!Y20>0, CA!Y53<=Parameter!$F$5), $AG$1,0)+IF(AND(CA!Y20=2, S!Y20>0, CA!Y53>Parameter!$F$5), -$AG$1,0)","v":0},{"$f":"IF(AND(CA!Z20=1, S!Z20>0, CA!Z53<=Parameter!$F$5), $AG$1,0)+IF(AND(CA!Z20=2, S!Z20>0, CA!Z53>Parameter!$F$5), -$AG$1,0)","v":0},{"$f":"IF(AND(CA!AA20=1, S!AA20>0, CA!AA53<=Parameter!$F$5), $AG$1,0)+IF(AND(CA!AA20=2, S!AA20>0, CA!AA53>Parameter!$F$5), -$AG$1,0)","v":0},{"$f":"IF(AND(CA!AB20=1, S!AB20>0, CA!AB53<=Parameter!$F$5), $AG$1,0)+IF(AND(CA!AB20=2, S!AB20>0, CA!AB53>Parameter!$F$5), -$AG$1,0)","v":0},{"$f":"IF(AND(CA!AC20=1, S!AC20>0, CA!AC53<=Parameter!$F$5), $AG$1,0)+IF(AND(CA!AC20=2, S!AC20>0, CA!AC53>Parameter!$F$5), -$AG$1,0)","v":0},{"$f":"IF(AND(CA!AD20=1, S!AD20>0, CA!AD53<=Parameter!$F$5), $AG$1,0)+IF(AND(CA!AD20=2, S!AD20>0, CA!AD53>Parameter!$F$5), -$AG$1,0)","v":0},{"$f":"IF(AND(CA!AE20=1, S!AE20>0, CA!AE53<=Parameter!$F$5), $AG$1,0)+IF(AND(CA!AE20=2, S!AE20>0, CA!AE53>Parameter!$F$5), -$AG$1,0)","v":0}]
[null,{"$f":"IF(AND(CA!B21=1, S!B21>0, CA!B54<=Parameter!$F$5), $AG$1,0)+IF(AND(CA!B21=2, S!B21>0, CA!B54>Parameter!$F$5), -$AG$1,0)","v":0},{"$f":"IF(AND(CA!C21=1, S!C21>0, CA!C54<=Parameter!$F$5), $AG$1,0)+IF(AND(CA!C21=2, S!C21>0, CA!C54>Parameter!$F$5), -$AG$1,0)","v":0},{"$f":"IF(AND(CA!D21=1, S!D21>0, CA!D54<=Parameter!$F$5), $AG$1,0)+IF(AND(CA!D21=2, S!D21>0, CA!D54>Parameter!$F$5), -$AG$1,0)","v":0},{"$f":"IF(AND(CA!E21=1, S!E21>0, CA!E54<=Parameter!$F$5), $AG$1,0)+IF(AND(CA!E21=2, S!E21>0, CA!E54>Parameter!$F$5), -$AG$1,0)","v":0},{"$f":"IF(AND(CA!F21=1, S!F21>0, CA!F54<=Parameter!$F$5), $AG$1,0)+IF(AND(CA!F21=2, S!F21>0, CA!F54>Parameter!$F$5), -$AG$1,0)","v":0},{"$f":"IF(AND(CA!G21=1, S!G21>0, CA!G54<=Parameter!$F$5), $AG$1,0)+IF(AND(CA!G21=2, S!G21>0, CA!G54>Parameter!$F$5), -$AG$1,0)","v":0},{"$f":"IF(AND(CA!H21=1, S!H21>0, CA!H54<=Parameter!$F$5), $AG$1,0)+IF(AND(CA!H21=2, S!H21>0, CA!H54>Parameter!$F$5), -$AG$1,0)","v":0},{"$f":"IF(AND(CA!I21=1, S!I21>0, CA!I54<=Parameter!$F$5), $AG$1,0)+IF(AND(CA!I21=2, S!I21>0, CA!I54>Parameter!$F$5), -$AG$1,0)","v":0},{"$f":"IF(AND(CA!J21=1, S!J21>0, CA!J54<=Parameter!$F$5), $AG$1,0)+IF(AND(CA!J21=2, S!J21>0, CA!J54>Parameter!$F$5), -$AG$1,0)","v":0},{"$f":"IF(AND(CA!K21=1, S!K21>0, CA!K54<=Parameter!$F$5), $AG$1,0)+IF(AND(CA!K21=2, S!K21>0, CA!K54>Parameter!$F$5), -$AG$1,0)","v":0},{"$f":"IF(AND(CA!L21=1, S!L21>0, CA!L54<=Parameter!$F$5), $AG$1,0)+IF(AND(CA!L21=2, S!L21>0, CA!L54>Parameter!$F$5), -$AG$1,0)","v":0},{"$f":"IF(AND(CA!M21=1, S!M21>0, CA!M54<=Parameter!$F$5), $AG$1,0)+IF(AND(CA!M21=2, S!M21>0, CA!M54>Parameter!$F$5), -$AG$1,0)","v":0},{"$f":"IF(AND(CA!N21=1, S!N21>0, CA!N54<=Parameter!$F$5), $AG$1,0)+IF(AND(CA!N21=2, S!N21>0, CA!N54>Parameter!$F$5), -$AG$1,0)","v":0},{"$f":"IF(AND(CA!O21=1, S!O21>0, CA!O54<=Parameter!$F$5), $AG$1,0)+IF(AND(CA!O21=2, S!O21>0, CA!O54>Parameter!$F$5), -$AG$1,0)","v":0},{"$f":"IF(AND(CA!P21=1, S!P21>0, CA!P54<=Parameter!$F$5), $AG$1,0)+IF(AND(CA!P21=2, S!P21>0, CA!P54>Parameter!$F$5), -$AG$1,0)","v":0},{"$f":"IF(AND(CA!Q21=1, S!Q21>0, CA!Q54<=Parameter!$F$5), $AG$1,0)+IF(AND(CA!Q21=2, S!Q21>0, CA!Q54>Parameter!$F$5), -$AG$1,0)","v":0},{"$f":"IF(AND(CA!R21=1, S!R21>0, CA!R54<=Parameter!$F$5), $AG$1,0)+IF(AND(CA!R21=2, S!R21>0, CA!R54>Parameter!$F$5), -$AG$1,0)","v":0},{"$f":"IF(AND(CA!S21=1, S!S21>0, CA!S54<=Parameter!$F$5), $AG$1,0)+IF(AND(CA!S21=2, S!S21>0, CA!S54>Parameter!$F$5), -$AG$1,0)","v":0},{"$f":"IF(AND(CA!T21=1, S!T21>0, CA!T54<=Parameter!$F$5), $AG$1,0)+IF(AND(CA!T21=2, S!T21>0, CA!T54>Parameter!$F$5), -$AG$1,0)","v":0},{"$f":"IF(AND(CA!U21=1, S!U21>0, CA!U54<=Parameter!$F$5), $AG$1,0)+IF(AND(CA!U21=2, S!U21>0, CA!U54>Parameter!$F$5), -$AG$1,0)","v":0},{"$f":"IF(AND(CA!V21=1, S!V21>0, CA!V54<=Parameter!$F$5), $AG$1,0)+IF(AND(CA!V21=2, S!V21>0, CA!V54>Parameter!$F$5), -$AG$1,0)","v":0},{"$f":"IF(AND(CA!W21=1, S!W21>0, CA!W54<=Parameter!$F$5), $AG$1,0)+IF(AND(CA!W21=2, S!W21>0, CA!W54>Parameter!$F$5), -$AG$1,0)","v":0},{"$f":"IF(AND(CA!X21=1, S!X21>0, CA!X54<=Parameter!$F$5), $AG$1,0)+IF(AND(CA!X21=2, S!X21>0, CA!X54>Parameter!$F$5), -$AG$1,0)","v":0},{"$f":"IF(AND(CA!Y21=1, S!Y21>0, CA!Y54<=Parameter!$F$5), $AG$1,0)+IF(AND(CA!Y21=2, S!Y21>0, CA!Y54>Parameter!$F$5), -$AG$1,0)","v":0},{"$f":"IF(AND(CA!Z21=1, S!Z21>0, CA!Z54<=Parameter!$F$5), $AG$1,0)+IF(AND(CA!Z21=2, S!Z21>0, CA!Z54>Parameter!$F$5), -$AG$1,0)","v":0},{"$f":"IF(AND(CA!AA21=1, S!AA21>0, CA!AA54<=Parameter!$F$5), $AG$1,0)+IF(AND(CA!AA21=2, S!AA21>0, CA!AA54>Parameter!$F$5), -$AG$1,0)","v":0},{"$f":"IF(AND(CA!AB21=1, S!AB21>0, CA!AB54<=Parameter!$F$5), $AG$1,0)+IF(AND(CA!AB21=2, S!AB21>0, CA!AB54>Parameter!$F$5), -$AG$1,0)","v":0},{"$f":"IF(AND(CA!AC21=1, S!AC21>0, CA!AC54<=Parameter!$F$5), $AG$1,0)+IF(AND(CA!AC21=2, S!AC21>0, CA!AC54>Parameter!$F$5), -$AG$1,0)","v":0},{"$f":"IF(AND(CA!AD21=1, S!AD21>0, CA!AD54<=Parameter!$F$5), $AG$1,0)+IF(AND(CA!AD21=2, S!AD21>0, CA!AD54>Parameter!$F$5), -$AG$1,0)","v":0},{"$f":"IF(AND(CA!AE21=1, S!AE21>0, CA!AE54<=Parameter!$F$5), $AG$1,0)+IF(AND(CA!AE21=2, S!AE21>0, CA!AE54>Parameter!$F$5), -$AG$1,0)","v":0}]
[null,{"$f":"IF(AND(CA!B22=1, S!B22>0, CA!B55<=Parameter!$F$5), $AG$1,0)+IF(AND(CA!B22=2, S!B22>0, CA!B55>Parameter!$F$5), -$AG$1,0)","v":0},{"$f":"IF(AND(CA!C22=1, S!C22>0, CA!C55<=Parameter!$F$5), $AG$1,0)+IF(AND(CA!C22=2, S!C22>0, CA!C55>Parameter!$F$5), -$AG$1,0)","v":0},{"$f":"IF(AND(CA!D22=1, S!D22>0, CA!D55<=Parameter!$F$5), $AG$1,0)+IF(AND(CA!D22=2, S!D22>0, CA!D55>Parameter!$F$5), -$AG$1,0)","v":0},{"$f":"IF(AND(CA!E22=1, S!E22>0, CA!E55<=Parameter!$F$5), $AG$1,0)+IF(AND(CA!E22=2, S!E22>0, CA!E55>Parameter!$F$5), -$AG$1,0)","v":0},{"$f":"IF(AND(CA!F22=1, S!F22>0, CA!F55<=Parameter!$F$5), $AG$1,0)+IF(AND(CA!F22=2, S!F22>0, CA!F55>Parameter!$F$5), -$AG$1,0)","v":0},{"$f":"IF(AND(CA!G22=1, S!G22>0, CA!G55<=Parameter!$F$5), $AG$1,0)+IF(AND(CA!G22=2, S!G22>0, CA!G55>Parameter!$F$5), -$AG$1,0)","v":0},{"$f":"IF(AND(CA!H22=1, S!H22>0, CA!H55<=Parameter!$F$5), $AG$1,0)+IF(AND(CA!H22=2, S!H22>0, CA!H55>Parameter!$F$5), -$AG$1,0)","v":0},{"$f":"IF(AND(CA!I22=1, S!I22>0, CA!I55<=Parameter!$F$5), $AG$1,0)+IF(AND(CA!I22=2, S!I22>0, CA!I55>Parameter!$F$5), -$AG$1,0)","v":0},{"$f":"IF(AND(CA!J22=1, S!J22>0, CA!J55<=Parameter!$F$5), $AG$1,0)+IF(AND(CA!J22=2, S!J22>0, CA!J55>Parameter!$F$5), -$AG$1,0)","v":0},{"$f":"IF(AND(CA!K22=1, S!K22>0, CA!K55<=Parameter!$F$5), $AG$1,0)+IF(AND(CA!K22=2, S!K22>0, CA!K55>Parameter!$F$5), -$AG$1,0)","v":0},{"$f":"IF(AND(CA!L22=1, S!L22>0, CA!L55<=Parameter!$F$5), $AG$1,0)+IF(AND(CA!L22=2, S!L22>0, CA!L55>Parameter!$F$5), -$AG$1,0)","v":0},{"$f":"IF(AND(CA!M22=1, S!M22>0, CA!M55<=Parameter!$F$5), $AG$1,0)+IF(AND(CA!M22=2, S!M22>0, CA!M55>Parameter!$F$5), -$AG$1,0)","v":0},{"$f":"IF(AND(CA!N22=1, S!N22>0, CA!N55<=Parameter!$F$5), $AG$1,0)+IF(AND(CA!N22=2, S!N22>0, CA!N55>Parameter!$F$5), -$AG$1,0)","v":0},{"$f":"IF(AND(CA!O22=1, S!O22>0, CA!O55<=Parameter!$F$5), $AG$1,0)+IF(AND(CA!O22=2, S!O22>0, CA!O55>Parameter!$F$5), -$AG$1,0)","v":0},{"$f":"IF(AND(CA!P22=1, S!P22>0, CA!P55<=Parameter!$F$5), $AG$1,0)+IF(AND(CA!P22=2, S!P22>0, CA!P55>Parameter!$F$5), -$AG$1,0)","v":0},{"$f":"IF(AND(CA!Q22=1, S!Q22>0, CA!Q55<=Parameter!$F$5), $AG$1,0)+IF(AND(CA!Q22=2, S!Q22>0, CA!Q55>Parameter!$F$5), -$AG$1,0)","v":0},{"$f":"IF(AND(CA!R22=1, S!R22>0, CA!R55<=Parameter!$F$5), $AG$1,0)+IF(AND(CA!R22=2, S!R22>0, CA!R55>Parameter!$F$5), -$AG$1,0)","v":0},{"$f":"IF(AND(CA!S22=1, S!S22>0, CA!S55<=Parameter!$F$5), $AG$1,0)+IF(AND(CA!S22=2, S!S22>0, CA!S55>Parameter!$F$5), -$AG$1,0)","v":0},{"$f":"IF(AND(CA!T22=1, S!T22>0, CA!T55<=Parameter!$F$5), $AG$1,0)+IF(AND(CA!T22=2, S!T22>0, CA!T55>Parameter!$F$5), -$AG$1,0)","v":0},{"$f":"IF(AND(CA!U22=1, S!U22>0, CA!U55<=Parameter!$F$5), $AG$1,0)+IF(AND(CA!U22=2, S!U22>0, CA!U55>Parameter!$F$5), -$AG$1,0)","v":0},{"$f":"IF(AND(CA!V22=1, S!V22>0, CA!V55<=Parameter!$F$5), $AG$1,0)+IF(AND(CA!V22=2, S!V22>0, CA!V55>Parameter!$F$5), -$AG$1,0)","v":0},{"$f":"IF(AND(CA!W22=1, S!W22>0, CA!W55<=Parameter!$F$5), $AG$1,0)+IF(AND(CA!W22=2, S!W22>0, CA!W55>Parameter!$F$5), -$AG$1,0)","v":0},{"$f":"IF(AND(CA!X22=1, S!X22>0, CA!X55<=Parameter!$F$5), $AG$1,0)+IF(AND(CA!X22=2, S!X22>0, CA!X55>Parameter!$F$5), -$AG$1,0)","v":0},{"$f":"IF(AND(CA!Y22=1, S!Y22>0, CA!Y55<=Parameter!$F$5), $AG$1,0)+IF(AND(CA!Y22=2, S!Y22>0, CA!Y55>Parameter!$F$5), -$AG$1,0)","v":0},{"$f":"IF(AND(CA!Z22=1, S!Z22>0, CA!Z55<=Parameter!$F$5), $AG$1,0)+IF(AND(CA!Z22=2, S!Z22>0, CA!Z55>Parameter!$F$5), -$AG$1,0)","v":0},{"$f":"IF(AND(CA!AA22=1, S!AA22>0, CA!AA55<=Parameter!$F$5), $AG$1,0)+IF(AND(CA!AA22=2, S!AA22>0, CA!AA55>Parameter!$F$5), -$AG$1,0)","v":0},{"$f":"IF(AND(CA!AB22=1, S!AB22>0, CA!AB55<=Parameter!$F$5), $AG$1,0)+IF(AND(CA!AB22=2, S!AB22>0, CA!AB55>Parameter!$F$5), -$AG$1,0)","v":0},{"$f":"IF(AND(CA!AC22=1, S!AC22>0, CA!AC55<=Parameter!$F$5), $AG$1,0)+IF(AND(CA!AC22=2, S!AC22>0, CA!AC55>Parameter!$F$5), -$AG$1,0)","v":0},{"$f":"IF(AND(CA!AD22=1, S!AD22>0, CA!AD55<=Parameter!$F$5), $AG$1,0)+IF(AND(CA!AD22=2, S!AD22>0, CA!AD55>Parameter!$F$5), -$AG$1,0)","v":0},{"$f":"IF(AND(CA!AE22=1, S!AE22>0, CA!AE55<=Parameter!$F$5), $AG$1,0)+IF(AND(CA!AE22=2, S!AE22>0, CA!AE55>Parameter!$F$5), -$AG$1,0)","v":0}]
[null,{"$f":"IF(AND(CA!B23=1, S!B23>0, CA!B56<=Parameter!$F$5), $AG$1,0)+IF(AND(CA!B23=2, S!B23>0, CA!B56>Parameter!$F$5), -$AG$1,0)","v":0},{"$f":"IF(AND(CA!C23=1, S!C23>0, CA!C56<=Parameter!$F$5), $AG$1,0)+IF(AND(CA!C23=2, S!C23>0, CA!C56>Parameter!$F$5), -$AG$1,0)","v":0},{"$f":"IF(AND(CA!D23=1, S!D23>0, CA!D56<=Parameter!$F$5), $AG$1,0)+IF(AND(CA!D23=2, S!D23>0, CA!D56>Parameter!$F$5), -$AG$1,0)","v":0},{"$f":"IF(AND(CA!E23=1, S!E23>0, CA!E56<=Parameter!$F$5), $AG$1,0)+IF(AND(CA!E23=2, S!E23>0, CA!E56>Parameter!$F$5), -$AG$1,0)","v":0},{"$f":"IF(AND(CA!F23=1, S!F23>0, CA!F56<=Parameter!$F$5), $AG$1,0)+IF(AND(CA!F23=2, S!F23>0, CA!F56>Parameter!$F$5), -$AG$1,0)","v":0},{"$f":"IF(AND(CA!G23=1, S!G23>0, CA!G56<=Parameter!$F$5), $AG$1,0)+IF(AND(CA!G23=2, S!G23>0, CA!G56>Parameter!$F$5), -$AG$1,0)","v":0},{"$f":"IF(AND(CA!H23=1, S!H23>0, CA!H56<=Parameter!$F$5), $AG$1,0)+IF(AND(CA!H23=2, S!H23>0, CA!H56>Parameter!$F$5), -$AG$1,0)","v":0},{"$f":"IF(AND(CA!I23=1, S!I23>0, CA!I56<=Parameter!$F$5), $AG$1,0)+IF(AND(CA!I23=2, S!I23>0, CA!I56>Parameter!$F$5), -$AG$1,0)","v":0},{"$f":"IF(AND(CA!J23=1, S!J23>0, CA!J56<=Parameter!$F$5), $AG$1,0)+IF(AND(CA!J23=2, S!J23>0, CA!J56>Parameter!$F$5), -$AG$1,0)","v":0},{"$f":"IF(AND(CA!K23=1, S!K23>0, CA!K56<=Parameter!$F$5), $AG$1,0)+IF(AND(CA!K23=2, S!K23>0, CA!K56>Parameter!$F$5), -$AG$1,0)","v":0},{"$f":"IF(AND(CA!L23=1, S!L23>0, CA!L56<=Parameter!$F$5), $AG$1,0)+IF(AND(CA!L23=2, S!L23>0, CA!L56>Parameter!$F$5), -$AG$1,0)","v":0},{"$f":"IF(AND(CA!M23=1, S!M23>0, CA!M56<=Parameter!$F$5), $AG$1,0)+IF(AND(CA!M23=2, S!M23>0, CA!M56>Parameter!$F$5), -$AG$1,0)","v":0},{"$f":"IF(AND(CA!N23=1, S!N23>0, CA!N56<=Parameter!$F$5), $AG$1,0)+IF(AND(CA!N23=2, S!N23>0, CA!N56>Parameter!$F$5), -$AG$1,0)","v":0},{"$f":"IF(AND(CA!O23=1, S!O23>0, CA!O56<=Parameter!$F$5), $AG$1,0)+IF(AND(CA!O23=2, S!O23>0, CA!O56>Parameter!$F$5), -$AG$1,0)","v":0},{"$f":"IF(AND(CA!P23=1, S!P23>0, CA!P56<=Parameter!$F$5), $AG$1,0)+IF(AND(CA!P23=2, S!P23>0, CA!P56>Parameter!$F$5), -$AG$1,0)","v":0},{"$f":"IF(AND(CA!Q23=1, S!Q23>0, CA!Q56<=Parameter!$F$5), $AG$1,0)+IF(AND(CA!Q23=2, S!Q23>0, CA!Q56>Parameter!$F$5), -$AG$1,0)","v":0},{"$f":"IF(AND(CA!R23=1, S!R23>0, CA!R56<=Parameter!$F$5), $AG$1,0)+IF(AND(CA!R23=2, S!R23>0, CA!R56>Parameter!$F$5), -$AG$1,0)","v":0},{"$f":"IF(AND(CA!S23=1, S!S23>0, CA!S56<=Parameter!$F$5), $AG$1,0)+IF(AND(CA!S23=2, S!S23>0, CA!S56>Parameter!$F$5), -$AG$1,0)","v":0},{"$f":"IF(AND(CA!T23=1, S!T23>0, CA!T56<=Parameter!$F$5), $AG$1,0)+IF(AND(CA!T23=2, S!T23>0, CA!T56>Parameter!$F$5), -$AG$1,0)","v":0},{"$f":"IF(AND(CA!U23=1, S!U23>0, CA!U56<=Parameter!$F$5), $AG$1,0)+IF(AND(CA!U23=2, S!U23>0, CA!U56>Parameter!$F$5), -$AG$1,0)","v":0},{"$f":"IF(AND(CA!V23=1, S!V23>0, CA!V56<=Parameter!$F$5), $AG$1,0)+IF(AND(CA!V23=2, S!V23>0, CA!V56>Parameter!$F$5), -$AG$1,0)","v":0},{"$f":"IF(AND(CA!W23=1, S!W23>0, CA!W56<=Parameter!$F$5), $AG$1,0)+IF(AND(CA!W23=2, S!W23>0, CA!W56>Parameter!$F$5), -$AG$1,0)","v":0},{"$f":"IF(AND(CA!X23=1, S!X23>0, CA!X56<=Parameter!$F$5), $AG$1,0)+IF(AND(CA!X23=2, S!X23>0, CA!X56>Parameter!$F$5), -$AG$1,0)","v":0},{"$f":"IF(AND(CA!Y23=1, S!Y23>0, CA!Y56<=Parameter!$F$5), $AG$1,0)+IF(AND(CA!Y23=2, S!Y23>0, CA!Y56>Parameter!$F$5), -$AG$1,0)","v":0},{"$f":"IF(AND(CA!Z23=1, S!Z23>0, CA!Z56<=Parameter!$F$5), $AG$1,0)+IF(AND(CA!Z23=2, S!Z23>0, CA!Z56>Parameter!$F$5), -$AG$1,0)","v":0},{"$f":"IF(AND(CA!AA23=1, S!AA23>0, CA!AA56<=Parameter!$F$5), $AG$1,0)+IF(AND(CA!AA23=2, S!AA23>0, CA!AA56>Parameter!$F$5), -$AG$1,0)","v":0},{"$f":"IF(AND(CA!AB23=1, S!AB23>0, CA!AB56<=Parameter!$F$5), $AG$1,0)+IF(AND(CA!AB23=2, S!AB23>0, CA!AB56>Parameter!$F$5), -$AG$1,0)","v":0},{"$f":"IF(AND(CA!AC23=1, S!AC23>0, CA!AC56<=Parameter!$F$5), $AG$1,0)+IF(AND(CA!AC23=2, S!AC23>0, CA!AC56>Parameter!$F$5), -$AG$1,0)","v":0},{"$f":"IF(AND(CA!AD23=1, S!AD23>0, CA!AD56<=Parameter!$F$5), $AG$1,0)+IF(AND(CA!AD23=2, S!AD23>0, CA!AD56>Parameter!$F$5), -$AG$1,0)","v":0},{"$f":"IF(AND(CA!AE23=1, S!AE23>0, CA!AE56<=Parameter!$F$5), $AG$1,0)+IF(AND(CA!AE23=2, S!AE23>0, CA!AE56>Parameter!$F$5), -$AG$1,0)","v":0}]
[null,{"$f":"IF(AND(CA!B24=1, S!B24>0, CA!B57<=Parameter!$F$5), $AG$1,0)+IF(AND(CA!B24=2, S!B24>0, CA!B57>Parameter!$F$5), -$AG$1,0)","v":0},{"$f":"IF(AND(CA!C24=1, S!C24>0, CA!C57<=Parameter!$F$5), $AG$1,0)+IF(AND(CA!C24=2, S!C24>0, CA!C57>Parameter!$F$5), -$AG$1,0)","v":0},{"$f":"IF(AND(CA!D24=1, S!D24>0, CA!D57<=Parameter!$F$5), $AG$1,0)+IF(AND(CA!D24=2, S!D24>0, CA!D57>Parameter!$F$5), -$AG$1,0)","v":0},{"$f":"IF(AND(CA!E24=1, S!E24>0, CA!E57<=Parameter!$F$5), $AG$1,0)+IF(AND(CA!E24=2, S!E24>0, CA!E57>Parameter!$F$5), -$AG$1,0)","v":0},{"$f":"IF(AND(CA!F24=1, S!F24>0, CA!F57<=Parameter!$F$5), $AG$1,0)+IF(AND(CA!F24=2, S!F24>0, CA!F57>Parameter!$F$5), -$AG$1,0)","v":0},{"$f":"IF(AND(CA!G24=1, S!G24>0, CA!G57<=Parameter!$F$5), $AG$1,0)+IF(AND(CA!G24=2, S!G24>0, CA!G57>Parameter!$F$5), -$AG$1,0)","v":0},{"$f":"IF(AND(CA!H24=1, S!H24>0, CA!H57<=Parameter!$F$5), $AG$1,0)+IF(AND(CA!H24=2, S!H24>0, CA!H57>Parameter!$F$5), -$AG$1,0)","v":0},{"$f":"IF(AND(CA!I24=1, S!I24>0, CA!I57<=Parameter!$F$5), $AG$1,0)+IF(AND(CA!I24=2, S!I24>0, CA!I57>Parameter!$F$5), -$AG$1,0)","v":0},{"$f":"IF(AND(CA!J24=1, S!J24>0, CA!J57<=Parameter!$F$5), $AG$1,0)+IF(AND(CA!J24=2, S!J24>0, CA!J57>Parameter!$F$5), -$AG$1,0)","v":0},{"$f":"IF(AND(CA!K24=1, S!K24>0, CA!K57<=Parameter!$F$5), $AG$1,0)+IF(AND(CA!K24=2, S!K24>0, CA!K57>Parameter!$F$5), -$AG$1,0)","v":0},{"$f":"IF(AND(CA!L24=1, S!L24>0, CA!L57<=Parameter!$F$5), $AG$1,0)+IF(AND(CA!L24=2, S!L24>0, CA!L57>Parameter!$F$5), -$AG$1,0)","v":0},{"$f":"IF(AND(CA!M24=1, S!M24>0, CA!M57<=Parameter!$F$5), $AG$1,0)+IF(AND(CA!M24=2, S!M24>0, CA!M57>Parameter!$F$5), -$AG$1,0)","v":0},{"$f":"IF(AND(CA!N24=1, S!N24>0, CA!N57<=Parameter!$F$5), $AG$1,0)+IF(AND(CA!N24=2, S!N24>0, CA!N57>Parameter!$F$5), -$AG$1,0)","v":0},{"$f":"IF(AND(CA!O24=1, S!O24>0, CA!O57<=Parameter!$F$5), $AG$1,0)+IF(AND(CA!O24=2, S!O24>0, CA!O57>Parameter!$F$5), -$AG$1,0)","v":0},{"$f":"IF(AND(CA!P24=1, S!P24>0, CA!P57<=Parameter!$F$5), $AG$1,0)+IF(AND(CA!P24=2, S!P24>0, CA!P57>Parameter!$F$5), -$AG$1,0)","v":0},{"$f":"IF(AND(CA!Q24=1, S!Q24>0, CA!Q57<=Parameter!$F$5), $AG$1,0)+IF(AND(CA!Q24=2, S!Q24>0, CA!Q57>Parameter!$F$5), -$AG$1,0)","v":0},{"$f":"IF(AND(CA!R24=1, S!R24>0, CA!R57<=Parameter!$F$5), $AG$1,0)+IF(AND(CA!R24=2, S!R24>0, CA!R57>Parameter!$F$5), -$AG$1,0)","v":0},{"$f":"IF(AND(CA!S24=1, S!S24>0, CA!S57<=Parameter!$F$5), $AG$1,0)+IF(AND(CA!S24=2, S!S24>0, CA!S57>Parameter!$F$5), -$AG$1,0)","v":0},{"$f":"IF(AND(CA!T24=1, S!T24>0, CA!T57<=Parameter!$F$5), $AG$1,0)+IF(AND(CA!T24=2, S!T24>0, CA!T57>Parameter!$F$5), -$AG$1,0)","v":0},{"$f":"IF(AND(CA!U24=1, S!U24>0, CA!U57<=Parameter!$F$5), $AG$1,0)+IF(AND(CA!U24=2, S!U24>0, CA!U57>Parameter!$F$5), -$AG$1,0)","v":0},{"$f":"IF(AND(CA!V24=1, S!V24>0, CA!V57<=Parameter!$F$5), $AG$1,0)+IF(AND(CA!V24=2, S!V24>0, CA!V57>Parameter!$F$5), -$AG$1,0)","v":0},{"$f":"IF(AND(CA!W24=1, S!W24>0, CA!W57<=Parameter!$F$5), $AG$1,0)+IF(AND(CA!W24=2, S!W24>0, CA!W57>Parameter!$F$5), -$AG$1,0)","v":0},{"$f":"IF(AND(CA!X24=1, S!X24>0, CA!X57<=Parameter!$F$5), $AG$1,0)+IF(AND(CA!X24=2, S!X24>0, CA!X57>Parameter!$F$5), -$AG$1,0)","v":0},{"$f":"IF(AND(CA!Y24=1, S!Y24>0, CA!Y57<=Parameter!$F$5), $AG$1,0)+IF(AND(CA!Y24=2, S!Y24>0, CA!Y57>Parameter!$F$5), -$AG$1,0)","v":0},{"$f":"IF(AND(CA!Z24=1, S!Z24>0, CA!Z57<=Parameter!$F$5), $AG$1,0)+IF(AND(CA!Z24=2, S!Z24>0, CA!Z57>Parameter!$F$5), -$AG$1,0)","v":0},{"$f":"IF(AND(CA!AA24=1, S!AA24>0, CA!AA57<=Parameter!$F$5), $AG$1,0)+IF(AND(CA!AA24=2, S!AA24>0, CA!AA57>Parameter!$F$5), -$AG$1,0)","v":0},{"$f":"IF(AND(CA!AB24=1, S!AB24>0, CA!AB57<=Parameter!$F$5), $AG$1,0)+IF(AND(CA!AB24=2, S!AB24>0, CA!AB57>Parameter!$F$5), -$AG$1,0)","v":0},{"$f":"IF(AND(CA!AC24=1, S!AC24>0, CA!AC57<=Parameter!$F$5), $AG$1,0)+IF(AND(CA!AC24=2, S!AC24>0, CA!AC57>Parameter!$F$5), -$AG$1,0)","v":0},{"$f":"IF(AND(CA!AD24=1, S!AD24>0, CA!AD57<=Parameter!$F$5), $AG$1,0)+IF(AND(CA!AD24=2, S!AD24>0, CA!AD57>Parameter!$F$5), -$AG$1,0)","v":0},{"$f":"IF(AND(CA!AE24=1, S!AE24>0, CA!AE57<=Parameter!$F$5), $AG$1,0)+IF(AND(CA!AE24=2, S!AE24>0, CA!AE57>Parameter!$F$5), -$AG$1,0)","v":0}]
[null,{"$f":"IF(AND(CA!B25=1, S!B25>0, CA!B58<=Parameter!$F$5), $AG$1,0)+IF(AND(CA!B25=2, S!B25>0, CA!B58>Parameter!$F$5), -$AG$1,0)","v":0},{"$f":"IF(AND(CA!C25=1, S!C25>0, CA!C58<=Parameter!$F$5), $AG$1,0)+IF(AND(CA!C25=2, S!C25>0, CA!C58>Parameter!$F$5), -$AG$1,0)","v":0},{"$f":"IF(AND(CA!D25=1, S!D25>0, CA!D58<=Parameter!$F$5), $AG$1,0)+IF(AND(CA!D25=2, S!D25>0, CA!D58>Parameter!$F$5), -$AG$1,0)","v":0},{"$f":"IF(AND(CA!E25=1, S!E25>0, CA!E58<=Parameter!$F$5), $AG$1,0)+IF(AND(CA!E25=2, S!E25>0, CA!E58>Parameter!$F$5), -$AG$1,0)","v":0},{"$f":"IF(AND(CA!F25=1, S!F25>0, CA!F58<=Parameter!$F$5), $AG$1,0)+IF(AND(CA!F25=2, S!F25>0, CA!F58>Parameter!$F$5), -$AG$1,0)","v":0},{"$f":"IF(AND(CA!G25=1, S!G25>0, CA!G58<=Parameter!$F$5), $AG$1,0)+IF(AND(CA!G25=2, S!G25>0, CA!G58>Parameter!$F$5), -$AG$1,0)","v":0},{"$f":"IF(AND(CA!H25=1, S!H25>0, CA!H58<=Parameter!$F$5), $AG$1,0)+IF(AND(CA!H25=2, S!H25>0, CA!H58>Parameter!$F$5), -$AG$1,0)","v":0},{"$f":"IF(AND(CA!I25=1, S!I25>0, CA!I58<=Parameter!$F$5), $AG$1,0)+IF(AND(CA!I25=2, S!I25>0, CA!I58>Parameter!$F$5), -$AG$1,0)","v":0},{"$f":"IF(AND(CA!J25=1, S!J25>0, CA!J58<=Parameter!$F$5), $AG$1,0)+IF(AND(CA!J25=2, S!J25>0, CA!J58>Parameter!$F$5), -$AG$1,0)","v":0},{"$f":"IF(AND(CA!K25=1, S!K25>0, CA!K58<=Parameter!$F$5), $AG$1,0)+IF(AND(CA!K25=2, S!K25>0, CA!K58>Parameter!$F$5), -$AG$1,0)","v":0},{"$f":"IF(AND(CA!L25=1, S!L25>0, CA!L58<=Parameter!$F$5), $AG$1,0)+IF(AND(CA!L25=2, S!L25>0, CA!L58>Parameter!$F$5), -$AG$1,0)","v":0},{"$f":"IF(AND(CA!M25=1, S!M25>0, CA!M58<=Parameter!$F$5), $AG$1,0)+IF(AND(CA!M25=2, S!M25>0, CA!M58>Parameter!$F$5), -$AG$1,0)","v":0},{"$f":"IF(AND(CA!N25=1, S!N25>0, CA!N58<=Parameter!$F$5), $AG$1,0)+IF(AND(CA!N25=2, S!N25>0, CA!N58>Parameter!$F$5), -$AG$1,0)","v":0},{"$f":"IF(AND(CA!O25=1, S!O25>0, CA!O58<=Parameter!$F$5), $AG$1,0)+IF(AND(CA!O25=2, S!O25>0, CA!O58>Parameter!$F$5), -$AG$1,0)","v":0},{"$f":"IF(AND(CA!P25=1, S!P25>0, CA!P58<=Parameter!$F$5), $AG$1,0)+IF(AND(CA!P25=2, S!P25>0, CA!P58>Parameter!$F$5), -$AG$1,0)","v":0},{"$f":"IF(AND(CA!Q25=1, S!Q25>0, CA!Q58<=Parameter!$F$5), $AG$1,0)+IF(AND(CA!Q25=2, S!Q25>0, CA!Q58>Parameter!$F$5), -$AG$1,0)","v":0},{"$f":"IF(AND(CA!R25=1, S!R25>0, CA!R58<=Parameter!$F$5), $AG$1,0)+IF(AND(CA!R25=2, S!R25>0, CA!R58>Parameter!$F$5), -$AG$1,0)","v":0},{"$f":"IF(AND(CA!S25=1, S!S25>0, CA!S58<=Parameter!$F$5), $AG$1,0)+IF(AND(CA!S25=2, S!S25>0, CA!S58>Parameter!$F$5), -$AG$1,0)","v":0},{"$f":"IF(AND(CA!T25=1, S!T25>0, CA!T58<=Parameter!$F$5), $AG$1,0)+IF(AND(CA!T25=2, S!T25>0, CA!T58>Parameter!$F$5), -$AG$1,0)","v":0},{"$f":"IF(AND(CA!U25=1, S!U25>0, CA!U58<=Parameter!$F$5), $AG$1,0)+IF(AND(CA!U25=2, S!U25>0, CA!U58>Parameter!$F$5), -$AG$1,0)","v":0},{"$f":"IF(AND(CA!V25=1, S!V25>0, CA!V58<=Parameter!$F$5), $AG$1,0)+IF(AND(CA!V25=2, S!V25>0, CA!V58>Parameter!$F$5), -$AG$1,0)","v":0},{"$f":"IF(AND(CA!W25=1, S!W25>0, CA!W58<=Parameter!$F$5), $AG$1,0)+IF(AND(CA!W25=2, S!W25>0, CA!W58>Parameter!$F$5), -$AG$1,0)","v":0},{"$f":"IF(AND(CA!X25=1, S!X25>0, CA!X58<=Parameter!$F$5), $AG$1,0)+IF(AND(CA!X25=2, S!X25>0, CA!X58>Parameter!$F$5), -$AG$1,0)","v":0},{"$f":"IF(AND(CA!Y25=1, S!Y25>0, CA!Y58<=Parameter!$F$5), $AG$1,0)+IF(AND(CA!Y25=2, S!Y25>0, CA!Y58>Parameter!$F$5), -$AG$1,0)","v":0},{"$f":"IF(AND(CA!Z25=1, S!Z25>0, CA!Z58<=Parameter!$F$5), $AG$1,0)+IF(AND(CA!Z25=2, S!Z25>0, CA!Z58>Parameter!$F$5), -$AG$1,0)","v":0},{"$f":"IF(AND(CA!AA25=1, S!AA25>0, CA!AA58<=Parameter!$F$5), $AG$1,0)+IF(AND(CA!AA25=2, S!AA25>0, CA!AA58>Parameter!$F$5), -$AG$1,0)","v":0},{"$f":"IF(AND(CA!AB25=1, S!AB25>0, CA!AB58<=Parameter!$F$5), $AG$1,0)+IF(AND(CA!AB25=2, S!AB25>0, CA!AB58>Parameter!$F$5), -$AG$1,0)","v":0},{"$f":"IF(AND(CA!AC25=1, S!AC25>0, CA!AC58<=Parameter!$F$5), $AG$1,0)+IF(AND(CA!AC25=2, S!AC25>0, CA!AC58>Parameter!$F$5), -$AG$1,0)","v":0},{"$f":"IF(AND(CA!AD25=1, S!AD25>0, CA!AD58<=Parameter!$F$5), $AG$1,0)+IF(AND(CA!AD25=2, S!AD25>0, CA!AD58>Parameter!$F$5), -$AG$1,0)","v":0},{"$f":"IF(AND(CA!AE25=1, S!AE25>0, CA!AE58<=Parameter!$F$5), $AG$1,0)+IF(AND(CA!AE25=2, S!AE25>0, CA!AE58>Parameter!$F$5), -$AG$1,0)","v":0}]
[null,{"$f":"IF(AND(CA!B26=1, S!B26>0, CA!B59<=Parameter!$F$5), $AG$1,0)+IF(AND(CA!B26=2, S!B26>0, CA!B59>Parameter!$F$5), -$AG$1,0)","v":0},{"$f":"IF(AND(CA!C26=1, S!C26>0, CA!C59<=Parameter!$F$5), $AG$1,0)+IF(AND(CA!C26=2, S!C26>0, CA!C59>Parameter!$F$5), -$AG$1,0)","v":0},{"$f":"IF(AND(CA!D26=1, S!D26>0, CA!D59<=Parameter!$F$5), $AG$1,0)+IF(AND(CA!D26=2, S!D26>0, CA!D59>Parameter!$F$5), -$AG$1,0)","v":0},{"$f":"IF(AND(CA!E26=1, S!E26>0, CA!E59<=Parameter!$F$5), $AG$1,0)+IF(AND(CA!E26=2, S!E26>0, CA!E59>Parameter!$F$5), -$AG$1,0)","v":0},{"$f":"IF(AND(CA!F26=1, S!F26>0, CA!F59<=Parameter!$F$5), $AG$1,0)+IF(AND(CA!F26=2, S!F26>0, CA!F59>Parameter!$F$5), -$AG$1,0)","v":0},{"$f":"IF(AND(CA!G26=1, S!G26>0, CA!G59<=Parameter!$F$5), $AG$1,0)+IF(AND(CA!G26=2, S!G26>0, CA!G59>Parameter!$F$5), -$AG$1,0)","v":0},{"$f":"IF(AND(CA!H26=1, S!H26>0, CA!H59<=Parameter!$F$5), $AG$1,0)+IF(AND(CA!H26=2, S!H26>0, CA!H59>Parameter!$F$5), -$AG$1,0)","v":0},{"$f":"IF(AND(CA!I26=1, S!I26>0, CA!I59<=Parameter!$F$5), $AG$1,0)+IF(AND(CA!I26=2, S!I26>0, CA!I59>Parameter!$F$5), -$AG$1,0)","v":0},{"$f":"IF(AND(CA!J26=1, S!J26>0, CA!J59<=Parameter!$F$5), $AG$1,0)+IF(AND(CA!J26=2, S!J26>0, CA!J59>Parameter!$F$5), -$AG$1,0)","v":0},{"$f":"IF(AND(CA!K26=1, S!K26>0, CA!K59<=Parameter!$F$5), $AG$1,0)+IF(AND(CA!K26=2, S!K26>0, CA!K59>Parameter!$F$5), -$AG$1,0)","v":0},{"$f":"IF(AND(CA!L26=1, S!L26>0, CA!L59<=Parameter!$F$5), $AG$1,0)+IF(AND(CA!L26=2, S!L26>0, CA!L59>Parameter!$F$5), -$AG$1,0)","v":0},{"$f":"IF(AND(CA!M26=1, S!M26>0, CA!M59<=Parameter!$F$5), $AG$1,0)+IF(AND(CA!M26=2, S!M26>0, CA!M59>Parameter!$F$5), -$AG$1,0)","v":0},{"$f":"IF(AND(CA!N26=1, S!N26>0, CA!N59<=Parameter!$F$5), $AG$1,0)+IF(AND(CA!N26=2, S!N26>0, CA!N59>Parameter!$F$5), -$AG$1,0)","v":0},{"$f":"IF(AND(CA!O26=1, S!O26>0, CA!O59<=Parameter!$F$5), $AG$1,0)+IF(AND(CA!O26=2, S!O26>0, CA!O59>Parameter!$F$5), -$AG$1,0)","v":0},{"$f":"IF(AND(CA!P26=1, S!P26>0, CA!P59<=Parameter!$F$5), $AG$1,0)+IF(AND(CA!P26=2, S!P26>0, CA!P59>Parameter!$F$5), -$AG$1,0)","v":0},{"$f":"IF(AND(CA!Q26=1, S!Q26>0, CA!Q59<=Parameter!$F$5), $AG$1,0)+IF(AND(CA!Q26=2, S!Q26>0, CA!Q59>Parameter!$F$5), -$AG$1,0)","v":0},{"$f":"IF(AND(CA!R26=1, S!R26>0, CA!R59<=Parameter!$F$5), $AG$1,0)+IF(AND(CA!R26=2, S!R26>0, CA!R59>Parameter!$F$5), -$AG$1,0)","v":0},{"$f":"IF(AND(CA!S26=1, S!S26>0, CA!S59<=Parameter!$F$5), $AG$1,0)+IF(AND(CA!S26=2, S!S26>0, CA!S59>Parameter!$F$5), -$AG$1,0)","v":0},{"$f":"IF(AND(CA!T26=1, S!T26>0, CA!T59<=Parameter!$F$5), $AG$1,0)+IF(AND(CA!T26=2, S!T26>0, CA!T59>Parameter!$F$5), -$AG$1,0)","v":0},{"$f":"IF(AND(CA!U26=1, S!U26>0, CA!U59<=Parameter!$F$5), $AG$1,0)+IF(AND(CA!U26=2, S!U26>0, CA!U59>Parameter!$F$5), -$AG$1,0)","v":0},{"$f":"IF(AND(CA!V26=1, S!V26>0, CA!V59<=Parameter!$F$5), $AG$1,0)+IF(AND(CA!V26=2, S!V26>0, CA!V59>Parameter!$F$5), -$AG$1,0)","v":0},{"$f":"IF(AND(CA!W26=1, S!W26>0, CA!W59<=Parameter!$F$5), $AG$1,0)+IF(AND(CA!W26=2, S!W26>0, CA!W59>Parameter!$F$5), -$AG$1,0)","v":0},{"$f":"IF(AND(CA!X26=1, S!X26>0, CA!X59<=Parameter!$F$5), $AG$1,0)+IF(AND(CA!X26=2, S!X26>0, CA!X59>Parameter!$F$5), -$AG$1,0)","v":0},{"$f":"IF(AND(CA!Y26=1, S!Y26>0, CA!Y59<=Parameter!$F$5), $AG$1,0)+IF(AND(CA!Y26=2, S!Y26>0, CA!Y59>Parameter!$F$5), -$AG$1,0)","v":0},{"$f":"IF(AND(CA!Z26=1, S!Z26>0, CA!Z59<=Parameter!$F$5), $AG$1,0)+IF(AND(CA!Z26=2, S!Z26>0, CA!Z59>Parameter!$F$5), -$AG$1,0)","v":0},{"$f":"IF(AND(CA!AA26=1, S!AA26>0, CA!AA59<=Parameter!$F$5), $AG$1,0)+IF(AND(CA!AA26=2, S!AA26>0, CA!AA59>Parameter!$F$5), -$AG$1,0)","v":0},{"$f":"IF(AND(CA!AB26=1, S!AB26>0, CA!AB59<=Parameter!$F$5), $AG$1,0)+IF(AND(CA!AB26=2, S!AB26>0, CA!AB59>Parameter!$F$5), -$AG$1,0)","v":0},{"$f":"IF(AND(CA!AC26=1, S!AC26>0, CA!AC59<=Parameter!$F$5), $AG$1,0)+IF(AND(CA!AC26=2, S!AC26>0, CA!AC59>Parameter!$F$5), -$AG$1,0)","v":0},{"$f":"IF(AND(CA!AD26=1, S!AD26>0, CA!AD59<=Parameter!$F$5), $AG$1,0)+IF(AND(CA!AD26=2, S!AD26>0, CA!AD59>Parameter!$F$5), -$AG$1,0)","v":0},{"$f":"IF(AND(CA!AE26=1, S!AE26>0, CA!AE59<=Parameter!$F$5), $AG$1,0)+IF(AND(CA!AE26=2, S!AE26>0, CA!AE59>Parameter!$F$5), -$AG$1,0)","v":0}]
[null,{"$f":"IF(AND(CA!B27=1, S!B27>0, CA!B60<=Parameter!$F$5), $AG$1,0)+IF(AND(CA!B27=2, S!B27>0, CA!B60>Parameter!$F$5), -$AG$1,0)","v":0},{"$f":"IF(AND(CA!C27=1, S!C27>0, CA!C60<=Parameter!$F$5), $AG$1,0)+IF(AND(CA!C27=2, S!C27>0, CA!C60>Parameter!$F$5), -$AG$1,0)","v":0},{"$f":"IF(AND(CA!D27=1, S!D27>0, CA!D60<=Parameter!$F$5), $AG$1,0)+IF(AND(CA!D27=2, S!D27>0, CA!D60>Parameter!$F$5), -$AG$1,0)","v":0},{"$f":"IF(AND(CA!E27=1, S!E27>0, CA!E60<=Parameter!$F$5), $AG$1,0)+IF(AND(CA!E27=2, S!E27>0, CA!E60>Parameter!$F$5), -$AG$1,0)","v":0},{"$f":"IF(AND(CA!F27=1, S!F27>0, CA!F60<=Parameter!$F$5), $AG$1,0)+IF(AND(CA!F27=2, S!F27>0, CA!F60>Parameter!$F$5), -$AG$1,0)","v":0},{"$f":"IF(AND(CA!G27=1, S!G27>0, CA!G60<=Parameter!$F$5), $AG$1,0)+IF(AND(CA!G27=2, S!G27>0, CA!G60>Parameter!$F$5), -$AG$1,0)","v":0},{"$f":"IF(AND(CA!H27=1, S!H27>0, CA!H60<=Parameter!$F$5), $AG$1,0)+IF(AND(CA!H27=2, S!H27>0, CA!H60>Parameter!$F$5), -$AG$1,0)","v":0},{"$f":"IF(AND(CA!I27=1, S!I27>0, CA!I60<=Parameter!$F$5), $AG$1,0)+IF(AND(CA!I27=2, S!I27>0, CA!I60>Parameter!$F$5), -$AG$1,0)","v":0},{"$f":"IF(AND(CA!J27=1, S!J27>0, CA!J60<=Parameter!$F$5), $AG$1,0)+IF(AND(CA!J27=2, S!J27>0, CA!J60>Parameter!$F$5), -$AG$1,0)","v":0},{"$f":"IF(AND(CA!K27=1, S!K27>0, CA!K60<=Parameter!$F$5), $AG$1,0)+IF(AND(CA!K27=2, S!K27>0, CA!K60>Parameter!$F$5), -$AG$1,0)","v":0},{"$f":"IF(AND(CA!L27=1, S!L27>0, CA!L60<=Parameter!$F$5), $AG$1,0)+IF(AND(CA!L27=2, S!L27>0, CA!L60>Parameter!$F$5), -$AG$1,0)","v":0},{"$f":"IF(AND(CA!M27=1, S!M27>0, CA!M60<=Parameter!$F$5), $AG$1,0)+IF(AND(CA!M27=2, S!M27>0, CA!M60>Parameter!$F$5), -$AG$1,0)","v":0},{"$f":"IF(AND(CA!N27=1, S!N27>0, CA!N60<=Parameter!$F$5), $AG$1,0)+IF(AND(CA!N27=2, S!N27>0, CA!N60>Parameter!$F$5), -$AG$1,0)","v":0},{"$f":"IF(AND(CA!O27=1, S!O27>0, CA!O60<=Parameter!$F$5), $AG$1,0)+IF(AND(CA!O27=2, S!O27>0, CA!O60>Parameter!$F$5), -$AG$1,0)","v":0},{"$f":"IF(AND(CA!P27=1, S!P27>0, CA!P60<=Parameter!$F$5), $AG$1,0)+IF(AND(CA!P27=2, S!P27>0, CA!P60>Parameter!$F$5), -$AG$1,0)","v":0},{"$f":"IF(AND(CA!Q27=1, S!Q27>0, CA!Q60<=Parameter!$F$5), $AG$1,0)+IF(AND(CA!Q27=2, S!Q27>0, CA!Q60>Parameter!$F$5), -$AG$1,0)","v":0},{"$f":"IF(AND(CA!R27=1, S!R27>0, CA!R60<=Parameter!$F$5), $AG$1,0)+IF(AND(CA!R27=2, S!R27>0, CA!R60>Parameter!$F$5), -$AG$1,0)","v":0},{"$f":"IF(AND(CA!S27=1, S!S27>0, CA!S60<=Parameter!$F$5), $AG$1,0)+IF(AND(CA!S27=2, S!S27>0, CA!S60>Parameter!$F$5), -$AG$1,0)","v":0},{"$f":"IF(AND(CA!T27=1, S!T27>0, CA!T60<=Parameter!$F$5), $AG$1,0)+IF(AND(CA!T27=2, S!T27>0, CA!T60>Parameter!$F$5), -$AG$1,0)","v":0},{"$f":"IF(AND(CA!U27=1, S!U27>0, CA!U60<=Parameter!$F$5), $AG$1,0)+IF(AND(CA!U27=2, S!U27>0, CA!U60>Parameter!$F$5), -$AG$1,0)","v":0},{"$f":"IF(AND(CA!V27=1, S!V27>0, CA!V60<=Parameter!$F$5), $AG$1,0)+IF(AND(CA!V27=2, S!V27>0, CA!V60>Parameter!$F$5), -$AG$1,0)","v":0},{"$f":"IF(AND(CA!W27=1, S!W27>0, CA!W60<=Parameter!$F$5), $AG$1,0)+IF(AND(CA!W27=2, S!W27>0, CA!W60>Parameter!$F$5), -$AG$1,0)","v":0},{"$f":"IF(AND(CA!X27=1, S!X27>0, CA!X60<=Parameter!$F$5), $AG$1,0)+IF(AND(CA!X27=2, S!X27>0, CA!X60>Parameter!$F$5), -$AG$1,0)","v":0},{"$f":"IF(AND(CA!Y27=1, S!Y27>0, CA!Y60<=Parameter!$F$5), $AG$1,0)+IF(AND(CA!Y27=2, S!Y27>0, CA!Y60>Parameter!$F$5), -$AG$1,0)","v":0},{"$f":"IF(AND(CA!Z27=1, S!Z27>0, CA!Z60<=Parameter!$F$5), $AG$1,0)+IF(AND(CA!Z27=2, S!Z27>0, CA!Z60>Parameter!$F$5), -$AG$1,0)","v":0},{"$f":"IF(AND(CA!AA27=1, S!AA27>0, CA!AA60<=Parameter!$F$5), $AG$1,0)+IF(AND(CA!AA27=2, S!AA27>0, CA!AA60>Parameter!$F$5), -$AG$1,0)","v":0},{"$f":"IF(AND(CA!AB27=1, S!AB27>0, CA!AB60<=Parameter!$F$5), $AG$1,0)+IF(AND(CA!AB27=2, S!AB27>0, CA!AB60>Parameter!$F$5), -$AG$1,0)","v":0},{"$f":"IF(AND(CA!AC27=1, S!AC27>0, CA!AC60<=Parameter!$F$5), $AG$1,0)+IF(AND(CA!AC27=2, S!AC27>0, CA!AC60>Parameter!$F$5), -$AG$1,0)","v":0},{"$f":"IF(AND(CA!AD27=1, S!AD27>0, CA!AD60<=Parameter!$F$5), $AG$1,0)+IF(AND(CA!AD27=2, S!AD27>0, CA!AD60>Parameter!$F$5), -$AG$1,0)","v":0},{"$f":"IF(AND(CA!AE27=1, S!AE27>0, CA!AE60<=Parameter!$F$5), $AG$1,0)+IF(AND(CA!AE27=2, S!AE27>0, CA!AE60>Parameter!$F$5), -$AG$1,0)","v":0}]
[null,{"$f":"IF(AND(CA!B28=1, S!B28>0, CA!B61<=Parameter!$F$5), $AG$1,0)+IF(AND(CA!B28=2, S!B28>0, CA!B61>Parameter!$F$5), -$AG$1,0)","v":0},{"$f":"IF(AND(CA!C28=1, S!C28>0, CA!C61<=Parameter!$F$5), $AG$1,0)+IF(AND(CA!C28=2, S!C28>0, CA!C61>Parameter!$F$5), -$AG$1,0)","v":0},{"$f":"IF(AND(CA!D28=1, S!D28>0, CA!D61<=Parameter!$F$5), $AG$1,0)+IF(AND(CA!D28=2, S!D28>0, CA!D61>Parameter!$F$5), -$AG$1,0)","v":0},{"$f":"IF(AND(CA!E28=1, S!E28>0, CA!E61<=Parameter!$F$5), $AG$1,0)+IF(AND(CA!E28=2, S!E28>0, CA!E61>Parameter!$F$5), -$AG$1,0)","v":0},{"$f":"IF(AND(CA!F28=1, S!F28>0, CA!F61<=Parameter!$F$5), $AG$1,0)+IF(AND(CA!F28=2, S!F28>0, CA!F61>Parameter!$F$5), -$AG$1,0)","v":0},{"$f":"IF(AND(CA!G28=1, S!G28>0, CA!G61<=Parameter!$F$5), $AG$1,0)+IF(AND(CA!G28=2, S!G28>0, CA!G61>Parameter!$F$5), -$AG$1,0)","v":0},{"$f":"IF(AND(CA!H28=1, S!H28>0, CA!H61<=Parameter!$F$5), $AG$1,0)+IF(AND(CA!H28=2, S!H28>0, CA!H61>Parameter!$F$5), -$AG$1,0)","v":0},{"$f":"IF(AND(CA!I28=1, S!I28>0, CA!I61<=Parameter!$F$5), $AG$1,0)+IF(AND(CA!I28=2, S!I28>0, CA!I61>Parameter!$F$5), -$AG$1,0)","v":0},{"$f":"IF(AND(CA!J28=1, S!J28>0, CA!J61<=Parameter!$F$5), $AG$1,0)+IF(AND(CA!J28=2, S!J28>0, CA!J61>Parameter!$F$5), -$AG$1,0)","v":0},{"$f":"IF(AND(CA!K28=1, S!K28>0, CA!K61<=Parameter!$F$5), $AG$1,0)+IF(AND(CA!K28=2, S!K28>0, CA!K61>Parameter!$F$5), -$AG$1,0)","v":0},{"$f":"IF(AND(CA!L28=1, S!L28>0, CA!L61<=Parameter!$F$5), $AG$1,0)+IF(AND(CA!L28=2, S!L28>0, CA!L61>Parameter!$F$5), -$AG$1,0)","v":0},{"$f":"IF(AND(CA!M28=1, S!M28>0, CA!M61<=Parameter!$F$5), $AG$1,0)+IF(AND(CA!M28=2, S!M28>0, CA!M61>Parameter!$F$5), -$AG$1,0)","v":0},{"$f":"IF(AND(CA!N28=1, S!N28>0, CA!N61<=Parameter!$F$5), $AG$1,0)+IF(AND(CA!N28=2, S!N28>0, CA!N61>Parameter!$F$5), -$AG$1,0)","v":0},{"$f":"IF(AND(CA!O28=1, S!O28>0, CA!O61<=Parameter!$F$5), $AG$1,0)+IF(AND(CA!O28=2, S!O28>0, CA!O61>Parameter!$F$5), -$AG$1,0)","v":0},{"$f":"IF(AND(CA!P28=1, S!P28>0, CA!P61<=Parameter!$F$5), $AG$1,0)+IF(AND(CA!P28=2, S!P28>0, CA!P61>Parameter!$F$5), -$AG$1,0)","v":0},{"$f":"IF(AND(CA!Q28=1, S!Q28>0, CA!Q61<=Parameter!$F$5), $AG$1,0)+IF(AND(CA!Q28=2, S!Q28>0, CA!Q61>Parameter!$F$5), -$AG$1,0)","v":0},{"$f":"IF(AND(CA!R28=1, S!R28>0, CA!R61<=Parameter!$F$5), $AG$1,0)+IF(AND(CA!R28=2, S!R28>0, CA!R61>Parameter!$F$5), -$AG$1,0)","v":0},{"$f":"IF(AND(CA!S28=1, S!S28>0, CA!S61<=Parameter!$F$5), $AG$1,0)+IF(AND(CA!S28=2, S!S28>0, CA!S61>Parameter!$F$5), -$AG$1,0)","v":0},{"$f":"IF(AND(CA!T28=1, S!T28>0, CA!T61<=Parameter!$F$5), $AG$1,0)+IF(AND(CA!T28=2, S!T28>0, CA!T61>Parameter!$F$5), -$AG$1,0)","v":0},{"$f":"IF(AND(CA!U28=1, S!U28>0, CA!U61<=Parameter!$F$5), $AG$1,0)+IF(AND(CA!U28=2, S!U28>0, CA!U61>Parameter!$F$5), -$AG$1,0)","v":0},{"$f":"IF(AND(CA!V28=1, S!V28>0, CA!V61<=Parameter!$F$5), $AG$1,0)+IF(AND(CA!V28=2, S!V28>0, CA!V61>Parameter!$F$5), -$AG$1,0)","v":0},{"$f":"IF(AND(CA!W28=1, S!W28>0, CA!W61<=Parameter!$F$5), $AG$1,0)+IF(AND(CA!W28=2, S!W28>0, CA!W61>Parameter!$F$5), -$AG$1,0)","v":0},{"$f":"IF(AND(CA!X28=1, S!X28>0, CA!X61<=Parameter!$F$5), $AG$1,0)+IF(AND(CA!X28=2, S!X28>0, CA!X61>Parameter!$F$5), -$AG$1,0)","v":0},{"$f":"IF(AND(CA!Y28=1, S!Y28>0, CA!Y61<=Parameter!$F$5), $AG$1,0)+IF(AND(CA!Y28=2, S!Y28>0, CA!Y61>Parameter!$F$5), -$AG$1,0)","v":0},{"$f":"IF(AND(CA!Z28=1, S!Z28>0, CA!Z61<=Parameter!$F$5), $AG$1,0)+IF(AND(CA!Z28=2, S!Z28>0, CA!Z61>Parameter!$F$5), -$AG$1,0)","v":0},{"$f":"IF(AND(CA!AA28=1, S!AA28>0, CA!AA61<=Parameter!$F$5), $AG$1,0)+IF(AND(CA!AA28=2, S!AA28>0, CA!AA61>Parameter!$F$5), -$AG$1,0)","v":0},{"$f":"IF(AND(CA!AB28=1, S!AB28>0, CA!AB61<=Parameter!$F$5), $AG$1,0)+IF(AND(CA!AB28=2, S!AB28>0, CA!AB61>Parameter!$F$5), -$AG$1,0)","v":0},{"$f":"IF(AND(CA!AC28=1, S!AC28>0, CA!AC61<=Parameter!$F$5), $AG$1,0)+IF(AND(CA!AC28=2, S!AC28>0, CA!AC61>Parameter!$F$5), -$AG$1,0)","v":0},{"$f":"IF(AND(CA!AD28=1, S!AD28>0, CA!AD61<=Parameter!$F$5), $AG$1,0)+IF(AND(CA!AD28=2, S!AD28>0, CA!AD61>Parameter!$F$5), -$AG$1,0)","v":0},{"$f":"IF(AND(CA!AE28=1, S!AE28>0, CA!AE61<=Parameter!$F$5), $AG$1,0)+IF(AND(CA!AE28=2, S!AE28>0, CA!AE61>Parameter!$F$5), -$AG$1,0)","v":0}]
[null,{"$f":"IF(AND(CA!B29=1, S!B29>0, CA!B62<=Parameter!$F$5), $AG$1,0)+IF(AND(CA!B29=2, S!B29>0, CA!B62>Parameter!$F$5), -$AG$1,0)","v":0},{"$f":"IF(AND(CA!C29=1, S!C29>0, CA!C62<=Parameter!$F$5), $AG$1,0)+IF(AND(CA!C29=2, S!C29>0, CA!C62>Parameter!$F$5), -$AG$1,0)","v":0},{"$f":"IF(AND(CA!D29=1, S!D29>0, CA!D62<=Parameter!$F$5), $AG$1,0)+IF(AND(CA!D29=2, S!D29>0, CA!D62>Parameter!$F$5), -$AG$1,0)","v":0},{"$f":"IF(AND(CA!E29=1, S!E29>0, CA!E62<=Parameter!$F$5), $AG$1,0)+IF(AND(CA!E29=2, S!E29>0, CA!E62>Parameter!$F$5), -$AG$1,0)","v":0},{"$f":"IF(AND(CA!F29=1, S!F29>0, CA!F62<=Parameter!$F$5), $AG$1,0)+IF(AND(CA!F29=2, S!F29>0, CA!F62>Parameter!$F$5), -$AG$1,0)","v":0},{"$f":"IF(AND(CA!G29=1, S!G29>0, CA!G62<=Parameter!$F$5), $AG$1,0)+IF(AND(CA!G29=2, S!G29>0, CA!G62>Parameter!$F$5), -$AG$1,0)","v":0},{"$f":"IF(AND(CA!H29=1, S!H29>0, CA!H62<=Parameter!$F$5), $AG$1,0)+IF(AND(CA!H29=2, S!H29>0, CA!H62>Parameter!$F$5), -$AG$1,0)","v":0},{"$f":"IF(AND(CA!I29=1, S!I29>0, CA!I62<=Parameter!$F$5), $AG$1,0)+IF(AND(CA!I29=2, S!I29>0, CA!I62>Parameter!$F$5), -$AG$1,0)","v":0},{"$f":"IF(AND(CA!J29=1, S!J29>0, CA!J62<=Parameter!$F$5), $AG$1,0)+IF(AND(CA!J29=2, S!J29>0, CA!J62>Parameter!$F$5), -$AG$1,0)","v":0},{"$f":"IF(AND(CA!K29=1, S!K29>0, CA!K62<=Parameter!$F$5), $AG$1,0)+IF(AND(CA!K29=2, S!K29>0, CA!K62>Parameter!$F$5), -$AG$1,0)","v":0},{"$f":"IF(AND(CA!L29=1, S!L29>0, CA!L62<=Parameter!$F$5), $AG$1,0)+IF(AND(CA!L29=2, S!L29>0, CA!L62>Parameter!$F$5), -$AG$1,0)","v":0},{"$f":"IF(AND(CA!M29=1, S!M29>0, CA!M62<=Parameter!$F$5), $AG$1,0)+IF(AND(CA!M29=2, S!M29>0, CA!M62>Parameter!$F$5), -$AG$1,0)","v":0},{"$f":"IF(AND(CA!N29=1, S!N29>0, CA!N62<=Parameter!$F$5), $AG$1,0)+IF(AND(CA!N29=2, S!N29>0, CA!N62>Parameter!$F$5), -$AG$1,0)","v":0},{"$f":"IF(AND(CA!O29=1, S!O29>0, CA!O62<=Parameter!$F$5), $AG$1,0)+IF(AND(CA!O29=2, S!O29>0, CA!O62>Parameter!$F$5), -$AG$1,0)","v":0},{"$f":"IF(AND(CA!P29=1, S!P29>0, CA!P62<=Parameter!$F$5), $AG$1,0)+IF(AND(CA!P29=2, S!P29>0, CA!P62>Parameter!$F$5), -$AG$1,0)","v":0},{"$f":"IF(AND(CA!Q29=1, S!Q29>0, CA!Q62<=Parameter!$F$5), $AG$1,0)+IF(AND(CA!Q29=2, S!Q29>0, CA!Q62>Parameter!$F$5), -$AG$1,0)","v":0},{"$f":"IF(AND(CA!R29=1, S!R29>0, CA!R62<=Parameter!$F$5), $AG$1,0)+IF(AND(CA!R29=2, S!R29>0, CA!R62>Parameter!$F$5), -$AG$1,0)","v":0},{"$f":"IF(AND(CA!S29=1, S!S29>0, CA!S62<=Parameter!$F$5), $AG$1,0)+IF(AND(CA!S29=2, S!S29>0, CA!S62>Parameter!$F$5), -$AG$1,0)","v":0},{"$f":"IF(AND(CA!T29=1, S!T29>0, CA!T62<=Parameter!$F$5), $AG$1,0)+IF(AND(CA!T29=2, S!T29>0, CA!T62>Parameter!$F$5), -$AG$1,0)","v":0},{"$f":"IF(AND(CA!U29=1, S!U29>0, CA!U62<=Parameter!$F$5), $AG$1,0)+IF(AND(CA!U29=2, S!U29>0, CA!U62>Parameter!$F$5), -$AG$1,0)","v":0},{"$f":"IF(AND(CA!V29=1, S!V29>0, CA!V62<=Parameter!$F$5), $AG$1,0)+IF(AND(CA!V29=2, S!V29>0, CA!V62>Parameter!$F$5), -$AG$1,0)","v":0},{"$f":"IF(AND(CA!W29=1, S!W29>0, CA!W62<=Parameter!$F$5), $AG$1,0)+IF(AND(CA!W29=2, S!W29>0, CA!W62>Parameter!$F$5), -$AG$1,0)","v":0},{"$f":"IF(AND(CA!X29=1, S!X29>0, CA!X62<=Parameter!$F$5), $AG$1,0)+IF(AND(CA!X29=2, S!X29>0, CA!X62>Parameter!$F$5), -$AG$1,0)","v":0},{"$f":"IF(AND(CA!Y29=1, S!Y29>0, CA!Y62<=Parameter!$F$5), $AG$1,0)+IF(AND(CA!Y29=2, S!Y29>0, CA!Y62>Parameter!$F$5), -$AG$1,0)","v":0},{"$f":"IF(AND(CA!Z29=1, S!Z29>0, CA!Z62<=Parameter!$F$5), $AG$1,0)+IF(AND(CA!Z29=2, S!Z29>0, CA!Z62>Parameter!$F$5), -$AG$1,0)","v":0},{"$f":"IF(AND(CA!AA29=1, S!AA29>0, CA!AA62<=Parameter!$F$5), $AG$1,0)+IF(AND(CA!AA29=2, S!AA29>0, CA!AA62>Parameter!$F$5), -$AG$1,0)","v":0},{"$f":"IF(AND(CA!AB29=1, S!AB29>0, CA!AB62<=Parameter!$F$5), $AG$1,0)+IF(AND(CA!AB29=2, S!AB29>0, CA!AB62>Parameter!$F$5), -$AG$1,0)","v":0},{"$f":"IF(AND(CA!AC29=1, S!AC29>0, CA!AC62<=Parameter!$F$5), $AG$1,0)+IF(AND(CA!AC29=2, S!AC29>0, CA!AC62>Parameter!$F$5), -$AG$1,0)","v":0},{"$f":"IF(AND(CA!AD29=1, S!AD29>0, CA!AD62<=Parameter!$F$5), $AG$1,0)+IF(AND(CA!AD29=2, S!AD29>0, CA!AD62>Parameter!$F$5), -$AG$1,0)","v":0},{"$f":"IF(AND(CA!AE29=1, S!AE29>0, CA!AE62<=Parameter!$F$5), $AG$1,0)+IF(AND(CA!AE29=2, S!AE29>0, CA!AE62>Parameter!$F$5), -$AG$1,0)","v":0}]
[null,{"$f":"IF(AND(CA!B30=1, S!B30>0, CA!B63<=Parameter!$F$5), $AG$1,0)+IF(AND(CA!B30=2, S!B30>0, CA!B63>Parameter!$F$5), -$AG$1,0)","v":0},{"$f":"IF(AND(CA!C30=1, S!C30>0, CA!C63<=Parameter!$F$5), $AG$1,0)+IF(AND(CA!C30=2, S!C30>0, CA!C63>Parameter!$F$5), -$AG$1,0)","v":0},{"$f":"IF(AND(CA!D30=1, S!D30>0, CA!D63<=Parameter!$F$5), $AG$1,0)+IF(AND(CA!D30=2, S!D30>0, CA!D63>Parameter!$F$5), -$AG$1,0)","v":0},{"$f":"IF(AND(CA!E30=1, S!E30>0, CA!E63<=Parameter!$F$5), $AG$1,0)+IF(AND(CA!E30=2, S!E30>0, CA!E63>Parameter!$F$5), -$AG$1,0)","v":0},{"$f":"IF(AND(CA!F30=1, S!F30>0, CA!F63<=Parameter!$F$5), $AG$1,0)+IF(AND(CA!F30=2, S!F30>0, CA!F63>Parameter!$F$5), -$AG$1,0)","v":0},{"$f":"IF(AND(CA!G30=1, S!G30>0, CA!G63<=Parameter!$F$5), $AG$1,0)+IF(AND(CA!G30=2, S!G30>0, CA!G63>Parameter!$F$5), -$AG$1,0)","v":0},{"$f":"IF(AND(CA!H30=1, S!H30>0, CA!H63<=Parameter!$F$5), $AG$1,0)+IF(AND(CA!H30=2, S!H30>0, CA!H63>Parameter!$F$5), -$AG$1,0)","v":0},{"$f":"IF(AND(CA!I30=1, S!I30>0, CA!I63<=Parameter!$F$5), $AG$1,0)+IF(AND(CA!I30=2, S!I30>0, CA!I63>Parameter!$F$5), -$AG$1,0)","v":0},{"$f":"IF(AND(CA!J30=1, S!J30>0, CA!J63<=Parameter!$F$5), $AG$1,0)+IF(AND(CA!J30=2, S!J30>0, CA!J63>Parameter!$F$5), -$AG$1,0)","v":0},{"$f":"IF(AND(CA!K30=1, S!K30>0, CA!K63<=Parameter!$F$5), $AG$1,0)+IF(AND(CA!K30=2, S!K30>0, CA!K63>Parameter!$F$5), -$AG$1,0)","v":0},{"$f":"IF(AND(CA!L30=1, S!L30>0, CA!L63<=Parameter!$F$5), $AG$1,0)+IF(AND(CA!L30=2, S!L30>0, CA!L63>Parameter!$F$5), -$AG$1,0)","v":0},{"$f":"IF(AND(CA!M30=1, S!M30>0, CA!M63<=Parameter!$F$5), $AG$1,0)+IF(AND(CA!M30=2, S!M30>0, CA!M63>Parameter!$F$5), -$AG$1,0)","v":0},{"$f":"IF(AND(CA!N30=1, S!N30>0, CA!N63<=Parameter!$F$5), $AG$1,0)+IF(AND(CA!N30=2, S!N30>0, CA!N63>Parameter!$F$5), -$AG$1,0)","v":0},{"$f":"IF(AND(CA!O30=1, S!O30>0, CA!O63<=Parameter!$F$5), $AG$1,0)+IF(AND(CA!O30=2, S!O30>0, CA!O63>Parameter!$F$5), -$AG$1,0)","v":0},{"$f":"IF(AND(CA!P30=1, S!P30>0, CA!P63<=Parameter!$F$5), $AG$1,0)+IF(AND(CA!P30=2, S!P30>0, CA!P63>Parameter!$F$5), -$AG$1,0)","v":0},{"$f":"IF(AND(CA!Q30=1, S!Q30>0, CA!Q63<=Parameter!$F$5), $AG$1,0)+IF(AND(CA!Q30=2, S!Q30>0, CA!Q63>Parameter!$F$5), -$AG$1,0)","v":0},{"$f":"IF(AND(CA!R30=1, S!R30>0, CA!R63<=Parameter!$F$5), $AG$1,0)+IF(AND(CA!R30=2, S!R30>0, CA!R63>Parameter!$F$5), -$AG$1,0)","v":0},{"$f":"IF(AND(CA!S30=1, S!S30>0, CA!S63<=Parameter!$F$5), $AG$1,0)+IF(AND(CA!S30=2, S!S30>0, CA!S63>Parameter!$F$5), -$AG$1,0)","v":0},{"$f":"IF(AND(CA!T30=1, S!T30>0, CA!T63<=Parameter!$F$5), $AG$1,0)+IF(AND(CA!T30=2, S!T30>0, CA!T63>Parameter!$F$5), -$AG$1,0)","v":0},{"$f":"IF(AND(CA!U30=1, S!U30>0, CA!U63<=Parameter!$F$5), $AG$1,0)+IF(AND(CA!U30=2, S!U30>0, CA!U63>Parameter!$F$5), -$AG$1,0)","v":0},{"$f":"IF(AND(CA!V30=1, S!V30>0, CA!V63<=Parameter!$F$5), $AG$1,0)+IF(AND(CA!V30=2, S!V30>0, CA!V63>Parameter!$F$5), -$AG$1,0)","v":0},{"$f":"IF(AND(CA!W30=1, S!W30>0, CA!W63<=Parameter!$F$5), $AG$1,0)+IF(AND(CA!W30=2, S!W30>0, CA!W63>Parameter!$F$5), -$AG$1,0)","v":0},{"$f":"IF(AND(CA!X30=1, S!X30>0, CA!X63<=Parameter!$F$5), $AG$1,0)+IF(AND(CA!X30=2, S!X30>0, CA!X63>Parameter!$F$5), -$AG$1,0)","v":0},{"$f":"IF(AND(CA!Y30=1, S!Y30>0, CA!Y63<=Parameter!$F$5), $AG$1,0)+IF(AND(CA!Y30=2, S!Y30>0, CA!Y63>Parameter!$F$5), -$AG$1,0)","v":0},{"$f":"IF(AND(CA!Z30=1, S!Z30>0, CA!Z63<=Parameter!$F$5), $AG$1,0)+IF(AND(CA!Z30=2, S!Z30>0, CA!Z63>Parameter!$F$5), -$AG$1,0)","v":0},{"$f":"IF(AND(CA!AA30=1, S!AA30>0, CA!AA63<=Parameter!$F$5), $AG$1,0)+IF(AND(CA!AA30=2, S!AA30>0, CA!AA63>Parameter!$F$5), -$AG$1,0)","v":0},{"$f":"IF(AND(CA!AB30=1, S!AB30>0, CA!AB63<=Parameter!$F$5), $AG$1,0)+IF(AND(CA!AB30=2, S!AB30>0, CA!AB63>Parameter!$F$5), -$AG$1,0)","v":0},{"$f":"IF(AND(CA!AC30=1, S!AC30>0, CA!AC63<=Parameter!$F$5), $AG$1,0)+IF(AND(CA!AC30=2, S!AC30>0, CA!AC63>Parameter!$F$5), -$AG$1,0)","v":0},{"$f":"IF(AND(CA!AD30=1, S!AD30>0, CA!AD63<=Parameter!$F$5), $AG$1,0)+IF(AND(CA!AD30=2, S!AD30>0, CA!AD63>Parameter!$F$5), -$AG$1,0)","v":0},{"$f":"IF(AND(CA!AE30=1, S!AE30>0, CA!AE63<=Parameter!$F$5), $AG$1,0)+IF(AND(CA!AE30=2, S!AE30>0, CA!AE63>Parameter!$F$5), -$AG$1,0)","v":0}]
[null,{"$f":"IF(AND(CA!B31=1, S!B31>0, CA!B64<=Parameter!$F$5), $AG$1,0)+IF(AND(CA!B31=2, S!B31>0, CA!B64>Parameter!$F$5), -$AG$1,0)","v":0},{"$f":"IF(AND(CA!C31=1, S!C31>0, CA!C64<=Parameter!$F$5), $AG$1,0)+IF(AND(CA!C31=2, S!C31>0, CA!C64>Parameter!$F$5), -$AG$1,0)","v":0},{"$f":"IF(AND(CA!D31=1, S!D31>0, CA!D64<=Parameter!$F$5), $AG$1,0)+IF(AND(CA!D31=2, S!D31>0, CA!D64>Parameter!$F$5), -$AG$1,0)","v":0},{"$f":"IF(AND(CA!E31=1, S!E31>0, CA!E64<=Parameter!$F$5), $AG$1,0)+IF(AND(CA!E31=2, S!E31>0, CA!E64>Parameter!$F$5), -$AG$1,0)","v":0},{"$f":"IF(AND(CA!F31=1, S!F31>0, CA!F64<=Parameter!$F$5), $AG$1,0)+IF(AND(CA!F31=2, S!F31>0, CA!F64>Parameter!$F$5), -$AG$1,0)","v":0},{"$f":"IF(AND(CA!G31=1, S!G31>0, CA!G64<=Parameter!$F$5), $AG$1,0)+IF(AND(CA!G31=2, S!G31>0, CA!G64>Parameter!$F$5), -$AG$1,0)","v":0},{"$f":"IF(AND(CA!H31=1, S!H31>0, CA!H64<=Parameter!$F$5), $AG$1,0)+IF(AND(CA!H31=2, S!H31>0, CA!H64>Parameter!$F$5), -$AG$1,0)","v":0},{"$f":"IF(AND(CA!I31=1, S!I31>0, CA!I64<=Parameter!$F$5), $AG$1,0)+IF(AND(CA!I31=2, S!I31>0, CA!I64>Parameter!$F$5), -$AG$1,0)","v":0},{"$f":"IF(AND(CA!J31=1, S!J31>0, CA!J64<=Parameter!$F$5), $AG$1,0)+IF(AND(CA!J31=2, S!J31>0, CA!J64>Parameter!$F$5), -$AG$1,0)","v":0},{"$f":"IF(AND(CA!K31=1, S!K31>0, CA!K64<=Parameter!$F$5), $AG$1,0)+IF(AND(CA!K31=2, S!K31>0, CA!K64>Parameter!$F$5), -$AG$1,0)","v":0},{"$f":"IF(AND(CA!L31=1, S!L31>0, CA!L64<=Parameter!$F$5), $AG$1,0)+IF(AND(CA!L31=2, S!L31>0, CA!L64>Parameter!$F$5), -$AG$1,0)","v":0},{"$f":"IF(AND(CA!M31=1, S!M31>0, CA!M64<=Parameter!$F$5), $AG$1,0)+IF(AND(CA!M31=2, S!M31>0, CA!M64>Parameter!$F$5), -$AG$1,0)","v":0},{"$f":"IF(AND(CA!N31=1, S!N31>0, CA!N64<=Parameter!$F$5), $AG$1,0)+IF(AND(CA!N31=2, S!N31>0, CA!N64>Parameter!$F$5), -$AG$1,0)","v":0},{"$f":"IF(AND(CA!O31=1, S!O31>0, CA!O64<=Parameter!$F$5), $AG$1,0)+IF(AND(CA!O31=2, S!O31>0, CA!O64>Parameter!$F$5), -$AG$1,0)","v":0},{"$f":"IF(AND(CA!P31=1, S!P31>0, CA!P64<=Parameter!$F$5), $AG$1,0)+IF(AND(CA!P31=2, S!P31>0, CA!P64>Parameter!$F$5), -$AG$1,0)","v":0},{"$f":"IF(AND(CA!Q31=1, S!Q31>0, CA!Q64<=Parameter!$F$5), $AG$1,0)+IF(AND(CA!Q31=2, S!Q31>0, CA!Q64>Parameter!$F$5), -$AG$1,0)","v":0},{"$f":"IF(AND(CA!R31=1, S!R31>0, CA!R64<=Parameter!$F$5), $AG$1,0)+IF(AND(CA!R31=2, S!R31>0, CA!R64>Parameter!$F$5), -$AG$1,0)","v":0},{"$f":"IF(AND(CA!S31=1, S!S31>0, CA!S64<=Parameter!$F$5), $AG$1,0)+IF(AND(CA!S31=2, S!S31>0, CA!S64>Parameter!$F$5), -$AG$1,0)","v":0},{"$f":"IF(AND(CA!T31=1, S!T31>0, CA!T64<=Parameter!$F$5), $AG$1,0)+IF(AND(CA!T31=2, S!T31>0, CA!T64>Parameter!$F$5), -$AG$1,0)","v":0},{"$f":"IF(AND(CA!U31=1, S!U31>0, CA!U64<=Parameter!$F$5), $AG$1,0)+IF(AND(CA!U31=2, S!U31>0, CA!U64>Parameter!$F$5), -$AG$1,0)","v":0},{"$f":"IF(AND(CA!V31=1, S!V31>0, CA!V64<=Parameter!$F$5), $AG$1,0)+IF(AND(CA!V31=2, S!V31>0, CA!V64>Parameter!$F$5), -$AG$1,0)","v":0},{"$f":"IF(AND(CA!W31=1, S!W31>0, CA!W64<=Parameter!$F$5), $AG$1,0)+IF(AND(CA!W31=2, S!W31>0, CA!W64>Parameter!$F$5), -$AG$1,0)","v":0},{"$f":"IF(AND(CA!X31=1, S!X31>0, CA!X64<=Parameter!$F$5), $AG$1,0)+IF(AND(CA!X31=2, S!X31>0, CA!X64>Parameter!$F$5), -$AG$1,0)","v":0},{"$f":"IF(AND(CA!Y31=1, S!Y31>0, CA!Y64<=Parameter!$F$5), $AG$1,0)+IF(AND(CA!Y31=2, S!Y31>0, CA!Y64>Parameter!$F$5), -$AG$1,0)","v":0},{"$f":"IF(AND(CA!Z31=1, S!Z31>0, CA!Z64<=Parameter!$F$5), $AG$1,0)+IF(AND(CA!Z31=2, S!Z31>0, CA!Z64>Parameter!$F$5), -$AG$1,0)","v":0},{"$f":"IF(AND(CA!AA31=1, S!AA31>0, CA!AA64<=Parameter!$F$5), $AG$1,0)+IF(AND(CA!AA31=2, S!AA31>0, CA!AA64>Parameter!$F$5), -$AG$1,0)","v":0},{"$f":"IF(AND(CA!AB31=1, S!AB31>0, CA!AB64<=Parameter!$F$5), $AG$1,0)+IF(AND(CA!AB31=2, S!AB31>0, CA!AB64>Parameter!$F$5), -$AG$1,0)","v":0},{"$f":"IF(AND(CA!AC31=1, S!AC31>0, CA!AC64<=Parameter!$F$5), $AG$1,0)+IF(AND(CA!AC31=2, S!AC31>0, CA!AC64>Parameter!$F$5), -$AG$1,0)","v":0},{"$f":"IF(AND(CA!AD31=1, S!AD31>0, CA!AD64<=Parameter!$F$5), $AG$1,0)+IF(AND(CA!AD31=2, S!AD31>0, CA!AD64>Parameter!$F$5), -$AG$1,0)","v":0},{"$f":"IF(AND(CA!AE31=1, S!AE31>0, CA!AE64<=Parameter!$F$5), $AG$1,0)+IF(AND(CA!AE31=2, S!AE31>0, CA!AE64>Parameter!$F$5), -$AG$1,0)","v":0}]
[]
[null,null,null,null,null,"潜熱による影響の判定"]
[null,null,"相変化による温度変化"]

{"sheet":"T2","index":11,"n_rows":33,"n_cols":31,"rows_kept":33,"cut":false,"hidden":true,"merged":[]}
[]
[null,{"$f":"(CA!B34+CA!B36+CA!A35+CA!C35)/6+(CA!A34+CA!C34+CA!A36+CA!C36)/12-CA!B35","v":0},{"$f":"(CA!C34+CA!C36+CA!B35+CA!D35)/6+(CA!B34+CA!D34+CA!B36+CA!D36)/12-CA!C35","v":0},{"$f":"(CA!D34+CA!D36+CA!C35+CA!E35)/6+(CA!C34+CA!E34+CA!C36+CA!E36)/12-CA!D35","v":0},{"$f":"(CA!E34+CA!E36+CA!D35+CA!F35)/6+(CA!D34+CA!F34+CA!D36+CA!F36)/12-CA!E35","v":0},{"$f":"(CA!F34+CA!F36+CA!E35+CA!G35)/6+(CA!E34+CA!G34+CA!E36+CA!G36)/12-CA!F35","v":0},{"$f":"(CA!G34+CA!G36+CA!F35+CA!H35)/6+(CA!F34+CA!H34+CA!F36+CA!H36)/12-CA!G35","v":0},{"$f":"(CA!H34+CA!H36+CA!G35+CA!I35)/6+(CA!G34+CA!I34+CA!G36+CA!I36)/12-CA!H35","v":0},{"$f":"(CA!I34+CA!I36+CA!H35+CA!J35)/6+(CA!H34+CA!J34+CA!H36+CA!J36)/12-CA!I35","v":0},{"$f":"(CA!J34+CA!J36+CA!I35+CA!K35)/6+(CA!I34+CA!K34+CA!I36+CA!K36)/12-CA!J35","v":0},{"$f":"(CA!K34+CA!K36+CA!J35+CA!L35)/6+(CA!J34+CA!L34+CA!J36+CA!L36)/12-CA!K35","v":0},{"$f":"(CA!L34+CA!L36+CA!K35+CA!M35)/6+(CA!K34+CA!M34+CA!K36+CA!M36)/12-CA!L35","v":0},{"$f":"(CA!M34+CA!M36+CA!L35+CA!N35)/6+(CA!L34+CA!N34+CA!L36+CA!N36)/12-CA!M35","v":0},{"$f":"(CA!N34+CA!N36+CA!M35+CA!O35)/6+(CA!M34+CA!O34+CA!M36+CA!O36)/12-CA!N35","v":0},{"$f":"(CA!O34+CA!O36+CA!N35+CA!P35)/6+(CA!N34+CA!P34+CA!N36+CA!P36)/12-CA!O35","v":0},{"$f":"(CA!P34+CA!P36+CA!O35+CA!Q35)/6+(CA!O34+CA!Q34+CA!O36+CA!Q36)/12-CA!P35","v":0},{"$f":"(CA!Q34+CA!Q36+CA!P35+CA!R35)/6+(CA!P34+CA!R34+CA!P36+CA!R36)/12-CA!Q35","v":0},{"$f":"(CA!R34+CA!R36+CA!Q35+CA!S35)/6+(CA!Q34+CA!S34+CA!Q36+CA!S36)/12-CA!R35","v":0},{"$f":"(CA!S34+CA!S36+CA!R35+CA!T35)/6+(CA!R34+CA!T34+CA!R36+CA!T36)/12-CA!S35","v":0},{"$f":"(CA!T34+CA!T36+CA!S35+CA!U35)/6+(CA!S34+CA!U34+CA!S36+CA!U36)/12-CA!T35","v":0},{"$f":"(CA!U34+CA!U36+CA!T35+CA!V35)/6+(CA!T34+CA!V34+CA!T36+CA!V36)/12-CA!U35","v":0},{"$f":"(CA!V34+CA!V36+CA!U35+CA!W35)/6+(CA!U34+CA!W34+CA!U36+CA!W36)/12-CA!V35","v":0},{"$f":"(CA!W34+CA!W36+CA!V35+CA!X35)/6+(CA!V34+CA!X34+CA!V36+CA!X36)/12-CA!W35","v":0},{"$f":"(CA!X34+CA!X36+CA!W35+CA!Y35)/6+(CA!W34+CA!Y34+CA!W36+CA!Y36)/12-CA!X35","v":0},{"$f":"(CA!Y34+CA!Y36+CA!X35+CA!Z35)/6+(CA!X34+CA!Z34+CA!X36+CA!Z36)/12-CA!Y35","v":0},{"$f":"(CA!Z34+CA!Z36+CA!Y35+CA!AA35)/6+(CA!Y34+CA!AA34+CA!Y36+CA!AA36)/12-CA!Z35","v":0},{"$f":"(CA!AA34+CA!AA36+CA!Z35+CA!AB35)/6+(CA!Z34+CA!AB34+CA!Z36+CA!AB36)/12-CA!AA35","v":0},{"$f":"(CA!AB34+CA!AB36+CA!AA35+CA!AC35)/6+(CA!AA34+CA!AC34+CA!AA36+CA!AC36)/12-CA!AB35","v":0},{"$f":"(CA!AC34+CA!AC36+CA!AB35+CA!AD35)/6+(CA!AB34+CA!AD34+CA!AB36+CA!AD36)/12-CA!AC35","v":0},{"$f":"(CA!AD34+CA!AD36+CA!AC35+CA!AE35)/6+(CA!AC34+CA!AE34+CA!AC36+CA!AE36)/12-CA!AD35","v":0},{"$f":"(CA!AE34+CA!AE36+CA!AD35+CA!AF35)/6+(CA!AD34+CA!AF34+CA!AD36+CA!AF36)/12-CA!AE35","v":0}]
[null,{"$f":"(CA!B35+CA!B37+CA!A36+CA!C36)/6+(CA!A35+CA!C35+CA!A37+CA!C37)/12-CA!B36","v":0},{"$f":"(CA!C35+CA!C37+CA!B36+CA!D36)/6+(CA!B35+CA!D35+CA!B37+CA!D37)/12-CA!C36","v":0},{"$f":"(CA!D35+CA!D37+CA!C36+CA!E36)/6+(CA!C35+CA!E35+CA!C37+CA!E37)/12-CA!D36","v":0},{"$f":"(CA!E35+CA!E37+CA!D36+CA!F36)/6+(CA!D35+CA!F35+CA!D37+CA!F37)/12-CA!E36","v":0},{"$f":"(CA!F35+CA!F37+CA!E36+CA!G36)/6+(CA!E35+CA!G35+CA!E37+CA!G37)/12-CA!F36","v":0},{"$f":"(CA!G35+CA!G37+CA!F36+CA!H36)/6+(CA!F35+CA!H35+CA!F37+CA!H37)/12-CA!G36","v":0},{"$f":"(CA!H35+CA!H37+CA!G36+CA!I36)/6+(CA!G35+CA!I35+CA!G37+CA!I37)/12-CA!H36","v":0},{"$f":"(CA!I35+CA!I37+CA!H36+CA!J36)/6+(CA!H35+CA!J35+CA!H37+CA!J37)/12-CA!I36","v":0},{"$f":"(CA!J35+CA!J37+CA!I36+CA!K36)/6+(CA!I35+CA!K35+CA!I37+CA!K37)/12-CA!J36","v":0},{"$f":"(CA!K35+CA!K37+CA!J36+CA!L36)/6+(CA!J35+CA!L35+CA!J37+CA!L37)/12-CA!K36","v":0},{"$f":"(CA!L35+CA!L37+CA!K36+CA!M36)/6+(CA!K35+CA!M35+CA!K37+CA!M37)/12-CA!L36","v":0},{"$f":"(CA!M35+CA!M37+CA!L36+CA!N36)/6+(CA!L35+CA!N35+CA!L37+CA!N37)/12-CA!M36","v":0},{"$f":"(CA!N35+CA!N37+CA!M36+CA!O36)/6+(CA!M35+CA!O35+CA!M37+CA!O37)/12-CA!N36","v":0},{"$f":"(CA!O35+CA!O37+CA!N36+CA!P36)/6+(CA!N35+CA!P35+CA!N37+CA!P37)/12-CA!O36","v":0},{"$f":"(CA!P35+CA!P37+CA!O36+CA!Q36)/6+(CA!O35+CA!Q35+CA!O37+CA!Q37)/12-CA!P36","v":0},{"$f":"(CA!Q35+CA!Q37+CA!P36+CA!R36)/6+(CA!P35+CA!R35+CA!P37+CA!R37)/12-CA!Q36","v":0},{"$f":"(CA!R35+CA!R37+CA!Q36+CA!S36)/6+(CA!Q35+CA!S35+CA!Q37+CA!S37)/12-CA!R36","v":0},{"$f":"(CA!S35+CA!S37+CA!R36+CA!T36)/6+(CA!R35+CA!T35+CA!R37+CA!T37)/12-CA!S36","v":0},{"$f":"(CA!T35+CA!T37+CA!S36+CA!U36)/6+(CA!S35+CA!U35+CA!S37+CA!U37)/12-CA!T36","v":0},{"$f":"(CA!U35+CA!U37+CA!T36+CA!V36)/6+(CA!T35+CA!V35+CA!T37+CA!V37)/12-CA!U36","v":0},{"$f":"(CA!V35+CA!V37+CA!U36+CA!W36)/6+(CA!U35+CA!W35+CA!U37+CA!W37)/12-CA!V36","v":0},{"$f":"(CA!W35+CA!W37+CA!V36+CA!X36)/6+(CA!V35+CA!X35+CA!V37+CA!X37)/12-CA!W36","v":0},{"$f":"(CA!X35+CA!X37+CA!W36+CA!Y36)/6+(CA!W35+CA!Y35+CA!W37+CA!Y37)/12-CA!X36","v":0},{"$f":"(CA!Y35+CA!Y37+CA!X36+CA!Z36)/6+(CA!X35+CA!Z35+CA!X37+CA!Z37)/12-CA!Y36","v":0},{"$f":"(CA!Z35+CA!Z37+CA!Y36+CA!AA36)/6+(CA!Y35+CA!AA35+CA!Y37+CA!AA37)/12-CA!Z36","v":0},{"$f":"(CA!AA35+CA!AA37+CA!Z36+CA!AB36)/6+(CA!Z35+CA!AB35+CA!Z37+CA!AB37)/12-CA!AA36","v":0},{"$f":"(CA!AB35+CA!AB37+CA!AA36+CA!AC36)/6+(CA!AA35+CA!AC35+CA!AA37+CA!AC37)/12-CA!AB36","v":0},{"$f":"(CA!AC35+CA!AC37+CA!AB36+CA!AD36)/6+(CA!AB35+CA!AD35+CA!AB37+CA!AD37)/12-CA!AC36","v":0},{"$f":"(CA!AD35+CA!AD37+CA!AC36+CA!AE36)/6+(CA!AC35+CA!AE35+CA!AC37+CA!AE37)/12-CA!AD36","v":0},{"$f":"(CA!AE35+CA!AE37+CA!AD36+CA!AF36)/6+(CA!AD35+CA!AF35+CA!AD37+CA!AF37)/12-CA!AE36","v":0}]
[null,{"$f":"(CA!B36+CA!B38+CA!A37+CA!C37)/6+(CA!A36+CA!C36+CA!A38+CA!C38)/12-CA!B37","v":0},{"$f":"(CA!C36+CA!C38+CA!B37+CA!D37)/6+(CA!B36+CA!D36+CA!B38+CA!D38)/12-CA!C37","v":0},{"$f":"(CA!D36+CA!D38+CA!C37+CA!E37)/6+(CA!C36+CA!E36+CA!C38+CA!E38)/12-CA!D37","v":0},{"$f":"(CA!E36+CA!E38+CA!D37+CA!F37)/6+(CA!D36+CA!F36+CA!D38+CA!F38)/12-CA!E37","v":0},{"$f":"(CA!F36+CA!F38+CA!E37+CA!G37)/6+(CA!E36+CA!G36+CA!E38+CA!G38)/12-CA!F37","v":0},{"$f":"(CA!G36+CA!G38+CA!F37+CA!H37)/6+(CA!F36+CA!H36+CA!F38+CA!H38)/12-CA!G37","v":0},{"$f":"(CA!H36+CA!H38+CA!G37+CA!I37)/6+(CA!G36+CA!I36+CA!G38+CA!I38)/12-CA!H37","v":0},{"$f":"(CA!I36+CA!I38+CA!H37+CA!J37)/6+(CA!H36+CA!J36+CA!H38+CA!J38)/12-CA!I37","v":0},{"$f":"(CA!J36+CA!J38+CA!I37+CA!K37)/6+(CA!I36+CA!K36+CA!I38+CA!K38)/12-CA!J37","v":0},{"$f":"(CA!K36+CA!K38+CA!J37+CA!L37)/6+(CA!J36+CA!L36+CA!J38+CA!L38)/12-CA!K37","v":0},{"$f":"(CA!L36+CA!L38+CA!K37+CA!M37)/6+(CA!K36+CA!M36+CA!K38+CA!M38)/12-CA!L37","v":0},{"$f":"(CA!M36+CA!M38+CA!L37+CA!N37)/6+(CA!L36+CA!N36+CA!L38+CA!N38)/12-CA!M37","v":0},{"$f":"(CA!N36+CA!N38+CA!M37+CA!O37)/6+(CA!M36+CA!O36+CA!M38+CA!O38)/12-CA!N37","v":0},{"$f":"(CA!O36+CA!O38+CA!N37+CA!P37)/6+(CA!N36+CA!P36+CA!N38+CA!P38)/12-CA!O37","v":0},{"$f":"(CA!P36+CA!P38+CA!O37+CA!Q37)/6+(CA!O36+CA!Q36+CA!O38+CA!Q38)/12-CA!P37","v":0},{"$f":"(CA!Q36+CA!Q38+CA!P37+CA!R37)/6+(CA!P36+CA!R36+CA!P38+CA!R38)/12-CA!Q37","v":0},{"$f":"(CA!R36+CA!R38+CA!Q37+CA!S37)/6+(CA!Q36+CA!S36+CA!Q38+CA!S38)/12-CA!R37","v":0},{"$f":"(CA!S36+CA!S38+CA!R37+CA!T37)/6+(CA!R36+CA!T36+CA!R38+CA!T38)/12-CA!S37","v":0},{"$f":"(CA!T36+CA!T38+CA!S37+CA!U37)/6+(CA!S36+CA!U36+CA!S38+CA!U38)/12-CA!T37","v":0},{"$f":"(CA!U36+CA!U38+CA!T37+CA!V37)/6+(CA!T36+CA!V36+CA!T38+CA!V38)/12-CA!U37","v":0},{"$f":"(CA!V36+CA!V38+CA!U37+CA!W37)/6+(CA!U36+CA!W36+CA!U38+CA!W38)/12-CA!V37","v":0},{"$f":"(CA!W36+CA!W38+CA!V37+CA!X37)/6+(CA!V36+CA!X36+CA!V38+CA!X38)/12-CA!W37","v":0},{"$f":"(CA!X36+CA!X38+CA!W37+CA!Y37)/6+(CA!W36+CA!Y36+CA!W38+CA!Y38)/12-CA!X37","v":0},{"$f":"(CA!Y36+CA!Y38+CA!X37+CA!Z37)/6+(CA!X36+CA!Z36+CA!X38+CA!Z38)/12-CA!Y37","v":0},{"$f":"(CA!Z36+CA!Z38+CA!Y37+CA!AA37)/6+(CA!Y36+CA!AA36+CA!Y38+CA!AA38)/12-CA!Z37","v":0},{"$f":"(CA!AA36+CA!AA38+CA!Z37+CA!AB37)/6+(CA!Z36+CA!AB36+CA!Z38+CA!AB38)/12-CA!AA37","v":0},{"$f":"(CA!AB36+CA!AB38+CA!AA37+CA!AC37)/6+(CA!AA36+CA!AC36+CA!AA38+CA!AC38)/12-CA!AB37","v":0},{"$f":"(CA!AC36+CA!AC38+CA!AB37+CA!AD37)/6+(CA!AB36+CA!AD36+CA!AB38+CA!AD38)/12-CA!AC37","v":0},{"$f":"(CA!AD36+CA!AD38+CA!AC37+CA!AE37)/6+(CA!AC36+CA!AE36+CA!AC38+CA!AE38)/12-CA!AD37","v":0},{"$f":"(CA!AE36+CA!AE38+CA!AD37+CA!AF37)/6+(CA!AD36+CA!AF36+CA!AD38+CA!AF38)/12-CA!AE37","v":0}]
[null,{"$f":"(CA!B37+CA!B39+CA!A38+CA!C38)/6+(CA!A37+CA!C37+CA!A39+CA!C39)/12-CA!B38","v":0},{"$f":"(CA!C37+CA!C39+CA!B38+CA!D38)/6+(CA!B37+CA!D37+CA!B39+CA!D39)/12-CA!C38","v":0},{"$f":"(CA!D37+CA!D39+CA!C38+CA!E38)/6+(CA!C37+CA!E37+CA!C39+CA!E39)/12-CA!D38","v":0},{"$f":"(CA!E37+CA!E39+CA!D38+CA!F38)/6+(CA!D37+CA!F37+CA!D39+CA!F39)/12-CA!E38","v":0},{"$f":"(CA!F37+CA!F39+CA!E38+CA!G38)/6+(CA!E37+CA!G37+CA!E39+CA!G39)/12-CA!F38","v":0},{"$f":"(CA!G37+CA!G39+CA!F38+CA!H38)/6+(CA!F37+CA!H37+CA!F39+CA!H39)/12-CA!G38","v":0},{"$f":"(CA!H37+CA!H39+CA!G38+CA!I38)/6+(CA!G37+CA!I37+CA!G39+CA!I39)/12-CA!H38","v":0},{"$f":"(CA!I37+CA!I39+CA!H38+CA!J38)/6+(CA!H37+CA!J37+CA!H39+CA!J39)/12-CA!I38","v":0},{"$f":"(CA!J37+CA!J39+CA!I38+CA!K38)/6+(CA!I37+CA!K37+CA!I39+CA!K39)/12-CA!J38","v":0},{"$f":"(CA!K37+CA!K39+CA!J38+CA!L38)/6+(CA!J37+CA!L37+CA!J39+CA!L39)/12-CA!K38","v":0},{"$f":"(CA!L37+CA!L39+CA!K38+CA!M38)/6+(CA!K37+CA!M37+CA!K39+CA!M39)/12-CA!L38","v":0},{"$f":"(CA!M37+CA!M39+CA!L38+CA!N38)/6+(CA!L37+CA!N37+CA!L39+CA!N39)/12-CA!M38","v":0},{"$f":"(CA!N37+CA!N39+CA!M38+CA!O38)/6+(CA!M37+CA!O37+CA!M39+CA!O39)/12-CA!N38","v":0},{"$f":"(CA!O37+CA!O39+CA!N38+CA!P38)/6+(CA!N37+CA!P37+CA!N39+CA!P39)/12-CA!O38","v":0},{"$f":"(CA!P37+CA!P39+CA!O38+CA!Q38)/6+(CA!O37+CA!Q37+CA!O39+CA!Q39)/12-CA!P38","v":0},{"$f":"(CA!Q37+CA!Q39+CA!P38+CA!R38)/6+(CA!P37+CA!R37+CA!P39+CA!R39)/12-CA!Q38","v":0},{"$f":"(CA!R37+CA!R39+CA!Q38+CA!S38)/6+(CA!Q37+CA!S37+CA!Q39+CA!S39)/12-CA!R38","v":0},{"$f":"(CA!S37+CA!S39+CA!R38+CA!T38)/6+(CA!R37+CA!T37+CA!R39+CA!T39)/12-CA!S38","v":0},{"$f":"(CA!T37+CA!T39+CA!S38+CA!U38)/6+(CA!S37+CA!U37+CA!S39+CA!U39)/12-CA!T38","v":0},{"$f":"(CA!U37+CA!U39+CA!T38+CA!V38)/6+(CA!T37+CA!V37+CA!T39+CA!V39)/12-CA!U38","v":0},{"$f":"(CA!V37+CA!V39+CA!U38+CA!W38)/6+(CA!U37+CA!W37+CA!U39+CA!W39)/12-CA!V38","v":0},{"$f":"(CA!W37+CA!W39+CA!V38+CA!X38)/6+(CA!V37+CA!X37+CA!V39+CA!X39)/12-CA!W38","v":0},{"$f":"(CA!X37+CA!X39+CA!W38+CA!Y38)/6+(CA!W37+CA!Y37+CA!W39+CA!Y39)/12-CA!X38","v":0},{"$f":"(CA!Y37+CA!Y39+CA!X38+CA!Z38)/6+(CA!X37+CA!Z37+CA!X39+CA!Z39)/12-CA!Y38","v":0},{"$f":"(CA!Z37+CA!Z39+CA!Y38+CA!AA38)/6+(CA!Y37+CA!AA37+CA!Y39+CA!AA39)/12-CA!Z38","v":0},{"$f":"(CA!AA37+CA!AA39+CA!Z38+CA!AB38)/6+(CA!Z37+CA!AB37+CA!Z39+CA!AB39)/12-CA!AA38","v":0},{"$f":"(CA!AB37+CA!AB39+CA!AA38+CA!AC38)/6+(CA!AA37+CA!AC37+CA!AA39+CA!AC39)/12-CA!AB38","v":0},{"$f":"(CA!AC37+CA!AC39+CA!AB38+CA!AD38)/6+(CA!AB37+CA!AD37+CA!AB39+CA!AD39)/12-CA!AC38","v":0},{"$f":"(CA!AD37+CA!AD39+CA!AC38+CA!AE38)/6+(CA!AC37+CA!AE37+CA!AC39+CA!AE39)/12-CA!AD38","v":0},{"$f":"(CA!AE37+CA!AE39+CA!AD38+CA!AF38)/6+(CA!AD37+CA!AF37+CA!AD39+CA!AF39)/12-CA!AE38","v":0}]
[null,{"$f":"(CA!B38+CA!B40+CA!A39+CA!C39)/6+(CA!A38+CA!C38+CA!A40+CA!C40)/12-CA!B39","v":0},{"$f":"(CA!C38+CA!C40+CA!B39+CA!D39)/6+(CA!B38+CA!D38+CA!B40+CA!D40)/12-CA!C39","v":0},{"$f":"(CA!D38+CA!D40+CA!C39+CA!E39)/6+(CA!C38+CA!E38+CA!C40+CA!E40)/12-CA!D39","v":0},{"$f":"(CA!E38+CA!E40+CA!D39+CA!F39)/6+(CA!D38+CA!F38+CA!D40+CA!F40)/12-CA!E39","v":0},{"$f":"(CA!F38+CA!F40+CA!E39+CA!G39)/6+(CA!E38+CA!G38+CA!E40+CA!G40)/12-CA!F39","v":0},{"$f":"(CA!G38+CA!G40+CA!F39+CA!H39)/6+(CA!F38+CA!H38+CA!F40+CA!H40)/12-CA!G39","v":0},{"$f":"(CA!H38+CA!H40+CA!G39+CA!I39)/6+(CA!G38+CA!I38+CA!G40+CA!I40)/12-CA!H39","v":0},{"$f":"(CA!I38+CA!I40+CA!H39+CA!J39)/6+(CA!H38+CA!J38+CA!H40+CA!J40)/12-CA!I39","v":0},{"$f":"(CA!J38+CA!J40+CA!I39+CA!K39)/6+(CA!I38+CA!K38+CA!I40+CA!K40)/12-CA!J39","v":0},{"$f":"(CA!K38+CA!K40+CA!J39+CA!L39)/6+(CA!J38+CA!L38+CA!J40+CA!L40)/12-CA!K39","v":0},{"$f":"(CA!L38+CA!L40+CA!K39+CA!M39)/6+(CA!K38+CA!M38+CA!K40+CA!M40)/12-CA!L39","v":0},{"$f":"(CA!M38+CA!M40+CA!L39+CA!N39)/6+(CA!L38+CA!N38+CA!L40+CA!N40)/12-CA!M39","v":0},{"$f":"(CA!N38+CA!N40+CA!M39+CA!O39)/6+(CA!M38+CA!O38+CA!M40+CA!O40)/12-CA!N39","v":0},{"$f":"(CA!O38+CA!O40+CA!N39+CA!P39)/6+(CA!N38+CA!P38+CA!N40+CA!P40)/12-CA!O39","v":0},{"$f":"(CA!P38+CA!P40+CA!O39+CA!Q39)/6+(CA!O38+CA!Q38+CA!O40+CA!Q40)/12-CA!P39","v":0},{"$f":"(CA!Q38+CA!Q40+CA!P39+CA!R39)/6+(CA!P38+CA!R38+CA!P40+CA!R40)/12-CA!Q39","v":0},{"$f":"(CA!R38+CA!R40+CA!Q39+CA!S39)/6+(CA!Q38+CA!S38+CA!Q40+CA!S40)/12-CA!R39","v":0},{"$f":"(CA!S38+CA!S40+CA!R39+CA!T39)/6+(CA!R38+CA!T38+CA!R40+CA!T40)/12-CA!S39","v":0},{"$f":"(CA!T38+CA!T40+CA!S39+CA!U39)/6+(CA!S38+CA!U38+CA!S40+CA!U40)/12-CA!T39","v":0},{"$f":"(CA!U38+CA!U40+CA!T39+CA!V39)/6+(CA!T38+CA!V38+CA!T40+CA!V40)/12-CA!U39","v":0},{"$f":"(CA!V38+CA!V40+CA!U39+CA!W39)/6+(CA!U38+CA!W38+CA!U40+CA!W40)/12-CA!V39","v":0},{"$f":"(CA!W38+CA!W40+CA!V39+CA!X39)/6+(CA!V38+CA!X38+CA!V40+CA!X40)/12-CA!W39","v":0},{"$f":"(CA!X38+CA!X40+CA!W39+CA!Y39)/6+(CA!W38+CA!Y38+CA!W40+CA!Y40)/12-CA!X39","v":0},{"$f":"(CA!Y38+CA!Y40+CA!X39+CA!Z39)/6+(CA!X38+CA!Z38+CA!X40+CA!Z40)/12-CA!Y39","v":0},{"$f":"(CA!Z38+CA!Z40+CA!Y39+CA!AA39)/6+(CA!Y38+CA!AA38+CA!Y40+CA!AA40)/12-CA!Z39","v":0},{"$f":"(CA!AA38+CA!AA40+CA!Z39+CA!AB39)/6+(CA!Z38+CA!AB38+CA!Z40+CA!AB40)/12-CA!AA39","v":0},{"$f":"(CA!AB38+CA!AB40+CA!AA39+CA!AC39)/6+(CA!AA38+CA!AC38+CA!AA40+CA!AC40)/12-CA!AB39","v":0},{"$f":"(CA!AC38+CA!AC40+CA!AB39+CA!AD39)/6+(CA!AB38+CA!AD38+CA!AB40+CA!AD40)/12-CA!AC39","v":0},{"$f":"(CA!AD38+CA!AD40+CA!AC39+CA!AE39)/6+(CA!AC38+CA!AE38+CA!AC40+CA!AE40)/12-CA!AD39","v":0},{"$f":"(CA!AE38+CA!AE40+CA!AD39+CA!AF39)/6+(CA!AD38+CA!AF38+CA!AD40+CA!AF40)/12-CA!AE39","v":0}]
[null,{"$f":"(CA!B39+CA!B41+CA!A40+CA!C40)/6+(CA!A39+CA!C39+CA!A41+CA!C41)/12-CA!B40","v":0},{"$f":"(CA!C39+CA!C41+CA!B40+CA!D40)/6+(CA!B39+CA!D39+CA!B41+CA!D41)/12-CA!C40","v":0},{"$f":"(CA!D39+CA!D41+CA!C40+CA!E40)/6+(CA!C39+CA!E39+CA!C41+CA!E41)/12-CA!D40","v":0},{"$f":"(CA!E39+CA!E41+CA!D40+CA!F40)/6+(CA!D39+CA!F39+CA!D41+CA!F41)/12-CA!E40","v":0},{"$f":"(CA!F39+CA!F41+CA!E40+CA!G40)/6+(CA!E39+CA!G39+CA!E41+CA!G41)/12-CA!F40","v":0},{"$f":"(CA!G39+CA!G41+CA!F40+CA!H40)/6+(CA!F39+CA!H39+CA!F41+CA!H41)/12-CA!G40","v":0},{"$f":"(CA!H39+CA!H41+CA!G40+CA!I40)/6+(CA!G39+CA!I39+CA!G41+CA!I41)/12-CA!H40","v":0},{"$f":"(CA!I39+CA!I41+CA!H40+CA!J40)/6+(CA!H39+CA!J39+CA!H41+CA!J41)/12-CA!I40","v":0},{"$f":"(CA!J39+CA!J41+CA!I40+CA!K40)/6+(CA!I39+CA!K39+CA!I41+CA!K41)/12-CA!J40","v":0},{"$f":"(CA!K39+CA!K41+CA!J40+CA!L40)/6+(CA!J39+CA!L39+CA!J41+CA!L41)/12-CA!K40","v":0},{"$f":"(CA!L39+CA!L41+CA!K40+CA!M40)/6+(CA!K39+CA!M39+CA!K41+CA!M41)/12-CA!L40","v":0},{"$f":"(CA!M39+CA!M41+CA!L40+CA!N40)/6+(CA!L39+CA!N39+CA!L41+CA!N41)/12-CA!M40","v":0},{"$f":"(CA!N39+CA!N41+CA!M40+CA!O40)/6+(CA!M39+CA!O39+CA!M41+CA!O41)/12-CA!N40","v":0},{"$f":"(CA!O39+CA!O41+CA!N40+CA!P40)/6+(CA!N39+CA!P39+CA!N41+CA!P41)/12-CA!O40","v":0},{"$f":"(CA!P39+CA!P41+CA!O40+CA!Q40)/6+(CA!O39+CA!Q39+CA!O41+CA!Q41)/12-CA!P40","v":0},{"$f":"(CA!Q39+CA!Q41+CA!P40+CA!R40)/6+(CA!P39+CA!R39+CA!P41+CA!R41)/12-CA!Q40","v":0},{"$f":"(CA!R39+CA!R41+CA!Q40+CA!S40)/6+(CA!Q39+CA!S39+CA!Q41+CA!S41)/12-CA!R40","v":0},{"$f":"(CA!S39+CA!S41+CA!R40+CA!T40)/6+(CA!R39+CA!T39+CA!R41+CA!T41)/12-CA!S40","v":0},{"$f":"(CA!T39+CA!T41+CA!S40+CA!U40)/6+(CA!S39+CA!U39+CA!S41+CA!U41)/12-CA!T40","v":0},{"$f":"(CA!U39+CA!U41+CA!T40+CA!V40)/6+(CA!T39+CA!V39+CA!T41+CA!V41)/12-CA!U40","v":0},{"$f":"(CA!V39+CA!V41+CA!U40+CA!W40)/6+(CA!U39+CA!W39+CA!U41+CA!W41)/12-CA!V40","v":0},{"$f":"(CA!W39+CA!W41+CA!V40+CA!X40)/6+(CA!V39+CA!X39+CA!V41+CA!X41)/12-CA!W40","v":0},{"$f":"(CA!X39+CA!X41+CA!W40+CA!Y40)/6+(CA!W39+CA!Y39+CA!W41+CA!Y41)/12-CA!X40","v":0},{"$f":"(CA!Y39+CA!Y41+CA!X40+CA!Z40)/6+(CA!X39+CA!Z39+CA!X41+CA!Z41)/12-CA!Y40","v":0},{"$f":"(CA!Z39+CA!Z41+CA!Y40+CA!AA40)/6+(CA!Y39+CA!AA39+CA!Y41+CA!AA41)/12-CA!Z40","v":0},{"$f":"(CA!AA39+CA!AA41+CA!Z40+CA!AB40)/6+(CA!Z39+CA!AB39+CA!Z41+CA!AB41)/12-CA!AA40","v":0},{"$f":"(CA!AB39+CA!AB41+CA!AA40+CA!AC40)/6+(CA!AA39+CA!AC39+CA!AA41+CA!AC41)/12-CA!AB40","v":0},{"$f":"(CA!AC39+CA!AC41+CA!AB40+CA!AD40)/6+(CA!AB39+CA!AD39+CA!AB41+CA!AD41)/12-CA!AC40","v":0},{"$f":"(CA!AD39+CA!AD41+CA!AC40+CA!AE40)/6+(CA!AC39+CA!AE39+CA!AC41+CA!AE41)/12-CA!AD40","v":0},{"$f":"(CA!AE39+CA!AE41+CA!AD40+CA!AF40)/6+(CA!AD39+CA!AF39+CA!AD41+CA!AF41)/12-CA!AE40","v":0}]
[null,{"$f":"(CA!B40+CA!B42+CA!A41+CA!C41)/6+(CA!A40+CA!C40+CA!A42+CA!C42)/12-CA!B41","v":0},{"$f":"(CA!C40+CA!C42+CA!B41+CA!D41)/6+(CA!B40+CA!D40+CA!B42+CA!D42)/12-CA!C41","v":0},{"$f":"(CA!D40+CA!D42+CA!C41+CA!E41)/6+(CA!C40+CA!E40+CA!C42+CA!E42)/12-CA!D41","v":0},{"$f":"(CA!E40+CA!E42+CA!D41+CA!F41)/6+(CA!D40+CA!F40+CA!D42+CA!F42)/12-CA!E41","v":0},{"$f":"(CA!F40+CA!F42+CA!E41+CA!G41)/6+(CA!E40+CA!G40+CA!E42+CA!G42)/12-CA!F41","v":0},{"$f":"(CA!G40+CA!G42+CA!F41+CA!H41)/6+(CA!F40+CA!H40+CA!F42+CA!H42)/12-CA!G41","v":0},{"$f":"(CA!H40+CA!H42+CA!G41+CA!I41)/6+(CA!G40+CA!I40+CA!G42+CA!I42)/12-CA!H41","v":0},{"$f":"(CA!I40+CA!I42+CA!H41+CA!J41)/6+(CA!H40+CA!J40+CA!H42+CA!J42)/12-CA!I41","v":0},{"$f":"(CA!J40+CA!J42+CA!I41+CA!K41)/6+(CA!I40+CA!K40+CA!I42+CA!K42)/12-CA!J41","v":0},{"$f":"(CA!K40+CA!K42+CA!J41+CA!L41)/6+(CA!J40+CA!L40+CA!J42+CA!L42)/12-CA!K41","v":0},{"$f":"(CA!L40+CA!L42+CA!K41+CA!M41)/6+(CA!K40+CA!M40+CA!K42+CA!M42)/12-CA!L41","v":0},{"$f":"(CA!M40+CA!M42+CA!L41+CA!N41)/6+(CA!L40+CA!N40+CA!L42+CA!N42)/12-CA!M41","v":0},{"$f":"(CA!N40+CA!N42+CA!M41+CA!O41)/6+(CA!M40+CA!O40+CA!M42+CA!O42)/12-CA!N41","v":0},{"$f":"(CA!O40+CA!O42+CA!N41+CA!P41)/6+(CA!N40+CA!P40+CA!N42+CA!P42)/12-CA!O41","v":0},{"$f":"(CA!P40+CA!P42+CA!O41+CA!Q41)/6+(CA!O40+CA!Q40+CA!O42+CA!Q42)/12-CA!P41","v":0},{"$f":"(CA!Q40+CA!Q42+CA!P41+CA!R41)/6+(CA!P40+CA!R40+CA!P42+CA!R42)/12-CA!Q41","v":0},{"$f":"(CA!R40+CA!R42+CA!Q41+CA!S41)/6+(CA!Q40+CA!S40+CA!Q42+CA!S42)/12-CA!R41","v":0},{"$f":"(CA!S40+CA!S42+CA!R41+CA!T41)/6+(CA!R40+CA!T40+CA!R42+CA!T42)/12-CA!S41","v":0},{"$f":"(CA!T40+CA!T42+CA!S41+CA!U41)/6+(CA!S40+CA!U40+CA!S42+CA!U42)/12-CA!T41","v":0},{"$f":"(CA!U40+CA!U42+CA!T41+CA!V41)/6+(CA!T40+CA!V40+CA!T42+CA!V42)/12-CA!U41","v":0},{"$f":"(CA!V40+CA!V42+CA!U41+CA!W41)/6+(CA!U40+CA!W40+CA!U42+CA!W42)/12-CA!V41","v":0},{"$f":"(CA!W40+CA!W42+CA!V41+CA!X41)/6+(CA!V40+CA!X40+CA!V42+CA!X42)/12-CA!W41","v":0},{"$f":"(CA!X40+CA!X42+CA!W41+CA!Y41)/6+(CA!W40+CA!Y40+CA!W42+CA!Y42)/12-CA!X41","v":0},{"$f":"(CA!Y40+CA!Y42+CA!X41+CA!Z41)/6+(CA!X40+CA!Z40+CA!X42+CA!Z42)/12-CA!Y41","v":0},{"$f":"(CA!Z40+CA!Z42+CA!Y41+CA!AA41)/6+(CA!Y40+CA!AA40+CA!Y42+CA!AA42)/12-CA!Z41","v":0},{"$f":"(CA!AA40+CA!AA42+CA!Z41+CA!AB41)/6+(CA!Z40+CA!AB40+CA!Z42+CA!AB42)/12-CA!AA41","v":0},{"$f":"(CA!AB40+CA!AB42+CA!AA41+CA!AC41)/6+(CA!AA40+CA!AC40+CA!AA42+CA!AC42)/12-CA!AB41","v":0},{"$f":"(CA!AC40+CA!AC42+CA!AB41+CA!AD41)/6+(CA!AB40+CA!AD40+CA!AB42+CA!AD42)/12-CA!AC41","v":0},{"$f":"(CA!AD40+CA!AD42+CA!AC41+CA!AE41)/6+(CA!AC40+CA!AE40+CA!AC42+CA!AE42)/12-CA!AD41","v":0},{"$f":"(CA!AE40+CA!AE42+CA!AD41+CA!AF41)/6+(CA!AD40+CA!AF40+CA!AD42+CA!AF42)/12-CA!AE41","v":0}]
[null,{"$f":"(CA!B41+CA!B43+CA!A42+CA!C42)/6+(CA!A41+CA!C41+CA!A43+CA!C43)/12-CA!B42","v":0},{"$f":"(CA!C41+CA!C43+CA!B42+CA!D42)/6+(CA!B41+CA!D41+CA!B43+CA!D43)/12-CA!C42","v":0},{"$f":"(CA!D41+CA!D43+CA!C42+CA!E42)/6+(CA!C41+CA!E41+CA!C43+CA!E43)/12-CA!D42","v":0},{"$f":"(CA!E41+CA!E43+CA!D42+CA!F42)/6+(CA!D41+CA!F41+CA!D43+CA!F43)/12-CA!E42","v":0},{"$f":"(CA!F41+CA!F43+CA!E42+CA!G42)/6+(CA!E41+CA!G41+CA!E43+CA!G43)/12-CA!F42","v":0},{"$f":"(CA!G41+CA!G43+CA!F42+CA!H42)/6+(CA!F41+CA!H41+CA!F43+CA!H43)/12-CA!G42","v":0},{"$f":"(CA!H41+CA!H43+CA!G42+CA!I42)/6+(CA!G41+CA!I41+CA!G43+CA!I43)/12-CA!H42","v":0},{"$f":"(CA!I41+CA!I43+CA!H42+CA!J42)/6+(CA!H41+CA!J41+CA!H43+CA!J43)/12-CA!I42","v":0},{"$f":"(CA!J41+CA!J43+CA!I42+CA!K42)/6+(CA!I41+CA!K41+CA!I43+CA!K43)/12-CA!J42","v":0},{"$f":"(CA!K41+CA!K43+CA!J42+CA!L42)/6+(CA!J41+CA!L41+CA!J43+CA!L43)/12-CA!K42","v":0},{"$f":"(CA!L41+CA!L43+CA!K42+CA!M42)/6+(CA!K41+CA!M41+CA!K43+CA!M43)/12-CA!L42","v":0},{"$f":"(CA!M41+CA!M43+CA!L42+CA!N42)/6+(CA!L41+CA!N41+CA!L43+CA!N43)/12-CA!M42","v":0},{"$f":"(CA!N41+CA!N43+CA!M42+CA!O42)/6+(CA!M41+CA!O41+CA!M43+CA!O43)/12-CA!N42","v":0},{"$f":"(CA!O41+CA!O43+CA!N42+CA!P42)/6+(CA!N41+CA!P41+CA!N43+CA!P43)/12-CA!O42","v":0},{"$f":"(CA!P41+CA!P43+CA!O42+CA!Q42)/6+(CA!O41+CA!Q41+CA!O43+CA!Q43)/12-CA!P42","v":0},{"$f":"(CA!Q41+CA!Q43+CA!P42+CA!R42)/6+(CA!P41+CA!R41+CA!P43+CA!R43)/12-CA!Q42","v":0},{"$f":"(CA!R41+CA!R43+CA!Q42+CA!S42)/6+(CA!Q41+CA!S41+CA!Q43+CA!S43)/12-CA!R42","v":0},{"$f":"(CA!S41+CA!S43+CA!R42+CA!T42)/6+(CA!R41+CA!T41+CA!R43+CA!T43)/12-CA!S42","v":0},{"$f":"(CA!T41+CA!T43+CA!S42+CA!U42)/6+(CA!S41+CA!U41+CA!S43+CA!U43)/12-CA!T42","v":0},{"$f":"(CA!U41+CA!U43+CA!T42+CA!V42)/6+(CA!T41+CA!V41+CA!T43+CA!V43)/12-CA!U42","v":0},{"$f":"(CA!V41+CA!V43+CA!U42+CA!W42)/6+(CA!U41+CA!W41+CA!U43+CA!W43)/12-CA!V42","v":0},{"$f":"(CA!W41+CA!W43+CA!V42+CA!X42)/6+(CA!V41+CA!X41+CA!V43+CA!X43)/12-CA!W42","v":0},{"$f":"(CA!X41+CA!X43+CA!W42+CA!Y42)/6+(CA!W41+CA!Y41+CA!W43+CA!Y43)/12-CA!X42","v":0},{"$f":"(CA!Y41+CA!Y43+CA!X42+CA!Z42)/6+(CA!X41+CA!Z41+CA!X43+CA!Z43)/12-CA!Y42","v":0},{"$f":"(CA!Z41+CA!Z43+CA!Y42+CA!AA42)/6+(CA!Y41+CA!AA41+CA!Y43+CA!AA43)/12-CA!Z42","v":0},{"$f":"(CA!AA41+CA!AA43+CA!Z42+CA!AB42)/6+(CA!Z41+CA!AB41+CA!Z43+CA!AB43)/12-CA!AA42","v":0},{"$f":"(CA!AB41+CA!AB43+CA!AA42+CA!AC42)/6+(CA!AA41+CA!AC41+CA!AA43+CA!AC43)/12-CA!AB42","v":0},{"$f":"(CA!AC41+CA!AC43+CA!AB42+CA!AD42)/6+(CA!AB41+CA!AD41+CA!AB43+CA!AD43)/12-CA!AC42","v":0},{"$f":"(CA!AD41+CA!AD43+CA!AC42+CA!AE42)/6+(CA!AC41+CA!AE41+CA!AC43+CA!AE43)/12-CA!AD42","v":0},{"$f":"(CA!AE41+CA!AE43+CA!AD42+CA!AF42)/6+(CA!AD41+CA!AF41+CA!AD43+CA!AF43)/12-CA!AE42","v":0}]
[null,{"$f":"(CA!B42+CA!B44+CA!A43+CA!C43)/6+(CA!A42+CA!C42+CA!A44+CA!C44)/12-CA!B43","v":0},{"$f":"(CA!C42+CA!C44+CA!B43+CA!D43)/6+(CA!B42+CA!D42+CA!B44+CA!D44)/12-CA!C43","v":0},{"$f":"(CA!D42+CA!D44+CA!C43+CA!E43)/6+(CA!C42+CA!E42+CA!C44+CA!E44)/12-CA!D43","v":0},{"$f":"(CA!E42+CA!E44+CA!D43+CA!F43)/6+(CA!D42+CA!F42+CA!D44+CA!F44)/12-CA!E43","v":0},{"$f":"(CA!F42+CA!F44+CA!E43+CA!G43)/6+(CA!E42+CA!G42+CA!E44+CA!G44)/12-CA!F43","v":0},{"$f":"(CA!G42+CA!G44+CA!F43+CA!H43)/6+(CA!F42+CA!H42+CA!F44+CA!H44)/12-CA!G43","v":0},{"$f":"(CA!H42+CA!H44+CA!G43+CA!I43)/6+(CA!G42+CA!I42+CA!G44+CA!I44)/12-CA!H43","v":0},{"$f":"(CA!I42+CA!I44+CA!H43+CA!J43)/6+(CA!H42+CA!J42+CA!H44+CA!J44)/12-CA!I43","v":0},{"$f":"(CA!J42+CA!J44+CA!I43+CA!K43)/6+(CA!I42+CA!K42+CA!I44+CA!K44)/12-CA!J43","v":0},{"$f":"(CA!K42+CA!K44+CA!J43+CA!L43)/6+(CA!J42+CA!L42+CA!J44+CA!L44)/12-CA!K43","v":0},{"$f":"(CA!L42+CA!L44+CA!K43+CA!M43)/6+(CA!K42+CA!M42+CA!K44+CA!M44)/12-CA!L43","v":0},{"$f":"(CA!M42+CA!M44+CA!L43+CA!N43)/6+(CA!L42+CA!N42+CA!L44+CA!N44)/12-CA!M43","v":0},{"$f":"(CA!N42+CA!N44+CA!M43+CA!O43)/6+(CA!M42+CA!O42+CA!M44+CA!O44)/12-CA!N43","v":0},{"$f":"(CA!O42+CA!O44+CA!N43+CA!P43)/6+(CA!N42+CA!P42+CA!N44+CA!P44)/12-CA!O43","v":0},{"$f":"(CA!P42+CA!P44+CA!O43+CA!Q43)/6+(CA!O42+CA!Q42+CA!O44+CA!Q44)/12-CA!P43","v":0},{"$f":"(CA!Q42+CA!Q44+CA!P43+CA!R43)/6+(CA!P42+CA!R42+CA!P44+CA!R44)/12-CA!Q43","v":0},{"$f":"(CA!R42+CA!R44+CA!Q43+CA!S43)/6+(CA!Q42+CA!S42+CA!Q44+CA!S44)/12-CA!R43","v":0},{"$f":"(CA!S42+CA!S44+CA!R43+CA!T43)/6+(CA!R42+CA!T42+CA!R44+CA!T44)/12-CA!S43","v":0},{"$f":"(CA!T42+CA!T44+CA!S43+CA!U43)/6+(CA!S42+CA!U42+CA!S44+CA!U44)/12-CA!T43","v":0},{"$f":"(CA!U42+CA!U44+CA!T43+CA!V43)/6+(CA!T42+CA!V42+CA!T44+CA!V44)/12-CA!U43","v":0},{"$f":"(CA!V42+CA!V44+CA!U43+CA!W43)/6+(CA!U42+CA!W42+CA!U44+CA!W44)/12-CA!V43","v":0},{"$f":"(CA!W42+CA!W44+CA!V43+CA!X43)/6+(CA!V42+CA!X42+CA!V44+CA!X44)/12-CA!W43","v":0},{"$f":"(CA!X42+CA!X44+CA!W43+CA!Y43)/6+(CA!W42+CA!Y42+CA!W44+CA!Y44)/12-CA!X43","v":0},{"$f":"(CA!Y42+CA!Y44+CA!X43+CA!Z43)/6+(CA!X42+CA!Z42+CA!X44+CA!Z44)/12-CA!Y43","v":0},{"$f":"(CA!Z42+CA!Z44+CA!Y43+CA!AA43)/6+(CA!Y42+CA!AA42+CA!Y44+CA!AA44)/12-CA!Z43","v":0},{"$f":"(CA!AA42+CA!AA44+CA!Z43+CA!AB43)/6+(CA!Z42+CA!AB42+CA!Z44+CA!AB44)/12-CA!AA43","v":0},{"$f":"(CA!AB42+CA!AB44+CA!AA43+CA!AC43)/6+(CA!AA42+CA!AC42+CA!AA44+CA!AC44)/12-CA!AB43","v":0},{"$f":"(CA!AC42+CA!AC44+CA!AB43+CA!AD43)/6+(CA!AB42+CA!AD42+CA!AB44+CA!AD44)/12-CA!AC43","v":0},{"$f":"(CA!AD42+CA!AD44+CA!AC43+CA!AE43)/6+(CA!AC42+CA!AE42+CA!AC44+CA!AE44)/12-CA!AD43","v":0},{"$f":"(CA!AE42+CA!AE44+CA!AD43+CA!AF43)/6+(CA!AD42+CA!AF42+CA!AD44+CA!AF44)/12-CA!AE43","v":0}]
[null,{"$f":"(CA!B43+CA!B45+CA!A44+CA!C44)/6+(CA!A43+CA!C43+CA!A45+CA!C45)/12-CA!B44","v":0},{"$f":"(CA!C43+CA!C45+CA!B44+CA!D44)/6+(CA!B43+CA!D43+CA!B45+CA!D45)/12-CA!C44","v":0},{"$f":"(CA!D43+CA!D45+CA!C44+CA!E44)/6+(CA!C43+CA!E43+CA!C45+CA!E45)/12-CA!D44","v":0},{"$f":"(CA!E43+CA!E45+CA!D44+CA!F44)/6+(CA!D43+CA!F43+CA!D45+CA!F45)/12-CA!E44","v":0},{"$f":"(CA!F43+CA!F45+CA!E44+CA!G44)/6+(CA!E43+CA!G43+CA!E45+CA!G45)/12-CA!F44","v":0},{"$f":"(CA!G43+CA!G45+CA!F44+CA!H44)/6+(CA!F43+CA!H43+CA!F45+CA!H45)/12-CA!G44","v":0},{"$f":"(CA!H43+CA!H45+CA!G44+CA!I44)/6+(CA!G43+CA!I43+CA!G45+CA!I45)/12-CA!H44","v":0},{"$f":"(CA!I43+CA!I45+CA!H44+CA!J44)/6+(CA!H43+CA!J43+CA!H45+CA!J45)/12-CA!I44","v":0},{"$f":"(CA!J43+CA!J45+CA!I44+CA!K44)/6+(CA!I43+CA!K43+CA!I45+CA!K45)/12-CA!J44","v":0},{"$f":"(CA!K43+CA!K45+CA!J44+CA!L44)/6+(CA!J43+CA!L43+CA!J45+CA!L45)/12-CA!K44","v":0},{"$f":"(CA!L43+CA!L45+CA!K44+CA!M44)/6+(CA!K43+CA!M43+CA!K45+CA!M45)/12-CA!L44","v":0},{"$f":"(CA!M43+CA!M45+CA!L44+CA!N44)/6+(CA!L43+CA!N43+CA!L45+CA!N45)/12-CA!M44","v":0},{"$f":"(CA!N43+CA!N45+CA!M44+CA!O44)/6+(CA!M43+CA!O43+CA!M45+CA!O45)/12-CA!N44","v":0},{"$f":"(CA!O43+CA!O45+CA!N44+CA!P44)/6+(CA!N43+CA!P43+CA!N45+CA!P45)/12-CA!O44","v":0},{"$f":"(CA!P43+CA!P45+CA!O44+CA!Q44)/6+(CA!O43+CA!Q43+CA!O45+CA!Q45)/12-CA!P44","v":0},{"$f":"(CA!Q43+CA!Q45+CA!P44+CA!R44)/6+(CA!P43+CA!R43+CA!P45+CA!R45)/12-CA!Q44","v":0},{"$f":"(CA!R43+CA!R45+CA!Q44+CA!S44)/6+(CA!Q43+CA!S43+CA!Q45+CA!S45)/12-CA!R44","v":0},{"$f":"(CA!S43+CA!S45+CA!R44+CA!T44)/6+(CA!R43+CA!T43+CA!R45+CA!T45)/12-CA!S44","v":0},{"$f":"(CA!T43+CA!T45+CA!S44+CA!U44)/6+(CA!S43+CA!U43+CA!S45+CA!U45)/12-CA!T44","v":0},{"$f":"(CA!U43+CA!U45+CA!T44+CA!V44)/6+(CA!T43+CA!V43+CA!T45+CA!V45)/12-CA!U44","v":0},{"$f":"(CA!V43+CA!V45+CA!U44+CA!W44)/6+(CA!U43+CA!W43+CA!U45+CA!W45)/12-CA!V44","v":0},{"$f":"(CA!W43+CA!W45+CA!V44+CA!X44)/6+(CA!V43+CA!X43+CA!V45+CA!X45)/12-CA!W44","v":0},{"$f":"(CA!X43+CA!X45+CA!W44+CA!Y44)/6+(CA!W43+CA!Y43+CA!W45+CA!Y45)/12-CA!X44","v":0},{"$f":"(CA!Y43+CA!Y45+CA!X44+CA!Z44)/6+(CA!X43+CA!Z43+CA!X45+CA!Z45)/12-CA!Y44","v":0},{"$f":"(CA!Z43+CA!Z45+CA!Y44+CA!AA44)/6+(CA!Y43+CA!AA43+CA!Y45+CA!AA45)/12-CA!Z44","v":0},{"$f":"(CA!AA43+CA!AA45+CA!Z44+CA!AB44)/6+(CA!Z43+CA!AB43+CA!Z45+CA!AB45)/12-CA!AA44","v":0},{"$f":"(CA!AB43+CA!AB45+CA!AA44+CA!AC44)/6+(CA!AA43+CA!AC43+CA!AA45+CA!AC45)/12-CA!AB44","v":0},{"$f":"(CA!AC43+CA!AC45+CA!AB44+CA!AD44)/6+(CA!AB43+CA!AD43+CA!AB45+CA!AD45)/12-CA!AC44","v":0},{"$f":"(CA!AD43+CA!AD45+CA!AC44+CA!AE44)/6+(CA!AC43+CA!AE43+CA!AC45+CA!AE45)/12-CA!AD44","v":0},{"$f":"(CA!AE43+CA!AE45+CA!AD44+CA!AF44)/6+(CA!AD43+CA!AF43+CA!AD45+CA!AF45)/12-CA!AE44","v":0}]
[null,{"$f":"(CA!B44+CA!B46+CA!A45+CA!C45)/6+(CA!A44+CA!C44+CA!A46+CA!C46)/12-CA!B45","v":0},{"$f":"(CA!C44+CA!C46+CA!B45+CA!D45)/6+(CA!B44+CA!D44+CA!B46+CA!D46)/12-CA!C45","v":0},{"$f":"(CA!D44+CA!D46+CA!C45+CA!E45)/6+(CA!C44+CA!E44+CA!C46+CA!E46)/12-CA!D45","v":0},{"$f":"(CA!E44+CA!E46+CA!D45+CA!F45)/6+(CA!D44+CA!F44+CA!D46+CA!F46)/12-CA!E45","v":0},{"$f":"(CA!F44+CA!F46+CA!E45+CA!G45)/6+(CA!E44+CA!G44+CA!E46+CA!G46)/12-CA!F45","v":0},{"$f":"(CA!G44+CA!G46+CA!F45+CA!H45)/6+(CA!F44+CA!H44+CA!F46+CA!H46)/12-CA!G45","v":0},{"$f":"(CA!H44+CA!H46+CA!G45+CA!I45)/6+(CA!G44+CA!I44+CA!G46+CA!I46)/12-CA!H45","v":0},{"$f":"(CA!I44+CA!I46+CA!H45+CA!J45)/6+(CA!H44+CA!J44+CA!H46+CA!J46)/12-CA!I45","v":0},{"$f":"(CA!J44+CA!J46+CA!I45+CA!K45)/6+(CA!I44+CA!K44+CA!I46+CA!K46)/12-CA!J45","v":0},{"$f":"(CA!K44+CA!K46+CA!J45+CA!L45)/6+(CA!J44+CA!L44+CA!J46+CA!L46)/12-CA!K45","v":0},{"$f":"(CA!L44+CA!L46+CA!K45+CA!M45)/6+(CA!K44+CA!M44+CA!K46+CA!M46)/12-CA!L45","v":0},{"$f":"(CA!M44+CA!M46+CA!L45+CA!N45)/6+(CA!L44+CA!N44+CA!L46+CA!N46)/12-CA!M45","v":0},{"$f":"(CA!N44+CA!N46+CA!M45+CA!O45)/6+(CA!M44+CA!O44+CA!M46+CA!O46)/12-CA!N45","v":0},{"$f":"(CA!O44+CA!O46+CA!N45+CA!P45)/6+(CA!N44+CA!P44+CA!N46+CA!P46)/12-CA!O45","v":0},{"$f":"(CA!P44+CA!P46+CA!O45+CA!Q45)/6+(CA!O44+CA!Q44+CA!O46+CA!Q46)/12-CA!P45","v":0},{"$f":"(CA!Q44+CA!Q46+CA!P45+CA!R45)/6+(CA!P44+CA!R44+CA!P46+CA!R46)/12-CA!Q45","v":0},{"$f":"(CA!R44+CA!R46+CA!Q45+CA!S45)/6+(CA!Q44+CA!S44+CA!Q46+CA!S46)/12-CA!R45","v":0},{"$f":"(CA!S44+CA!S46+CA!R45+CA!T45)/6+(CA!R44+CA!T44+CA!R46+CA!T46)/12-CA!S45","v":0},{"$f":"(CA!T44+CA!T46+CA!S45+CA!U45)/6+(CA!S44+CA!U44+CA!S46+CA!U46)/12-CA!T45","v":0},{"$f":"(CA!U44+CA!U46+CA!T45+CA!V45)/6+(CA!T44+CA!V44+CA!T46+CA!V46)/12-CA!U45","v":0},{"$f":"(CA!V44+CA!V46+CA!U45+CA!W45)/6+(CA!U44+CA!W44+CA!U46+CA!W46)/12-CA!V45","v":0},{"$f":"(CA!W44+CA!W46+CA!V45+CA!X45)/6+(CA!V44+CA!X44+CA!V46+CA!X46)/12-CA!W45","v":0},{"$f":"(CA!X44+CA!X46+CA!W45+CA!Y45)/6+(CA!W44+CA!Y44+CA!W46+CA!Y46)/12-CA!X45","v":0},{"$f":"(CA!Y44+CA!Y46+CA!X45+CA!Z45)/6+(CA!X44+CA!Z44+CA!X46+CA!Z46)/12-CA!Y45","v":0},{"$f":"(CA!Z44+CA!Z46+CA!Y45+CA!AA45)/6+(CA!Y44+CA!AA44+CA!Y46+CA!AA46)/12-CA!Z45","v":0},{"$f":"(CA!AA44+CA!AA46+CA!Z45+CA!AB45)/6+(CA!Z44+CA!AB44+CA!Z46+CA!AB46)/12-CA!AA45","v":0},{"$f":"(CA!AB44+CA!AB46+CA!AA45+CA!AC45)/6+(CA!AA44+CA!AC44+CA!AA46+CA!AC46)/12-CA!AB45","v":0},{"$f":"(CA!AC44+CA!AC46+CA!AB45+CA!AD45)/6+(CA!AB44+CA!AD44+CA!AB46+CA!AD46)/12-CA!AC45","v":0},{"$f":"(CA!AD44+CA!AD46+CA!AC45+CA!AE45)/6+(CA!AC44+CA!AE44+CA!AC46+CA!AE46)/12-CA!AD45","v":0},{"$f":"(CA!AE44+CA!AE46+CA!AD45+CA!AF45)/6+(CA!AD44+CA!AF44+CA!AD46+CA!AF46)/12-CA!AE45","v":0}]
[null,{"$f":"(CA!B45+CA!B47+CA!A46+CA!C46)/6+(CA!A45+CA!C45+CA!A47+CA!C47)/12-CA!B46","v":0},{"$f":"(CA!C45+CA!C47+CA!B46+CA!D46)/6+(CA!B45+CA!D45+CA!B47+CA!D47)/12-CA!C46","v":0},{"$f":"(CA!D45+CA!D47+CA!C46+CA!E46)/6+(CA!C45+CA!E45+CA!C47+CA!E47)/12-CA!D46","v":0},{"$f":"(CA!E45+CA!E47+CA!D46+CA!F46)/6+(CA!D45+CA!F45+CA!D47+CA!F47)/12-CA!E46","v":0},{"$f":"(CA!F45+CA!F47+CA!E46+CA!G46)/6+(CA!E45+CA!G45+CA!E47+CA!G47)/12-CA!F46","v":0},{"$f":"(CA!G45+CA!G47+CA!F46+CA!H46)/6+(CA!F45+CA!H45+CA!F47+CA!H47)/12-CA!G46","v":0},{"$f":"(CA!H45+CA!H47+CA!G46+CA!I46)/6+(CA!G45+CA!I45+CA!G47+CA!I47)/12-CA!H46","v":0},{"$f":"(CA!I45+CA!I47+CA!H46+CA!J46)/6+(CA!H45+CA!J45+CA!H47+CA!J47)/12-CA!I46","v":0},{"$f":"(CA!J45+CA!J47+CA!I46+CA!K46)/6+(CA!I45+CA!K45+CA!I47+CA!K47)/12-CA!J46","v":0},{"$f":"(CA!K45+CA!K47+CA!J46+CA!L46)/6+(CA!J45+CA!L45+CA!J47+CA!L47)/12-CA!K46","v":0},{"$f":"(CA!L45+CA!L47+CA!K46+CA!M46)/6+(CA!K45+CA!M45+CA!K47+CA!M47)/12-CA!L46","v":0},{"$f":"(CA!M45+CA!M47+CA!L46+CA!N46)/6+(CA!L45+CA!N45+CA!L47+CA!N47)/12-CA!M46","v":0},{"$f":"(CA!N45+CA!N47+CA!M46+CA!O46)/6+(CA!M45+CA!O45+CA!M47+CA!O47)/12-CA!N46","v":0},{"$f":"(CA!O45+CA!O47+CA!N46+CA!P46)/6+(CA!N45+CA!P45+CA!N47+CA!P47)/12-CA!O46","v":0},{"$f":"(CA!P45+CA!P47+CA!O46+CA!Q46)/6+(CA!O45+CA!Q45+CA!O47+CA!Q47)/12-CA!P46","v":0},{"$f":"(CA!Q45+CA!Q47+CA!P46+CA!R46)/6+(CA!P45+CA!R45+CA!P47+CA!R47)/12-CA!Q46","v":0},{"$f":"(CA!R45+CA!R47+CA!Q46+CA!S46)/6+(CA!Q45+CA!S45+CA!Q47+CA!S47)/12-CA!R46","v":0},{"$f":"(CA!S45+CA!S47+CA!R46+CA!T46)/6+(CA!R45+CA!T45+CA!R47+CA!T47)/12-CA!S46","v":0},{"$f":"(CA!T45+CA!T47+CA!S46+CA!U46)/6+(CA!S45+CA!U45+CA!S47+CA!U47)/12-CA!T46","v":0},{"$f":"(CA!U45+CA!U47+CA!T46+CA!V46)/6+(CA!T45+CA!V45+CA!T47+CA!V47)/12-CA!U46","v":0},{"$f":"(CA!V45+CA!V47+CA!U46+CA!W46)/6+(CA!U45+CA!W45+CA!U47+CA!W47)/12-CA!V46","v":0},{"$f":"(CA!W45+CA!W47+CA!V46+CA!X46)/6+(CA!V45+CA!X45+CA!V47+CA!X47)/12-CA!W46","v":0},{"$f":"(CA!X45+CA!X47+CA!W46+CA!Y46)/6+(CA!W45+CA!Y45+CA!W47+CA!Y47)/12-CA!X46","v":0},{"$f":"(CA!Y45+CA!Y47+CA!X46+CA!Z46)/6+(CA!X45+CA!Z45+CA!X47+CA!Z47)/12-CA!Y46","v":0},{"$f":"(CA!Z45+CA!Z47+CA!Y46+CA!AA46)/6+(CA!Y45+CA!AA45+CA!Y47+CA!AA47)/12-CA!Z46","v":0},{"$f":"(CA!AA45+CA!AA47+CA!Z46+CA!AB46)/6+(CA!Z45+CA!AB45+CA!Z47+CA!AB47)/12-CA!AA46","v":0},{"$f":"(CA!AB45+CA!AB47+CA!AA46+CA!AC46)/6+(CA!AA45+CA!AC45+CA!AA47+CA!AC47)/12-CA!AB46","v":0},{"$f":"(CA!AC45+CA!AC47+CA!AB46+CA!AD46)/6+(CA!AB45+CA!AD45+CA!AB47+CA!AD47)/12-CA!AC46","v":0},{"$f":"(CA!AD45+CA!AD47+CA!AC46+CA!AE46)/6+(CA!AC45+CA!AE45+CA!AC47+CA!AE47)/12-CA!AD46","v":0},{"$f":"(CA!AE45+CA!AE47+CA!AD46+CA!AF46)/6+(CA!AD45+CA!AF45+CA!AD47+CA!AF47)/12-CA!AE46","v":0}]
[null,{"$f":"(CA!B46+CA!B48+CA!A47+CA!C47)/6+(CA!A46+CA!C46+CA!A48+CA!C48)/12-CA!B47","v":0},{"$f":"(CA!C46+CA!C48+CA!B47+CA!D47)/6+(CA!B46+CA!D46+CA!B48+CA!D48)/12-CA!C47","v":0},{"$f":"(CA!D46+CA!D48+CA!C47+CA!E47)/6+(CA!C46+CA!E46+CA!C48+CA!E48)/12-CA!D47","v":0},{"$f":"(CA!E46+CA!E48+CA!D47+CA!F47)/6+(CA!D46+CA!F46+CA!D48+CA!F48)/12-CA!E47","v":0},{"$f":"(CA!F46+CA!F48+CA!E47+CA!G47)/6+(CA!E46+CA!G46+CA!E48+CA!G48)/12-CA!F47","v":0},{"$f":"(CA!G46+CA!G48+CA!F47+CA!H47)/6+(CA!F46+CA!H46+CA!F48+CA!H48)/12-CA!G47","v":0},{"$f":"(CA!H46+CA!H48+CA!G47+CA!I47)/6+(CA!G46+CA!I46+CA!G48+CA!I48)/12-CA!H47","v":0},{"$f":"(CA!I46+CA!I48+CA!H47+CA!J47)/6+(CA!H46+CA!J46+CA!H48+CA!J48)/12-CA!I47","v":0},{"$f":"(CA!J46+CA!J48+CA!I47+CA!K47)/6+(CA!I46+CA!K46+CA!I48+CA!K48)/12-CA!J47","v":0},{"$f":"(CA!K46+CA!K48+CA!J47+CA!L47)/6+(CA!J46+CA!L46+CA!J48+CA!L48)/12-CA!K47","v":0},{"$f":"(CA!L46+CA!L48+CA!K47+CA!M47)/6+(CA!K46+CA!M46+CA!K48+CA!M48)/12-CA!L47","v":0},{"$f":"(CA!M46+CA!M48+CA!L47+CA!N47)/6+(CA!L46+CA!N46+CA!L48+CA!N48)/12-CA!M47","v":0},{"$f":"(CA!N46+CA!N48+CA!M47+CA!O47)/6+(CA!M46+CA!O46+CA!M48+CA!O48)/12-CA!N47","v":0},{"$f":"(CA!O46+CA!O48+CA!N47+CA!P47)/6+(CA!N46+CA!P46+CA!N48+CA!P48)/12-CA!O47","v":0},{"$f":"(CA!P46+CA!P48+CA!O47+CA!Q47)/6+(CA!O46+CA!Q46+CA!O48+CA!Q48)/12-CA!P47","v":0},{"$f":"(CA!Q46+CA!Q48+CA!P47+CA!R47)/6+(CA!P46+CA!R46+CA!P48+CA!R48)/12-CA!Q47","v":0},{"$f":"(CA!R46+CA!R48+CA!Q47+CA!S47)/6+(CA!Q46+CA!S46+CA!Q48+CA!S48)/12-CA!R47","v":0},{"$f":"(CA!S46+CA!S48+CA!R47+CA!T47)/6+(CA!R46+CA!T46+CA!R48+CA!T48)/12-CA!S47","v":0},{"$f":"(CA!T46+CA!T48+CA!S47+CA!U47)/6+(CA!S46+CA!U46+CA!S48+CA!U48)/12-CA!T47","v":0},{"$f":"(CA!U46+CA!U48+CA!T47+CA!V47)/6+(CA!T46+CA!V46+CA!T48+CA!V48)/12-CA!U47","v":0},{"$f":"(CA!V46+CA!V48+CA!U47+CA!W47)/6+(CA!U46+CA!W46+CA!U48+CA!W48)/12-CA!V47","v":0},{"$f":"(CA!W46+CA!W48+CA!V47+CA!X47)/6+(CA!V46+CA!X46+CA!V48+CA!X48)/12-CA!W47","v":0},{"$f":"(CA!X46+CA!X48+CA!W47+CA!Y47)/6+(CA!W46+CA!Y46+CA!W48+CA!Y48)/12-CA!X47","v":0},{"$f":"(CA!Y46+CA!Y48+CA!X47+CA!Z47)/6+(CA!X46+CA!Z46+CA!X48+CA!Z48)/12-CA!Y47","v":0},{"$f":"(CA!Z46+CA!Z48+CA!Y47+CA!AA47)/6+(CA!Y46+CA!AA46+CA!Y48+CA!AA48)/12-CA!Z47","v":0},{"$f":"(CA!AA46+CA!AA48+CA!Z47+CA!AB47)/6+(CA!Z46+CA!AB46+CA!Z48+CA!AB48)/12-CA!AA47","v":0},{"$f":"(CA!AB46+CA!AB48+CA!AA47+CA!AC47)/6+(CA!AA46+CA!AC46+CA!AA48+CA!AC48)/12-CA!AB47","v":0},{"$f":"(CA!AC46+CA!AC48+CA!AB47+CA!AD47)/6+(CA!AB46+CA!AD46+CA!AB48+CA!AD48)/12-CA!AC47","v":0},{"$f":"(CA!AD46+CA!AD48+CA!AC47+CA!AE47)/6+(CA!AC46+CA!AE46+CA!AC48+CA!AE48)/12-CA!AD47","v":0},{"$f":"(CA!AE46+CA!AE48+CA!AD47+CA!AF47)/6+(CA!AD46+CA!AF46+CA!AD48+CA!AF48)/12-CA!AE47","v":0}]
[null,{"$f":"(CA!B47+CA!B49+CA!A48+CA!C48)/6+(CA!A47+CA!C47+CA!A49+CA!C49)/12-CA!B48","v":0},{"$f":"(CA!C47+CA!C49+CA!B48+CA!D48)/6+(CA!B47+CA!D47+CA!B49+CA!D49)/12-CA!C48","v":0},{"$f":"(CA!D47+CA!D49+CA!C48+CA!E48)/6+(CA!C47+CA!E47+CA!C49+CA!E49)/12-CA!D48","v":0},{"$f":"(CA!E47+CA!E49+CA!D48+CA!F48)/6+(CA!D47+CA!F47+CA!D49+CA!F49)/12-CA!E48","v":0},{"$f":"(CA!F47+CA!F49+CA!E48+CA!G48)/6+(CA!E47+CA!G47+CA!E49+CA!G49)/12-CA!F48","v":0},{"$f":"(CA!G47+CA!G49+CA!F48+CA!H48)/6+(CA!F47+CA!H47+CA!F49+CA!H49)/12-CA!G48","v":0},{"$f":"(CA!H47+CA!H49+CA!G48+CA!I48)/6+(CA!G47+CA!I47+CA!G49+CA!I49)/12-CA!H48","v":0},{"$f":"(CA!I47+CA!I49+CA!H48+CA!J48)/6+(CA!H47+CA!J47+CA!H49+CA!J49)/12-CA!I48","v":0},{"$f":"(CA!J47+CA!J49+CA!I48+CA!K48)/6+(CA!I47+CA!K47+CA!I49+CA!K49)/12-CA!J48","v":0},{"$f":"(CA!K47+CA!K49+CA!J48+CA!L48)/6+(CA!J47+CA!L47+CA!J49+CA!L49)/12-CA!K48","v":0},{"$f":"(CA!L47+CA!L49+CA!K48+CA!M48)/6+(CA!K47+CA!M47+CA!K49+CA!M49)/12-CA!L48","v":0},{"$f":"(CA!M47+CA!M49+CA!L48+CA!N48)/6+(CA!L47+CA!N47+CA!L49+CA!N49)/12-CA!M48","v":0},{"$f":"(CA!N47+CA!N49+CA!M48+CA!O48)/6+(CA!M47+CA!O47+CA!M49+CA!O49)/12-CA!N48","v":0},{"$f":"(CA!O47+CA!O49+CA!N48+CA!P48)/6+(CA!N47+CA!P47+CA!N49+CA!P49)/12-CA!O48","v":0},{"$f":"(CA!P47+CA!P49+CA!O48+CA!Q48)/6+(CA!O47+CA!Q47+CA!O49+CA!Q49)/12-CA!P48","v":0},{"$f":"(CA!Q47+CA!Q49+CA!P48+CA!R48)/6+(CA!P47+CA!R47+CA!P49+CA!R49)/12-CA!Q48","v":0},{"$f":"(CA!R47+CA!R49+CA!Q48+CA!S48)/6+(CA!Q47+CA!S47+CA!Q49+CA!S49)/12-CA!R48","v":0},{"$f":"(CA!S47+CA!S49+CA!R48+CA!T48)/6+(CA!R47+CA!T47+CA!R49+CA!T49)/12-CA!S48","v":0},{"$f":"(CA!T47+CA!T49+CA!S48+CA!U48)/6+(CA!S47+CA!U47+CA!S49+CA!U49)/12-CA!T48","v":0},{"$f":"(CA!U47+CA!U49+CA!T48+CA!V48)/6+(CA!T47+CA!V47+CA!T49+CA!V49)/12-CA!U48","v":0},{"$f":"(CA!V47+CA!V49+CA!U48+CA!W48)/6+(CA!U47+CA!W47+CA!U49+CA!W49)/12-CA!V48","v":0},{"$f":"(CA!W47+CA!W49+CA!V48+CA!X48)/6+(CA!V47+CA!X47+CA!V49+CA!X49)/12-CA!W48","v":0},{"$f":"(CA!X47+CA!X49+CA!W48+CA!Y48)/6+(CA!W47+CA!Y47+CA!W49+CA!Y49)/12-CA!X48","v":0},{"$f":"(CA!Y47+CA!Y49+CA!X48+CA!Z48)/6+(CA!X47+CA!Z47+CA!X49+CA!Z49)/12-CA!Y48","v":0},{"$f":"(CA!Z47+CA!Z49+CA!Y48+CA!AA48)/6+(CA!Y47+CA!AA47+CA!Y49+CA!AA49)/12-CA!Z48","v":0},{"$f":"(CA!AA47+CA!AA49+CA!Z48+CA!AB48)/6+(CA!Z47+CA!AB47+CA!Z49+CA!AB49)/12-CA!AA48","v":0},{"$f":"(CA!AB47+CA!AB49+CA!AA48+CA!AC48)/6+(CA!AA47+CA!AC47+CA!AA49+CA!AC49)/12-CA!AB48","v":0},{"$f":"(CA!AC47+CA!AC49+CA!AB48+CA!AD48)/6+(CA!AB47+CA!AD47+CA!AB49+CA!AD49)/12-CA!AC48","v":0},{"$f":"(CA!AD47+CA!AD49+CA!AC48+CA!AE48)/6+(CA!AC47+CA!AE47+CA!AC49+CA!AE49)/12-CA!AD48","v":0},{"$f":"(CA!AE47+CA!AE49+CA!AD48+CA!AF48)/6+(CA!AD47+CA!AF47+CA!AD49+CA!AF49)/12-CA!AE48","v":0}]
[null,{"$f":"(CA!B48+CA!B50+CA!A49+CA!C49)/6+(CA!A48+CA!C48+CA!A50+CA!C50)/12-CA!B49","v":0},{"$f":"(CA!C48+CA!C50+CA!B49+CA!D49)/6+(CA!B48+CA!D48+CA!B50+CA!D50)/12-CA!C49","v":0},{"$f":"(CA!D48+CA!D50+CA!C49+CA!E49)/6+(CA!C48+CA!E48+CA!C50+CA!E50)/12-CA!D49","v":0},{"$f":"(CA!E48+CA!E50+CA!D49+CA!F49)/6+(CA!D48+CA!F48+CA!D50+CA!F50)/12-CA!E49","v":0},{"$f":"(CA!F48+CA!F50+CA!E49+CA!G49)/6+(CA!E48+CA!G48+CA!E50+CA!G50)/12-CA!F49","v":0},{"$f":"(CA!G48+CA!G50+CA!F49+CA!H49)/6+(CA!F48+CA!H48+CA!F50+CA!H50)/12-CA!G49","v":0},{"$f":"(CA!H48+CA!H50+CA!G49+CA!I49)/6+(CA!G48+CA!I48+CA!G50+CA!I50)/12-CA!H49","v":0},{"$f":"(CA!I48+CA!I50+CA!H49+CA!J49)/6+(CA!H48+CA!J48+CA!H50+CA!J50)/12-CA!I49","v":0},{"$f":"(CA!J48+CA!J50+CA!I49+CA!K49)/6+(CA!I48+CA!K48+CA!I50+CA!K50)/12-CA!J49","v":0},{"$f":"(CA!K48+CA!K50+CA!J49+CA!L49)/6+(CA!J48+CA!L48+CA!J50+CA!L50)/12-CA!K49","v":0},{"$f":"(CA!L48+CA!L50+CA!K49+CA!M49)/6+(CA!K48+CA!M48+CA!K50+CA!M50)/12-CA!L49","v":0},{"$f":"(CA!M48+CA!M50+CA!L49+CA!N49)/6+(CA!L48+CA!N48+CA!L50+CA!N50)/12-CA!M49","v":0},{"$f":"(CA!N48+CA!N50+CA!M49+CA!O49)/6+(CA!M48+CA!O48+CA!M50+CA!O50)/12-CA!N49","v":0},{"$f":"(CA!O48+CA!O50+CA!N49+CA!P49)/6+(CA!N48+CA!P48+CA!N50+CA!P50)/12-CA!O49","v":0},{"$f":"(CA!P48+CA!P50+CA!O49+CA!Q49)/6+(CA!O48+CA!Q48+CA!O50+CA!Q50)/12-CA!P49","v":0},{"$f":"(CA!Q48+CA!Q50+CA!P49+CA!R49)/6+(CA!P48+CA!R48+CA!P50+CA!R50)/12-CA!Q49","v":0},{"$f":"(CA!R48+CA!R50+CA!Q49+CA!S49)/6+(CA!Q48+CA!S48+CA!Q50+CA!S50)/12-CA!R49","v":0},{"$f":"(CA!S48+CA!S50+CA!R49+CA!T49)/6+(CA!R48+CA!T48+CA!R50+CA!T50)/12-CA!S49","v":0},{"$f":"(CA!T48+CA!T50+CA!S49+CA!U49)/6+(CA!S48+CA!U48+CA!S50+CA!U50)/12-CA!T49","v":0},{"$f":"(CA!U48+CA!U50+CA!T49+CA!V49)/6+(CA!T48+CA!V48+CA!T50+CA!V50)/12-CA!U49","v":0},{"$f":"(CA!V48+CA!V50+CA!U49+CA!W49)/6+(CA!U48+CA!W48+CA!U50+CA!W50)/12-CA!V49","v":0},{"$f":"(CA!W48+CA!W50+CA!V49+CA!X49)/6+(CA!V48+CA!X48+CA!V50+CA!X50)/12-CA!W49","v":0},{"$f":"(CA!X48+CA!X50+CA!W49+CA!Y49)/6+(CA!W48+CA!Y48+CA!W50+CA!Y50)/12-CA!X49","v":0},{"$f":"(CA!Y48+CA!Y50+CA!X49+CA!Z49)/6+(CA!X48+CA!Z48+CA!X50+CA!Z50)/12-CA!Y49","v":0},{"$f":"(CA!Z48+CA!Z50+CA!Y49+CA!AA49)/6+(CA!Y48+CA!AA48+CA!Y50+CA!AA50)/12-CA!Z49","v":0},{"$f":"(CA!AA48+CA!AA50+CA!Z49+CA!AB49)/6+(CA!Z48+CA!AB48+CA!Z50+CA!AB50)/12-CA!AA49","v":0},{"$f":"(CA!AB48+CA!AB50+CA!AA49+CA!AC49)/6+(CA!AA48+CA!AC48+CA!AA50+CA!AC50)/12-CA!AB49","v":0},{"$f":"(CA!AC48+CA!AC50+CA!AB49+CA!AD49)/6+(CA!AB48+CA!AD48+CA!AB50+CA!AD50)/12-CA!AC49","v":0},{"$f":"(CA!AD48+CA!AD50+CA!AC49+CA!AE49)/6+(CA!AC48+CA!AE48+CA!AC50+CA!AE50)/12-CA!AD49","v":0},{"$f":"(CA!AE48+CA!AE50+CA!AD49+CA!AF49)/6+(CA!AD48+CA!AF48+CA!AD50+CA!AF50)/12-CA!AE49","v":0}]
[null,{"$f":"(CA!B49+CA!B51+CA!A50+CA!C50)/6+(CA!A49+CA!C49+CA!A51+CA!C51)/12-CA!B50","v":0},{"$f":"(CA!C49+CA!C51+CA!B50+CA!D50)/6+(CA!B49+CA!D49+CA!B51+CA!D51)/12-CA!C50","v":0},{"$f":"(CA!D49+CA!D51+CA!C50+CA!E50)/6+(CA!C49+CA!E49+CA!C51+CA!E51)/12-CA!D50","v":0},{"$f":"(CA!E49+CA!E51+CA!D50+CA!F50)/6+(CA!D49+CA!F49+CA!D51+CA!F51)/12-CA!E50","v":0},{"$f":"(CA!F49+CA!F51+CA!E50+CA!G50)/6+(CA!E49+CA!G49+CA!E51+CA!G51)/12-CA!F50","v":0},{"$f":"(CA!G49+CA!G51+CA!F50+CA!H50)/6+(CA!F49+CA!H49+CA!F51+CA!H51)/12-CA!G50","v":0},{"$f":"(CA!H49+CA!H51+CA!G50+CA!I50)/6+(CA!G49+CA!I49+CA!G51+CA!I51)/12-CA!H50","v":0},{"$f":"(CA!I49+CA!I51+CA!H50+CA!J50)/6+(CA!H49+CA!J49+CA!H51+CA!J51)/12-CA!I50","v":0},{"$f":"(CA!J49+CA!J51+CA!I50+CA!K50)/6+(CA!I49+CA!K49+CA!I51+CA!K51)/12-CA!J50","v":0},{"$f":"(CA!K49+CA!K51+CA!J50+CA!L50)/6+(CA!J49+CA!L49+CA!J51+CA!L51)/12-CA!K50","v":0},{"$f":"(CA!L49+CA!L51+CA!K50+CA!M50)/6+(CA!K49+CA!M49+CA!K51+CA!M51)/12-CA!L50","v":0},{"$f":"(CA!M49+CA!M51+CA!L50+CA!N50)/6+(CA!L49+CA!N49+CA!L51+CA!N51)/12-CA!M50","v":0},{"$f":"(CA!N49+CA!N51+CA!M50+CA!O50)/6+(CA!M49+CA!O49+CA!M51+CA!O51)/12-CA!N50","v":0},{"$f":"(CA!O49+CA!O51+CA!N50+CA!P50)/6+(CA!N49+CA!P49+CA!N51+CA!P51)/12-CA!O50","v":0},{"$f":"(CA!P49+CA!P51+CA!O50+CA!Q50)/6+(CA!O49+CA!Q49+CA!O51+CA!Q51)/12-CA!P50","v":0},{"$f":"(CA!Q49+CA!Q51+CA!P50+CA!R50)/6+(CA!P49+CA!R49+CA!P51+CA!R51)/12-CA!Q50","v":0},{"$f":"(CA!R49+CA!R51+CA!Q50+CA!S50)/6+(CA!Q49+CA!S49+CA!Q51+CA!S51)/12-CA!R50","v":0},{"$f":"(CA!S49+CA!S51+CA!R50+CA!T50)/6+(CA!R49+CA!T49+CA!R51+CA!T51)/12-CA!S50","v":0},{"$f":"(CA!T49+CA!T51+CA!S50+CA!U50)/6+(CA!S49+CA!U49+CA!S51+CA!U51)/12-CA!T50","v":0},{"$f":"(CA!U49+CA!U51+CA!T50+CA!V50)/6+(CA!T49+CA!V49+CA!T51+CA!V51)/12-CA!U50","v":0},{"$f":"(CA!V49+CA!V51+CA!U50+CA!W50)/6+(CA!U49+CA!W49+CA!U51+CA!W51)/12-CA!V50","v":0},{"$f":"(CA!W49+CA!W51+CA!V50+CA!X50)/6+(CA!V49+CA!X49+CA!V51+CA!X51)/12-CA!W50","v":0},{"$f":"(CA!X49+CA!X51+CA!W50+CA!Y50)/6+(CA!W49+CA!Y49+CA!W51+CA!Y51)/12-CA!X50","v":0},{"$f":"(CA!Y49+CA!Y51+CA!X50+CA!Z50)/6+(CA!X49+CA!Z49+CA!X51+CA!Z51)/12-CA!Y50","v":0},{"$f":"(CA!Z49+CA!Z51+CA!Y50+CA!AA50)/6+(CA!Y49+CA!AA49+CA!Y51+CA!AA51)/12-CA!Z50","v":0},{"$f":"(CA!AA49+CA!AA51+CA!Z50+CA!AB50)/6+(CA!Z49+CA!AB49+CA!Z51+CA!AB51)/12-CA!AA50","v":0},{"$f":"(CA!AB49+CA!AB51+CA!AA50+CA!AC50)/6+(CA!AA49+CA!AC49+CA!AA51+CA!AC51)/12-CA!AB50","v":0},{"$f":"(CA!AC49+CA!AC51+CA!AB50+CA!AD50)/6+(CA!AB49+CA!AD49+CA!AB51+CA!AD51)/12-CA!AC50","v":0},{"$f":"(CA!AD49+CA!AD51+CA!AC50+CA!AE50)/6+(CA!AC49+CA!AE49+CA!AC51+CA!AE51)/12-CA!AD50","v":0},{"$f":"(CA!AE49+CA!AE51+CA!AD50+CA!AF50)/6+(CA!AD49+CA!AF49+CA!AD51+CA!AF51)/12-CA!AE50","v":0}]
[null,{"$f":"(CA!B50+CA!B52+CA!A51+CA!C51)/6+(CA!A50+CA!C50+CA!A52+CA!C52)/12-CA!B51","v":0},{"$f":"(CA!C50+CA!C52+CA!B51+CA!D51)/6+(CA!B50+CA!D50+CA!B52+CA!D52)/12-CA!C51","v":0},{"$f":"(CA!D50+CA!D52+CA!C51+CA!E51)/6+(CA!C50+CA!E50+CA!C52+CA!E52)/12-CA!D51","v":0},{"$f":"(CA!E50+CA!E52+CA!D51+CA!F51)/6+(CA!D50+CA!F50+CA!D52+CA!F52)/12-CA!E51","v":0},{"$f":"(CA!F50+CA!F52+CA!E51+CA!G51)/6+(CA!E50+CA!G50+CA!E52+CA!G52)/12-CA!F51","v":0},{"$f":"(CA!G50+CA!G52+CA!F51+CA!H51)/6+(CA!F50+CA!H50+CA!F52+CA!H52)/12-CA!G51","v":0},{"$f":"(CA!H50+CA!H52+CA!G51+CA!I51)/6+(CA!G50+CA!I50+CA!G52+CA!I52)/12-CA!H51","v":0},{"$f":"(CA!I50+CA!I52+CA!H51+CA!J51)/6+(CA!H50+CA!J50+CA!H52+CA!J52)/12-CA!I51","v":0},{"$f":"(CA!J50+CA!J52+CA!I51+CA!K51)/6+(CA!I50+CA!K50+CA!I52+CA!K52)/12-CA!J51","v":0},{"$f":"(CA!K50+CA!K52+CA!J51+CA!L51)/6+(CA!J50+CA!L50+CA!J52+CA!L52)/12-CA!K51","v":0},{"$f":"(CA!L50+CA!L52+CA!K51+CA!M51)/6+(CA!K50+CA!M50+CA!K52+CA!M52)/12-CA!L51","v":0},{"$f":"(CA!M50+CA!M52+CA!L51+CA!N51)/6+(CA!L50+CA!N50+CA!L52+CA!N52)/12-CA!M51","v":0},{"$f":"(CA!N50+CA!N52+CA!M51+CA!O51)/6+(CA!M50+CA!O50+CA!M52+CA!O52)/12-CA!N51","v":0},{"$f":"(CA!O50+CA!O52+CA!N51+CA!P51)/6+(CA!N50+CA!P50+CA!N52+CA!P52)/12-CA!O51","v":0},{"$f":"(CA!P50+CA!P52+CA!O51+CA!Q51)/6+(CA!O50+CA!Q50+CA!O52+CA!Q52)/12-CA!P51","v":0},{"$f":"(CA!Q50+CA!Q52+CA!P51+CA!R51)/6+(CA!P50+CA!R50+CA!P52+CA!R52)/12-CA!Q51","v":0},{"$f":"(CA!R50+CA!R52+CA!Q51+CA!S51)/6+(CA!Q50+CA!S50+CA!Q52+CA!S52)/12-CA!R51","v":0},{"$f":"(CA!S50+CA!S52+CA!R51+CA!T51)/6+(CA!R50+CA!T50+CA!R52+CA!T52)/12-CA!S51","v":0},{"$f":"(CA!T50+CA!T52+CA!S51+CA!U51)/6+(CA!S50+CA!U50+CA!S52+CA!U52)/12-CA!T51","v":0},{"$f":"(CA!U50+CA!U52+CA!T51+CA!V51)/6+(CA!T50+CA!V50+CA!T52+CA!V52)/12-CA!U51","v":0},{"$f":"(CA!V50+CA!V52+CA!U51+CA!W51)/6+(CA!U50+CA!W50+CA!U52+CA!W52)/12-CA!V51","v":0},{"$f":"(CA!W50+CA!W52+CA!V51+CA!X51)/6+(CA!V50+CA!X50+CA!V52+CA!X52)/12-CA!W51","v":0},{"$f":"(CA!X50+CA!X52+CA!W51+CA!Y51)/6+(CA!W50+CA!Y50+CA!W52+CA!Y52)/12-CA!X51","v":0},{"$f":"(CA!Y50+CA!Y52+CA!X51+CA!Z51)/6+(CA!X50+CA!Z50+CA!X52+CA!Z52)/12-CA!Y51","v":0},{"$f":"(CA!Z50+CA!Z52+CA!Y51+CA!AA51)/6+(CA!Y50+CA!AA50+CA!Y52+CA!AA52)/12-CA!Z51","v":0},{"$f":"(CA!AA50+CA!AA52+CA!Z51+CA!AB51)/6+(CA!Z50+CA!AB50+CA!Z52+CA!AB52)/12-CA!AA51","v":0},{"$f":"(CA!AB50+CA!AB52+CA!AA51+CA!AC51)/6+(CA!AA50+CA!AC50+CA!AA52+CA!AC52)/12-CA!AB51","v":0},{"$f":"(CA!AC50+CA!AC52+CA!AB51+CA!AD51)/6+(CA!AB50+CA!AD50+CA!AB52+CA!AD52)/12-CA!AC51","v":0},{"$f":"(CA!AD50+CA!AD52+CA!AC51+CA!AE51)/6+(CA!AC50+CA!AE50+CA!AC52+CA!AE52)/12-CA!AD51","v":0},{"$f":"(CA!AE50+CA!AE52+CA!AD51+CA!AF51)/6+(CA!AD50+CA!AF50+CA!AD52+CA!AF52)/12-CA!AE51","v":0}]
[null,{"$f":"(CA!B51+CA!B53+CA!A52+CA!C52)/6+(CA!A51+CA!C51+CA!A53+CA!C53)/12-CA!B52","v":0},{"$f":"(CA!C51+CA!C53+CA!B52+CA!D52)/6+(CA!B51+CA!D51+CA!B53+CA!D53)/12-CA!C52","v":0},{"$f":"(CA!D51+CA!D53+CA!C52+CA!E52)/6+(CA!C51+CA!E51+CA!C53+CA!E53)/12-CA!D52","v":0},{"$f":"(CA!E51+CA!E53+CA!D52+CA!F52)/6+(CA!D51+CA!F51+CA!D53+CA!F53)/12-CA!E52","v":0},{"$f":"(CA!F51+CA!F53+CA!E52+CA!G52)/6+(CA!E51+CA!G51+CA!E53+CA!G53)/12-CA!F52","v":0},{"$f":"(CA!G51+CA!G53+CA!F52+CA!H52)/6+(CA!F51+CA!H51+CA!F53+CA!H53)/12-CA!G52","v":0},{"$f":"(CA!H51+CA!H53+CA!G52+CA!I52)/6+(CA!G51+CA!I51+CA!G53+CA!I53)/12-CA!H52","v":0},{"$f":"(CA!I51+CA!I53+CA!H52+CA!J52)/6+(CA!H51+CA!J51+CA!H53+CA!J53)/12-CA!I52","v":0},{"$f":"(CA!J51+CA!J53+CA!I52+CA!K52)/6+(CA!I51+CA!K51+CA!I53+CA!K53)/12-CA!J52","v":0},{"$f":"(CA!K51+CA!K53+CA!J52+CA!L52)/6+(CA!J51+CA!L51+CA!J53+CA!L53)/12-CA!K52","v":0},{"$f":"(CA!L51+CA!L53+CA!K52+CA!M52)/6+(CA!K51+CA!M51+CA!K53+CA!M53)/12-CA!L52","v":0},{"$f":"(CA!M51+CA!M53+CA!L52+CA!N52)/6+(CA!L51+CA!N51+CA!L53+CA!N53)/12-CA!M52","v":0},{"$f":"(CA!N51+CA!N53+CA!M52+CA!O52)/6+(CA!M51+CA!O51+CA!M53+CA!O53)/12-CA!N52","v":0},{"$f":"(CA!O51+CA!O53+CA!N52+CA!P52)/6+(CA!N51+CA!P51+CA!N53+CA!P53)/12-CA!O52","v":0},{"$f":"(CA!P51+CA!P53+CA!O52+CA!Q52)/6+(CA!O51+CA!Q51+CA!O53+CA!Q53)/12-CA!P52","v":0},{"$f":"(CA!Q51+CA!Q53+CA!P52+CA!R52)/6+(CA!P51+CA!R51+CA!P53+CA!R53)/12-CA!Q52","v":0},{"$f":"(CA!R51+CA!R53+CA!Q52+CA!S52)/6+(CA!Q51+CA!S51+CA!Q53+CA!S53)/12-CA!R52","v":0},{"$f":"(CA!S51+CA!S53+CA!R52+CA!T52)/6+(CA!R51+CA!T51+CA!R53+CA!T53)/12-CA!S52","v":0},{"$f":"(CA!T51+CA!T53+CA!S52+CA!U52)/6+(CA!S51+CA!U51+CA!S53+CA!U53)/12-CA!T52","v":0},{"$f":"(CA!U51+CA!U53+CA!T52+CA!V52)/6+(CA!T51+CA!V51+CA!T53+CA!V53)/12-CA!U52","v":0},{"$f":"(CA!V51+CA!V53+CA!U52+CA!W52)/6+(CA!U51+CA!W51+CA!U53+CA!W53)/12-CA!V52","v":0},{"$f":"(CA!W51+CA!W53+CA!V52+CA!X52)/6+(CA!V51+CA!X51+CA!V53+CA!X53)/12-CA!W52","v":0},{"$f":"(CA!X51+CA!X53+CA!W52+CA!Y52)/6+(CA!W51+CA!Y51+CA!W53+CA!Y53)/12-CA!X52","v":0},{"$f":"(CA!Y51+CA!Y53+CA!X52+CA!Z52)/6+(CA!X51+CA!Z51+CA!X53+CA!Z53)/12-CA!Y52","v":0},{"$f":"(CA!Z51+CA!Z53+CA!Y52+CA!AA52)/6+(CA!Y51+CA!AA51+CA!Y53+CA!AA53)/12-CA!Z52","v":0},{"$f":"(CA!AA51+CA!AA53+CA!Z52+CA!AB52)/6+(CA!Z51+CA!AB51+CA!Z53+CA!AB53)/12-CA!AA52","v":0},{"$f":"(CA!AB51+CA!AB53+CA!AA52+CA!AC52)/6+(CA!AA51+CA!AC51+CA!AA53+CA!AC53)/12-CA!AB52","v":0},{"$f":"(CA!AC51+CA!AC53+CA!AB52+CA!AD52)/6+(CA!AB51+CA!AD51+CA!AB53+CA!AD53)/12-CA!AC52","v":0},{"$f":"(CA!AD51+CA!AD53+CA!AC52+CA!AE52)/6+(CA!AC51+CA!AE51+CA!AC53+CA!AE53)/12-CA!AD52","v":0},{"$f":"(CA!AE51+CA!AE53+CA!AD52+CA!AF52)/6+(CA!AD51+CA!AF51+CA!AD53+CA!AF53)/12-CA!AE52","v":0}]
[null,{"$f":"(CA!B52+CA!B54+CA!A53+CA!C53)/6+(CA!A52+CA!C52+CA!A54+CA!C54)/12-CA!B53","v":0},{"$f":"(CA!C52+CA!C54+CA!B53+CA!D53)/6+(CA!B52+CA!D52+CA!B54+CA!D54)/12-CA!C53","v":0},{"$f":"(CA!D52+CA!D54+CA!C53+CA!E53)/6+(CA!C52+CA!E52+CA!C54+CA!E54)/12-CA!D53","v":0},{"$f":"(CA!E52+CA!E54+CA!D53+CA!F53)/6+(CA!D52+CA!F52+CA!D54+CA!F54)/12-CA!E53","v":0},{"$f":"(CA!F52+CA!F54+CA!E53+CA!G53)/6+(CA!E52+CA!G52+CA!E54+CA!G54)/12-CA!F53","v":0},{"$f":"(CA!G52+CA!G54+CA!F53+CA!H53)/6+(CA!F52+CA!H52+CA!F54+CA!H54)/12-CA!G53","v":0},{"$f":"(CA!H52+CA!H54+CA!G53+CA!I53)/6+(CA!G52+CA!I52+CA!G54+CA!I54)/12-CA!H53","v":0},{"$f":"(CA!I52+CA!I54+CA!H53+CA!J53)/6+(CA!H52+CA!J52+CA!H54+CA!J54)/12-CA!I53","v":0},{"$f":"(CA!J52+CA!J54+CA!I53+CA!K53)/6+(CA!I52+CA!K52+CA!I54+CA!K54)/12-CA!J53","v":0},{"$f":"(CA!K52+CA!K54+CA!J53+CA!L53)/6+(CA!J52+CA!L52+CA!J54+CA!L54)/12-CA!K53","v":0},{"$f":"(CA!L52+CA!L54+CA!K53+CA!M53)/6+(CA!K52+CA!M52+CA!K54+CA!M54)/12-CA!L53","v":0},{"$f":"(CA!M52+CA!M54+CA!L53+CA!N53)/6+(CA!L52+CA!N52+CA!L54+CA!N54)/12-CA!M53","v":0},{"$f":"(CA!N52+CA!N54+CA!M53+CA!O53)/6+(CA!M52+CA!O52+CA!M54+CA!O54)/12-CA!N53","v":0},{"$f":"(CA!O52+CA!O54+CA!N53+CA!P53)/6+(CA!N52+CA!P52+CA!N54+CA!P54)/12-CA!O53","v":0},{"$f":"(CA!P52+CA!P54+CA!O53+CA!Q53)/6+(CA!O52+CA!Q52+CA!O54+CA!Q54)/12-CA!P53","v":0},{"$f":"(CA!Q52+CA!Q54+CA!P53+CA!R53)/6+(CA!P52+CA!R52+CA!P54+CA!R54)/12-CA!Q53","v":0},{"$f":"(CA!R52+CA!R54+CA!Q53+CA!S53)/6+(CA!Q52+CA!S52+CA!Q54+CA!S54)/12-CA!R53","v":0},{"$f":"(CA!S52+CA!S54+CA!R53+CA!T53)/6+(CA!R52+CA!T52+CA!R54+CA!T54)/12-CA!S53","v":0},{"$f":"(CA!T52+CA!T54+CA!S53+CA!U53)/6+(CA!S52+CA!U52+CA!S54+CA!U54)/12-CA!T53","v":0},{"$f":"(CA!U52+CA!U54+CA!T53+CA!V53)/6+(CA!T52+CA!V52+CA!T54+CA!V54)/12-CA!U53","v":0},{"$f":"(CA!V52+CA!V54+CA!U53+CA!W53)/6+(CA!U52+CA!W52+CA!U54+CA!W54)/12-CA!V53","v":0},{"$f":"(CA!W52+CA!W54+CA!V53+CA!X53)/6+(CA!V52+CA!X52+CA!V54+CA!X54)/12-CA!W53","v":0},{"$f":"(CA!X52+CA!X54+CA!W53+CA!Y53)/6+(CA!W52+CA!Y52+CA!W54+CA!Y54)/12-CA!X53","v":0},{"$f":"(CA!Y52+CA!Y54+CA!X53+CA!Z53)/6+(CA!X52+CA!Z52+CA!X54+CA!Z54)/12-CA!Y53","v":0},{"$f":"(CA!Z52+CA!Z54+CA!Y53+CA!AA53)/6+(CA!Y52+CA!AA52+CA!Y54+CA!AA54)/12-CA!Z53","v":0},{"$f":"(CA!AA52+CA!AA54+CA!Z53+CA!AB53)/6+(CA!Z52+CA!AB52+CA!Z54+CA!AB54)/12-CA!AA53","v":0},{"$f":"(CA!AB52+CA!AB54+CA!AA53+CA!AC53)/6+(CA!AA52+CA!AC52+CA!AA54+CA!AC54)/12-CA!AB53","v":0},{"$f":"(CA!AC52+CA!AC54+CA!AB53+CA!AD53)/6+(CA!AB52+CA!AD52+CA!AB54+CA!AD54)/12-CA!AC53","v":0},{"$f":"(CA!AD52+CA!AD54+CA!AC53+CA!AE53)/6+(CA!AC52+CA!AE52+CA!AC54+CA!AE54)/12-CA!AD53","v":0},{"$f":"(CA!AE52+CA!AE54+CA!AD53+CA!AF53)/6+(CA!AD52+CA!AF52+CA!AD54+CA!AF54)/12-CA!AE53","v":0}]
[null,{"$f":"(CA!B53+CA!B55+CA!A54+CA!C54)/6+(CA!A53+CA!C53+CA!A55+CA!C55)/12-CA!B54","v":0},{"$f":"(CA!C53+CA!C55+CA!B54+CA!D54)/6+(CA!B53+CA!D53+CA!B55+CA!D55)/12-CA!C54","v":0},{"$f":"(CA!D53+CA!D55+CA!C54+CA!E54)/6+(CA!C53+CA!E53+CA!C55+CA!E55)/12-CA!D54","v":0},{"$f":"(CA!E53+CA!E55+CA!D54+CA!F54)/6+(CA!D53+CA!F53+CA!D55+CA!F55)/12-CA!E54","v":0},{"$f":"(CA!F53+CA!F55+CA!E54+CA!G54)/6+(CA!E53+CA!G53+CA!E55+CA!G55)/12-CA!F54","v":0},{"$f":"(CA!G53+CA!G55+CA!F54+CA!H54)/6+(CA!F53+CA!H53+CA!F55+CA!H55)/12-CA!G54","v":0},{"$f":"(CA!H53+CA!H55+CA!G54+CA!I54)/6+(CA!G53+CA!I53+CA!G55+CA!I55)/12-CA!H54","v":0},{"$f":"(CA!I53+CA!I55+CA!H54+CA!J54)/6+(CA!H53+CA!J53+CA!H55+CA!J55)/12-CA!I54","v":0},{"$f":"(CA!J53+CA!J55+CA!I54+CA!K54)/6+(CA!I53+CA!K53+CA!I55+CA!K55)/12-CA!J54","v":0},{"$f":"(CA!K53+CA!K55+CA!J54+CA!L54)/6+(CA!J53+CA!L53+CA!J55+CA!L55)/12-CA!K54","v":0},{"$f":"(CA!L53+CA!L55+CA!K54+CA!M54)/6+(CA!K53+CA!M53+CA!K55+CA!M55)/12-CA!L54","v":0},{"$f":"(CA!M53+CA!M55+CA!L54+CA!N54)/6+(CA!L53+CA!N53+CA!L55+CA!N55)/12-CA!M54","v":0},{"$f":"(CA!N53+CA!N55+CA!M54+CA!O54)/6+(CA!M53+CA!O53+CA!M55+CA!O55)/12-CA!N54","v":0},{"$f":"(CA!O53+CA!O55+CA!N54+CA!P54)/6+(CA!N53+CA!P53+CA!N55+CA!P55)/12-CA!O54","v":0},{"$f":"(CA!P53+CA!P55+CA!O54+CA!Q54)/6+(CA!O53+CA!Q53+CA!O55+CA!Q55)/12-CA!P54","v":0},{"$f":"(CA!Q53+CA!Q55+CA!P54+CA!R54)/6+(CA!P53+CA!R53+CA!P55+CA!R55)/12-CA!Q54","v":0},{"$f":"(CA!R53+CA!R55+CA!Q54+CA!S54)/6+(CA!Q53+CA!S53+CA!Q55+CA!S55)/12-CA!R54","v":0},{"$f":"(CA!S53+CA!S55+CA!R54+CA!T54)/6+(CA!R53+CA!T53+CA!R55+CA!T55)/12-CA!S54","v":0},{"$f":"(CA!T53+CA!T55+CA!S54+CA!U54)/6+(CA!S53+CA!U53+CA!S55+CA!U55)/12-CA!T54","v":0},{"$f":"(CA!U53+CA!U55+CA!T54+CA!V54)/6+(CA!T53+CA!V53+CA!T55+CA!V55)/12-CA!U54","v":0},{"$f":"(CA!V53+CA!V55+CA!U54+CA!W54)/6+(CA!U53+CA!W53+CA!U55+CA!W55)/12-CA!V54","v":0},{"$f":"(CA!W53+CA!W55+CA!V54+CA!X54)/6+(CA!V53+CA!X53+CA!V55+CA!X55)/12-CA!W54","v":0},{"$f":"(CA!X53+CA!X55+CA!W54+CA!Y54)/6+(CA!W53+CA!Y53+CA!W55+CA!Y55)/12-CA!X54","v":0},{"$f":"(CA!Y53+CA!Y55+CA!X54+CA!Z54)/6+(CA!X53+CA!Z53+CA!X55+CA!Z55)/12-CA!Y54","v":0},{"$f":"(CA!Z53+CA!Z55+CA!Y54+CA!AA54)/6+(CA!Y53+CA!AA53+CA!Y55+CA!AA55)/12-CA!Z54","v":0},{"$f":"(CA!AA53+CA!AA55+CA!Z54+CA!AB54)/6+(CA!Z53+CA!AB53+CA!Z55+CA!AB55)/12-CA!AA54","v":0},{"$f":"(CA!AB53+CA!AB55+CA!AA54+CA!AC54)/6+(CA!AA53+CA!AC53+CA!AA55+CA!AC55)/12-CA!AB54","v":0},{"$f":"(CA!AC53+CA!AC55+CA!AB54+CA!AD54)/6+(CA!AB53+CA!AD53+CA!AB55+CA!AD55)/12-CA!AC54","v":0},{"$f":"(CA!AD53+CA!AD55+CA!AC54+CA!AE54)/6+(CA!AC53+CA!AE53+CA!AC55+CA!AE55)/12-CA!AD54","v":0},{"$f":"(CA!AE53+CA!AE55+CA!AD54+CA!AF54)/6+(CA!AD53+CA!AF53+CA!AD55+CA!AF55)/12-CA!AE54","v":0}]
[null,{"$f":"(CA!B54+CA!B56+CA!A55+CA!C55)/6+(CA!A54+CA!C54+CA!A56+CA!C56)/12-CA!B55","v":0},{"$f":"(CA!C54+CA!C56+CA!B55+CA!D55)/6+(CA!B54+CA!D54+CA!B56+CA!D56)/12-CA!C55","v":0},{"$f":"(CA!D54+CA!D56+CA!C55+CA!E55)/6+(CA!C54+CA!E54+CA!C56+CA!E56)/12-CA!D55","v":0},{"$f":"(CA!E54+CA!E56+CA!D55+CA!F55)/6+(CA!D54+CA!F54+CA!D56+CA!F56)/12-CA!E55","v":0},{"$f":"(CA!F54+CA!F56+CA!E55+CA!G55)/6+(CA!E54+CA!G54+CA!E56+CA!G56)/12-CA!F55","v":0},{"$f":"(CA!G54+CA!G56+CA!F55+CA!H55)/6+(CA!F54+CA!H54+CA!F56+CA!H56)/12-CA!G55","v":0},{"$f":"(CA!H54+CA!H56+CA!G55+CA!I55)/6+(CA!G54+CA!I54+CA!G56+CA!I56)/12-CA!H55","v":0},{"$f":"(CA!I54+CA!I56+CA!H55+CA!J55)/6+(CA!H54+CA!J54+CA!H56+CA!J56)/12-CA!I55","v":0},{"$f":"(CA!J54+CA!J56+CA!I55+CA!K55)/6+(CA!I54+CA!K54+CA!I56+CA!K56)/12-CA!J55","v":0},{"$f":"(CA!K54+CA!K56+CA!J55+CA!L55)/6+(CA!J54+CA!L54+CA!J56+CA!L56)/12-CA!K55","v":0},{"$f":"(CA!L54+CA!L56+CA!K55+CA!M55)/6+(CA!K54+CA!M54+CA!K56+CA!M56)/12-CA!L55","v":0},{"$f":"(CA!M54+CA!M56+CA!L55+CA!N55)/6+(CA!L54+CA!N54+CA!L56+CA!N56)/12-CA!M55","v":0},{"$f":"(CA!N54+CA!N56+CA!M55+CA!O55)/6+(CA!M54+CA!O54+CA!M56+CA!O56)/12-CA!N55","v":0},{"$f":"(CA!O54+CA!O56+CA!N55+CA!P55)/6+(CA!N54+CA!P54+CA!N56+CA!P56)/12-CA!O55","v":0},{"$f":"(CA!P54+CA!P56+CA!O55+CA!Q55)/6+(CA!O54+CA!Q54+CA!O56+CA!Q56)/12-CA!P55","v":0},{"$f":"(CA!Q54+CA!Q56+CA!P55+CA!R55)/6+(CA!P54+CA!R54+CA!P56+CA!R56)/12-CA!Q55","v":0},{"$f":"(CA!R54+CA!R56+CA!Q55+CA!S55)/6+(CA!Q54+CA!S54+CA!Q56+CA!S56)/12-CA!R55","v":0},{"$f":"(CA!S54+CA!S56+CA!R55+CA!T55)/6+(CA!R54+CA!T54+CA!R56+CA!T56)/12-CA!S55","v":0},{"$f":"(CA!T54+CA!T56+CA!S55+CA!U55)/6+(CA!S54+CA!U54+CA!S56+CA!U56)/12-CA!T55","v":0},{"$f":"(CA!U54+CA!U56+CA!T55+CA!V55)/6+(CA!T54+CA!V54+CA!T56+CA!V56)/12-CA!U55","v":0},{"$f":"(CA!V54+CA!V56+CA!U55+CA!W55)/6+(CA!U54+CA!W54+CA!U56+CA!W56)/12-CA!V55","v":0},{"$f":"(CA!W54+CA!W56+CA!V55+CA!X55)/6+(CA!V54+CA!X54+CA!V56+CA!X56)/12-CA!W55","v":0},{"$f":"(CA!X54+CA!X56+CA!W55+CA!Y55)/6+(CA!W54+CA!Y54+CA!W56+CA!Y56)/12-CA!X55","v":0},{"$f":"(CA!Y54+CA!Y56+CA!X55+CA!Z55)/6+(CA!X54+CA!Z54+CA!X56+CA!Z56)/12-CA!Y55","v":0},{"$f":"(CA!Z54+CA!Z56+CA!Y55+CA!AA55)/6+(CA!Y54+CA!AA54+CA!Y56+CA!AA56)/12-CA!Z55","v":0},{"$f":"(CA!AA54+CA!AA56+CA!Z55+CA!AB55)/6+(CA!Z54+CA!AB54+CA!Z56+CA!AB56)/12-CA!AA55","v":0},{"$f":"(CA!AB54+CA!AB56+CA!AA55+CA!AC55)/6+(CA!AA54+CA!AC54+CA!AA56+CA!AC56)/12-CA!AB55","v":0},{"$f":"(CA!AC54+CA!AC56+CA!AB55+CA!AD55)/6+(CA!AB54+CA!AD54+CA!AB56+CA!AD56)/12-CA!AC55","v":0},{"$f":"(CA!AD54+CA!AD56+CA!AC55+CA!AE55)/6+(CA!AC54+CA!AE54+CA!AC56+CA!AE56)/12-CA!AD55","v":0},{"$f":"(CA!AE54+CA!AE56+CA!AD55+CA!AF55)/6+(CA!AD54+CA!AF54+CA!AD56+CA!AF56)/12-CA!AE55","v":0}]
[null,{"$f":"(CA!B55+CA!B57+CA!A56+CA!C56)/6+(CA!A55+CA!C55+CA!A57+CA!C57)/12-CA!B56","v":0},{"$f":"(CA!C55+CA!C57+CA!B56+CA!D56)/6+(CA!B55+CA!D55+CA!B57+CA!D57)/12-CA!C56","v":0},{"$f":"(CA!D55+CA!D57+CA!C56+CA!E56)/6+(CA!C55+CA!E55+CA!C57+CA!E57)/12-CA!D56","v":0},{"$f":"(CA!E55+CA!E57+CA!D56+CA!F56)/6+(CA!D55+CA!F55+CA!D57+CA!F57)/12-CA!E56","v":0},{"$f":"(CA!F55+CA!F57+CA!E56+CA!G56)/6+(CA!E55+CA!G55+CA!E57+CA!G57)/12-CA!F56","v":0},{"$f":"(CA!G55+CA!G57+CA!F56+CA!H56)/6+(CA!F55+CA!H55+CA!F57+CA!H57)/12-CA!G56","v":0},{"$f":"(CA!H55+CA!H57+CA!G56+CA!I56)/6+(CA!G55+CA!I55+CA!G57+CA!I57)/12-CA!H56","v":0},{"$f":"(CA!I55+CA!I57+CA!H56+CA!J56)/6+(CA!H55+CA!J55+CA!H57+CA!J57)/12-CA!I56","v":0},{"$f":"(CA!J55+CA!J57+CA!I56+CA!K56)/6+(CA!I55+CA!K55+CA!I57+CA!K57)/12-CA!J56","v":0},{"$f":"(CA!K55+CA!K57+CA!J56+CA!L56)/6+(CA!J55+CA!L55+CA!J57+CA!L57)/12-CA!K56","v":0},{"$f":"(CA!L55+CA!L57+CA!K56+CA!M56)/6+(CA!K55+CA!M55+CA!K57+CA!M57)/12-CA!L56","v":0},{"$f":"(CA!M55+CA!M57+CA!L56+CA!N56)/6+(CA!L55+CA!N55+CA!L57+CA!N57)/12-CA!M56","v":0},{"$f":"(CA!N55+CA!N57+CA!M56+CA!O56)/6+(CA!M55+CA!O55+CA!M57+CA!O57)/12-CA!N56","v":0},{"$f":"(CA!O55+CA!O57+CA!N56+CA!P56)/6+(CA!N55+CA!P55+CA!N57+CA!P57)/12-CA!O56","v":0},{"$f":"(CA!P55+CA!P57+CA!O56+CA!Q56)/6+(CA!O55+CA!Q55+CA!O57+CA!Q57)/12-CA!P56","v":0},{"$f":"(CA!Q55+CA!Q57+CA!P56+CA!R56)/6+(CA!P55+CA!R55+CA!P57+CA!R57)/12-CA!Q56","v":0},{"$f":"(CA!R55+CA!R57+CA!Q56+CA!S56)/6+(CA!Q55+CA!S55+CA!Q57+CA!S57)/12-CA!R56","v":0},{"$f":"(CA!S55+CA!S57+CA!R56+CA!T56)/6+(CA!R55+CA!T55+CA!R57+CA!T57)/12-CA!S56","v":0},{"$f":"(CA!T55+CA!T57+CA!S56+CA!U56)/6+(CA!S55+CA!U55+CA!S57+CA!U57)/12-CA!T56","v":0},{"$f":"(CA!U55+CA!U57+CA!T56+CA!V56)/6+(CA!T55+CA!V55+CA!T57+CA!V57)/12-CA!U56","v":0},{"$f":"(CA!V55+CA!V57+CA!U56+CA!W56)/6+(CA!U55+CA!W55+CA!U57+CA!W57)/12-CA!V56","v":0},{"$f":"(CA!W55+CA!W57+CA!V56+CA!X56)/6+(CA!V55+CA!X55+CA!V57+CA!X57)/12-CA!W56","v":0},{"$f":"(CA!X55+CA!X57+CA!W56+CA!Y56)/6+(CA!W55+CA!Y55+CA!W57+CA!Y57)/12-CA!X56","v":0},{"$f":"(CA!Y55+CA!Y57+CA!X56+CA!Z56)/6+(CA!X55+CA!Z55+CA!X57+CA!Z57)/12-CA!Y56","v":0},{"$f":"(CA!Z55+CA!Z57+CA!Y56+CA!AA56)/6+(CA!Y55+CA!AA55+CA!Y57+CA!AA57)/12-CA!Z56","v":0},{"$f":"(CA!AA55+CA!AA57+CA!Z56+CA!AB56)/6+(CA!Z55+CA!AB55+CA!Z57+CA!AB57)/12-CA!AA56","v":0},{"$f":"(CA!AB55+CA!AB57+CA!AA56+CA!AC56)/6+(CA!AA55+CA!AC55+CA!AA57+CA!AC57)/12-CA!AB56","v":0},{"$f":"(CA!AC55+CA!AC57+CA!AB56+CA!AD56)/6+(CA!AB55+CA!AD55+CA!AB57+CA!AD57)/12-CA!AC56","v":0},{"$f":"(CA!AD55+CA!AD57+CA!AC56+CA!AE56)/6+(CA!AC55+CA!AE55+CA!AC57+CA!AE57)/12-CA!AD56","v":0},{"$f":"(CA!AE55+CA!AE57+CA!AD56+CA!AF56)/6+(CA!AD55+CA!AF55+CA!AD57+CA!AF57)/12-CA!AE56","v":0}]
[null,{"$f":"(CA!B56+CA!B58+CA!A57+CA!C57)/6+(CA!A56+CA!C56+CA!A58+CA!C58)/12-CA!B57","v":0},{"$f":"(CA!C56+CA!C58+CA!B57+CA!D57)/6+(CA!B56+CA!D56+CA!B58+CA!D58)/12-CA!C57","v":0},{"$f":"(CA!D56+CA!D58+CA!C57+CA!E57)/6+(CA!C56+CA!E56+CA!C58+CA!E58)/12-CA!D57","v":0},{"$f":"(CA!E56+CA!E58+CA!D57+CA!F57)/6+(CA!D56+CA!F56+CA!D58+CA!F58)/12-CA!E57","v":0},{"$f":"(CA!F56+CA!F58+CA!E57+CA!G57)/6+(CA!E56+CA!G56+CA!E58+CA!G58)/12-CA!F57","v":0},{"$f":"(CA!G56+CA!G58+CA!F57+CA!H57)/6+(CA!F56+CA!H56+CA!F58+CA!H58)/12-CA!G57","v":0},{"$f":"(CA!H56+CA!H58+CA!G57+CA!I57)/6+(CA!G56+CA!I56+CA!G58+CA!I58)/12-CA!H57","v":0},{"$f":"(CA!I56+CA!I58+CA!H57+CA!J57)/6+(CA!H56+CA!J56+CA!H58+CA!J58)/12-CA!I57","v":0},{"$f":"(CA!J56+CA!J58+CA!I57+CA!K57)/6+(CA!I56+CA!K56+CA!I58+CA!K58)/12-CA!J57","v":0},{"$f":"(CA!K56+CA!K58+CA!J57+CA!L57)/6+(CA!J56+CA!L56+CA!J58+CA!L58)/12-CA!K57","v":0},{"$f":"(CA!L56+CA!L58+CA!K57+CA!M57)/6+(CA!K56+CA!M56+CA!K58+CA!M58)/12-CA!L57","v":0},{"$f":"(CA!M56+CA!M58+CA!L57+CA!N57)/6+(CA!L56+CA!N56+CA!L58+CA!N58)/12-CA!M57","v":0},{"$f":"(CA!N56+CA!N58+CA!M57+CA!O57)/6+(CA!M56+CA!O56+CA!M58+CA!O58)/12-CA!N57","v":0},{"$f":"(CA!O56+CA!O58+CA!N57+CA!P57)/6+(CA!N56+CA!P56+CA!N58+CA!P58)/12-CA!O57","v":0},{"$f":"(CA!P56+CA!P58+CA!O57+CA!Q57)/6+(CA!O56+CA!Q56+CA!O58+CA!Q58)/12-CA!P57","v":0},{"$f":"(CA!Q56+CA!Q58+CA!P57+CA!R57)/6+(CA!P56+CA!R56+CA!P58+CA!R58)/12-CA!Q57","v":0},{"$f":"(CA!R56+CA!R58+CA!Q57+CA!S57)/6+(CA!Q56+CA!S56+CA!Q58+CA!S58)/12-CA!R57","v":0},{"$f":"(CA!S56+CA!S58+CA!R57+CA!T57)/6+(CA!R56+CA!T56+CA!R58+CA!T58)/12-CA!S57","v":0},{"$f":"(CA!T56+CA!T58+CA!S57+CA!U57)/6+(CA!S56+CA!U56+CA!S58+CA!U58)/12-CA!T57","v":0},{"$f":"(CA!U56+CA!U58+CA!T57+CA!V57)/6+(CA!T56+CA!V56+CA!T58+CA!V58)/12-CA!U57","v":0},{"$f":"(CA!V56+CA!V58+CA!U57+CA!W57)/6+(CA!U56+CA!W56+CA!U58+CA!W58)/12-CA!V57","v":0},{"$f":"(CA!W56+CA!W58+CA!V57+CA!X57)/6+(CA!V56+CA!X56+CA!V58+CA!X58)/12-CA!W57","v":0},{"$f":"(CA!X56+CA!X58+CA!W57+CA!Y57)/6+(CA!W56+CA!Y56+CA!W58+CA!Y58)/12-CA!X57","v":0},{"$f":"(CA!Y56+CA!Y58+CA!X57+CA!Z57)/6+(CA!X56+CA!Z56+CA!X58+CA!Z58)/12-CA!Y57","v":0},{"$f":"(CA!Z56+CA!Z58+CA!Y57+CA!AA57)/6+(CA!Y56+CA!AA56+CA!Y58+CA!AA58)/12-CA!Z57","v":0},{"$f":"(CA!AA56+CA!AA58+CA!Z57+CA!AB57)/6+(CA!Z56+CA!AB56+CA!Z58+CA!AB58)/12-CA!AA57","v":0},{"$f":"(CA!AB56+CA!AB58+CA!AA57+CA!AC57)/6+(CA!AA56+CA!AC56+CA!AA58+CA!AC58)/12-CA!AB57","v":0},{"$f":"(CA!AC56+CA!AC58+CA!AB57+CA!AD57)/6+(CA!AB56+CA!AD56+CA!AB58+CA!AD58)/12-CA!AC57","v":0},{"$f":"(CA!AD56+CA!AD58+CA!AC57+CA!AE57)/6+(CA!AC56+CA!AE56+CA!AC58+CA!AE58)/12-CA!AD57","v":0},{"$f":"(CA!AE56+CA!AE58+CA!AD57+CA!AF57)/6+(CA!AD56+CA!AF56+CA!AD58+CA!AF58)/12-CA!AE57","v":0}]
[null,{"$f":"(CA!B57+CA!B59+CA!A58+CA!C58)/6+(CA!A57+CA!C57+CA!A59+CA!C59)/12-CA!B58","v":0},{"$f":"(CA!C57+CA!C59+CA!B58+CA!D58)/6+(CA!B57+CA!D57+CA!B59+CA!D59)/12-CA!C58","v":0},{"$f":"(CA!D57+CA!D59+CA!C58+CA!E58)/6+(CA!C57+CA!E57+CA!C59+CA!E59)/12-CA!D58","v":0},{"$f":"(CA!E57+CA!E59+CA!D58+CA!F58)/6+(CA!D57+CA!F57+CA!D59+CA!F59)/12-CA!E58","v":0},{"$f":"(CA!F57+CA!F59+CA!E58+CA!G58)/6+(CA!E57+CA!G57+CA!E59+CA!G59)/12-CA!F58","v":0},{"$f":"(CA!G57+CA!G59+CA!F58+CA!H58)/6+(CA!F57+CA!H57+CA!F59+CA!H59)/12-CA!G58","v":0},{"$f":"(CA!H57+CA!H59+CA!G58+CA!I58)/6+(CA!G57+CA!I57+CA!G59+CA!I59)/12-CA!H58","v":0},{"$f":"(CA!I57+CA!I59+CA!H58+CA!J58)/6+(CA!H57+CA!J57+CA!H59+CA!J59)/12-CA!I58","v":0},{"$f":"(CA!J57+CA!J59+CA!I58+CA!K58)/6+(CA!I57+CA!K57+CA!I59+CA!K59)/12-CA!J58","v":0},{"$f":"(CA!K57+CA!K59+CA!J58+CA!L58)/6+(CA!J57+CA!L57+CA!J59+CA!L59)/12-CA!K58","v":0},{"$f":"(CA!L57+CA!L59+CA!K58+CA!M58)/6+(CA!K57+CA!M57+CA!K59+CA!M59)/12-CA!L58","v":0},{"$f":"(CA!M57+CA!M59+CA!L58+CA!N58)/6+(CA!L57+CA!N57+CA!L59+CA!N59)/12-CA!M58","v":0},{"$f":"(CA!N57+CA!N59+CA!M58+CA!O58)/6+(CA!M57+CA!O57+CA!M59+CA!O59)/12-CA!N58","v":0},{"$f":"(CA!O57+CA!O59+CA!N58+CA!P58)/6+(CA!N57+CA!P57+CA!N59+CA!P59)/12-CA!O58","v":0},{"$f":"(CA!P57+CA!P59+CA!O58+CA!Q58)/6+(CA!O57+CA!Q57+CA!O59+CA!Q59)/12-CA!P58","v":0},{"$f":"(CA!Q57+CA!Q59+CA!P58+CA!R58)/6+(CA!P57+CA!R57+CA!P59+CA!R59)/12-CA!Q58","v":0},{"$f":"(CA!R57+CA!R59+CA!Q58+CA!S58)/6+(CA!Q57+CA!S57+CA!Q59+CA!S59)/12-CA!R58","v":0},{"$f":"(CA!S57+CA!S59+CA!R58+CA!T58)/6+(CA!R57+CA!T57+CA!R59+CA!T59)/12-CA!S58","v":0},{"$f":"(CA!T57+CA!T59+CA!S58+CA!U58)/6+(CA!S57+CA!U57+CA!S59+CA!U59)/12-CA!T58","v":0},{"$f":"(CA!U57+CA!U59+CA!T58+CA!V58)/6+(CA!T57+CA!V57+CA!T59+CA!V59)/12-CA!U58","v":0},{"$f":"(CA!V57+CA!V59+CA!U58+CA!W58)/6+(CA!U57+CA!W57+CA!U59+CA!W59)/12-CA!V58","v":0},{"$f":"(CA!W57+CA!W59+CA!V58+CA!X58)/6+(CA!V57+CA!X57+CA!V59+CA!X59)/12-CA!W58","v":0},{"$f":"(CA!X57+CA!X59+CA!W58+CA!Y58)/6+(CA!W57+CA!Y57+CA!W59+CA!Y59)/12-CA!X58","v":0},{"$f":"(CA!Y57+CA!Y59+CA!X58+CA!Z58)/6+(CA!X57+CA!Z57+CA!X59+CA!Z59)/12-CA!Y58","v":0},{"$f":"(CA!Z57+CA!Z59+CA!Y58+CA!AA58)/6+(CA!Y57+CA!AA57+CA!Y59+CA!AA59)/12-CA!Z58","v":0},{"$f":"(CA!AA57+CA!AA59+CA!Z58+CA!AB58)/6+(CA!Z57+CA!AB57+CA!Z59+CA!AB59)/12-CA!AA58","v":0},{"$f":"(CA!AB57+CA!AB59+CA!AA58+CA!AC58)/6+(CA!AA57+CA!AC57+CA!AA59+CA!AC59)/12-CA!AB58","v":0},{"$f":"(CA!AC57+CA!AC59+CA!AB58+CA!AD58)/6+(CA!AB57+CA!AD57+CA!AB59+CA!AD59)/12-CA!AC58","v":0},{"$f":"(CA!AD57+CA!AD59+CA!AC58+CA!AE58)/6+(CA!AC57+CA!AE57+CA!AC59+CA!AE59)/12-CA!AD58","v":0},{"$f":"(CA!AE57+CA!AE59+CA!AD58+CA!AF58)/6+(CA!AD57+CA!AF57+CA!AD59+CA!AF59)/12-CA!AE58","v":0}]
[null,{"$f":"(CA!B58+CA!B60+CA!A59+CA!C59)/6+(CA!A58+CA!C58+CA!A60+CA!C60)/12-CA!B59","v":0},{"$f":"(CA!C58+CA!C60+CA!B59+CA!D59)/6+(CA!B58+CA!D58+CA!B60+CA!D60)/12-CA!C59","v":0},{"$f":"(CA!D58+CA!D60+CA!C59+CA!E59)/6+(CA!C58+CA!E58+CA!C60+CA!E60)/12-CA!D59","v":0},{"$f":"(CA!E58+CA!E60+CA!D59+CA!F59)/6+(CA!D58+CA!F58+CA!D60+CA!F60)/12-CA!E59","v":0},{"$f":"(CA!F58+CA!F60+CA!E59+CA!G59)/6+(CA!E58+CA!G58+CA!E60+CA!G60)/12-CA!F59","v":0},{"$f":"(CA!G58+CA!G60+CA!F59+CA!H59)/6+(CA!F58+CA!H58+CA!F60+CA!H60)/12-CA!G59","v":0},{"$f":"(CA!H58+CA!H60+CA!G59+CA!I59)/6+(CA!G58+CA!I58+CA!G60+CA!I60)/12-CA!H59","v":0},{"$f":"(CA!I58+CA!I60+CA!H59+CA!J59)/6+(CA!H58+CA!J58+CA!H60+CA!J60)/12-CA!I59","v":0},{"$f":"(CA!J58+CA!J60+CA!I59+CA!K59)/6+(CA!I58+CA!K58+CA!I60+CA!K60)/12-CA!J59","v":0},{"$f":"(CA!K58+CA!K60+CA!J59+CA!L59)/6+(CA!J58+CA!L58+CA!J60+CA!L60)/12-CA!K59","v":0},{"$f":"(CA!L58+CA!L60+CA!K59+CA!M59)/6+(CA!K58+CA!M58+CA!K60+CA!M60)/12-CA!L59","v":0},{"$f":"(CA!M58+CA!M60+CA!L59+CA!N59)/6+(CA!L58+CA!N58+CA!L60+CA!N60)/12-CA!M59","v":0},{"$f":"(CA!N58+CA!N60+CA!M59+CA!O59)/6+(CA!M58+CA!O58+CA!M60+CA!O60)/12-CA!N59","v":0},{"$f":"(CA!O58+CA!O60+CA!N59+CA!P59)/6+(CA!N58+CA!P58+CA!N60+CA!P60)/12-CA!O59","v":0},{"$f":"(CA!P58+CA!P60+CA!O59+CA!Q59)/6+(CA!O58+CA!Q58+CA!O60+CA!Q60)/12-CA!P59","v":0},{"$f":"(CA!Q58+CA!Q60+CA!P59+CA!R59)/6+(CA!P58+CA!R58+CA!P60+CA!R60)/12-CA!Q59","v":0},{"$f":"(CA!R58+CA!R60+CA!Q59+CA!S59)/6+(CA!Q58+CA!S58+CA!Q60+CA!S60)/12-CA!R59","v":0},{"$f":"(CA!S58+CA!S60+CA!R59+CA!T59)/6+(CA!R58+CA!T58+CA!R60+CA!T60)/12-CA!S59","v":0},{"$f":"(CA!T58+CA!T60+CA!S59+CA!U59)/6+(CA!S58+CA!U58+CA!S60+CA!U60)/12-CA!T59","v":0},{"$f":"(CA!U58+CA!U60+CA!T59+CA!V59)/6+(CA!T58+CA!V58+CA!T60+CA!V60)/12-CA!U59","v":0},{"$f":"(CA!V58+CA!V60+CA!U59+CA!W59)/6+(CA!U58+CA!W58+CA!U60+CA!W60)/12-CA!V59","v":0},{"$f":"(CA!W58+CA!W60+CA!V59+CA!X59)/6+(CA!V58+CA!X58+CA!V60+CA!X60)/12-CA!W59","v":0},{"$f":"(CA!X58+CA!X60+CA!W59+CA!Y59)/6+(CA!W58+CA!Y58+CA!W60+CA!Y60)/12-CA!X59","v":0},{"$f":"(CA!Y58+CA!Y60+CA!X59+CA!Z59)/6+(CA!X58+CA!Z58+CA!X60+CA!Z60)/12-CA!Y59","v":0},{"$f":"(CA!Z58+CA!Z60+CA!Y59+CA!AA59)/6+(CA!Y58+CA!AA58+CA!Y60+CA!AA60)/12-CA!Z59","v":0},{"$f":"(CA!AA58+CA!AA60+CA!Z59+CA!AB59)/6+(CA!Z58+CA!AB58+CA!Z60+CA!AB60)/12-CA!AA59","v":0},{"$f":"(CA!AB58+CA!AB60+CA!AA59+CA!AC59)/6+(CA!AA58+CA!AC58+CA!AA60+CA!AC60)/12-CA!AB59","v":0},{"$f":"(CA!AC58+CA!AC60+CA!AB59+CA!AD59)/6+(CA!AB58+CA!AD58+CA!AB60+CA!AD60)/12-CA!AC59","v":0},{"$f":"(CA!AD58+CA!AD60+CA!AC59+CA!AE59)/6+(CA!AC58+CA!AE58+CA!AC60+CA!AE60)/12-CA!AD59","v":0},{"$f":"(CA!AE58+CA!AE60+CA!AD59+CA!AF59)/6+(CA!AD58+CA!AF58+CA!AD60+CA!AF60)/12-CA!AE59","v":0}]
[null,{"$f":"(CA!B59+CA!B61+CA!A60+CA!C60)/6+(CA!A59+CA!C59+CA!A61+CA!C61)/12-CA!B60","v":0},{"$f":"(CA!C59+CA!C61+CA!B60+CA!D60)/6+(CA!B59+CA!D59+CA!B61+CA!D61)/12-CA!C60","v":0},{"$f":"(CA!D59+CA!D61+CA!C60+CA!E60)/6+(CA!C59+CA!E59+CA!C61+CA!E61)/12-CA!D60","v":0},{"$f":"(CA!E59+CA!E61+CA!D60+CA!F60)/6+(CA!D59+CA!F59+CA!D61+CA!F61)/12-CA!E60","v":0},{"$f":"(CA!F59+CA!F61+CA!E60+CA!G60)/6+(CA!E59+CA!G59+CA!E61+CA!G61)/12-CA!F60","v":0},{"$f":"(CA!G59+CA!G61+CA!F60+CA!H60)/6+(CA!F59+CA!H59+CA!F61+CA!H61)/12-CA!G60","v":0},{"$f":"(CA!H59+CA!H61+CA!G60+CA!I60)/6+(CA!G59+CA!I59+CA!G61+CA!I61)/12-CA!H60","v":0},{"$f":"(CA!I59+CA!I61+CA!H60+CA!J60)/6+(CA!H59+CA!J59+CA!H61+CA!J61)/12-CA!I60","v":0},{"$f":"(CA!J59+CA!J61+CA!I60+CA!K60)/6+(CA!I59+CA!K59+CA!I61+CA!K61)/12-CA!J60","v":0},{"$f":"(CA!K59+CA!K61+CA!J60+CA!L60)/6+(CA!J59+CA!L59+CA!J61+CA!L61)/12-CA!K60","v":0},{"$f":"(CA!L59+CA!L61+CA!K60+CA!M60)/6+(CA!K59+CA!M59+CA!K61+CA!M61)/12-CA!L60","v":0},{"$f":"(CA!M59+CA!M61+CA!L60+CA!N60)/6+(CA!L59+CA!N59+CA!L61+CA!N61)/12-CA!M60","v":0},{"$f":"(CA!N59+CA!N61+CA!M60+CA!O60)/6+(CA!M59+CA!O59+CA!M61+CA!O61)/12-CA!N60","v":0},{"$f":"(CA!O59+CA!O61+CA!N60+CA!P60)/6+(CA!N59+CA!P59+CA!N61+CA!P61)/12-CA!O60","v":0},{"$f":"(CA!P59+CA!P61+CA!O60+CA!Q60)/6+(CA!O59+CA!Q59+CA!O61+CA!Q61)/12-CA!P60","v":0},{"$f":"(CA!Q59+CA!Q61+CA!P60+CA!R60)/6+(CA!P59+CA!R59+CA!P61+CA!R61)/12-CA!Q60","v":0},{"$f":"(CA!R59+CA!R61+CA!Q60+CA!S60)/6+(CA!Q59+CA!S59+CA!Q61+CA!S61)/12-CA!R60","v":0},{"$f":"(CA!S59+CA!S61+CA!R60+CA!T60)/6+(CA!R59+CA!T59+CA!R61+CA!T61)/12-CA!S60","v":0},{"$f":"(CA!T59+CA!T61+CA!S60+CA!U60)/6+(CA!S59+CA!U59+CA!S61+CA!U61)/12-CA!T60","v":0},{"$f":"(CA!U59+CA!U61+CA!T60+CA!V60)/6+(CA!T59+CA!V59+CA!T61+CA!V61)/12-CA!U60","v":0},{"$f":"(CA!V59+CA!V61+CA!U60+CA!W60)/6+(CA!U59+CA!W59+CA!U61+CA!W61)/12-CA!V60","v":0},{"$f":"(CA!W59+CA!W61+CA!V60+CA!X60)/6+(CA!V59+CA!X59+CA!V61+CA!X61)/12-CA!W60","v":0},{"$f":"(CA!X59+CA!X61+CA!W60+CA!Y60)/6+(CA!W59+CA!Y59+CA!W61+CA!Y61)/12-CA!X60","v":0},{"$f":"(CA!Y59+CA!Y61+CA!X60+CA!Z60)/6+(CA!X59+CA!Z59+CA!X61+CA!Z61)/12-CA!Y60","v":0},{"$f":"(CA!Z59+CA!Z61+CA!Y60+CA!AA60)/6+(CA!Y59+CA!AA59+CA!Y61+CA!AA61)/12-CA!Z60","v":0},{"$f":"(CA!AA59+CA!AA61+CA!Z60+CA!AB60)/6+(CA!Z59+CA!AB59+CA!Z61+CA!AB61)/12-CA!AA60","v":0},{"$f":"(CA!AB59+CA!AB61+CA!AA60+CA!AC60)/6+(CA!AA59+CA!AC59+CA!AA61+CA!AC61)/12-CA!AB60","v":0},{"$f":"(CA!AC59+CA!AC61+CA!AB60+CA!AD60)/6+(CA!AB59+CA!AD59+CA!AB61+CA!AD61)/12-CA!AC60","v":0},{"$f":"(CA!AD59+CA!AD61+CA!AC60+CA!AE60)/6+(CA!AC59+CA!AE59+CA!AC61+CA!AE61)/12-CA!AD60","v":0},{"$f":"(CA!AE59+CA!AE61+CA!AD60+CA!AF60)/6+(CA!AD59+CA!AF59+CA!AD61+CA!AF61)/12-CA!AE60","v":0}]
[null,{"$f":"(CA!B60+CA!B62+CA!A61+CA!C61)/6+(CA!A60+CA!C60+CA!A62+CA!C62)/12-CA!B61","v":0},{"$f":"(CA!C60+CA!C62+CA!B61+CA!D61)/6+(CA!B60+CA!D60+CA!B62+CA!D62)/12-CA!C61","v":0},{"$f":"(CA!D60+CA!D62+CA!C61+CA!E61)/6+(CA!C60+CA!E60+CA!C62+CA!E62)/12-CA!D61","v":0},{"$f":"(CA!E60+CA!E62+CA!D61+CA!F61)/6+(CA!D60+CA!F60+CA!D62+CA!F62)/12-CA!E61","v":0},{"$f":"(CA!F60+CA!F62+CA!E61+CA!G61)/6+(CA!E60+CA!G60+CA!E62+CA!G62)/12-CA!F61","v":0},{"$f":"(CA!G60+CA!G62+CA!F61+CA!H61)/6+(CA!F60+CA!H60+CA!F62+CA!H62)/12-CA!G61","v":0},{"$f":"(CA!H60+CA!H62+CA!G61+CA!I61)/6+(CA!G60+CA!I60+CA!G62+CA!I62)/12-CA!H61","v":0},{"$f":"(CA!I60+CA!I62+CA!H61+CA!J61)/6+(CA!H60+CA!J60+CA!H62+CA!J62)/12-CA!I61","v":0},{"$f":"(CA!J60+CA!J62+CA!I61+CA!K61)/6+(CA!I60+CA!K60+CA!I62+CA!K62)/12-CA!J61","v":0},{"$f":"(CA!K60+CA!K62+CA!J61+CA!L61)/6+(CA!J60+CA!L60+CA!J62+CA!L62)/12-CA!K61","v":0},{"$f":"(CA!L60+CA!L62+CA!K61+CA!M61)/6+(CA!K60+CA!M60+CA!K62+CA!M62)/12-CA!L61","v":0},{"$f":"(CA!M60+CA!M62+CA!L61+CA!N61)/6+(CA!L60+CA!N60+CA!L62+CA!N62)/12-CA!M61","v":0},{"$f":"(CA!N60+CA!N62+CA!M61+CA!O61)/6+(CA!M60+CA!O60+CA!M62+CA!O62)/12-CA!N61","v":0},{"$f":"(CA!O60+CA!O62+CA!N61+CA!P61)/6+(CA!N60+CA!P60+CA!N62+CA!P62)/12-CA!O61","v":0},{"$f":"(CA!P60+CA!P62+CA!O61+CA!Q61)/6+(CA!O60+CA!Q60+CA!O62+CA!Q62)/12-CA!P61","v":0},{"$f":"(CA!Q60+CA!Q62+CA!P61+CA!R61)/6+(CA!P60+CA!R60+CA!P62+CA!R62)/12-CA!Q61","v":0},{"$f":"(CA!R60+CA!R62+CA!Q61+CA!S61)/6+(CA!Q60+CA!S60+CA!Q62+CA!S62)/12-CA!R61","v":0},{"$f":"(CA!S60+CA!S62+CA!R61+CA!T61)/6+(CA!R60+CA!T60+CA!R62+CA!T62)/12-CA!S61","v":0},{"$f":"(CA!T60+CA!T62+CA!S61+CA!U61)/6+(CA!S60+CA!U60+CA!S62+CA!U62)/12-CA!T61","v":0},{"$f":"(CA!U60+CA!U62+CA!T61+CA!V61)/6+(CA!T60+CA!V60+CA!T62+CA!V62)/12-CA!U61","v":0},{"$f":"(CA!V60+CA!V62+CA!U61+CA!W61)/6+(CA!U60+CA!W60+CA!U62+CA!W62)/12-CA!V61","v":0},{"$f":"(CA!W60+CA!W62+CA!V61+CA!X61)/6+(CA!V60+CA!X60+CA!V62+CA!X62)/12-CA!W61","v":0},{"$f":"(CA!X60+CA!X62+CA!W61+CA!Y61)/6+(CA!W60+CA!Y60+CA!W62+CA!Y62)/12-CA!X61","v":0},{"$f":"(CA!Y60+CA!Y62+CA!X61+CA!Z61)/6+(CA!X60+CA!Z60+CA!X62+CA!Z62)/12-CA!Y61","v":0},{"$f":"(CA!Z60+CA!Z62+CA!Y61+CA!AA61)/6+(CA!Y60+CA!AA60+CA!Y62+CA!AA62)/12-CA!Z61","v":0},{"$f":"(CA!AA60+CA!AA62+CA!Z61+CA!AB61)/6+(CA!Z60+CA!AB60+CA!Z62+CA!AB62)/12-CA!AA61","v":0},{"$f":"(CA!AB60+CA!AB62+CA!AA61+CA!AC61)/6+(CA!AA60+CA!AC60+CA!AA62+CA!AC62)/12-CA!AB61","v":0},{"$f":"(CA!AC60+CA!AC62+CA!AB61+CA!AD61)/6+(CA!AB60+CA!AD60+CA!AB62+CA!AD62)/12-CA!AC61","v":0},{"$f":"(CA!AD60+CA!AD62+CA!AC61+CA!AE61)/6+(CA!AC60+CA!AE60+CA!AC62+CA!AE62)/12-CA!AD61","v":0},{"$f":"(CA!AE60+CA!AE62+CA!AD61+CA!AF61)/6+(CA!AD60+CA!AF60+CA!AD62+CA!AF62)/12-CA!AE61","v":0}]
[null,{"$f":"(CA!B61+CA!B63+CA!A62+CA!C62)/6+(CA!A61+CA!C61+CA!A63+CA!C63)/12-CA!B62","v":0},{"$f":"(CA!C61+CA!C63+CA!B62+CA!D62)/6+(CA!B61+CA!D61+CA!B63+CA!D63)/12-CA!C62","v":0},{"$f":"(CA!D61+CA!D63+CA!C62+CA!E62)/6+(CA!C61+CA!E61+CA!C63+CA!E63)/12-CA!D62","v":0},{"$f":"(CA!E61+CA!E63+CA!D62+CA!F62)/6+(CA!D61+CA!F61+CA!D63+CA!F63)/12-CA!E62","v":0},{"$f":"(CA!F61+CA!F63+CA!E62+CA!G62)/6+(CA!E61+CA!G61+CA!E63+CA!G63)/12-CA!F62","v":0},{"$f":"(CA!G61+CA!G63+CA!F62+CA!H62)/6+(CA!F61+CA!H61+CA!F63+CA!H63)/12-CA!G62","v":0},{"$f":"(CA!H61+CA!H63+CA!G62+CA!I62)/6+(CA!G61+CA!I61+CA!G63+CA!I63)/12-CA!H62","v":0},{"$f":"(CA!I61+CA!I63+CA!H62+CA!J62)/6+(CA!H61+CA!J61+CA!H63+CA!J63)/12-CA!I62","v":0},{"$f":"(CA!J61+CA!J63+CA!I62+CA!K62)/6+(CA!I61+CA!K61+CA!I63+CA!K63)/12-CA!J62","v":0},{"$f":"(CA!K61+CA!K63+CA!J62+CA!L62)/6+(CA!J61+CA!L61+CA!J63+CA!L63)/12-CA!K62","v":0},{"$f":"(CA!L61+CA!L63+CA!K62+CA!M62)/6+(CA!K61+CA!M61+CA!K63+CA!M63)/12-CA!L62","v":0},{"$f":"(CA!M61+CA!M63+CA!L62+CA!N62)/6+(CA!L61+CA!N61+CA!L63+CA!N63)/12-CA!M62","v":0},{"$f":"(CA!N61+CA!N63+CA!M62+CA!O62)/6+(CA!M61+CA!O61+CA!M63+CA!O63)/12-CA!N62","v":0},{"$f":"(CA!O61+CA!O63+CA!N62+CA!P62)/6+(CA!N61+CA!P61+CA!N63+CA!P63)/12-CA!O62","v":0},{"$f":"(CA!P61+CA!P63+CA!O62+CA!Q62)/6+(CA!O61+CA!Q61+CA!O63+CA!Q63)/12-CA!P62","v":0},{"$f":"(CA!Q61+CA!Q63+CA!P62+CA!R62)/6+(CA!P61+CA!R61+CA!P63+CA!R63)/12-CA!Q62","v":0},{"$f":"(CA!R61+CA!R63+CA!Q62+CA!S62)/6+(CA!Q61+CA!S61+CA!Q63+CA!S63)/12-CA!R62","v":0},{"$f":"(CA!S61+CA!S63+CA!R62+CA!T62)/6+(CA!R61+CA!T61+CA!R63+CA!T63)/12-CA!S62","v":0},{"$f":"(CA!T61+CA!T63+CA!S62+CA!U62)/6+(CA!S61+CA!U61+CA!S63+CA!U63)/12-CA!T62","v":0},{"$f":"(CA!U61+CA!U63+CA!T62+CA!V62)/6+(CA!T61+CA!V61+CA!T63+CA!V63)/12-CA!U62","v":0},{"$f":"(CA!V61+CA!V63+CA!U62+CA!W62)/6+(CA!U61+CA!W61+CA!U63+CA!W63)/12-CA!V62","v":0},{"$f":"(CA!W61+CA!W63+CA!V62+CA!X62)/6+(CA!V61+CA!X61+CA!V63+CA!X63)/12-CA!W62","v":0},{"$f":"(CA!X61+CA!X63+CA!W62+CA!Y62)/6+(CA!W61+CA!Y61+CA!W63+CA!Y63)/12-CA!X62","v":0},{"$f":"(CA!Y61+CA!Y63+CA!X62+CA!Z62)/6+(CA!X61+CA!Z61+CA!X63+CA!Z63)/12-CA!Y62","v":0},{"$f":"(CA!Z61+CA!Z63+CA!Y62+CA!AA62)/6+(CA!Y61+CA!AA61+CA!Y63+CA!AA63)/12-CA!Z62","v":0},{"$f":"(CA!AA61+CA!AA63+CA!Z62+CA!AB62)/6+(CA!Z61+CA!AB61+CA!Z63+CA!AB63)/12-CA!AA62","v":0},{"$f":"(CA!AB61+CA!AB63+CA!AA62+CA!AC62)/6+(CA!AA61+CA!AC61+CA!AA63+CA!AC63)/12-CA!AB62","v":0},{"$f":"(CA!AC61+CA!AC63+CA!AB62+CA!AD62)/6+(CA!AB61+CA!AD61+CA!AB63+CA!AD63)/12-CA!AC62","v":0},{"$f":"(CA!AD61+CA!AD63+CA!AC62+CA!AE62)/6+(CA!AC61+CA!AE61+CA!AC63+CA!AE63)/12-CA!AD62","v":0},{"$f":"(CA!AE61+CA!AE63+CA!AD62+CA!AF62)/6+(CA!AD61+CA!AF61+CA!AD63+CA!AF63)/12-CA!AE62","v":0}]
[null,{"$f":"(CA!B62+CA!B64+CA!A63+CA!C63)/6+(CA!A62+CA!C62+CA!A64+CA!C64)/12-CA!B63","v":0},{"$f":"(CA!C62+CA!C64+CA!B63+CA!D63)/6+(CA!B62+CA!D62+CA!B64+CA!D64)/12-CA!C63","v":0},{"$f":"(CA!D62+CA!D64+CA!C63+CA!E63)/6+(CA!C62+CA!E62+CA!C64+CA!E64)/12-CA!D63","v":0},{"$f":"(CA!E62+CA!E64+CA!D63+CA!F63)/6+(CA!D62+CA!F62+CA!D64+CA!F64)/12-CA!E63","v":0},{"$f":"(CA!F62+CA!F64+CA!E63+CA!G63)/6+(CA!E62+CA!G62+CA!E64+CA!G64)/12-CA!F63","v":0},{"$f":"(CA!G62+CA!G64+CA!F63+CA!H63)/6+(CA!F62+CA!H62+CA!F64+CA!H64)/12-CA!G63","v":0},{"$f":"(CA!H62+CA!H64+CA!G63+CA!I63)/6+(CA!G62+CA!I62+CA!G64+CA!I64)/12-CA!H63","v":0},{"$f":"(CA!I62+CA!I64+CA!H63+CA!J63)/6+(CA!H62+CA!J62+CA!H64+CA!J64)/12-CA!I63","v":0},{"$f":"(CA!J62+CA!J64+CA!I63+CA!K63)/6+(CA!I62+CA!K62+CA!I64+CA!K64)/12-CA!J63","v":0},{"$f":"(CA!K62+CA!K64+CA!J63+CA!L63)/6+(CA!J62+CA!L62+CA!J64+CA!L64)/12-CA!K63","v":0},{"$f":"(CA!L62+CA!L64+CA!K63+CA!M63)/6+(CA!K62+CA!M62+CA!K64+CA!M64)/12-CA!L63","v":0},{"$f":"(CA!M62+CA!M64+CA!L63+CA!N63)/6+(CA!L62+CA!N62+CA!L64+CA!N64)/12-CA!M63","v":0},{"$f":"(CA!N62+CA!N64+CA!M63+CA!O63)/6+(CA!M62+CA!O62+CA!M64+CA!O64)/12-CA!N63","v":0},{"$f":"(CA!O62+CA!O64+CA!N63+CA!P63)/6+(CA!N62+CA!P62+CA!N64+CA!P64)/12-CA!O63","v":0},{"$f":"(CA!P62+CA!P64+CA!O63+CA!Q63)/6+(CA!O62+CA!Q62+CA!O64+CA!Q64)/12-CA!P63","v":0},{"$f":"(CA!Q62+CA!Q64+CA!P63+CA!R63)/6+(CA!P62+CA!R62+CA!P64+CA!R64)/12-CA!Q63","v":0},{"$f":"(CA!R62+CA!R64+CA!Q63+CA!S63)/6+(CA!Q62+CA!S62+CA!Q64+CA!S64)/12-CA!R63","v":0},{"$f":"(CA!S62+CA!S64+CA!R63+CA!T63)/6+(CA!R62+CA!T62+CA!R64+CA!T64)/12-CA!S63","v":0},{"$f":"(CA!T62+CA!T64+CA!S63+CA!U63)/6+(CA!S62+CA!U62+CA!S64+CA!U64)/12-CA!T63","v":0},{"$f":"(CA!U62+CA!U64+CA!T63+CA!V63)/6+(CA!T62+CA!V62+CA!T64+CA!V64)/12-CA!U63","v":0},{"$f":"(CA!V62+CA!V64+CA!U63+CA!W63)/6+(CA!U62+CA!W62+CA!U64+CA!W64)/12-CA!V63","v":0},{"$f":"(CA!W62+CA!W64+CA!V63+CA!X63)/6+(CA!V62+CA!X62+CA!V64+CA!X64)/12-CA!W63","v":0},{"$f":"(CA!X62+CA!X64+CA!W63+CA!Y63)/6+(CA!W62+CA!Y62+CA!W64+CA!Y64)/12-CA!X63","v":0},{"$f":"(CA!Y62+CA!Y64+CA!X63+CA!Z63)/6+(CA!X62+CA!Z62+CA!X64+CA!Z64)/12-CA!Y63","v":0},{"$f":"(CA!Z62+CA!Z64+CA!Y63+CA!AA63)/6+(CA!Y62+CA!AA62+CA!Y64+CA!AA64)/12-CA!Z63","v":0},{"$f":"(CA!AA62+CA!AA64+CA!Z63+CA!AB63)/6+(CA!Z62+CA!AB62+CA!Z64+CA!AB64)/12-CA!AA63","v":0},{"$f":"(CA!AB62+CA!AB64+CA!AA63+CA!AC63)/6+(CA!AA62+CA!AC62+CA!AA64+CA!AC64)/12-CA!AB63","v":0},{"$f":"(CA!AC62+CA!AC64+CA!AB63+CA!AD63)/6+(CA!AB62+CA!AD62+CA!AB64+CA!AD64)/12-CA!AC63","v":0},{"$f":"(CA!AD62+CA!AD64+CA!AC63+CA!AE63)/6+(CA!AC62+CA!AE62+CA!AC64+CA!AE64)/12-CA!AD63","v":0},{"$f":"(CA!AE62+CA!AE64+CA!AD63+CA!AF63)/6+(CA!AD62+CA!AF62+CA!AD64+CA!AF64)/12-CA!AE63","v":0}]
[null,{"$f":"(CA!B63+CA!B65+CA!A64+CA!C64)/6+(CA!A63+CA!C63+CA!A65+CA!C65)/12-CA!B64","v":0},{"$f":"(CA!C63+CA!C65+CA!B64+CA!D64)/6+(CA!B63+CA!D63+CA!B65+CA!D65)/12-CA!C64","v":0},{"$f":"(CA!D63+CA!D65+CA!C64+CA!E64)/6+(CA!C63+CA!E63+CA!C65+CA!E65)/12-CA!D64","v":0},{"$f":"(CA!E63+CA!E65+CA!D64+CA!F64)/6+(CA!D63+CA!F63+CA!D65+CA!F65)/12-CA!E64","v":0},{"$f":"(CA!F63+CA!F65+CA!E64+CA!G64)/6+(CA!E63+CA!G63+CA!E65+CA!G65)/12-CA!F64","v":0},{"$f":"(CA!G63+CA!G65+CA!F64+CA!H64)/6+(CA!F63+CA!H63+CA!F65+CA!H65)/12-CA!G64","v":0},{"$f":"(CA!H63+CA!H65+CA!G64+CA!I64)/6+(CA!G63+CA!I63+CA!G65+CA!I65)/12-CA!H64","v":0},{"$f":"(CA!I63+CA!I65+CA!H64+CA!J64)/6+(CA!H63+CA!J63+CA!H65+CA!J65)/12-CA!I64","v":0},{"$f":"(CA!J63+CA!J65+CA!I64+CA!K64)/6+(CA!I63+CA!K63+CA!I65+CA!K65)/12-CA!J64","v":0},{"$f":"(CA!K63+CA!K65+CA!J64+CA!L64)/6+(CA!J63+CA!L63+CA!J65+CA!L65)/12-CA!K64","v":0},{"$f":"(CA!L63+CA!L65+CA!K64+CA!M64)/6+(CA!K63+CA!M63+CA!K65+CA!M65)/12-CA!L64","v":0},{"$f":"(CA!M63+CA!M65+CA!L64+CA!N64)/6+(CA!L63+CA!N63+CA!L65+CA!N65)/12-CA!M64","v":0},{"$f":"(CA!N63+CA!N65+CA!M64+CA!O64)/6+(CA!M63+CA!O63+CA!M65+CA!O65)/12-CA!N64","v":0},{"$f":"(CA!O63+CA!O65+CA!N64+CA!P64)/6+(CA!N63+CA!P63+CA!N65+CA!P65)/12-CA!O64","v":0},{"$f":"(CA!P63+CA!P65+CA!O64+CA!Q64)/6+(CA!O63+CA!Q63+CA!O65+CA!Q65)/12-CA!P64","v":0},{"$f":"(CA!Q63+CA!Q65+CA!P64+CA!R64)/6+(CA!P63+CA!R63+CA!P65+CA!R65)/12-CA!Q64","v":0},{"$f":"(CA!R63+CA!R65+CA!Q64+CA!S64)/6+(CA!Q63+CA!S63+CA!Q65+CA!S65)/12-CA!R64","v":0},{"$f":"(CA!S63+CA!S65+CA!R64+CA!T64)/6+(CA!R63+CA!T63+CA!R65+CA!T65)/12-CA!S64","v":0},{"$f":"(CA!T63+CA!T65+CA!S64+CA!U64)/6+(CA!S63+CA!U63+CA!S65+CA!U65)/12-CA!T64","v":0},{"$f":"(CA!U63+CA!U65+CA!T64+CA!V64)/6+(CA!T63+CA!V63+CA!T65+CA!V65)/12-CA!U64","v":0},{"$f":"(CA!V63+CA!V65+CA!U64+CA!W64)/6+(CA!U63+CA!W63+CA!U65+CA!W65)/12-CA!V64","v":0},{"$f":"(CA!W63+CA!W65+CA!V64+CA!X64)/6+(CA!V63+CA!X63+CA!V65+CA!X65)/12-CA!W64","v":0},{"$f":"(CA!X63+CA!X65+CA!W64+CA!Y64)/6+(CA!W63+CA!Y63+CA!W65+CA!Y65)/12-CA!X64","v":0},{"$f":"(CA!Y63+CA!Y65+CA!X64+CA!Z64)/6+(CA!X63+CA!Z63+CA!X65+CA!Z65)/12-CA!Y64","v":0},{"$f":"(CA!Z63+CA!Z65+CA!Y64+CA!AA64)/6+(CA!Y63+CA!AA63+CA!Y65+CA!AA65)/12-CA!Z64","v":0},{"$f":"(CA!AA63+CA!AA65+CA!Z64+CA!AB64)/6+(CA!Z63+CA!AB63+CA!Z65+CA!AB65)/12-CA!AA64","v":0},{"$f":"(CA!AB63+CA!AB65+CA!AA64+CA!AC64)/6+(CA!AA63+CA!AC63+CA!AA65+CA!AC65)/12-CA!AB64","v":0},{"$f":"(CA!AC63+CA!AC65+CA!AB64+CA!AD64)/6+(CA!AB63+CA!AD63+CA!AB65+CA!AD65)/12-CA!AC64","v":0},{"$f":"(CA!AD63+CA!AD65+CA!AC64+CA!AE64)/6+(CA!AC63+CA!AE63+CA!AC65+CA!AE65)/12-CA!AD64","v":0},{"$f":"(CA!AE63+CA!AE65+CA!AD64+CA!AF64)/6+(CA!AD63+CA!AF63+CA!AD65+CA!AF65)/12-CA!AE64","v":0}]
[]
[null,null,"平面伝熱による冷却"]

{"sheet":"T3","index":12,"n_rows":38,"n_cols":31,"rows_kept":38,"cut":false,"hidden":true,"merged":[]}
[]
[null,{"$f":"IF(CA!B2=0, $D$34, IF(CA!B2=1, $D$35, $D$36))*(Parameter!$F$6-CA!B35)*Shape_round!A2","v":1.5894185142857145E-3},{"$f":"IF(CA!C2=0, $D$34, IF(CA!C2=1, $D$35, $D$36))*(Parameter!$F$6-CA!C35)*Shape_round!B2","v":1.5894185142857145E-3},{"$f":"IF(CA!D2=0, $D$34, IF(CA!D2=1, $D$35, $D$36))*(Parameter!$F$6-CA!D35)*Shape_round!C2","v":1.5894185142857145E-3},{"$f":"IF(CA!E2=0, $D$34, IF(CA!E2=1, $D$35, $D$36))*(Parameter!$F$6-CA!E35)*Shape_round!D2","v":1.5894185142857145E-3},{"$f":"IF(CA!F2=0, $D$34, IF(CA!F2=1, $D$35, $D$36))*(Parameter!$F$6-CA!F35)*Shape_round!E2","v":1.5894185142857145E-3},{"$f":"IF(CA!G2=0, $D$34, IF(CA!G2=1, $D$35, $D$36))*(Parameter!$F$6-CA!G35)*Shape_round!F2","v":1.5894185142857145E-3},{"$f":"IF(CA!H2=0, $D$34, IF(CA!H2=1, $D$35, $D$36))*(Parameter!$F$6-CA!H35)*Shape_round!G2","v":1.5894185142857145E-3},{"$f":"IF(CA!I2=0, $D$34, IF(CA!I2=1, $D$35, $D$36))*(Parameter!$F$6-CA!I35)*Shape_round!H2","v":1.5894185142857145E-3},{"$f":"IF(CA!J2=0, $D$34, IF(CA!J2=1, $D$35, $D$36))*(Parameter!$F$6-CA!J35)*Shape_round!I2","v":1.5894185142857145E-3},{"$f":"IF(CA!K2=0, $D$34, IF(CA!K2=1, $D$35, $D$36))*(Parameter!$F$6-CA!K35)*Shape_round!J2","v":1.5894185142857145E-3},{"$f":"IF(CA!L2=0, $D$34, IF(CA!L2=1, $D$35, $D$36))*(Parameter!$F$6-CA!L35)*Shape_round!K2","v":1.5894185142857145E-3},{"$f":"IF(CA!M2=0, $D$34, IF(CA!M2=1, $D$35, $D$36))*(Parameter!$F$6-CA!M35)*Shape_round!L2","v":1.5894185142857145E-3},{"$f":"IF(CA!N2=0, $D$34, IF(CA!N2=1, $D$35, $D$36))*(Parameter!$F$6-CA!N35)*Shape_round!M2","v":1.5894185142857145E-3},{"$f":"IF(CA!O2=0, $D$34, IF(CA!O2=1, $D$35, $D$36))*(Parameter!$F$6-CA!O35)*Shape_round!N2","v":1.5894185142857145E-3},{"$f":"IF(CA!P2=0, $D$34, IF(CA!P2=1, $D$35, $D$36))*(Parameter!$F$6-CA!P35)*Shape_round!O2","v":1.5894185142857145E-3},{"$f":"IF(CA!Q2=0, $D$34, IF(CA!Q2=1, $D$35, $D$36))*(Parameter!$F$6-CA!Q35)*Shape_round!P2","v":1.5894185142857145E-3},{"$f":"IF(CA!R2=0, $D$34, IF(CA!R2=1, $D$35, $D$36))*(Parameter!$F$6-CA!R35)*Shape_round!Q2","v":1.5894185142857145E-3},{"$f":"IF(CA!S2=0, $D$34, IF(CA!S2=1, $D$35, $D$36))*(Parameter!$F$6-CA!S35)*Shape_round!R2","v":1.5894185142857145E-3},{"$f":"IF(CA!T2=0, $D$34, IF(CA!T2=1, $D$35, $D$36))*(Parameter!$F$6-CA!T35)*Shape_round!S2","v":1.5894185142857145E-3},{"$f":"IF(CA!U2=0, $D$34, IF(CA!U2=1, $D$35, $D$36))*(Parameter!$F$6-CA!U35)*Shape_round!T2","v":1.5894185142857145E-3},{"$f":"IF(CA!V2=0, $D$34, IF(CA!V2=1, $D$35, $D$36))*(Parameter!$F$6-CA!V35)*Shape_round!U2","v":1.5894185142857145E-3},{"$f":"IF(CA!W2=0, $D$34, IF(CA!W2=1, $D$35, $D$36))*(Parameter!$F$6-CA!W35)*Shape_round!V2","v":1.5894185142857145E-3},{"$f":"IF(CA!X2=0, $D$34, IF(CA!X2=1, $D$35, $D$36))*(Parameter!$F$6-CA!X35)*Shape_round!W2","v":1.5894185142857145E-3},{"$f":"IF(CA!Y2=0, $D$34, IF(CA!Y2=1, $D$35, $D$36))*(Parameter!$F$6-CA!Y35)*Shape_round!X2","v":1.5894185142857145E-3},{"$f":"IF(CA!Z2=0, $D$34, IF(CA!Z2=1, $D$35, $D$36))*(Parameter!$F$6-CA!Z35)*Shape_round!Y2","v":1.5894185142857145E-3},{"$f":"IF(CA!AA2=0, $D$34, IF(CA!AA2=1, $D$35, $D$36))*(Parameter!$F$6-CA!AA35)*Shape_round!Z2","v":1.5894185142857145E-3},{"$f":"IF(CA!AB2=0, $D$34, IF(CA!AB2=1, $D$35, $D$36))*(Parameter!$F$6-CA!AB35)*Shape_round!AA2","v":1.5894185142857145E-3},{"$f":"IF(CA!AC2=0, $D$34, IF(CA!AC2=1, $D$35, $D$36))*(Parameter!$F$6-CA!AC35)*Shape_round!AB2","v":1.5894185142857145E-3},{"$f":"IF(CA!AD2=0, $D$34, IF(CA!AD2=1, $D$35, $D$36))*(Parameter!$F$6-CA!AD35)*Shape_round!AC2","v":1.5894185142857145E-3},{"$f":"IF(CA!AE2=0, $D$34, IF(CA!AE2=1, $D$35, $D$36))*(Parameter!$F$6-CA!AE35)*Shape_round!AD2","v":1.5894185142857145E-3}]
[null,{"$f":"IF(CA!B3=0, $D$34, IF(CA!B3=1, $D$35, $D$36))*(Parameter!$F$6-CA!B36)*Shape_round!A3","v":1.5894185142857145E-3},{"$f":"IF(CA!C3=0, $D$34, IF(CA!C3=1, $D$35, $D$36))*(Parameter!$F$6-CA!C36)*Shape_round!B3","v":1.5894185142857145E-3},{"$f":"IF(CA!D3=0, $D$34, IF(CA!D3=1, $D$35, $D$36))*(Parameter!$F$6-CA!D36)*Shape_round!C3","v":1.5894185142857145E-3},{"$f":"IF(CA!E3=0, $D$34, IF(CA!E3=1, $D$35, $D$36))*(Parameter!$F$6-CA!E36)*Shape_round!D3","v":1.5894185142857145E-3},{"$f":"IF(CA!F3=0, $D$34, IF(CA!F3=1, $D$35, $D$36))*(Parameter!$F$6-CA!F36)*Shape_round!E3","v":1.5894185142857145E-3},{"$f":"IF(CA!G3=0, $D$34, IF(CA!G3=1, $D$35, $D$36))*(Parameter!$F$6-CA!G36)*Shape_round!F3","v":1.5894185142857145E-3},{"$f":"IF(CA!H3=0, $D$34, IF(CA!H3=1, $D$35, $D$36))*(Parameter!$F$6-CA!H36)*Shape_round!G3","v":1.5894185142857145E-3},{"$f":"IF(CA!I3=0, $D$34, IF(CA!I3=1, $D$35, $D$36))*(Parameter!$F$6-CA!I36)*Shape_round!H3","v":1.5894185142857145E-3},{"$f":"IF(CA!J3=0, $D$34, IF(CA!J3=1, $D$35, $D$36))*(Parameter!$F$6-CA!J36)*Shape_round!I3","v":1.5894185142857145E-3},{"$f":"IF(CA!K3=0, $D$34, IF(CA!K3=1, $D$35, $D$36))*(Parameter!$F$6-CA!K36)*Shape_round!J3","v":1.5894185142857145E-3},{"$f":"IF(CA!L3=0, $D$34, IF(CA!L3=1, $D$35, $D$36))*(Parameter!$F$6-CA!L36)*Shape_round!K3","v":1.5894185142857145E-3},{"$f":"IF(CA!M3=0, $D$34, IF(CA!M3=1, $D$35, $D$36))*(Parameter!$F$6-CA!M36)*Shape_round!L3","v":1.5894185142857145E-3},{"$f":"IF(CA!N3=0, $D$34, IF(CA!N3=1, $D$35, $D$36))*(Parameter!$F$6-CA!N36)*Shape_round!M3","v":1.5894185142857145E-3},{"$f":"IF(CA!O3=0, $D$34, IF(CA!O3=1, $D$35, $D$36))*(Parameter!$F$6-CA!O36)*Shape_round!N3","v":1.5894185142857145E-3},{"$f":"IF(CA!P3=0, $D$34, IF(CA!P3=1, $D$35, $D$36))*(Parameter!$F$6-CA!P36)*Shape_round!O3","v":1.5894185142857145E-3},{"$f":"IF(CA!Q3=0, $D$34, IF(CA!Q3=1, $D$35, $D$36))*(Parameter!$F$6-CA!Q36)*Shape_round!P3","v":1.5894185142857145E-3},{"$f":"IF(CA!R3=0, $D$34, IF(CA!R3=1, $D$35, $D$36))*(Parameter!$F$6-CA!R36)*Shape_round!Q3","v":1.5894185142857145E-3},{"$f":"IF(CA!S3=0, $D$34, IF(CA!S3=1, $D$35, $D$36))*(Parameter!$F$6-CA!S36)*Shape_round!R3","v":1.5894185142857145E-3},{"$f":"IF(CA!T3=0, $D$34, IF(CA!T3=1, $D$35, $D$36))*(Parameter!$F$6-CA!T36)*Shape_round!S3","v":1.5894185142857145E-3},{"$f":"IF(CA!U3=0, $D$34, IF(CA!U3=1, $D$35, $D$36))*(Parameter!$F$6-CA!U36)*Shape_round!T3","v":1.5894185142857145E-3},{"$f":"IF(CA!V3=0, $D$34, IF(CA!V3=1, $D$35, $D$36))*(Parameter!$F$6-CA!V36)*Shape_round!U3","v":1.5894185142857145E-3},{"$f":"IF(CA!W3=0, $D$34, IF(CA!W3=1, $D$35, $D$36))*(Parameter!$F$6-CA!W36)*Shape_round!V3","v":1.5894185142857145E-3},{"$f":"IF(CA!X3=0, $D$34, IF(CA!X3=1, $D$35, $D$36))*(Parameter!$F$6-CA!X36)*Shape_round!W3","v":1.5894185142857145E-3},{"$f":"IF(CA!Y3=0, $D$34, IF(CA!Y3=1, $D$35, $D$36))*(Parameter!$F$6-CA!Y36)*Shape_round!X3","v":1.5894185142857145E-3},{"$f":"IF(CA!Z3=0, $D$34, IF(CA!Z3=1, $D$35, $D$36))*(Parameter!$F$6-CA!Z36)*Shape_round!Y3","v":1.5894185142857145E-3},{"$f":"IF(CA!AA3=0, $D$34, IF(CA!AA3=1, $D$35, $D$36))*(Parameter!$F$6-CA!AA36)*Shape_round!Z3","v":1.5894185142857145E-3},{"$f":"IF(CA!AB3=0, $D$34, IF(CA!AB3=1, $D$35, $D$36))*(Parameter!$F$6-CA!AB36)*Shape_round!AA3","v":1.5894185142857145E-3},{"$f":"IF(CA!AC3=0, $D$34, IF(CA!AC3=1, $D$35, $D$36))*(Parameter!$F$6-CA!AC36)*Shape_round!AB3","v":1.5894185142857145E-3},{"$f":"IF(CA!AD3=0, $D$34, IF(CA!AD3=1, $D$35, $D$36))*(Parameter!$F$6-CA!AD36)*Shape_round!AC3","v":1.5894185142857145E-3},{"$f":"IF(CA!AE3=0, $D$34, IF(CA!AE3=1, $D$35, $D$36))*(Parameter!$F$6-CA!AE36)*Shape_round!AD3","v":1.5894185142857145E-3}]
[null,{"$f":"IF(CA!B4=0, $D$34, IF(CA!B4=1, $D$35, $D$36))*(Parameter!$F$6-CA!B37)*Shape_round!A4","v":1.5894185142857145E-3},{"$f":"IF(CA!C4=0, $D$34, IF(CA!C4=1, $D$35, $D$36))*(Parameter!$F$6-CA!C37)*Shape_round!B4","v":1.5894185142857145E-3},{"$f":"IF(CA!D4=0, $D$34, IF(CA!D4=1, $D$35, $D$36))*(Parameter!$F$6-CA!D37)*Shape_round!C4","v":1.5894185142857145E-3},{"$f":"IF(CA!E4=0, $D$34, IF(CA!E4=1, $D$35, $D$36))*(Parameter!$F$6-CA!E37)*Shape_round!D4","v":1.5894185142857145E-3},{"$f":"IF(CA!F4=0, $D$34, IF(CA!F4=1, $D$35, $D$36))*(Parameter!$F$6-CA!F37)*Shape_round!E4","v":1.5894185142857145E-3},{"$f":"IF(CA!G4=0, $D$34, IF(CA!G4=1, $D$35, $D$36))*(Parameter!$F$6-CA!G37)*Shape_round!F4","v":1.5894185142857145E-3},{"$f":"IF(CA!H4=0, $D$34, IF(CA!H4=1, $D$35, $D$36))*(Parameter!$F$6-CA!H37)*Shape_round!G4","v":1.5894185142857145E-3},{"$f":"IF(CA!I4=0, $D$34, IF(CA!I4=1, $D$35, $D$36))*(Parameter!$F$6-CA!I37)*Shape_round!H4","v":1.5894185142857145E-3},{"$f":"IF(CA!J4=0, $D$34, IF(CA!J4=1, $D$35, $D$36))*(Parameter!$F$6-CA!J37)*Shape_round!I4","v":1.5894185142857145E-3},{"$f":"IF(CA!K4=0, $D$34, IF(CA!K4=1, $D$35, $D$36))*(Parameter!$F$6-CA!K37)*Shape_round!J4","v":1.5894185142857145E-3},{"$f":"IF(CA!L4=0, $D$34, IF(CA!L4=1, $D$35, $D$36))*(Parameter!$F$6-CA!L37)*Shape_round!K4","v":1.5894185142857145E-3},{"$f":"IF(CA!M4=0, $D$34, IF(CA!M4=1, $D$35, $D$36))*(Parameter!$F$6-CA!M37)*Shape_round!L4","v":1.5894185142857145E-3},{"$f":"IF(CA!N4=0, $D$34, IF(CA!N4=1, $D$35, $D$36))*(Parameter!$F$6-CA!N37)*Shape_round!M4","v":1.5894185142857145E-3},{"$f":"IF(CA!O4=0, $D$34, IF(CA!O4=1, $D$35, $D$36))*(Parameter!$F$6-CA!O37)*Shape_round!N4","v":1.5894185142857145E-3},{"$f":"IF(CA!P4=0, $D$34, IF(CA!P4=1, $D$35, $D$36))*(Parameter!$F$6-CA!P37)*Shape_round!O4","v":1.5894185142857145E-3},{"$f":"IF(CA!Q4=0, $D$34, IF(CA!Q4=1, $D$35, $D$36))*(Parameter!$F$6-CA!Q37)*Shape_round!P4","v":1.5894185142857145E-3},{"$f":"IF(CA!R4=0, $D$34, IF(CA!R4=1, $D$35, $D$36))*(Parameter!$F$6-CA!R37)*Shape_round!Q4","v":1.5894185142857145E-3},{"$f":"IF(CA!S4=0, $D$34, IF(CA!S4=1, $D$35, $D$36))*(Parameter!$F$6-CA!S37)*Shape_round!R4","v":1.5894185142857145E-3},{"$f":"IF(CA!T4=0, $D$34, IF(CA!T4=1, $D$35, $D$36))*(Parameter!$F$6-CA!T37)*Shape_round!S4","v":1.5894185142857145E-3},{"$f":"IF(CA!U4=0, $D$34, IF(CA!U4=1, $D$35, $D$36))*(Parameter!$F$6-CA!U37)*Shape_round!T4","v":1.5894185142857145E-3},{"$f":"IF(CA!V4=0, $D$34, IF(CA!V4=1, $D$35, $D$36))*(Parameter!$F$6-CA!V37)*Shape_round!U4","v":1.5894185142857145E-3},{"$f":"IF(CA!W4=0, $D$34, IF(CA!W4=1, $D$35, $D$36))*(Parameter!$F$6-CA!W37)*Shape_round!V4","v":1.5894185142857145E-3},{"$f":"IF(CA!X4=0, $D$34, IF(CA!X4=1, $D$35, $D$36))*(Parameter!$F$6-CA!X37)*Shape_round!W4","v":1.5894185142857145E-3},{"$f":"IF(CA!Y4=0, $D$34, IF(CA!Y4=1, $D$35, $D$36))*(Parameter!$F$6-CA!Y37)*Shape_round!X4","v":1.5894185142857145E-3},{"$f":"IF(CA!Z4=0, $D$34, IF(CA!Z4=1, $D$35, $D$36))*(Parameter!$F$6-CA!Z37)*Shape_round!Y4","v":1.5894185142857145E-3},{"$f":"IF(CA!AA4=0, $D$34, IF(CA!AA4=1, $D$35, $D$36))*(Parameter!$F$6-CA!AA37)*Shape_round!Z4","v":1.5894185142857145E-3},{"$f":"IF(CA!AB4=0, $D$34, IF(CA!AB4=1, $D$35, $D$36))*(Parameter!$F$6-CA!AB37)*Shape_round!AA4","v":1.5894185142857145E-3},{"$f":"IF(CA!AC4=0, $D$34, IF(CA!AC4=1, $D$35, $D$36))*(Parameter!$F$6-CA!AC37)*Shape_round!AB4","v":1.5894185142857145E-3},{"$f":"IF(CA!AD4=0, $D$34, IF(CA!AD4=1, $D$35, $D$36))*(Parameter!$F$6-CA!AD37)*Shape_round!AC4","v":1.5894185142857145E-3},{"$f":"IF(CA!AE4=0, $D$34, IF(CA!AE4=1, $D$35, $D$36))*(Parameter!$F$6-CA!AE37)*Shape_round!AD4","v":1.5894185142857145E-3}]
[null,{"$f":"IF(CA!B5=0, $D$34, IF(CA!B5=1, $D$35, $D$36))*(Parameter!$F$6-CA!B38)*Shape_round!A5","v":1.5894185142857145E-3},{"$f":"IF(CA!C5=0, $D$34, IF(CA!C5=1, $D$35, $D$36))*(Parameter!$F$6-CA!C38)*Shape_round!B5","v":1.5894185142857145E-3},{"$f":"IF(CA!D5=0, $D$34, IF(CA!D5=1, $D$35, $D$36))*(Parameter!$F$6-CA!D38)*Shape_round!C5","v":1.5894185142857145E-3},{"$f":"IF(CA!E5=0, $D$34, IF(CA!E5=1, $D$35, $D$36))*(Parameter!$F$6-CA!E38)*Shape_round!D5","v":1.5894185142857145E-3},{"$f":"IF(CA!F5=0, $D$34, IF(CA!F5=1, $D$35, $D$36))*(Parameter!$F$6-CA!F38)*Shape_round!E5","v":1.5894185142857145E-3},{"$f":"IF(CA!G5=0, $D$34, IF(CA!G5=1, $D$35, $D$36))*(Parameter!$F$6-CA!G38)*Shape_round!F5","v":1.5894185142857145E-3},{"$f":"IF(CA!H5=0, $D$34, IF(CA!H5=1, $D$35, $D$36))*(Parameter!$F$6-CA!H38)*Shape_round!G5","v":1.5894185142857145E-3},{"$f":"IF(CA!I5=0, $D$34, IF(CA!I5=1, $D$35, $D$36))*(Parameter!$F$6-CA!I38)*Shape_round!H5","v":1.5894185142857145E-3},{"$f":"IF(CA!J5=0, $D$34, IF(CA!J5=1, $D$35, $D$36))*(Parameter!$F$6-CA!J38)*Shape_round!I5","v":1.5894185142857145E-3},{"$f":"IF(CA!K5=0, $D$34, IF(CA!K5=1, $D$35, $D$36))*(Parameter!$F$6-CA!K38)*Shape_round!J5","v":1.5894185142857145E-3},{"$f":"IF(CA!L5=0, $D$34, IF(CA!L5=1, $D$35, $D$36))*(Parameter!$F$6-CA!L38)*Shape_round!K5","v":1.5894185142857145E-3},{"$f":"IF(CA!M5=0, $D$34, IF(CA!M5=1, $D$35, $D$36))*(Parameter!$F$6-CA!M38)*Shape_round!L5","v":1.5894185142857145E-3},{"$f":"IF(CA!N5=0, $D$34, IF(CA!N5=1, $D$35, $D$36))*(Parameter!$F$6-CA!N38)*Shape_round!M5","v":1.5894185142857145E-3},{"$f":"IF(CA!O5=0, $D$34, IF(CA!O5=1, $D$35, $D$36))*(Parameter!$F$6-CA!O38)*Shape_round!N5","v":1.5894185142857145E-3},{"$f":"IF(CA!P5=0, $D$34, IF(CA!P5=1, $D$35, $D$36))*(Parameter!$F$6-CA!P38)*Shape_round!O5","v":1.5894185142857145E-3},{"$f":"IF(CA!Q5=0, $D$34, IF(CA!Q5=1, $D$35, $D$36))*(Parameter!$F$6-CA!Q38)*Shape_round!P5","v":1.5894185142857145E-3},{"$f":"IF(CA!R5=0, $D$34, IF(CA!R5=1, $D$35, $D$36))*(Parameter!$F$6-CA!R38)*Shape_round!Q5","v":1.5894185142857145E-3},{"$f":"IF(CA!S5=0, $D$34, IF(CA!S5=1, $D$35, $D$36))*(Parameter!$F$6-CA!S38)*Shape_round!R5","v":1.5894185142857145E-3},{"$f":"IF(CA!T5=0, $D$34, IF(CA!T5=1, $D$35, $D$36))*(Parameter!$F$6-CA!T38)*Shape_round!S5","v":1.5894185142857145E-3},{"$f":"IF(CA!U5=0, $D$34, IF(CA!U5=1, $D$35, $D$36))*(Parameter!$F$6-CA!U38)*Shape_round!T5","v":1.5894185142857145E-3},{"$f":"IF(CA!V5=0, $D$34, IF(CA!V5=1, $D$35, $D$36))*(Parameter!$F$6-CA!V38)*Shape_round!U5","v":1.5894185142857145E-3},{"$f":"IF(CA!W5=0, $D$34, IF(CA!W5=1, $D$35, $D$36))*(Parameter!$F$6-CA!W38)*Shape_round!V5","v":1.5894185142857145E-3},{"$f":"IF(CA!X5=0, $D$34, IF(CA!X5=1, $D$35, $D$36))*(Parameter!$F$6-CA!X38)*Shape_round!W5","v":1.5894185142857145E-3},{"$f":"IF(CA!Y5=0, $D$34, IF(CA!Y5=1, $D$35, $D$36))*(Parameter!$F$6-CA!Y38)*Shape_round!X5","v":1.5894185142857145E-3},{"$f":"IF(CA!Z5=0, $D$34, IF(CA!Z5=1, $D$35, $D$36))*(Parameter!$F$6-CA!Z38)*Shape_round!Y5","v":1.5894185142857145E-3},{"$f":"IF(CA!AA5=0, $D$34, IF(CA!AA5=1, $D$35, $D$36))*(Parameter!$F$6-CA!AA38)*Shape_round!Z5","v":1.5894185142857145E-3},{"$f":"IF(CA!AB5=0, $D$34, IF(CA!AB5=1, $D$35, $D$36))*(Parameter!$F$6-CA!AB38)*Shape_round!AA5","v":1.5894185142857145E-3},{"$f":"IF(CA!AC5=0, $D$34, IF(CA!AC5=1, $D$35, $D$36))*(Parameter!$F$6-CA!AC38)*Shape_round!AB5","v":1.5894185142857145E-3},{"$f":"IF(CA!AD5=0, $D$34, IF(CA!AD5=1, $D$35, $D$36))*(Parameter!$F$6-CA!AD38)*Shape_round!AC5","v":1.5894185142857145E-3},{"$f":"IF(CA!AE5=0, $D$34, IF(CA!AE5=1, $D$35, $D$36))*(Parameter!$F$6-CA!AE38)*Shape_round!AD5","v":1.5894185142857145E-3}]
[null,{"$f":"IF(CA!B6=0, $D$34, IF(CA!B6=1, $D$35, $D$36))*(Parameter!$F$6-CA!B39)*Shape_round!A6","v":1.5894185142857145E-3},{"$f":"IF(CA!C6=0, $D$34, IF(CA!C6=1, $D$35, $D$36))*(Parameter!$F$6-CA!C39)*Shape_round!B6","v":1.5894185142857145E-3},{"$f":"IF(CA!D6=0, $D$34, IF(CA!D6=1, $D$35, $D$36))*(Parameter!$F$6-CA!D39)*Shape_round!C6","v":1.5894185142857145E-3},{"$f":"IF(CA!E6=0, $D$34, IF(CA!E6=1, $D$35, $D$36))*(Parameter!$F$6-CA!E39)*Shape_round!D6","v":1.5894185142857145E-3},{"$f":"IF(CA!F6=0, $D$34, IF(CA!F6=1, $D$35, $D$36))*(Parameter!$F$6-CA!F39)*Shape_round!E6","v":1.5894185142857145E-3},{"$f":"IF(CA!G6=0, $D$34, IF(CA!G6=1, $D$35, $D$36))*(Parameter!$F$6-CA!G39)*Shape_round!F6","v":1.5894185142857145E-3},{"$f":"IF(CA!H6=0, $D$34, IF(CA!H6=1, $D$35, $D$36))*(Parameter!$F$6-CA!H39)*Shape_round!G6","v":1.5894185142857145E-3},{"$f":"IF(CA!I6=0, $D$34, IF(CA!I6=1, $D$35, $D$36))*(Parameter!$F$6-CA!I39)*Shape_round!H6","v":1.5894185142857145E-3},{"$f":"IF(CA!J6=0, $D$34, IF(CA!J6=1, $D$35, $D$36))*(Parameter!$F$6-CA!J39)*Shape_round!I6","v":1.5894185142857145E-3},{"$f":"IF(CA!K6=0, $D$34, IF(CA!K6=1, $D$35, $D$36))*(Parameter!$F$6-CA!K39)*Shape_round!J6","v":1.5894185142857145E-3},{"$f":"IF(CA!L6=0, $D$34, IF(CA!L6=1, $D$35, $D$36))*(Parameter!$F$6-CA!L39)*Shape_round!K6","v":1.5894185142857145E-3},{"$f":"IF(CA!M6=0, $D$34, IF(CA!M6=1, $D$35, $D$36))*(Parameter!$F$6-CA!M39)*Shape_round!L6","v":1.5894185142857145E-3},{"$f":"IF(CA!N6=0, $D$34, IF(CA!N6=1, $D$35, $D$36))*(Parameter!$F$6-CA!N39)*Shape_round!M6","v":1.5894185142857145E-3},{"$f":"IF(CA!O6=0, $D$34, IF(CA!O6=1, $D$35, $D$36))*(Parameter!$F$6-CA!O39)*Shape_round!N6","v":1.5894185142857145E-3},{"$f":"IF(CA!P6=0, $D$34, IF(CA!P6=1, $D$35, $D$36))*(Parameter!$F$6-CA!P39)*Shape_round!O6","v":1.5894185142857145E-3},{"$f":"IF(CA!Q6=0, $D$34, IF(CA!Q6=1, $D$35, $D$36))*(Parameter!$F$6-CA!Q39)*Shape_round!P6","v":1.5894185142857145E-3},{"$f":"IF(CA!R6=0, $D$34, IF(CA!R6=1, $D$35, $D$36))*(Parameter!$F$6-CA!R39)*Shape_round!Q6","v":1.5894185142857145E-3},{"$f":"IF(CA!S6=0, $D$34, IF(CA!S6=1, $D$35, $D$36))*(Parameter!$F$6-CA!S39)*Shape_round!R6","v":1.5894185142857145E-3},{"$f":"IF(CA!T6=0, $D$34, IF(CA!T6=1, $D$35, $D$36))*(Parameter!$F$6-CA!T39)*Shape_round!S6","v":1.5894185142857145E-3},{"$f":"IF(CA!U6=0, $D$34, IF(CA!U6=1, $D$35, $D$36))*(Parameter!$F$6-CA!U39)*Shape_round!T6","v":1.5894185142857145E-3},{"$f":"IF(CA!V6=0, $D$34, IF(CA!V6=1, $D$35, $D$36))*(Parameter!$F$6-CA!V39)*Shape_round!U6","v":1.5894185142857145E-3},{"$f":"IF(CA!W6=0, $D$34, IF(CA!W6=1, $D$35, $D$36))*(Parameter!$F$6-CA!W39)*Shape_round!V6","v":1.5894185142857145E-3},{"$f":"IF(CA!X6=0, $D$34, IF(CA!X6=1, $D$35, $D$36))*(Parameter!$F$6-CA!X39)*Shape_round!W6","v":1.5894185142857145E-3},{"$f":"IF(CA!Y6=0, $D$34, IF(CA!Y6=1, $D$35, $D$36))*(Parameter!$F$6-CA!Y39)*Shape_round!X6","v":1.5894185142857145E-3},{"$f":"IF(CA!Z6=0, $D$34, IF(CA!Z6=1, $D$35, $D$36))*(Parameter!$F$6-CA!Z39)*Shape_round!Y6","v":1.5894185142857145E-3},{"$f":"IF(CA!AA6=0, $D$34, IF(CA!AA6=1, $D$35, $D$36))*(Parameter!$F$6-CA!AA39)*Shape_round!Z6","v":1.5894185142857145E-3},{"$f":"IF(CA!AB6=0, $D$34, IF(CA!AB6=1, $D$35, $D$36))*(Parameter!$F$6-CA!AB39)*Shape_round!AA6","v":1.5894185142857145E-3},{"$f":"IF(CA!AC6=0, $D$34, IF(CA!AC6=1, $D$35, $D$36))*(Parameter!$F$6-CA!AC39)*Shape_round!AB6","v":1.5894185142857145E-3},{"$f":"IF(CA!AD6=0, $D$34, IF(CA!AD6=1, $D$35, $D$36))*(Parameter!$F$6-CA!AD39)*Shape_round!AC6","v":1.5894185142857145E-3},{"$f":"IF(CA!AE6=0, $D$34, IF(CA!AE6=1, $D$35, $D$36))*(Parameter!$F$6-CA!AE39)*Shape_round!AD6","v":1.5894185142857145E-3}]
[null,{"$f":"IF(CA!B7=0, $D$34, IF(CA!B7=1, $D$35, $D$36))*(Parameter!$F$6-CA!B40)*Shape_round!A7","v":1.5894185142857145E-3},{"$f":"IF(CA!C7=0, $D$34, IF(CA!C7=1, $D$35, $D$36))*(Parameter!$F$6-CA!C40)*Shape_round!B7","v":1.5894185142857145E-3},{"$f":"IF(CA!D7=0, $D$34, IF(CA!D7=1, $D$35, $D$36))*(Parameter!$F$6-CA!D40)*Shape_round!C7","v":1.5894185142857145E-3},{"$f":"IF(CA!E7=0, $D$34, IF(CA!E7=1, $D$35, $D$36))*(Parameter!$F$6-CA!E40)*Shape_round!D7","v":1.5894185142857145E-3},{"$f":"IF(CA!F7=0, $D$34, IF(CA!F7=1, $D$35, $D$36))*(Parameter!$F$6-CA!F40)*Shape_round!E7","v":1.5894185142857145E-3},{"$f":"IF(CA!G7=0, $D$34, IF(CA!G7=1, $D$35, $D$36))*(Parameter!$F$6-CA!G40)*Shape_round!F7","v":1.5894185142857145E-3},{"$f":"IF(CA!H7=0, $D$34, IF(CA!H7=1, $D$35, $D$36))*(Parameter!$F$6-CA!H40)*Shape_round!G7","v":1.5894185142857145E-3},{"$f":"IF(CA!I7=0, $D$34, IF(CA!I7=1, $D$35, $D$36))*(Parameter!$F$6-CA!I40)*Shape_round!H7","v":1.5894185142857145E-3},{"$f":"IF(CA!J7=0, $D$34, IF(CA!J7=1, $D$35, $D$36))*(Parameter!$F$6-CA!J40)*Shape_round!I7","v":1.5894185142857145E-3},{"$f":"IF(CA!K7=0, $D$34, IF(CA!K7=1, $D$35, $D$36))*(Parameter!$F$6-CA!K40)*Shape_round!J7","v":1.5894185142857145E-3},{"$f":"IF(CA!L7=0, $D$34, IF(CA!L7=1, $D$35, $D$36))*(Parameter!$F$6-CA!L40)*Shape_round!K7","v":1.5894185142857145E-3},{"$f":"IF(CA!M7=0, $D$34, IF(CA!M7=1, $D$35, $D$36))*(Parameter!$F$6-CA!M40)*Shape_round!L7","v":1.5894185142857145E-3},{"$f":"IF(CA!N7=0, $D$34, IF(CA!N7=1, $D$35, $D$36))*(Parameter!$F$6-CA!N40)*Shape_round!M7","v":1.5894185142857145E-3},{"$f":"IF(CA!O7=0, $D$34, IF(CA!O7=1, $D$35, $D$36))*(Parameter!$F$6-CA!O40)*Shape_round!N7","v":1.5894185142857145E-3},{"$f":"IF(CA!P7=0, $D$34, IF(CA!P7=1, $D$35, $D$36))*(Parameter!$F$6-CA!P40)*Shape_round!O7","v":1.5894185142857145E-3},{"$f":"IF(CA!Q7=0, $D$34, IF(CA!Q7=1, $D$35, $D$36))*(Parameter!$F$6-CA!Q40)*Shape_round!P7","v":1.5894185142857145E-3},{"$f":"IF(CA!R7=0, $D$34, IF(CA!R7=1, $D$35, $D$36))*(Parameter!$F$6-CA!R40)*Shape_round!Q7","v":1.5894185142857145E-3},{"$f":"IF(CA!S7=0, $D$34, IF(CA!S7=1, $D$35, $D$36))*(Parameter!$F$6-CA!S40)*Shape_round!R7","v":1.5894185142857145E-3},{"$f":"IF(CA!T7=0, $D$34, IF(CA!T7=1, $D$35, $D$36))*(Parameter!$F$6-CA!T40)*Shape_round!S7","v":1.5894185142857145E-3},{"$f":"IF(CA!U7=0, $D$34, IF(CA!U7=1, $D$35, $D$36))*(Parameter!$F$6-CA!U40)*Shape_round!T7","v":1.5894185142857145E-3},{"$f":"IF(CA!V7=0, $D$34, IF(CA!V7=1, $D$35, $D$36))*(Parameter!$F$6-CA!V40)*Shape_round!U7","v":1.5894185142857145E-3},{"$f":"IF(CA!W7=0, $D$34, IF(CA!W7=1, $D$35, $D$36))*(Parameter!$F$6-CA!W40)*Shape_round!V7","v":1.5894185142857145E-3},{"$f":"IF(CA!X7=0, $D$34, IF(CA!X7=1, $D$35, $D$36))*(Parameter!$F$6-CA!X40)*Shape_round!W7","v":1.5894185142857145E-3},{"$f":"IF(CA!Y7=0, $D$34, IF(CA!Y7=1, $D$35, $D$36))*(Parameter!$F$6-CA!Y40)*Shape_round!X7","v":1.5894185142857145E-3},{"$f":"IF(CA!Z7=0, $D$34, IF(CA!Z7=1, $D$35, $D$36))*(Parameter!$F$6-CA!Z40)*Shape_round!Y7","v":1.5894185142857145E-3},{"$f":"IF(CA!AA7=0, $D$34, IF(CA!AA7=1, $D$35, $D$36))*(Parameter!$F$6-CA!AA40)*Shape_round!Z7","v":1.5894185142857145E-3},{"$f":"IF(CA!AB7=0, $D$34, IF(CA!AB7=1, $D$35, $D$36))*(Parameter!$F$6-CA!AB40)*Shape_round!AA7","v":1.5894185142857145E-3},{"$f":"IF(CA!AC7=0, $D$34, IF(CA!AC7=1, $D$35, $D$36))*(Parameter!$F$6-CA!AC40)*Shape_round!AB7","v":1.5894185142857145E-3},{"$f":"IF(CA!AD7=0, $D$34, IF(CA!AD7=1, $D$35, $D$36))*(Parameter!$F$6-CA!AD40)*Shape_round!AC7","v":1.5894185142857145E-3},{"$f":"IF(CA!AE7=0, $D$34, IF(CA!AE7=1, $D$35, $D$36))*(Parameter!$F$6-CA!AE40)*Shape_round!AD7","v":1.5894185142857145E-3}]
[null,{"$f":"IF(CA!B8=0, $D$34, IF(CA!B8=1, $D$35, $D$36))*(Parameter!$F$6-CA!B41)*Shape_round!A8","v":1.5894185142857145E-3},{"$f":"IF(CA!C8=0, $D$34, IF(CA!C8=1, $D$35, $D$36))*(Parameter!$F$6-CA!C41)*Shape_round!B8","v":1.5894185142857145E-3},{"$f":"IF(CA!D8=0, $D$34, IF(CA!D8=1, $D$35, $D$36))*(Parameter!$F$6-CA!D41)*Shape_round!C8","v":1.5894185142857145E-3},{"$f":"IF(CA!E8=0, $D$34, IF(CA!E8=1, $D$35, $D$36))*(Parameter!$F$6-CA!E41)*Shape_round!D8","v":1.5894185142857145E-3},{"$f":"IF(CA!F8=0, $D$34, IF(CA!F8=1, $D$35, $D$36))*(Parameter!$F$6-CA!F41)*Shape_round!E8","v":1.5894185142857145E-3},{"$f":"IF(CA!G8=0, $D$34, IF(CA!G8=1, $D$35, $D$36))*(Parameter!$F$6-CA!G41)*Shape_round!F8","v":1.5894185142857145E-3},{"$f":"IF(CA!H8=0, $D$34, IF(CA!H8=1, $D$35, $D$36))*(Parameter!$F$6-CA!H41)*Shape_round!G8","v":1.5894185142857145E-3},{"$f":"IF(CA!I8=0, $D$34, IF(CA!I8=1, $D$35, $D$36))*(Parameter!$F$6-CA!I41)*Shape_round!H8","v":1.5894185142857145E-3},{"$f":"IF(CA!J8=0, $D$34, IF(CA!J8=1, $D$35, $D$36))*(Parameter!$F$6-CA!J41)*Shape_round!I8","v":1.5894185142857145E-3},{"$f":"IF(CA!K8=0, $D$34, IF(CA!K8=1, $D$35, $D$36))*(Parameter!$F$6-CA!K41)*Shape_round!J8","v":1.5894185142857145E-3},{"$f":"IF(CA!L8=0, $D$34, IF(CA!L8=1, $D$35, $D$36))*(Parameter!$F$6-CA!L41)*Shape_round!K8","v":1.5894185142857145E-3},{"$f":"IF(CA!M8=0, $D$34, IF(CA!M8=1, $D$35, $D$36))*(Parameter!$F$6-CA!M41)*Shape_round!L8","v":1.5894185142857145E-3},{"$f":"IF(CA!N8=0, $D$34, IF(CA!N8=1, $D$35, $D$36))*(Parameter!$F$6-CA!N41)*Shape_round!M8","v":1.5894185142857145E-3},{"$f":"IF(CA!O8=0, $D$34, IF(CA!O8=1, $D$35, $D$36))*(Parameter!$F$6-CA!O41)*Shape_round!N8","v":1.5894185142857145E-3},{"$f":"IF(CA!P8=0, $D$34, IF(CA!P8=1, $D$35, $D$36))*(Parameter!$F$6-CA!P41)*Shape_round!O8","v":1.5894185142857145E-3},{"$f":"IF(CA!Q8=0, $D$34, IF(CA!Q8=1, $D$35, $D$36))*(Parameter!$F$6-CA!Q41)*Shape_round!P8","v":1.5894185142857145E-3},{"$f":"IF(CA!R8=0, $D$34, IF(CA!R8=1, $D$35, $D$36))*(Parameter!$F$6-CA!R41)*Shape_round!Q8","v":1.5894185142857145E-3},{"$f":"IF(CA!S8=0, $D$34, IF(CA!S8=1, $D$35, $D$36))*(Parameter!$F$6-CA!S41)*Shape_round!R8","v":1.5894185142857145E-3},{"$f":"IF(CA!T8=0, $D$34, IF(CA!T8=1, $D$35, $D$36))*(Parameter!$F$6-CA!T41)*Shape_round!S8","v":1.5894185142857145E-3},{"$f":"IF(CA!U8=0, $D$34, IF(CA!U8=1, $D$35, $D$36))*(Parameter!$F$6-CA!U41)*Shape_round!T8","v":1.5894185142857145E-3},{"$f":"IF(CA!V8=0, $D$34, IF(CA!V8=1, $D$35, $D$36))*(Parameter!$F$6-CA!V41)*Shape_round!U8","v":1.5894185142857145E-3},{"$f":"IF(CA!W8=0, $D$34, IF(CA!W8=1, $D$35, $D$36))*(Parameter!$F$6-CA!W41)*Shape_round!V8","v":1.5894185142857145E-3},{"$f":"IF(CA!X8=0, $D$34, IF(CA!X8=1, $D$35, $D$36))*(Parameter!$F$6-CA!X41)*Shape_round!W8","v":1.5894185142857145E-3},{"$f":"IF(CA!Y8=0, $D$34, IF(CA!Y8=1, $D$35, $D$36))*(Parameter!$F$6-CA!Y41)*Shape_round!X8","v":1.5894185142857145E-3},{"$f":"IF(CA!Z8=0, $D$34, IF(CA!Z8=1, $D$35, $D$36))*(Parameter!$F$6-CA!Z41)*Shape_round!Y8","v":1.5894185142857145E-3},{"$f":"IF(CA!AA8=0, $D$34, IF(CA!AA8=1, $D$35, $D$36))*(Parameter!$F$6-CA!AA41)*Shape_round!Z8","v":1.5894185142857145E-3},{"$f":"IF(CA!AB8=0, $D$34, IF(CA!AB8=1, $D$35, $D$36))*(Parameter!$F$6-CA!AB41)*Shape_round!AA8","v":1.5894185142857145E-3},{"$f":"IF(CA!AC8=0, $D$34, IF(CA!AC8=1, $D$35, $D$36))*(Parameter!$F$6-CA!AC41)*Shape_round!AB8","v":1.5894185142857145E-3},{"$f":"IF(CA!AD8=0, $D$34, IF(CA!AD8=1, $D$35, $D$36))*(Parameter!$F$6-CA!AD41)*Shape_round!AC8","v":1.5894185142857145E-3},{"$f":"IF(CA!AE8=0, $D$34, IF(CA!AE8=1, $D$35, $D$36))*(Parameter!$F$6-CA!AE41)*Shape_round!AD8","v":1.5894185142857145E-3}]
[null,{"$f":"IF(CA!B9=0, $D$34, IF(CA!B9=1, $D$35, $D$36))*(Parameter!$F$6-CA!B42)*Shape_round!A9","v":0},{"$f":"IF(CA!C9=0, $D$34, IF(CA!C9=1, $D$35, $D$36))*(Parameter!$F$6-CA!C42)*Shape_round!B9","v":0},{"$f":"IF(CA!D9=0, $D$34, IF(CA!D9=1, $D$35, $D$36))*(Parameter!$F$6-CA!D42)*Shape_round!C9","v":0},{"$f":"IF(CA!E9=0, $D$34, IF(CA!E9=1, $D$35, $D$36))*(Parameter!$F$6-CA!E42)*Shape_round!D9","v":0},{"$f":"IF(CA!F9=0, $D$34, IF(CA!F9=1, $D$35, $D$36))*(Parameter!$F$6-CA!F42)*Shape_round!E9","v":0},{"$f":"IF(CA!G9=0, $D$34, IF(CA!G9=1, $D$35, $D$36))*(Parameter!$F$6-CA!G42)*Shape_round!F9","v":0},{"$f":"IF(CA!H9=0, $D$34, IF(CA!H9=1, $D$35, $D$36))*(Parameter!$F$6-CA!H42)*Shape_round!G9","v":0},{"$f":"IF(CA!I9=0, $D$34, IF(CA!I9=1, $D$35, $D$36))*(Parameter!$F$6-CA!I42)*Shape_round!H9","v":0},{"$f":"IF(CA!J9=0, $D$34, IF(CA!J9=1, $D$35, $D$36))*(Parameter!$F$6-CA!J42)*Shape_round!I9","v":0},{"$f":"IF(CA!K9=0, $D$34, IF(CA!K9=1, $D$35, $D$36))*(Parameter!$F$6-CA!K42)*Shape_round!J9","v":0},{"$f":"IF(CA!L9=0, $D$34, IF(CA!L9=1, $D$35, $D$36))*(Parameter!$F$6-CA!L42)*Shape_round!K9","v":0},{"$f":"IF(CA!M9=0, $D$34, IF(CA!M9=1, $D$35, $D$36))*(Parameter!$F$6-CA!M42)*Shape_round!L9","v":0},{"$f":"IF(CA!N9=0, $D$34, IF(CA!N9=1, $D$35, $D$36))*(Parameter!$F$6-CA!N42)*Shape_round!M9","v":0},{"$f":"IF(CA!O9=0, $D$34, IF(CA!O9=1, $D$35, $D$36))*(Parameter!$F$6-CA!O42)*Shape_round!N9","v":0},{"$f":"IF(CA!P9=0, $D$34, IF(CA!P9=1, $D$35, $D$36))*(Parameter!$F$6-CA!P42)*Shape_round!O9","v":0},{"$f":"IF(CA!Q9=0, $D$34, IF(CA!Q9=1, $D$35, $D$36))*(Parameter!$F$6-CA!Q42)*Shape_round!P9","v":0},{"$f":"IF(CA!R9=0, $D$34, IF(CA!R9=1, $D$35, $D$36))*(Parameter!$F$6-CA!R42)*Shape_round!Q9","v":0},{"$f":"IF(CA!S9=0, $D$34, IF(CA!S9=1, $D$35, $D$36))*(Parameter!$F$6-CA!S42)*Shape_round!R9","v":0},{"$f":"IF(CA!T9=0, $D$34, IF(CA!T9=1, $D$35, $D$36))*(Parameter!$F$6-CA!T42)*Shape_round!S9","v":0},{"$f":"IF(CA!U9=0, $D$34, IF(CA!U9=1, $D$35, $D$36))*(Parameter!$F$6-CA!U42)*Shape_round!T9","v":0},{"$f":"IF(CA!V9=0, $D$34, IF(CA!V9=1, $D$35, $D$36))*(Parameter!$F$6-CA!V42)*Shape_round!U9","v":0},{"$f":"IF(CA!W9=0, $D$34, IF(CA!W9=1, $D$35, $D$36))*(Parameter!$F$6-CA!W42)*Shape_round!V9","v":0},{"$f":"IF(CA!X9=0, $D$34, IF(CA!X9=1, $D$35, $D$36))*(Parameter!$F$6-CA!X42)*Shape_round!W9","v":0},{"$f":"IF(CA!Y9=0, $D$34, IF(CA!Y9=1, $D$35, $D$36))*(Parameter!$F$6-CA!Y42)*Shape_round!X9","v":0},{"$f":"IF(CA!Z9=0, $D$34, IF(CA!Z9=1, $D$35, $D$36))*(Parameter!$F$6-CA!Z42)*Shape_round!Y9","v":0},{"$f":"IF(CA!AA9=0, $D$34, IF(CA!AA9=1, $D$35, $D$36))*(Parameter!$F$6-CA!AA42)*Shape_round!Z9","v":0},{"$f":"IF(CA!AB9=0, $D$34, IF(CA!AB9=1, $D$35, $D$36))*(Parameter!$F$6-CA!AB42)*Shape_round!AA9","v":0},{"$f":"IF(CA!AC9=0, $D$34, IF(CA!AC9=1, $D$35, $D$36))*(Parameter!$F$6-CA!AC42)*Shape_round!AB9","v":0},{"$f":"IF(CA!AD9=0, $D$34, IF(CA!AD9=1, $D$35, $D$36))*(Parameter!$F$6-CA!AD42)*Shape_round!AC9","v":0},{"$f":"IF(CA!AE9=0, $D$34, IF(CA!AE9=1, $D$35, $D$36))*(Parameter!$F$6-CA!AE42)*Shape_round!AD9","v":0}]
[null,{"$f":"IF(CA!B10=0, $D$34, IF(CA!B10=1, $D$35, $D$36))*(Parameter!$F$6-CA!B43)*Shape_round!A10","v":0},{"$f":"IF(CA!C10=0, $D$34, IF(CA!C10=1, $D$35, $D$36))*(Parameter!$F$6-CA!C43)*Shape_round!B10","v":0},{"$f":"IF(CA!D10=0, $D$34, IF(CA!D10=1, $D$35, $D$36))*(Parameter!$F$6-CA!D43)*Shape_round!C10","v":0},{"$f":"IF(CA!E10=0, $D$34, IF(CA!E10=1, $D$35, $D$36))*(Parameter!$F$6-CA!E43)*Shape_round!D10","v":0},{"$f":"IF(CA!F10=0, $D$34, IF(CA!F10=1, $D$35, $D$36))*(Parameter!$F$6-CA!F43)*Shape_round!E10","v":0},{"$f":"IF(CA!G10=0, $D$34, IF(CA!G10=1, $D$35, $D$36))*(Parameter!$F$6-CA!G43)*Shape_round!F10","v":0},{"$f":"IF(CA!H10=0, $D$34, IF(CA!H10=1, $D$35, $D$36))*(Parameter!$F$6-CA!H43)*Shape_round!G10","v":0},{"$f":"IF(CA!I10=0, $D$34, IF(CA!I10=1, $D$35, $D$36))*(Parameter!$F$6-CA!I43)*Shape_round!H10","v":0},{"$f":"IF(CA!J10=0, $D$34, IF(CA!J10=1, $D$35, $D$36))*(Parameter!$F$6-CA!J43)*Shape_round!I10","v":0},{"$f":"IF(CA!K10=0, $D$34, IF(CA!K10=1, $D$35, $D$36))*(Parameter!$F$6-CA!K43)*Shape_round!J10","v":0},{"$f":"IF(CA!L10=0, $D$34, IF(CA!L10=1, $D$35, $D$36))*(Parameter!$F$6-CA!L43)*Shape_round!K10","v":0},{"$f":"IF(CA!M10=0, $D$34, IF(CA!M10=1, $D$35, $D$36))*(Parameter!$F$6-CA!M43)*Shape_round!L10","v":0},{"$f":"IF(CA!N10=0, $D$34, IF(CA!N10=1, $D$35, $D$36))*(Parameter!$F$6-CA!N43)*Shape_round!M10","v":0},{"$f":"IF(CA!O10=0, $D$34, IF(CA!O10=1, $D$35, $D$36))*(Parameter!$F$6-CA!O43)*Shape_round!N10","v":0},{"$f":"IF(CA!P10=0, $D$34, IF(CA!P10=1, $D$35, $D$36))*(Parameter!$F$6-CA!P43)*Shape_round!O10","v":0},{"$f":"IF(CA!Q10=0, $D$34, IF(CA!Q10=1, $D$35, $D$36))*(Parameter!$F$6-CA!Q43)*Shape_round!P10","v":0},{"$f":"IF(CA!R10=0, $D$34, IF(CA!R10=1, $D$35, $D$36))*(Parameter!$F$6-CA!R43)*Shape_round!Q10","v":0},{"$f":"IF(CA!S10=0, $D$34, IF(CA!S10=1, $D$35, $D$36))*(Parameter!$F$6-CA!S43)*Shape_round!R10","v":0},{"$f":"IF(CA!T10=0, $D$34, IF(CA!T10=1, $D$35, $D$36))*(Parameter!$F$6-CA!T43)*Shape_round!S10","v":0},{"$f":"IF(CA!U10=0, $D$34, IF(CA!U10=1, $D$35, $D$36))*(Parameter!$F$6-CA!U43)*Shape_round!T10","v":0},{"$f":"IF(CA!V10=0, $D$34, IF(CA!V10=1, $D$35, $D$36))*(Parameter!$F$6-CA!V43)*Shape_round!U10","v":0},{"$f":"IF(CA!W10=0, $D$34, IF(CA!W10=1, $D$35, $D$36))*(Parameter!$F$6-CA!W43)*Shape_round!V10","v":0},{"$f":"IF(CA!X10=0, $D$34, IF(CA!X10=1, $D$35, $D$36))*(Parameter!$F$6-CA!X43)*Shape_round!W10","v":0},{"$f":"IF(CA!Y10=0, $D$34, IF(CA!Y10=1, $D$35, $D$36))*(Parameter!$F$6-CA!Y43)*Shape_round!X10","v":0},{"$f":"IF(CA!Z10=0, $D$34, IF(CA!Z10=1, $D$35, $D$36))*(Parameter!$F$6-CA!Z43)*Shape_round!Y10","v":0},{"$f":"IF(CA!AA10=0, $D$34, IF(CA!AA10=1, $D$35, $D$36))*(Parameter!$F$6-CA!AA43)*Shape_round!Z10","v":0},{"$f":"IF(CA!AB10=0, $D$34, IF(CA!AB10=1, $D$35, $D$36))*(Parameter!$F$6-CA!AB43)*Shape_round!AA10","v":0},{"$f":"IF(CA!AC10=0, $D$34, IF(CA!AC10=1, $D$35, $D$36))*(Parameter!$F$6-CA!AC43)*Shape_round!AB10","v":0},{"$f":"IF(CA!AD10=0, $D$34, IF(CA!AD10=1, $D$35, $D$36))*(Parameter!$F$6-CA!AD43)*Shape_round!AC10","v":0},{"$f":"IF(CA!AE10=0, $D$34, IF(CA!AE10=1, $D$35, $D$36))*(Parameter!$F$6-CA!AE43)*Shape_round!AD10","v":0}]
[null,{"$f":"IF(CA!B11=0, $D$34, IF(CA!B11=1, $D$35, $D$36))*(Parameter!$F$6-CA!B44)*Shape_round!A11","v":0},{"$f":"IF(CA!C11=0, $D$34, IF(CA!C11=1, $D$35, $D$36))*(Parameter!$F$6-CA!C44)*Shape_round!B11","v":0},{"$f":"IF(CA!D11=0, $D$34, IF(CA!D11=1, $D$35, $D$36))*(Parameter!$F$6-CA!D44)*Shape_round!C11","v":0},{"$f":"IF(CA!E11=0, $D$34, IF(CA!E11=1, $D$35, $D$36))*(Parameter!$F$6-CA!E44)*Shape_round!D11","v":0},{"$f":"IF(CA!F11=0, $D$34, IF(CA!F11=1, $D$35, $D$36))*(Parameter!$F$6-CA!F44)*Shape_round!E11","v":0},{"$f":"IF(CA!G11=0, $D$34, IF(CA!G11=1, $D$35, $D$36))*(Parameter!$F$6-CA!G44)*Shape_round!F11","v":0},{"$f":"IF(CA!H11=0, $D$34, IF(CA!H11=1, $D$35, $D$36))*(Parameter!$F$6-CA!H44)*Shape_round!G11","v":0},{"$f":"IF(CA!I11=0, $D$34, IF(CA!I11=1, $D$35, $D$36))*(Parameter!$F$6-CA!I44)*Shape_round!H11","v":0},{"$f":"IF(CA!J11=0, $D$34, IF(CA!J11=1, $D$35, $D$36))*(Parameter!$F$6-CA!J44)*Shape_round!I11","v":0},{"$f":"IF(CA!K11=0, $D$34, IF(CA!K11=1, $D$35, $D$36))*(Parameter!$F$6-CA!K44)*Shape_round!J11","v":0},{"$f":"IF(CA!L11=0, $D$34, IF(CA!L11=1, $D$35, $D$36))*(Parameter!$F$6-CA!L44)*Shape_round!K11","v":0},{"$f":"IF(CA!M11=0, $D$34, IF(CA!M11=1, $D$35, $D$36))*(Parameter!$F$6-CA!M44)*Shape_round!L11","v":0},{"$f":"IF(CA!N11=0, $D$34, IF(CA!N11=1, $D$35, $D$36))*(Parameter!$F$6-CA!N44)*Shape_round!M11","v":0},{"$f":"IF(CA!O11=0, $D$34, IF(CA!O11=1, $D$35, $D$36))*(Parameter!$F$6-CA!O44)*Shape_round!N11","v":0},{"$f":"IF(CA!P11=0, $D$34, IF(CA!P11=1, $D$35, $D$36))*(Parameter!$F$6-CA!P44)*Shape_round!O11","v":0},{"$f":"IF(CA!Q11=0, $D$34, IF(CA!Q11=1, $D$35, $D$36))*(Parameter!$F$6-CA!Q44)*Shape_round!P11","v":0},{"$f":"IF(CA!R11=0, $D$34, IF(CA!R11=1, $D$35, $D$36))*(Parameter!$F$6-CA!R44)*Shape_round!Q11","v":0},{"$f":"IF(CA!S11=0, $D$34, IF(CA!S11=1, $D$35, $D$36))*(Parameter!$F$6-CA!S44)*Shape_round!R11","v":0},{"$f":"IF(CA!T11=0, $D$34, IF(CA!T11=1, $D$35, $D$36))*(Parameter!$F$6-CA!T44)*Shape_round!S11","v":0},{"$f":"IF(CA!U11=0, $D$34, IF(CA!U11=1, $D$35, $D$36))*(Parameter!$F$6-CA!U44)*Shape_round!T11","v":0},{"$f":"IF(CA!V11=0, $D$34, IF(CA!V11=1, $D$35, $D$36))*(Parameter!$F$6-CA!V44)*Shape_round!U11","v":0},{"$f":"IF(CA!W11=0, $D$34, IF(CA!W11=1, $D$35, $D$36))*(Parameter!$F$6-CA!W44)*Shape_round!V11","v":0},{"$f":"IF(CA!X11=0, $D$34, IF(CA!X11=1, $D$35, $D$36))*(Parameter!$F$6-CA!X44)*Shape_round!W11","v":0},{"$f":"IF(CA!Y11=0, $D$34, IF(CA!Y11=1, $D$35, $D$36))*(Parameter!$F$6-CA!Y44)*Shape_round!X11","v":0},{"$f":"IF(CA!Z11=0, $D$34, IF(CA!Z11=1, $D$35, $D$36))*(Parameter!$F$6-CA!Z44)*Shape_round!Y11","v":0},{"$f":"IF(CA!AA11=0, $D$34, IF(CA!AA11=1, $D$35, $D$36))*(Parameter!$F$6-CA!AA44)*Shape_round!Z11","v":0},{"$f":"IF(CA!AB11=0, $D$34, IF(CA!AB11=1, $D$35, $D$36))*(Parameter!$F$6-CA!AB44)*Shape_round!AA11","v":0},{"$f":"IF(CA!AC11=0, $D$34, IF(CA!AC11=1, $D$35, $D$36))*(Parameter!$F$6-CA!AC44)*Shape_round!AB11","v":0},{"$f":"IF(CA!AD11=0, $D$34, IF(CA!AD11=1, $D$35, $D$36))*(Parameter!$F$6-CA!AD44)*Shape_round!AC11","v":0},{"$f":"IF(CA!AE11=0, $D$34, IF(CA!AE11=1, $D$35, $D$36))*(Parameter!$F$6-CA!AE44)*Shape_round!AD11","v":0}]
[null,{"$f":"IF(CA!B12=0, $D$34, IF(CA!B12=1, $D$35, $D$36))*(Parameter!$F$6-CA!B45)*Shape_round!A12","v":0},{"$f":"IF(CA!C12=0, $D$34, IF(CA!C12=1, $D$35, $D$36))*(Parameter!$F$6-CA!C45)*Shape_round!B12","v":0},{"$f":"IF(CA!D12=0, $D$34, IF(CA!D12=1, $D$35, $D$36))*(Parameter!$F$6-CA!D45)*Shape_round!C12","v":0},{"$f":"IF(CA!E12=0, $D$34, IF(CA!E12=1, $D$35, $D$36))*(Parameter!$F$6-CA!E45)*Shape_round!D12","v":0},{"$f":"IF(CA!F12=0, $D$34, IF(CA!F12=1, $D$35, $D$36))*(Parameter!$F$6-CA!F45)*Shape_round!E12","v":0},{"$f":"IF(CA!G12=0, $D$34, IF(CA!G12=1, $D$35, $D$36))*(Parameter!$F$6-CA!G45)*Shape_round!F12","v":0},{"$f":"IF(CA!H12=0, $D$34, IF(CA!H12=1, $D$35, $D$36))*(Parameter!$F$6-CA!H45)*Shape_round!G12","v":0},{"$f":"IF(CA!I12=0, $D$34, IF(CA!I12=1, $D$35, $D$36))*(Parameter!$F$6-CA!I45)*Shape_round!H12","v":0},{"$f":"IF(CA!J12=0, $D$34, IF(CA!J12=1, $D$35, $D$36))*(Parameter!$F$6-CA!J45)*Shape_round!I12","v":0},{"$f":"IF(CA!K12=0, $D$34, IF(CA!K12=1, $D$35, $D$36))*(Parameter!$F$6-CA!K45)*Shape_round!J12","v":0},{"$f":"IF(CA!L12=0, $D$34, IF(CA!L12=1, $D$35, $D$36))*(Parameter!$F$6-CA!L45)*Shape_round!K12","v":0},{"$f":"IF(CA!M12=0, $D$34, IF(CA!M12=1, $D$35, $D$36))*(Parameter!$F$6-CA!M45)*Shape_round!L12","v":0},{"$f":"IF(CA!N12=0, $D$34, IF(CA!N12=1, $D$35, $D$36))*(Parameter!$F$6-CA!N45)*Shape_round!M12","v":0},{"$f":"IF(CA!O12=0, $D$34, IF(CA!O12=1, $D$35, $D$36))*(Parameter!$F$6-CA!O45)*Shape_round!N12","v":0},{"$f":"IF(CA!P12=0, $D$34, IF(CA!P12=1, $D$35, $D$36))*(Parameter!$F$6-CA!P45)*Shape_round!O12","v":0},{"$f":"IF(CA!Q12=0, $D$34, IF(CA!Q12=1, $D$35, $D$36))*(Parameter!$F$6-CA!Q45)*Shape_round!P12","v":0},{"$f":"IF(CA!R12=0, $D$34, IF(CA!R12=1, $D$35, $D$36))*(Parameter!$F$6-CA!R45)*Shape_round!Q12","v":0},{"$f":"IF(CA!S12=0, $D$34, IF(CA!S12=1, $D$35, $D$36))*(Parameter!$F$6-CA!S45)*Shape_round!R12","v":0},{"$f":"IF(CA!T12=0, $D$34, IF(CA!T12=1, $D$35, $D$36))*(Parameter!$F$6-CA!T45)*Shape_round!S12","v":0},{"$f":"IF(CA!U12=0, $D$34, IF(CA!U12=1, $D$35, $D$36))*(Parameter!$F$6-CA!U45)*Shape_round!T12","v":0},{"$f":"IF(CA!V12=0, $D$34, IF(CA!V12=1, $D$35, $D$36))*(Parameter!$F$6-CA!V45)*Shape_round!U12","v":0},{"$f":"IF(CA!W12=0, $D$34, IF(CA!W12=1, $D$35, $D$36))*(Parameter!$F$6-CA!W45)*Shape_round!V12","v":0},{"$f":"IF(CA!X12=0, $D$34, IF(CA!X12=1, $D$35, $D$36))*(Parameter!$F$6-CA!X45)*Shape_round!W12","v":0},{"$f":"IF(CA!Y12=0, $D$34, IF(CA!Y12=1, $D$35, $D$36))*(Parameter!$F$6-CA!Y45)*Shape_round!X12","v":0},{"$f":"IF(CA!Z12=0, $D$34, IF(CA!Z12=1, $D$35, $D$36))*(Parameter!$F$6-CA!Z45)*Shape_round!Y12","v":0},{"$f":"IF(CA!AA12=0, $D$34, IF(CA!AA12=1, $D$35, $D$36))*(Parameter!$F$6-CA!AA45)*Shape_round!Z12","v":0},{"$f":"IF(CA!AB12=0, $D$34, IF(CA!AB12=1, $D$35, $D$36))*(Parameter!$F$6-CA!AB45)*Shape_round!AA12","v":0},{"$f":"IF(CA!AC12=0, $D$34, IF(CA!AC12=1, $D$35, $D$36))*(Parameter!$F$6-CA!AC45)*Shape_round!AB12","v":0},{"$f":"IF(CA!AD12=0, $D$34, IF(CA!AD12=1, $D$35, $D$36))*(Parameter!$F$6-CA!AD45)*Shape_round!AC12","v":0},{"$f":"IF(CA!AE12=0, $D$34, IF(CA!AE12=1, $D$35, $D$36))*(Parameter!$F$6-CA!AE45)*Shape_round!AD12","v":0}]
[null,{"$f":"IF(CA!B13=0, $D$34, IF(CA!B13=1, $D$35, $D$36))*(Parameter!$F$6-CA!B46)*Shape_round!A13","v":0},{"$f":"IF(CA!C13=0, $D$34, IF(CA!C13=1, $D$35, $D$36))*(Parameter!$F$6-CA!C46)*Shape_round!B13","v":0},{"$f":"IF(CA!D13=0, $D$34, IF(CA!D13=1, $D$35, $D$36))*(Parameter!$F$6-CA!D46)*Shape_round!C13","v":0},{"$f":"IF(CA!E13=0, $D$34, IF(CA!E13=1, $D$35, $D$36))*(Parameter!$F$6-CA!E46)*Shape_round!D13","v":0},{"$f":"IF(CA!F13=0, $D$34, IF(CA!F13=1, $D$35, $D$36))*(Parameter!$F$6-CA!F46)*Shape_round!E13","v":0},{"$f":"IF(CA!G13=0, $D$34, IF(CA!G13=1, $D$35, $D$36))*(Parameter!$F$6-CA!G46)*Shape_round!F13","v":0},{"$f":"IF(CA!H13=0, $D$34, IF(CA!H13=1, $D$35, $D$36))*(Parameter!$F$6-CA!H46)*Shape_round!G13","v":0},{"$f":"IF(CA!I13=0, $D$34, IF(CA!I13=1, $D$35, $D$36))*(Parameter!$F$6-CA!I46)*Shape_round!H13","v":0},{"$f":"IF(CA!J13=0, $D$34, IF(CA!J13=1, $D$35, $D$36))*(Parameter!$F$6-CA!J46)*Shape_round!I13","v":0},{"$f":"IF(CA!K13=0, $D$34, IF(CA!K13=1, $D$35, $D$36))*(Parameter!$F$6-CA!K46)*Shape_round!J13","v":0},{"$f":"IF(CA!L13=0, $D$34, IF(CA!L13=1, $D$35, $D$36))*(Parameter!$F$6-CA!L46)*Shape_round!K13","v":0},{"$f":"IF(CA!M13=0, $D$34, IF(CA!M13=1, $D$35, $D$36))*(Parameter!$F$6-CA!M46)*Shape_round!L13","v":0},{"$f":"IF(CA!N13=0, $D$34, IF(CA!N13=1, $D$35, $D$36))*(Parameter!$F$6-CA!N46)*Shape_round!M13","v":0},{"$f":"IF(CA!O13=0, $D$34, IF(CA!O13=1, $D$35, $D$36))*(Parameter!$F$6-CA!O46)*Shape_round!N13","v":0},{"$f":"IF(CA!P13=0, $D$34, IF(CA!P13=1, $D$35, $D$36))*(Parameter!$F$6-CA!P46)*Shape_round!O13","v":0},{"$f":"IF(CA!Q13=0, $D$34, IF(CA!Q13=1, $D$35, $D$36))*(Parameter!$F$6-CA!Q46)*Shape_round!P13","v":0},{"$f":"IF(CA!R13=0, $D$34, IF(CA!R13=1, $D$35, $D$36))*(Parameter!$F$6-CA!R46)*Shape_round!Q13","v":0},{"$f":"IF(CA!S13=0, $D$34, IF(CA!S13=1, $D$35, $D$36))*(Parameter!$F$6-CA!S46)*Shape_round!R13","v":0},{"$f":"IF(CA!T13=0, $D$34, IF(CA!T13=1, $D$35, $D$36))*(Parameter!$F$6-CA!T46)*Shape_round!S13","v":0},{"$f":"IF(CA!U13=0, $D$34, IF(CA!U13=1, $D$35, $D$36))*(Parameter!$F$6-CA!U46)*Shape_round!T13","v":0},{"$f":"IF(CA!V13=0, $D$34, IF(CA!V13=1, $D$35, $D$36))*(Parameter!$F$6-CA!V46)*Shape_round!U13","v":0},{"$f":"IF(CA!W13=0, $D$34, IF(CA!W13=1, $D$35, $D$36))*(Parameter!$F$6-CA!W46)*Shape_round!V13","v":0},{"$f":"IF(CA!X13=0, $D$34, IF(CA!X13=1, $D$35, $D$36))*(Parameter!$F$6-CA!X46)*Shape_round!W13","v":0},{"$f":"IF(CA!Y13=0, $D$34, IF(CA!Y13=1, $D$35, $D$36))*(Parameter!$F$6-CA!Y46)*Shape_round!X13","v":0},{"$f":"IF(CA!Z13=0, $D$34, IF(CA!Z13=1, $D$35, $D$36))*(Parameter!$F$6-CA!Z46)*Shape_round!Y13","v":0},{"$f":"IF(CA!AA13=0, $D$34, IF(CA!AA13=1, $D$35, $D$36))*(Parameter!$F$6-CA!AA46)*Shape_round!Z13","v":0},{"$f":"IF(CA!AB13=0, $D$34, IF(CA!AB13=1, $D$35, $D$36))*(Parameter!$F$6-CA!AB46)*Shape_round!AA13","v":0},{"$f":"IF(CA!AC13=0, $D$34, IF(CA!AC13=1, $D$35, $D$36))*(Parameter!$F$6-CA!AC46)*Shape_round!AB13","v":0},{"$f":"IF(CA!AD13=0, $D$34, IF(CA!AD13=1, $D$35, $D$36))*(Parameter!$F$6-CA!AD46)*Shape_round!AC13","v":0},{"$f":"IF(CA!AE13=0, $D$34, IF(CA!AE13=1, $D$35, $D$36))*(Parameter!$F$6-CA!AE46)*Shape_round!AD13","v":0}]
[null,{"$f":"IF(CA!B14=0, $D$34, IF(CA!B14=1, $D$35, $D$36))*(Parameter!$F$6-CA!B47)*Shape_round!A14","v":0},{"$f":"IF(CA!C14=0, $D$34, IF(CA!C14=1, $D$35, $D$36))*(Parameter!$F$6-CA!C47)*Shape_round!B14","v":0},{"$f":"IF(CA!D14=0, $D$34, IF(CA!D14=1, $D$35, $D$36))*(Parameter!$F$6-CA!D47)*Shape_round!C14","v":0},{"$f":"IF(CA!E14=0, $D$34, IF(CA!E14=1, $D$35, $D$36))*(Parameter!$F$6-CA!E47)*Shape_round!D14","v":0},{"$f":"IF(CA!F14=0, $D$34, IF(CA!F14=1, $D$35, $D$36))*(Parameter!$F$6-CA!F47)*Shape_round!E14","v":0},{"$f":"IF(CA!G14=0, $D$34, IF(CA!G14=1, $D$35, $D$36))*(Parameter!$F$6-CA!G47)*Shape_round!F14","v":0},{"$f":"IF(CA!H14=0, $D$34, IF(CA!H14=1, $D$35, $D$36))*(Parameter!$F$6-CA!H47)*Shape_round!G14","v":0},{"$f":"IF(CA!I14=0, $D$34, IF(CA!I14=1, $D$35, $D$36))*(Parameter!$F$6-CA!I47)*Shape_round!H14","v":0},{"$f":"IF(CA!J14=0, $D$34, IF(CA!J14=1, $D$35, $D$36))*(Parameter!$F$6-CA!J47)*Shape_round!I14","v":0},{"$f":"IF(CA!K14=0, $D$34, IF(CA!K14=1, $D$35, $D$36))*(Parameter!$F$6-CA!K47)*Shape_round!J14","v":0},{"$f":"IF(CA!L14=0, $D$34, IF(CA!L14=1, $D$35, $D$36))*(Parameter!$F$6-CA!L47)*Shape_round!K14","v":0},{"$f":"IF(CA!M14=0, $D$34, IF(CA!M14=1, $D$35, $D$36))*(Parameter!$F$6-CA!M47)*Shape_round!L14","v":0},{"$f":"IF(CA!N14=0, $D$34, IF(CA!N14=1, $D$35, $D$36))*(Parameter!$F$6-CA!N47)*Shape_round!M14","v":0},{"$f":"IF(CA!O14=0, $D$34, IF(CA!O14=1, $D$35, $D$36))*(Parameter!$F$6-CA!O47)*Shape_round!N14","v":0},{"$f":"IF(CA!P14=0, $D$34, IF(CA!P14=1, $D$35, $D$36))*(Parameter!$F$6-CA!P47)*Shape_round!O14","v":0},{"$f":"IF(CA!Q14=0, $D$34, IF(CA!Q14=1, $D$35, $D$36))*(Parameter!$F$6-CA!Q47)*Shape_round!P14","v":0},{"$f":"IF(CA!R14=0, $D$34, IF(CA!R14=1, $D$35, $D$36))*(Parameter!$F$6-CA!R47)*Shape_round!Q14","v":0},{"$f":"IF(CA!S14=0, $D$34, IF(CA!S14=1, $D$35, $D$36))*(Parameter!$F$6-CA!S47)*Shape_round!R14","v":0},{"$f":"IF(CA!T14=0, $D$34, IF(CA!T14=1, $D$35, $D$36))*(Parameter!$F$6-CA!T47)*Shape_round!S14","v":0},{"$f":"IF(CA!U14=0, $D$34, IF(CA!U14=1, $D$35, $D$36))*(Parameter!$F$6-CA!U47)*Shape_round!T14","v":0},{"$f":"IF(CA!V14=0, $D$34, IF(CA!V14=1, $D$35, $D$36))*(Parameter!$F$6-CA!V47)*Shape_round!U14","v":0},{"$f":"IF(CA!W14=0, $D$34, IF(CA!W14=1, $D$35, $D$36))*(Parameter!$F$6-CA!W47)*Shape_round!V14","v":0},{"$f":"IF(CA!X14=0, $D$34, IF(CA!X14=1, $D$35, $D$36))*(Parameter!$F$6-CA!X47)*Shape_round!W14","v":0},{"$f":"IF(CA!Y14=0, $D$34, IF(CA!Y14=1, $D$35, $D$36))*(Parameter!$F$6-CA!Y47)*Shape_round!X14","v":0},{"$f":"IF(CA!Z14=0, $D$34, IF(CA!Z14=1, $D$35, $D$36))*(Parameter!$F$6-CA!Z47)*Shape_round!Y14","v":0},{"$f":"IF(CA!AA14=0, $D$34, IF(CA!AA14=1, $D$35, $D$36))*(Parameter!$F$6-CA!AA47)*Shape_round!Z14","v":0},{"$f":"IF(CA!AB14=0, $D$34, IF(CA!AB14=1, $D$35, $D$36))*(Parameter!$F$6-CA!AB47)*Shape_round!AA14","v":0},{"$f":"IF(CA!AC14=0, $D$34, IF(CA!AC14=1, $D$35, $D$36))*(Parameter!$F$6-CA!AC47)*Shape_round!AB14","v":0},{"$f":"IF(CA!AD14=0, $D$34, IF(CA!AD14=1, $D$35, $D$36))*(Parameter!$F$6-CA!AD47)*Shape_round!AC14","v":0},{"$f":"IF(CA!AE14=0, $D$34, IF(CA!AE14=1, $D$35, $D$36))*(Parameter!$F$6-CA!AE47)*Shape_round!AD14","v":0}]
[null,{"$f":"IF(CA!B15=0, $D$34, IF(CA!B15=1, $D$35, $D$36))*(Parameter!$F$6-CA!B48)*Shape_round!A15","v":0},{"$f":"IF(CA!C15=0, $D$34, IF(CA!C15=1, $D$35, $D$36))*(Parameter!$F$6-CA!C48)*Shape_round!B15","v":0},{"$f":"IF(CA!D15=0, $D$34, IF(CA!D15=1, $D$35, $D$36))*(Parameter!$F$6-CA!D48)*Shape_round!C15","v":0},{"$f":"IF(CA!E15=0, $D$34, IF(CA!E15=1, $D$35, $D$36))*(Parameter!$F$6-CA!E48)*Shape_round!D15","v":0},{"$f":"IF(CA!F15=0, $D$34, IF(CA!F15=1, $D$35, $D$36))*(Parameter!$F$6-CA!F48)*Shape_round!E15","v":0},{"$f":"IF(CA!G15=0, $D$34, IF(CA!G15=1, $D$35, $D$36))*(Parameter!$F$6-CA!G48)*Shape_round!F15","v":0},{"$f":"IF(CA!H15=0, $D$34, IF(CA!H15=1, $D$35, $D$36))*(Parameter!$F$6-CA!H48)*Shape_round!G15","v":0},{"$f":"IF(CA!I15=0, $D$34, IF(CA!I15=1, $D$35, $D$36))*(Parameter!$F$6-CA!I48)*Shape_round!H15","v":0},{"$f":"IF(CA!J15=0, $D$34, IF(CA!J15=1, $D$35, $D$36))*(Parameter!$F$6-CA!J48)*Shape_round!I15","v":0},{"$f":"IF(CA!K15=0, $D$34, IF(CA!K15=1, $D$35, $D$36))*(Parameter!$F$6-CA!K48)*Shape_round!J15","v":0},{"$f":"IF(CA!L15=0, $D$34, IF(CA!L15=1, $D$35, $D$36))*(Parameter!$F$6-CA!L48)*Shape_round!K15","v":0},{"$f":"IF(CA!M15=0, $D$34, IF(CA!M15=1, $D$35, $D$36))*(Parameter!$F$6-CA!M48)*Shape_round!L15","v":0},{"$f":"IF(CA!N15=0, $D$34, IF(CA!N15=1, $D$35, $D$36))*(Parameter!$F$6-CA!N48)*Shape_round!M15","v":0},{"$f":"IF(CA!O15=0, $D$34, IF(CA!O15=1, $D$35, $D$36))*(Parameter!$F$6-CA!O48)*Shape_round!N15","v":0},{"$f":"IF(CA!P15=0, $D$34, IF(CA!P15=1, $D$35, $D$36))*(Parameter!$F$6-CA!P48)*Shape_round!O15","v":0},{"$f":"IF(CA!Q15=0, $D$34, IF(CA!Q15=1, $D$35, $D$36))*(Parameter!$F$6-CA!Q48)*Shape_round!P15","v":0},{"$f":"IF(CA!R15=0, $D$34, IF(CA!R15=1, $D$35, $D$36))*(Parameter!$F$6-CA!R48)*Shape_round!Q15","v":0},{"$f":"IF(CA!S15=0, $D$34, IF(CA!S15=1, $D$35, $D$36))*(Parameter!$F$6-CA!S48)*Shape_round!R15","v":0},{"$f":"IF(CA!T15=0, $D$34, IF(CA!T15=1, $D$35, $D$36))*(Parameter!$F$6-CA!T48)*Shape_round!S15","v":0},{"$f":"IF(CA!U15=0, $D$34, IF(CA!U15=1, $D$35, $D$36))*(Parameter!$F$6-CA!U48)*Shape_round!T15","v":0},{"$f":"IF(CA!V15=0, $D$34, IF(CA!V15=1, $D$35, $D$36))*(Parameter!$F$6-CA!V48)*Shape_round!U15","v":0},{"$f":"IF(CA!W15=0, $D$34, IF(CA!W15=1, $D$35, $D$36))*(Parameter!$F$6-CA!W48)*Shape_round!V15","v":0},{"$f":"IF(CA!X15=0, $D$34, IF(CA!X15=1, $D$35, $D$36))*(Parameter!$F$6-CA!X48)*Shape_round!W15","v":0},{"$f":"IF(CA!Y15=0, $D$34, IF(CA!Y15=1, $D$35, $D$36))*(Parameter!$F$6-CA!Y48)*Shape_round!X15","v":0},{"$f":"IF(CA!Z15=0, $D$34, IF(CA!Z15=1, $D$35, $D$36))*(Parameter!$F$6-CA!Z48)*Shape_round!Y15","v":0},{"$f":"IF(CA!AA15=0, $D$34, IF(CA!AA15=1, $D$35, $D$36))*(Parameter!$F$6-CA!AA48)*Shape_round!Z15","v":0},{"$f":"IF(CA!AB15=0, $D$34, IF(CA!AB15=1, $D$35, $D$36))*(Parameter!$F$6-CA!AB48)*Shape_round!AA15","v":0},{"$f":"IF(CA!AC15=0, $D$34, IF(CA!AC15=1, $D$35, $D$36))*(Parameter!$F$6-CA!AC48)*Shape_round!AB15","v":0},{"$f":"IF(CA!AD15=0, $D$34, IF(CA!AD15=1, $D$35, $D$36))*(Parameter!$F$6-CA!AD48)*Shape_round!AC15","v":0},{"$f":"IF(CA!AE15=0, $D$34, IF(CA!AE15=1, $D$35, $D$36))*(Parameter!$F$6-CA!AE48)*Shape_round!AD15","v":0}]
[null,{"$f":"IF(CA!B16=0, $D$34, IF(CA!B16=1, $D$35, $D$36))*(Parameter!$F$6-CA!B49)*Shape_round!A16","v":0},{"$f":"IF(CA!C16=0, $D$34, IF(CA!C16=1, $D$35, $D$36))*(Parameter!$F$6-CA!C49)*Shape_round!B16","v":0},{"$f":"IF(CA!D16=0, $D$34, IF(CA!D16=1, $D$35, $D$36))*(Parameter!$F$6-CA!D49)*Shape_round!C16","v":0},{"$f":"IF(CA!E16=0, $D$34, IF(CA!E16=1, $D$35, $D$36))*(Parameter!$F$6-CA!E49)*Shape_round!D16","v":0},{"$f":"IF(CA!F16=0, $D$34, IF(CA!F16=1, $D$35, $D$36))*(Parameter!$F$6-CA!F49)*Shape_round!E16","v":0},{"$f":"IF(CA!G16=0, $D$34, IF(CA!G16=1, $D$35, $D$36))*(Parameter!$F$6-CA!G49)*Shape_round!F16","v":0},{"$f":"IF(CA!H16=0, $D$34, IF(CA!H16=1, $D$35, $D$36))*(Parameter!$F$6-CA!H49)*Shape_round!G16","v":0},{"$f":"IF(CA!I16=0, $D$34, IF(CA!I16=1, $D$35, $D$36))*(Parameter!$F$6-CA!I49)*Shape_round!H16","v":0},{"$f":"IF(CA!J16=0, $D$34, IF(CA!J16=1, $D$35, $D$36))*(Parameter!$F$6-CA!J49)*Shape_round!I16","v":0},{"$f":"IF(CA!K16=0, $D$34, IF(CA!K16=1, $D$35, $D$36))*(Parameter!$F$6-CA!K49)*Shape_round!J16","v":0},{"$f":"IF(CA!L16=0, $D$34, IF(CA!L16=1, $D$35, $D$36))*(Parameter!$F$6-CA!L49)*Shape_round!K16","v":0},{"$f":"IF(CA!M16=0, $D$34, IF(CA!M16=1, $D$35, $D$36))*(Parameter!$F$6-CA!M49)*Shape_round!L16","v":0},{"$f":"IF(CA!N16=0, $D$34, IF(CA!N16=1, $D$35, $D$36))*(Parameter!$F$6-CA!N49)*Shape_round!M16","v":0},{"$f":"IF(CA!O16=0, $D$34, IF(CA!O16=1, $D$35, $D$36))*(Parameter!$F$6-CA!O49)*Shape_round!N16","v":0},{"$f":"IF(CA!P16=0, $D$34, IF(CA!P16=1, $D$35, $D$36))*(Parameter!$F$6-CA!P49)*Shape_round!O16","v":0},{"$f":"IF(CA!Q16=0, $D$34, IF(CA!Q16=1, $D$35, $D$36))*(Parameter!$F$6-CA!Q49)*Shape_round!P16","v":0},{"$f":"IF(CA!R16=0, $D$34, IF(CA!R16=1, $D$35, $D$36))*(Parameter!$F$6-CA!R49)*Shape_round!Q16","v":0},{"$f":"IF(CA!S16=0, $D$34, IF(CA!S16=1, $D$35, $D$36))*(Parameter!$F$6-CA!S49)*Shape_round!R16","v":0},{"$f":"IF(CA!T16=0, $D$34, IF(CA!T16=1, $D$35, $D$36))*(Parameter!$F$6-CA!T49)*Shape_round!S16","v":0},{"$f":"IF(CA!U16=0, $D$34, IF(CA!U16=1, $D$35, $D$36))*(Parameter!$F$6-CA!U49)*Shape_round!T16","v":0},{"$f":"IF(CA!V16=0, $D$34, IF(CA!V16=1, $D$35, $D$36))*(Parameter!$F$6-CA!V49)*Shape_round!U16","v":0},{"$f":"IF(CA!W16=0, $D$34, IF(CA!W16=1, $D$35, $D$36))*(Parameter!$F$6-CA!W49)*Shape_round!V16","v":0},{"$f":"IF(CA!X16=0, $D$34, IF(CA!X16=1, $D$35, $D$36))*(Parameter!$F$6-CA!X49)*Shape_round!W16","v":0},{"$f":"IF(CA!Y16=0, $D$34, IF(CA!Y16=1, $D$35, $D$36))*(Parameter!$F$6-CA!Y49)*Shape_round!X16","v":0},{"$f":"IF(CA!Z16=0, $D$34, IF(CA!Z16=1, $D$35, $D$36))*(Parameter!$F$6-CA!Z49)*Shape_round!Y16","v":0},{"$f":"IF(CA!AA16=0, $D$34, IF(CA!AA16=1, $D$35, $D$36))*(Parameter!$F$6-CA!AA49)*Shape_round!Z16","v":0},{"$f":"IF(CA!AB16=0, $D$34, IF(CA!AB16=1, $D$35, $D$36))*(Parameter!$F$6-CA!AB49)*Shape_round!AA16","v":0},{"$f":"IF(CA!AC16=0, $D$34, IF(CA!AC16=1, $D$35, $D$36))*(Parameter!$F$6-CA!AC49)*Shape_round!AB16","v":0},{"$f":"IF(CA!AD16=0, $D$34, IF(CA!AD16=1, $D$35, $D$36))*(Parameter!$F$6-CA!AD49)*Shape_round!AC16","v":0},{"$f":"IF(CA!AE16=0, $D$34, IF(CA!AE16=1, $D$35, $D$36))*(Parameter!$F$6-CA!AE49)*Shape_round!AD16","v":0}]
[null,{"$f":"IF(CA!B17=0, $D$34, IF(CA!B17=1, $D$35, $D$36))*(Parameter!$F$6-CA!B50)*Shape_round!A17","v":0},{"$f":"IF(CA!C17=0, $D$34, IF(CA!C17=1, $D$35, $D$36))*(Parameter!$F$6-CA!C50)*Shape_round!B17","v":0},{"$f":"IF(CA!D17=0, $D$34, IF(CA!D17=1, $D$35, $D$36))*(Parameter!$F$6-CA!D50)*Shape_round!C17","v":0},{"$f":"IF(CA!E17=0, $D$34, IF(CA!E17=1, $D$35, $D$36))*(Parameter!$F$6-CA!E50)*Shape_round!D17","v":0},{"$f":"IF(CA!F17=0, $D$34, IF(CA!F17=1, $D$35, $D$36))*(Parameter!$F$6-CA!F50)*Shape_round!E17","v":0},{"$f":"IF(CA!G17=0, $D$34, IF(CA!G17=1, $D$35, $D$36))*(Parameter!$F$6-CA!G50)*Shape_round!F17","v":0},{"$f":"IF(CA!H17=0, $D$34, IF(CA!H17=1, $D$35, $D$36))*(Parameter!$F$6-CA!H50)*Shape_round!G17","v":0},{"$f":"IF(CA!I17=0, $D$34, IF(CA!I17=1, $D$35, $D$36))*(Parameter!$F$6-CA!I50)*Shape_round!H17","v":0},{"$f":"IF(CA!J17=0, $D$34, IF(CA!J17=1, $D$35, $D$36))*(Parameter!$F$6-CA!J50)*Shape_round!I17","v":0},{"$f":"IF(CA!K17=0, $D$34, IF(CA!K17=1, $D$35, $D$36))*(Parameter!$F$6-CA!K50)*Shape_round!J17","v":0},{"$f":"IF(CA!L17=0, $D$34, IF(CA!L17=1, $D$35, $D$36))*(Parameter!$F$6-CA!L50)*Shape_round!K17","v":0},{"$f":"IF(CA!M17=0, $D$34, IF(CA!M17=1, $D$35, $D$36))*(Parameter!$F$6-CA!M50)*Shape_round!L17","v":0},{"$f":"IF(CA!N17=0, $D$34, IF(CA!N17=1, $D$35, $D$36))*(Parameter!$F$6-CA!N50)*Shape_round!M17","v":0},{"$f":"IF(CA!O17=0, $D$34, IF(CA!O17=1, $D$35, $D$36))*(Parameter!$F$6-CA!O50)*Shape_round!N17","v":0},{"$f":"IF(CA!P17=0, $D$34, IF(CA!P17=1, $D$35, $D$36))*(Parameter!$F$6-CA!P50)*Shape_round!O17","v":0},{"$f":"IF(CA!Q17=0, $D$34, IF(CA!Q17=1, $D$35, $D$36))*(Parameter!$F$6-CA!Q50)*Shape_round!P17","v":0},{"$f":"IF(CA!R17=0, $D$34, IF(CA!R17=1, $D$35, $D$36))*(Parameter!$F$6-CA!R50)*Shape_round!Q17","v":0},{"$f":"IF(CA!S17=0, $D$34, IF(CA!S17=1, $D$35, $D$36))*(Parameter!$F$6-CA!S50)*Shape_round!R17","v":0},{"$f":"IF(CA!T17=0, $D$34, IF(CA!T17=1, $D$35, $D$36))*(Parameter!$F$6-CA!T50)*Shape_round!S17","v":0},{"$f":"IF(CA!U17=0, $D$34, IF(CA!U17=1, $D$35, $D$36))*(Parameter!$F$6-CA!U50)*Shape_round!T17","v":0},{"$f":"IF(CA!V17=0, $D$34, IF(CA!V17=1, $D$35, $D$36))*(Parameter!$F$6-CA!V50)*Shape_round!U17","v":0},{"$f":"IF(CA!W17=0, $D$34, IF(CA!W17=1, $D$35, $D$36))*(Parameter!$F$6-CA!W50)*Shape_round!V17","v":0},{"$f":"IF(CA!X17=0, $D$34, IF(CA!X17=1, $D$35, $D$36))*(Parameter!$F$6-CA!X50)*Shape_round!W17","v":0},{"$f":"IF(CA!Y17=0, $D$34, IF(CA!Y17=1, $D$35, $D$36))*(Parameter!$F$6-CA!Y50)*Shape_round!X17","v":0},{"$f":"IF(CA!Z17=0, $D$34, IF(CA!Z17=1, $D$35, $D$36))*(Parameter!$F$6-CA!Z50)*Shape_round!Y17","v":0},{"$f":"IF(CA!AA17=0, $D$34, IF(CA!AA17=1, $D$35, $D$36))*(Parameter!$F$6-CA!AA50)*Shape_round!Z17","v":0},{"$f":"IF(CA!AB17=0, $D$34, IF(CA!AB17=1, $D$35, $D$36))*(Parameter!$F$6-CA!AB50)*Shape_round!AA17","v":0},{"$f":"IF(CA!AC17=0, $D$34, IF(CA!AC17=1, $D$35, $D$36))*(Parameter!$F$6-CA!AC50)*Shape_round!AB17","v":0},{"$f":"IF(CA!AD17=0, $D$34, IF(CA!AD17=1, $D$35, $D$36))*(Parameter!$F$6-CA!AD50)*Shape_round!AC17","v":0},{"$f":"IF(CA!AE17=0, $D$34, IF(CA!AE17=1, $D$35, $D$36))*(Parameter!$F$6-CA!AE50)*Shape_round!AD17","v":0}]
[null,{"$f":"IF(CA!B18=0, $D$34, IF(CA!B18=1, $D$35, $D$36))*(Parameter!$F$6-CA!B51)*Shape_round!A18","v":0},{"$f":"IF(CA!C18=0, $D$34, IF(CA!C18=1, $D$35, $D$36))*(Parameter!$F$6-CA!C51)*Shape_round!B18","v":0},{"$f":"IF(CA!D18=0, $D$34, IF(CA!D18=1, $D$35, $D$36))*(Parameter!$F$6-CA!D51)*Shape_round!C18","v":0},{"$f":"IF(CA!E18=0, $D$34, IF(CA!E18=1, $D$35, $D$36))*(Parameter!$F$6-CA!E51)*Shape_round!D18","v":0},{"$f":"IF(CA!F18=0, $D$34, IF(CA!F18=1, $D$35, $D$36))*(Parameter!$F$6-CA!F51)*Shape_round!E18","v":0},{"$f":"IF(CA!G18=0, $D$34, IF(CA!G18=1, $D$35, $D$36))*(Parameter!$F$6-CA!G51)*Shape_round!F18","v":0},{"$f":"IF(CA!H18=0, $D$34, IF(CA!H18=1, $D$35, $D$36))*(Parameter!$F$6-CA!H51)*Shape_round!G18","v":0},{"$f":"IF(CA!I18=0, $D$34, IF(CA!I18=1, $D$35, $D$36))*(Parameter!$F$6-CA!I51)*Shape_round!H18","v":0},{"$f":"IF(CA!J18=0, $D$34, IF(CA!J18=1, $D$35, $D$36))*(Parameter!$F$6-CA!J51)*Shape_round!I18","v":0},{"$f":"IF(CA!K18=0, $D$34, IF(CA!K18=1, $D$35, $D$36))*(Parameter!$F$6-CA!K51)*Shape_round!J18","v":0},{"$f":"IF(CA!L18=0, $D$34, IF(CA!L18=1, $D$35, $D$36))*(Parameter!$F$6-CA!L51)*Shape_round!K18","v":0},{"$f":"IF(CA!M18=0, $D$34, IF(CA!M18=1, $D$35, $D$36))*(Parameter!$F$6-CA!M51)*Shape_round!L18","v":0},{"$f":"IF(CA!N18=0, $D$34, IF(CA!N18=1, $D$35, $D$36))*(Parameter!$F$6-CA!N51)*Shape_round!M18","v":0},{"$f":"IF(CA!O18=0, $D$34, IF(CA!O18=1, $D$35, $D$36))*(Parameter!$F$6-CA!O51)*Shape_round!N18","v":0},{"$f":"IF(CA!P18=0, $D$34, IF(CA!P18=1, $D$35, $D$36))*(Parameter!$F$6-CA!P51)*Shape_round!O18","v":0},{"$f":"IF(CA!Q18=0, $D$34, IF(CA!Q18=1, $D$35, $D$36))*(Parameter!$F$6-CA!Q51)*Shape_round!P18","v":0},{"$f":"IF(CA!R18=0, $D$34, IF(CA!R18=1, $D$35, $D$36))*(Parameter!$F$6-CA!R51)*Shape_round!Q18","v":0},{"$f":"IF(CA!S18=0, $D$34, IF(CA!S18=1, $D$35, $D$36))*(Parameter!$F$6-CA!S51)*Shape_round!R18","v":0},{"$f":"IF(CA!T18=0, $D$34, IF(CA!T18=1, $D$35, $D$36))*(Parameter!$F$6-CA!T51)*Shape_round!S18","v":0},{"$f":"IF(CA!U18=0, $D$34, IF(CA!U18=1, $D$35, $D$36))*(Parameter!$F$6-CA!U51)*Shape_round!T18","v":0},{"$f":"IF(CA!V18=0, $D$34, IF(CA!V18=1, $D$35, $D$36))*(Parameter!$F$6-CA!V51)*Shape_round!U18","v":0},{"$f":"IF(CA!W18=0, $D$34, IF(CA!W18=1, $D$35, $D$36))*(Parameter!$F$6-CA!W51)*Shape_round!V18","v":0},{"$f":"IF(CA!X18=0, $D$34, IF(CA!X18=1, $D$35, $D$36))*(Parameter!$F$6-CA!X51)*Shape_round!W18","v":0},{"$f":"IF(CA!Y18=0, $D$34, IF(CA!Y18=1, $D$35, $D$36))*(Parameter!$F$6-CA!Y51)*Shape_round!X18","v":0},{"$f":"IF(CA!Z18=0, $D$34, IF(CA!Z18=1, $D$35, $D$36))*(Parameter!$F$6-CA!Z51)*Shape_round!Y18","v":0},{"$f":"IF(CA!AA18=0, $D$34, IF(CA!AA18=1, $D$35, $D$36))*(Parameter!$F$6-CA!AA51)*Shape_round!Z18","v":0},{"$f":"IF(CA!AB18=0, $D$34, IF(CA!AB18=1, $D$35, $D$36))*(Parameter!$F$6-CA!AB51)*Shape_round!AA18","v":0},{"$f":"IF(CA!AC18=0, $D$34, IF(CA!AC18=1, $D$35, $D$36))*(Parameter!$F$6-CA!AC51)*Shape_round!AB18","v":0},{"$f":"IF(CA!AD18=0, $D$34, IF(CA!AD18=1, $D$35, $D$36))*(Parameter!$F$6-CA!AD51)*Shape_round!AC18","v":0},{"$f":"IF(CA!AE18=0, $D$34, IF(CA!AE18=1, $D$35, $D$36))*(Parameter!$F$6-CA!AE51)*Shape_round!AD18","v":0}]
[null,{"$f":"IF(CA!B19=0, $D$34, IF(CA!B19=1, $D$35, $D$36))*(Parameter!$F$6-CA!B52)*Shape_round!A19","v":0},{"$f":"IF(CA!C19=0, $D$34, IF(CA!C19=1, $D$35, $D$36))*(Parameter!$F$6-CA!C52)*Shape_round!B19","v":0},{"$f":"IF(CA!D19=0, $D$34, IF(CA!D19=1, $D$35, $D$36))*(Parameter!$F$6-CA!D52)*Shape_round!C19","v":0},{"$f":"IF(CA!E19=0, $D$34, IF(CA!E19=1, $D$35, $D$36))*(Parameter!$F$6-CA!E52)*Shape_round!D19","v":0},{"$f":"IF(CA!F19=0, $D$34, IF(CA!F19=1, $D$35, $D$36))*(Parameter!$F$6-CA!F52)*Shape_round!E19","v":0},{"$f":"IF(CA!G19=0, $D$34, IF(CA!G19=1, $D$35, $D$36))*(Parameter!$F$6-CA!G52)*Shape_round!F19","v":0},{"$f":"IF(CA!H19=0, $D$34, IF(CA!H19=1, $D$35, $D$36))*(Parameter!$F$6-CA!H52)*Shape_round!G19","v":0},{"$f":"IF(CA!I19=0, $D$34, IF(CA!I19=1, $D$35, $D$36))*(Parameter!$F$6-CA!I52)*Shape_round!H19","v":0},{"$f":"IF(CA!J19=0, $D$34, IF(CA!J19=1, $D$35, $D$36))*(Parameter!$F$6-CA!J52)*Shape_round!I19","v":0},{"$f":"IF(CA!K19=0, $D$34, IF(CA!K19=1, $D$35, $D$36))*(Parameter!$F$6-CA!K52)*Shape_round!J19","v":0},{"$f":"IF(CA!L19=0, $D$34, IF(CA!L19=1, $D$35, $D$36))*(Parameter!$F$6-CA!L52)*Shape_round!K19","v":0},{"$f":"IF(CA!M19=0, $D$34, IF(CA!M19=1, $D$35, $D$36))*(Parameter!$F$6-CA!M52)*Shape_round!L19","v":0},{"$f":"IF(CA!N19=0, $D$34, IF(CA!N19=1, $D$35, $D$36))*(Parameter!$F$6-CA!N52)*Shape_round!M19","v":0},{"$f":"IF(CA!O19=0, $D$34, IF(CA!O19=1, $D$35, $D$36))*(Parameter!$F$6-CA!O52)*Shape_round!N19","v":0},{"$f":"IF(CA!P19=0, $D$34, IF(CA!P19=1, $D$35, $D$36))*(Parameter!$F$6-CA!P52)*Shape_round!O19","v":0},{"$f":"IF(CA!Q19=0, $D$34, IF(CA!Q19=1, $D$35, $D$36))*(Parameter!$F$6-CA!Q52)*Shape_round!P19","v":0},{"$f":"IF(CA!R19=0, $D$34, IF(CA!R19=1, $D$35, $D$36))*(Parameter!$F$6-CA!R52)*Shape_round!Q19","v":0},{"$f":"IF(CA!S19=0, $D$34, IF(CA!S19=1, $D$35, $D$36))*(Parameter!$F$6-CA!S52)*Shape_round!R19","v":0},{"$f":"IF(CA!T19=0, $D$34, IF(CA!T19=1, $D$35, $D$36))*(Parameter!$F$6-CA!T52)*Shape_round!S19","v":0},{"$f":"IF(CA!U19=0, $D$34, IF(CA!U19=1, $D$35, $D$36))*(Parameter!$F$6-CA!U52)*Shape_round!T19","v":0},{"$f":"IF(CA!V19=0, $D$34, IF(CA!V19=1, $D$35, $D$36))*(Parameter!$F$6-CA!V52)*Shape_round!U19","v":0},{"$f":"IF(CA!W19=0, $D$34, IF(CA!W19=1, $D$35, $D$36))*(Parameter!$F$6-CA!W52)*Shape_round!V19","v":0},{"$f":"IF(CA!X19=0, $D$34, IF(CA!X19=1, $D$35, $D$36))*(Parameter!$F$6-CA!X52)*Shape_round!W19","v":0},{"$f":"IF(CA!Y19=0, $D$34, IF(CA!Y19=1, $D$35, $D$36))*(Parameter!$F$6-CA!Y52)*Shape_round!X19","v":0},{"$f":"IF(CA!Z19=0, $D$34, IF(CA!Z19=1, $D$35, $D$36))*(Parameter!$F$6-CA!Z52)*Shape_round!Y19","v":0},{"$f":"IF(CA!AA19=0, $D$34, IF(CA!AA19=1, $D$35, $D$36))*(Parameter!$F$6-CA!AA52)*Shape_round!Z19","v":0},{"$f":"IF(CA!AB19=0, $D$34, IF(CA!AB19=1, $D$35, $D$36))*(Parameter!$F$6-CA!AB52)*Shape_round!AA19","v":0},{"$f":"IF(CA!AC19=0, $D$34, IF(CA!AC19=1, $D$35, $D$36))*(Parameter!$F$6-CA!AC52)*Shape_round!AB19","v":0},{"$f":"IF(CA!AD19=0, $D$34, IF(CA!AD19=1, $D$35, $D$36))*(Parameter!$F$6-CA!AD52)*Shape_round!AC19","v":0},{"$f":"IF(CA!AE19=0, $D$34, IF(CA!AE19=1, $D$35, $D$36))*(Parameter!$F$6-CA!AE52)*Shape_round!AD19","v":0}]
[null,{"$f":"IF(CA!B20=0, $D$34, IF(CA!B20=1, $D$35, $D$36))*(Parameter!$F$6-CA!B53)*Shape_round!A20","v":0},{"$f":"IF(CA!C20=0, $D$34, IF(CA!C20=1, $D$35, $D$36))*(Parameter!$F$6-CA!C53)*Shape_round!B20","v":0},{"$f":"IF(CA!D20=0, $D$34, IF(CA!D20=1, $D$35, $D$36))*(Parameter!$F$6-CA!D53)*Shape_round!C20","v":0},{"$f":"IF(CA!E20=0, $D$34, IF(CA!E20=1, $D$35, $D$36))*(Parameter!$F$6-CA!E53)*Shape_round!D20","v":0},{"$f":"IF(CA!F20=0, $D$34, IF(CA!F20=1, $D$35, $D$36))*(Parameter!$F$6-CA!F53)*Shape_round!E20","v":0},{"$f":"IF(CA!G20=0, $D$34, IF(CA!G20=1, $D$35, $D$36))*(Parameter!$F$6-CA!G53)*Shape_round!F20","v":0},{"$f":"IF(CA!H20=0, $D$34, IF(CA!H20=1, $D$35, $D$36))*(Parameter!$F$6-CA!H53)*Shape_round!G20","v":0},{"$f":"IF(CA!I20=0, $D$34, IF(CA!I20=1, $D$35, $D$36))*(Parameter!$F$6-CA!I53)*Shape_round!H20","v":0},{"$f":"IF(CA!J20=0, $D$34, IF(CA!J20=1, $D$35, $D$36))*(Parameter!$F$6-CA!J53)*Shape_round!I20","v":0},{"$f":"IF(CA!K20=0, $D$34, IF(CA!K20=1, $D$35, $D$36))*(Parameter!$F$6-CA!K53)*Shape_round!J20","v":0},{"$f":"IF(CA!L20=0, $D$34, IF(CA!L20=1, $D$35, $D$36))*(Parameter!$F$6-CA!L53)*Shape_round!K20","v":0},{"$f":"IF(CA!M20=0, $D$34, IF(CA!M20=1, $D$35, $D$36))*(Parameter!$F$6-CA!M53)*Shape_round!L20","v":0},{"$f":"IF(CA!N20=0, $D$34, IF(CA!N20=1, $D$35, $D$36))*(Parameter!$F$6-CA!N53)*Shape_round!M20","v":0},{"$f":"IF(CA!O20=0, $D$34, IF(CA!O20=1, $D$35, $D$36))*(Parameter!$F$6-CA!O53)*Shape_round!N20","v":0},{"$f":"IF(CA!P20=0, $D$34, IF(CA!P20=1, $D$35, $D$36))*(Parameter!$F$6-CA!P53)*Shape_round!O20","v":0},{"$f":"IF(CA!Q20=0, $D$34, IF(CA!Q20=1, $D$35, $D$36))*(Parameter!$F$6-CA!Q53)*Shape_round!P20","v":0},{"$f":"IF(CA!R20=0, $D$34, IF(CA!R20=1, $D$35, $D$36))*(Parameter!$F$6-CA!R53)*Shape_round!Q20","v":0},{"$f":"IF(CA!S20=0, $D$34, IF(CA!S20=1, $D$35, $D$36))*(Parameter!$F$6-CA!S53)*Shape_round!R20","v":0},{"$f":"IF(CA!T20=0, $D$34, IF(CA!T20=1, $D$35, $D$36))*(Parameter!$F$6-CA!T53)*Shape_round!S20","v":0},{"$f":"IF(CA!U20=0, $D$34, IF(CA!U20=1, $D$35, $D$36))*(Parameter!$F$6-CA!U53)*Shape_round!T20","v":0},{"$f":"IF(CA!V20=0, $D$34, IF(CA!V20=1, $D$35, $D$36))*(Parameter!$F$6-CA!V53)*Shape_round!U20","v":0},{"$f":"IF(CA!W20=0, $D$34, IF(CA!W20=1, $D$35, $D$36))*(Parameter!$F$6-CA!W53)*Shape_round!V20","v":0},{"$f":"IF(CA!X20=0, $D$34, IF(CA!X20=1, $D$35, $D$36))*(Parameter!$F$6-CA!X53)*Shape_round!W20","v":0},{"$f":"IF(CA!Y20=0, $D$34, IF(CA!Y20=1, $D$35, $D$36))*(Parameter!$F$6-CA!Y53)*Shape_round!X20","v":0},{"$f":"IF(CA!Z20=0, $D$34, IF(CA!Z20=1, $D$35, $D$36))*(Parameter!$F$6-CA!Z53)*Shape_round!Y20","v":0},{"$f":"IF(CA!AA20=0, $D$34, IF(CA!AA20=1, $D$35, $D$36))*(Parameter!$F$6-CA!AA53)*Shape_round!Z20","v":0},{"$f":"IF(CA!AB20=0, $D$34, IF(CA!AB20=1, $D$35, $D$36))*(Parameter!$F$6-CA!AB53)*Shape_round!AA20","v":0},{"$f":"IF(CA!AC20=0, $D$34, IF(CA!AC20=1, $D$35, $D$36))*(Parameter!$F$6-CA!AC53)*Shape_round!AB20","v":0},{"$f":"IF(CA!AD20=0, $D$34, IF(CA!AD20=1, $D$35, $D$36))*(Parameter!$F$6-CA!AD53)*Shape_round!AC20","v":0},{"$f":"IF(CA!AE20=0, $D$34, IF(CA!AE20=1, $D$35, $D$36))*(Parameter!$F$6-CA!AE53)*Shape_round!AD20","v":0}]
[null,{"$f":"IF(CA!B21=0, $D$34, IF(CA!B21=1, $D$35, $D$36))*(Parameter!$F$6-CA!B54)*Shape_round!A21","v":0},{"$f":"IF(CA!C21=0, $D$34, IF(CA!C21=1, $D$35, $D$36))*(Parameter!$F$6-CA!C54)*Shape_round!B21","v":0},{"$f":"IF(CA!D21=0, $D$34, IF(CA!D21=1, $D$35, $D$36))*(Parameter!$F$6-CA!D54)*Shape_round!C21","v":0},{"$f":"IF(CA!E21=0, $D$34, IF(CA!E21=1, $D$35, $D$36))*(Parameter!$F$6-CA!E54)*Shape_round!D21","v":0},{"$f":"IF(CA!F21=0, $D$34, IF(CA!F21=1, $D$35, $D$36))*(Parameter!$F$6-CA!F54)*Shape_round!E21","v":0},{"$f":"IF(CA!G21=0, $D$34, IF(CA!G21=1, $D$35, $D$36))*(Parameter!$F$6-CA!G54)*Shape_round!F21","v":0},{"$f":"IF(CA!H21=0, $D$34, IF(CA!H21=1, $D$35, $D$36))*(Parameter!$F$6-CA!H54)*Shape_round!G21","v":0},{"$f":"IF(CA!I21=0, $D$34, IF(CA!I21=1, $D$35, $D$36))*(Parameter!$F$6-CA!I54)*Shape_round!H21","v":0},{"$f":"IF(CA!J21=0, $D$34, IF(CA!J21=1, $D$35, $D$36))*(Parameter!$F$6-CA!J54)*Shape_round!I21","v":0},{"$f":"IF(CA!K21=0, $D$34, IF(CA!K21=1, $D$35, $D$36))*(Parameter!$F$6-CA!K54)*Shape_round!J21","v":0},{"$f":"IF(CA!L21=0, $D$34, IF(CA!L21=1, $D$35, $D$36))*(Parameter!$F$6-CA!L54)*Shape_round!K21","v":0},{"$f":"IF(CA!M21=0, $D$34, IF(CA!M21=1, $D$35, $D$36))*(Parameter!$F$6-CA!M54)*Shape_round!L21","v":0},{"$f":"IF(CA!N21=0, $D$34, IF(CA!N21=1, $D$35, $D$36))*(Parameter!$F$6-CA!N54)*Shape_round!M21","v":0},{"$f":"IF(CA!O21=0, $D$34, IF(CA!O21=1, $D$35, $D$36))*(Parameter!$F$6-CA!O54)*Shape_round!N21","v":0},{"$f":"IF(CA!P21=0, $D$34, IF(CA!P21=1, $D$35, $D$36))*(Parameter!$F$6-CA!P54)*Shape_round!O21","v":0},{"$f":"IF(CA!Q21=0, $D$34, IF(CA!Q21=1, $D$35, $D$36))*(Parameter!$F$6-CA!Q54)*Shape_round!P21","v":0},{"$f":"IF(CA!R21=0, $D$34, IF(CA!R21=1, $D$35, $D$36))*(Parameter!$F$6-CA!R54)*Shape_round!Q21","v":0},{"$f":"IF(CA!S21=0, $D$34, IF(CA!S21=1, $D$35, $D$36))*(Parameter!$F$6-CA!S54)*Shape_round!R21","v":0},{"$f":"IF(CA!T21=0, $D$34, IF(CA!T21=1, $D$35, $D$36))*(Parameter!$F$6-CA!T54)*Shape_round!S21","v":0},{"$f":"IF(CA!U21=0, $D$34, IF(CA!U21=1, $D$35, $D$36))*(Parameter!$F$6-CA!U54)*Shape_round!T21","v":0},{"$f":"IF(CA!V21=0, $D$34, IF(CA!V21=1, $D$35, $D$36))*(Parameter!$F$6-CA!V54)*Shape_round!U21","v":0},{"$f":"IF(CA!W21=0, $D$34, IF(CA!W21=1, $D$35, $D$36))*(Parameter!$F$6-CA!W54)*Shape_round!V21","v":0},{"$f":"IF(CA!X21=0, $D$34, IF(CA!X21=1, $D$35, $D$36))*(Parameter!$F$6-CA!X54)*Shape_round!W21","v":0},{"$f":"IF(CA!Y21=0, $D$34, IF(CA!Y21=1, $D$35, $D$36))*(Parameter!$F$6-CA!Y54)*Shape_round!X21","v":0},{"$f":"IF(CA!Z21=0, $D$34, IF(CA!Z21=1, $D$35, $D$36))*(Parameter!$F$6-CA!Z54)*Shape_round!Y21","v":0},{"$f":"IF(CA!AA21=0, $D$34, IF(CA!AA21=1, $D$35, $D$36))*(Parameter!$F$6-CA!AA54)*Shape_round!Z21","v":0},{"$f":"IF(CA!AB21=0, $D$34, IF(CA!AB21=1, $D$35, $D$36))*(Parameter!$F$6-CA!AB54)*Shape_round!AA21","v":0},{"$f":"IF(CA!AC21=0, $D$34, IF(CA!AC21=1, $D$35, $D$36))*(Parameter!$F$6-CA!AC54)*Shape_round!AB21","v":0},{"$f":"IF(CA!AD21=0, $D$34, IF(CA!AD21=1, $D$35, $D$36))*(Parameter!$F$6-CA!AD54)*Shape_round!AC21","v":0},{"$f":"IF(CA!AE21=0, $D$34, IF(CA!AE21=1, $D$35, $D$36))*(Parameter!$F$6-CA!AE54)*Shape_round!AD21","v":0}]
[null,{"$f":"IF(CA!B22=0, $D$34, IF(CA!B22=1, $D$35, $D$36))*(Parameter!$F$6-CA!B55)*Shape_round!A22","v":0},{"$f":"IF(CA!C22=0, $D$34, IF(CA!C22=1, $D$35, $D$36))*(Parameter!$F$6-CA!C55)*Shape_round!B22","v":0},{"$f":"IF(CA!D22=0, $D$34, IF(CA!D22=1, $D$35, $D$36))*(Parameter!$F$6-CA!D55)*Shape_round!C22","v":0},{"$f":"IF(CA!E22=0, $D$34, IF(CA!E22=1, $D$35, $D$36))*(Parameter!$F$6-CA!E55)*Shape_round!D22","v":0},{"$f":"IF(CA!F22=0, $D$34, IF(CA!F22=1, $D$35, $D$36))*(Parameter!$F$6-CA!F55)*Shape_round!E22","v":0},{"$f":"IF(CA!G22=0, $D$34, IF(CA!G22=1, $D$35, $D$36))*(Parameter!$F$6-CA!G55)*Shape_round!F22","v":0},{"$f":"IF(CA!H22=0, $D$34, IF(CA!H22=1, $D$35, $D$36))*(Parameter!$F$6-CA!H55)*Shape_round!G22","v":0},{"$f":"IF(CA!I22=0, $D$34, IF(CA!I22=1, $D$35, $D$36))*(Parameter!$F$6-CA!I55)*Shape_round!H22","v":0},{"$f":"IF(CA!J22=0, $D$34, IF(CA!J22=1, $D$35, $D$36))*(Parameter!$F$6-CA!J55)*Shape_round!I22","v":0},{"$f":"IF(CA!K22=0, $D$34, IF(CA!K22=1, $D$35, $D$36))*(Parameter!$F$6-CA!K55)*Shape_round!J22","v":0},{"$f":"IF(CA!L22=0, $D$34, IF(CA!L22=1, $D$35, $D$36))*(Parameter!$F$6-CA!L55)*Shape_round!K22","v":0},{"$f":"IF(CA!M22=0, $D$34, IF(CA!M22=1, $D$35, $D$36))*(Parameter!$F$6-CA!M55)*Shape_round!L22","v":0},{"$f":"IF(CA!N22=0, $D$34, IF(CA!N22=1, $D$35, $D$36))*(Parameter!$F$6-CA!N55)*Shape_round!M22","v":0},{"$f":"IF(CA!O22=0, $D$34, IF(CA!O22=1, $D$35, $D$36))*(Parameter!$F$6-CA!O55)*Shape_round!N22","v":0},{"$f":"IF(CA!P22=0, $D$34, IF(CA!P22=1, $D$35, $D$36))*(Parameter!$F$6-CA!P55)*Shape_round!O22","v":0},{"$f":"IF(CA!Q22=0, $D$34, IF(CA!Q22=1, $D$35, $D$36))*(Parameter!$F$6-CA!Q55)*Shape_round!P22","v":0},{"$f":"IF(CA!R22=0, $D$34, IF(CA!R22=1, $D$35, $D$36))*(Parameter!$F$6-CA!R55)*Shape_round!Q22","v":0},{"$f":"IF(CA!S22=0, $D$34, IF(CA!S22=1, $D$35, $D$36))*(Parameter!$F$6-CA!S55)*Shape_round!R22","v":0},{"$f":"IF(CA!T22=0, $D$34, IF(CA!T22=1, $D$35, $D$36))*(Parameter!$F$6-CA!T55)*Shape_round!S22","v":0},{"$f":"IF(CA!U22=0, $D$34, IF(CA!U22=1, $D$35, $D$36))*(Parameter!$F$6-CA!U55)*Shape_round!T22","v":0},{"$f":"IF(CA!V22=0, $D$34, IF(CA!V22=1, $D$35, $D$36))*(Parameter!$F$6-CA!V55)*Shape_round!U22","v":0},{"$f":"IF(CA!W22=0, $D$34, IF(CA!W22=1, $D$35, $D$36))*(Parameter!$F$6-CA!W55)*Shape_round!V22","v":0},{"$f":"IF(CA!X22=0, $D$34, IF(CA!X22=1, $D$35, $D$36))*(Parameter!$F$6-CA!X55)*Shape_round!W22","v":0},{"$f":"IF(CA!Y22=0, $D$34, IF(CA!Y22=1, $D$35, $D$36))*(Parameter!$F$6-CA!Y55)*Shape_round!X22","v":0},{"$f":"IF(CA!Z22=0, $D$34, IF(CA!Z22=1, $D$35, $D$36))*(Parameter!$F$6-CA!Z55)*Shape_round!Y22","v":0},{"$f":"IF(CA!AA22=0, $D$34, IF(CA!AA22=1, $D$35, $D$36))*(Parameter!$F$6-CA!AA55)*Shape_round!Z22","v":0},{"$f":"IF(CA!AB22=0, $D$34, IF(CA!AB22=1, $D$35, $D$36))*(Parameter!$F$6-CA!AB55)*Shape_round!AA22","v":0},{"$f":"IF(CA!AC22=0, $D$34, IF(CA!AC22=1, $D$35, $D$36))*(Parameter!$F$6-CA!AC55)*Shape_round!AB22","v":0},{"$f":"IF(CA!AD22=0, $D$34, IF(CA!AD22=1, $D$35, $D$36))*(Parameter!$F$6-CA!AD55)*Shape_round!AC22","v":0},{"$f":"IF(CA!AE22=0, $D$34, IF(CA!AE22=1, $D$35, $D$36))*(Parameter!$F$6-CA!AE55)*Shape_round!AD22","v":0}]
[null,{"$f":"IF(CA!B23=0, $D$34, IF(CA!B23=1, $D$35, $D$36))*(Parameter!$F$6-CA!B56)*Shape_round!A23","v":0},{"$f":"IF(CA!C23=0, $D$34, IF(CA!C23=1, $D$35, $D$36))*(Parameter!$F$6-CA!C56)*Shape_round!B23","v":0},{"$f":"IF(CA!D23=0, $D$34, IF(CA!D23=1, $D$35, $D$36))*(Parameter!$F$6-CA!D56)*Shape_round!C23","v":0},{"$f":"IF(CA!E23=0, $D$34, IF(CA!E23=1, $D$35, $D$36))*(Parameter!$F$6-CA!E56)*Shape_round!D23","v":0},{"$f":"IF(CA!F23=0, $D$34, IF(CA!F23=1, $D$35, $D$36))*(Parameter!$F$6-CA!F56)*Shape_round!E23","v":0},{"$f":"IF(CA!G23=0, $D$34, IF(CA!G23=1, $D$35, $D$36))*(Parameter!$F$6-CA!G56)*Shape_round!F23","v":0},{"$f":"IF(CA!H23=0, $D$34, IF(CA!H23=1, $D$35, $D$36))*(Parameter!$F$6-CA!H56)*Shape_round!G23","v":0},{"$f":"IF(CA!I23=0, $D$34, IF(CA!I23=1, $D$35, $D$36))*(Parameter!$F$6-CA!I56)*Shape_round!H23","v":0},{"$f":"IF(CA!J23=0, $D$34, IF(CA!J23=1, $D$35, $D$36))*(Parameter!$F$6-CA!J56)*Shape_round!I23","v":0},{"$f":"IF(CA!K23=0, $D$34, IF(CA!K23=1, $D$35, $D$36))*(Parameter!$F$6-CA!K56)*Shape_round!J23","v":0},{"$f":"IF(CA!L23=0, $D$34, IF(CA!L23=1, $D$35, $D$36))*(Parameter!$F$6-CA!L56)*Shape_round!K23","v":0},{"$f":"IF(CA!M23=0, $D$34, IF(CA!M23=1, $D$35, $D$36))*(Parameter!$F$6-CA!M56)*Shape_round!L23","v":0},{"$f":"IF(CA!N23=0, $D$34, IF(CA!N23=1, $D$35, $D$36))*(Parameter!$F$6-CA!N56)*Shape_round!M23","v":0},{"$f":"IF(CA!O23=0, $D$34, IF(CA!O23=1, $D$35, $D$36))*(Parameter!$F$6-CA!O56)*Shape_round!N23","v":0},{"$f":"IF(CA!P23=0, $D$34, IF(CA!P23=1, $D$35, $D$36))*(Parameter!$F$6-CA!P56)*Shape_round!O23","v":0},{"$f":"IF(CA!Q23=0, $D$34, IF(CA!Q23=1, $D$35, $D$36))*(Parameter!$F$6-CA!Q56)*Shape_round!P23","v":0},{"$f":"IF(CA!R23=0, $D$34, IF(CA!R23=1, $D$35, $D$36))*(Parameter!$F$6-CA!R56)*Shape_round!Q23","v":0},{"$f":"IF(CA!S23=0, $D$34, IF(CA!S23=1, $D$35, $D$36))*(Parameter!$F$6-CA!S56)*Shape_round!R23","v":0},{"$f":"IF(CA!T23=0, $D$34, IF(CA!T23=1, $D$35, $D$36))*(Parameter!$F$6-CA!T56)*Shape_round!S23","v":0},{"$f":"IF(CA!U23=0, $D$34, IF(CA!U23=1, $D$35, $D$36))*(Parameter!$F$6-CA!U56)*Shape_round!T23","v":0},{"$f":"IF(CA!V23=0, $D$34, IF(CA!V23=1, $D$35, $D$36))*(Parameter!$F$6-CA!V56)*Shape_round!U23","v":0},{"$f":"IF(CA!W23=0, $D$34, IF(CA!W23=1, $D$35, $D$36))*(Parameter!$F$6-CA!W56)*Shape_round!V23","v":0},{"$f":"IF(CA!X23=0, $D$34, IF(CA!X23=1, $D$35, $D$36))*(Parameter!$F$6-CA!X56)*Shape_round!W23","v":0},{"$f":"IF(CA!Y23=0, $D$34, IF(CA!Y23=1, $D$35, $D$36))*(Parameter!$F$6-CA!Y56)*Shape_round!X23","v":0},{"$f":"IF(CA!Z23=0, $D$34, IF(CA!Z23=1, $D$35, $D$36))*(Parameter!$F$6-CA!Z56)*Shape_round!Y23","v":0},{"$f":"IF(CA!AA23=0, $D$34, IF(CA!AA23=1, $D$35, $D$36))*(Parameter!$F$6-CA!AA56)*Shape_round!Z23","v":0},{"$f":"IF(CA!AB23=0, $D$34, IF(CA!AB23=1, $D$35, $D$36))*(Parameter!$F$6-CA!AB56)*Shape_round!AA23","v":0},{"$f":"IF(CA!AC23=0, $D$34, IF(CA!AC23=1, $D$35, $D$36))*(Parameter!$F$6-CA!AC56)*Shape_round!AB23","v":0},{"$f":"IF(CA!AD23=0, $D$34, IF(CA!AD23=1, $D$35, $D$36))*(Parameter!$F$6-CA!AD56)*Shape_round!AC23","v":0},{"$f":"IF(CA!AE23=0, $D$34, IF(CA!AE23=1, $D$35, $D$36))*(Parameter!$F$6-CA!AE56)*Shape_round!AD23","v":0}]
[null,{"$f":"IF(CA!B24=0, $D$34, IF(CA!B24=1, $D$35, $D$36))*(Parameter!$F$6-CA!B57)*Shape_round!A24","v":0},{"$f":"IF(CA!C24=0, $D$34, IF(CA!C24=1, $D$35, $D$36))*(Parameter!$F$6-CA!C57)*Shape_round!B24","v":0},{"$f":"IF(CA!D24=0, $D$34, IF(CA!D24=1, $D$35, $D$36))*(Parameter!$F$6-CA!D57)*Shape_round!C24","v":0},{"$f":"IF(CA!E24=0, $D$34, IF(CA!E24=1, $D$35, $D$36))*(Parameter!$F$6-CA!E57)*Shape_round!D24","v":0},{"$f":"IF(CA!F24=0, $D$34, IF(CA!F24=1, $D$35, $D$36))*(Parameter!$F$6-CA!F57)*Shape_round!E24","v":0},{"$f":"IF(CA!G24=0, $D$34, IF(CA!G24=1, $D$35, $D$36))*(Parameter!$F$6-CA!G57)*Shape_round!F24","v":0},{"$f":"IF(CA!H24=0, $D$34, IF(CA!H24=1, $D$35, $D$36))*(Parameter!$F$6-CA!H57)*Shape_round!G24","v":0},{"$f":"IF(CA!I24=0, $D$34, IF(CA!I24=1, $D$35, $D$36))*(Parameter!$F$6-CA!I57)*Shape_round!H24","v":0},{"$f":"IF(CA!J24=0, $D$34, IF(CA!J24=1, $D$35, $D$36))*(Parameter!$F$6-CA!J57)*Shape_round!I24","v":0},{"$f":"IF(CA!K24=0, $D$34, IF(CA!K24=1, $D$35, $D$36))*(Parameter!$F$6-CA!K57)*Shape_round!J24","v":0},{"$f":"IF(CA!L24=0, $D$34, IF(CA!L24=1, $D$35, $D$36))*(Parameter!$F$6-CA!L57)*Shape_round!K24","v":0},{"$f":"IF(CA!M24=0, $D$34, IF(CA!M24=1, $D$35, $D$36))*(Parameter!$F$6-CA!M57)*Shape_round!L24","v":0},{"$f":"IF(CA!N24=0, $D$34, IF(CA!N24=1, $D$35, $D$36))*(Parameter!$F$6-CA!N57)*Shape_round!M24","v":0},{"$f":"IF(CA!O24=0, $D$34, IF(CA!O24=1, $D$35, $D$36))*(Parameter!$F$6-CA!O57)*Shape_round!N24","v":0},{"$f":"IF(CA!P24=0, $D$34, IF(CA!P24=1, $D$35, $D$36))*(Parameter!$F$6-CA!P57)*Shape_round!O24","v":0},{"$f":"IF(CA!Q24=0, $D$34, IF(CA!Q24=1, $D$35, $D$36))*(Parameter!$F$6-CA!Q57)*Shape_round!P24","v":0},{"$f":"IF(CA!R24=0, $D$34, IF(CA!R24=1, $D$35, $D$36))*(Parameter!$F$6-CA!R57)*Shape_round!Q24","v":0},{"$f":"IF(CA!S24=0, $D$34, IF(CA!S24=1, $D$35, $D$36))*(Parameter!$F$6-CA!S57)*Shape_round!R24","v":0},{"$f":"IF(CA!T24=0, $D$34, IF(CA!T24=1, $D$35, $D$36))*(Parameter!$F$6-CA!T57)*Shape_round!S24","v":0},{"$f":"IF(CA!U24=0, $D$34, IF(CA!U24=1, $D$35, $D$36))*(Parameter!$F$6-CA!U57)*Shape_round!T24","v":0},{"$f":"IF(CA!V24=0, $D$34, IF(CA!V24=1, $D$35, $D$36))*(Parameter!$F$6-CA!V57)*Shape_round!U24","v":0},{"$f":"IF(CA!W24=0, $D$34, IF(CA!W24=1, $D$35, $D$36))*(Parameter!$F$6-CA!W57)*Shape_round!V24","v":0},{"$f":"IF(CA!X24=0, $D$34, IF(CA!X24=1, $D$35, $D$36))*(Parameter!$F$6-CA!X57)*Shape_round!W24","v":0},{"$f":"IF(CA!Y24=0, $D$34, IF(CA!Y24=1, $D$35, $D$36))*(Parameter!$F$6-CA!Y57)*Shape_round!X24","v":0},{"$f":"IF(CA!Z24=0, $D$34, IF(CA!Z24=1, $D$35, $D$36))*(Parameter!$F$6-CA!Z57)*Shape_round!Y24","v":0},{"$f":"IF(CA!AA24=0, $D$34, IF(CA!AA24=1, $D$35, $D$36))*(Parameter!$F$6-CA!AA57)*Shape_round!Z24","v":0},{"$f":"IF(CA!AB24=0, $D$34, IF(CA!AB24=1, $D$35, $D$36))*(Parameter!$F$6-CA!AB57)*Shape_round!AA24","v":0},{"$f":"IF(CA!AC24=0, $D$34, IF(CA!AC24=1, $D$35, $D$36))*(Parameter!$F$6-CA!AC57)*Shape_round!AB24","v":0},{"$f":"IF(CA!AD24=0, $D$34, IF(CA!AD24=1, $D$35, $D$36))*(Parameter!$F$6-CA!AD57)*Shape_round!AC24","v":0},{"$f":"IF(CA!AE24=0, $D$34, IF(CA!AE24=1, $D$35, $D$36))*(Parameter!$F$6-CA!AE57)*Shape_round!AD24","v":0}]
[null,{"$f":"IF(CA!B25=0, $D$34, IF(CA!B25=1, $D$35, $D$36))*(Parameter!$F$6-CA!B58)*Shape_round!A25","v":1.942622628571429E-3},{"$f":"IF(CA!C25=0, $D$34, IF(CA!C25=1, $D$35, $D$36))*(Parameter!$F$6-CA!C58)*Shape_round!B25","v":1.942622628571429E-3},{"$f":"IF(CA!D25=0, $D$34, IF(CA!D25=1, $D$35, $D$36))*(Parameter!$F$6-CA!D58)*Shape_round!C25","v":1.942622628571429E-3},{"$f":"IF(CA!E25=0, $D$34, IF(CA!E25=1, $D$35, $D$36))*(Parameter!$F$6-CA!E58)*Shape_round!D25","v":1.942622628571429E-3},{"$f":"IF(CA!F25=0, $D$34, IF(CA!F25=1, $D$35, $D$36))*(Parameter!$F$6-CA!F58)*Shape_round!E25","v":1.942622628571429E-3},{"$f":"IF(CA!G25=0, $D$34, IF(CA!G25=1, $D$35, $D$36))*(Parameter!$F$6-CA!G58)*Shape_round!F25","v":1.942622628571429E-3},{"$f":"IF(CA!H25=0, $D$34, IF(CA!H25=1, $D$35, $D$36))*(Parameter!$F$6-CA!H58)*Shape_round!G25","v":1.942622628571429E-3},{"$f":"IF(CA!I25=0, $D$34, IF(CA!I25=1, $D$35, $D$36))*(Parameter!$F$6-CA!I58)*Shape_round!H25","v":1.942622628571429E-3},{"$f":"IF(CA!J25=0, $D$34, IF(CA!J25=1, $D$35, $D$36))*(Parameter!$F$6-CA!J58)*Shape_round!I25","v":1.942622628571429E-3},{"$f":"IF(CA!K25=0, $D$34, IF(CA!K25=1, $D$35, $D$36))*(Parameter!$F$6-CA!K58)*Shape_round!J25","v":1.942622628571429E-3},{"$f":"IF(CA!L25=0, $D$34, IF(CA!L25=1, $D$35, $D$36))*(Parameter!$F$6-CA!L58)*Shape_round!K25","v":1.942622628571429E-3},{"$f":"IF(CA!M25=0, $D$34, IF(CA!M25=1, $D$35, $D$36))*(Parameter!$F$6-CA!M58)*Shape_round!L25","v":1.942622628571429E-3},{"$f":"IF(CA!N25=0, $D$34, IF(CA!N25=1, $D$35, $D$36))*(Parameter!$F$6-CA!N58)*Shape_round!M25","v":1.942622628571429E-3},{"$f":"IF(CA!O25=0, $D$34, IF(CA!O25=1, $D$35, $D$36))*(Parameter!$F$6-CA!O58)*Shape_round!N25","v":1.942622628571429E-3},{"$f":"IF(CA!P25=0, $D$34, IF(CA!P25=1, $D$35, $D$36))*(Parameter!$F$6-CA!P58)*Shape_round!O25","v":1.942622628571429E-3},{"$f":"IF(CA!Q25=0, $D$34, IF(CA!Q25=1, $D$35, $D$36))*(Parameter!$F$6-CA!Q58)*Shape_round!P25","v":1.942622628571429E-3},{"$f":"IF(CA!R25=0, $D$34, IF(CA!R25=1, $D$35, $D$36))*(Parameter!$F$6-CA!R58)*Shape_round!Q25","v":1.942622628571429E-3},{"$f":"IF(CA!S25=0, $D$34, IF(CA!S25=1, $D$35, $D$36))*(Parameter!$F$6-CA!S58)*Shape_round!R25","v":1.942622628571429E-3},{"$f":"IF(CA!T25=0, $D$34, IF(CA!T25=1, $D$35, $D$36))*(Parameter!$F$6-CA!T58)*Shape_round!S25","v":1.942622628571429E-3},{"$f":"IF(CA!U25=0, $D$34, IF(CA!U25=1, $D$35, $D$36))*(Parameter!$F$6-CA!U58)*Shape_round!T25","v":1.942622628571429E-3},{"$f":"IF(CA!V25=0, $D$34, IF(CA!V25=1, $D$35, $D$36))*(Parameter!$F$6-CA!V58)*Shape_round!U25","v":1.942622628571429E-3},{"$f":"IF(CA!W25=0, $D$34, IF(CA!W25=1, $D$35, $D$36))*(Parameter!$F$6-CA!W58)*Shape_round!V25","v":1.942622628571429E-3},{"$f":"IF(CA!X25=0, $D$34, IF(CA!X25=1, $D$35, $D$36))*(Parameter!$F$6-CA!X58)*Shape_round!W25","v":1.942622628571429E-3},{"$f":"IF(CA!Y25=0, $D$34, IF(CA!Y25=1, $D$35, $D$36))*(Parameter!$F$6-CA!Y58)*Shape_round!X25","v":1.942622628571429E-3},{"$f":"IF(CA!Z25=0, $D$34, IF(CA!Z25=1, $D$35, $D$36))*(Parameter!$F$6-CA!Z58)*Shape_round!Y25","v":1.942622628571429E-3},{"$f":"IF(CA!AA25=0, $D$34, IF(CA!AA25=1, $D$35, $D$36))*(Parameter!$F$6-CA!AA58)*Shape_round!Z25","v":1.942622628571429E-3},{"$f":"IF(CA!AB25=0, $D$34, IF(CA!AB25=1, $D$35, $D$36))*(Parameter!$F$6-CA!AB58)*Shape_round!AA25","v":1.942622628571429E-3},{"$f":"IF(CA!AC25=0, $D$34, IF(CA!AC25=1, $D$35, $D$36))*(Parameter!$F$6-CA!AC58)*Shape_round!AB25","v":1.942622628571429E-3},{"$f":"IF(CA!AD25=0, $D$34, IF(CA!AD25=1, $D$35, $D$36))*(Parameter!$F$6-CA!AD58)*Shape_round!AC25","v":1.942622628571429E-3},{"$f":"IF(CA!AE25=0, $D$34, IF(CA!AE25=1, $D$35, $D$36))*(Parameter!$F$6-CA!AE58)*Shape_round!AD25","v":1.942622628571429E-3}]
[null,{"$f":"IF(CA!B26=0, $D$34, IF(CA!B26=1, $D$35, $D$36))*(Parameter!$F$6-CA!B59)*Shape_round!A26","v":1.942622628571429E-3},{"$f":"IF(CA!C26=0, $D$34, IF(CA!C26=1, $D$35, $D$36))*(Parameter!$F$6-CA!C59)*Shape_round!B26","v":1.942622628571429E-3},{"$f":"IF(CA!D26=0, $D$34, IF(CA!D26=1, $D$35, $D$36))*(Parameter!$F$6-CA!D59)*Shape_round!C26","v":1.942622628571429E-3},{"$f":"IF(CA!E26=0, $D$34, IF(CA!E26=1, $D$35, $D$36))*(Parameter!$F$6-CA!E59)*Shape_round!D26","v":1.942622628571429E-3},{"$f":"IF(CA!F26=0, $D$34, IF(CA!F26=1, $D$35, $D$36))*(Parameter!$F$6-CA!F59)*Shape_round!E26","v":1.942622628571429E-3},{"$f":"IF(CA!G26=0, $D$34, IF(CA!G26=1, $D$35, $D$36))*(Parameter!$F$6-CA!G59)*Shape_round!F26","v":1.942622628571429E-3},{"$f":"IF(CA!H26=0, $D$34, IF(CA!H26=1, $D$35, $D$36))*(Parameter!$F$6-CA!H59)*Shape_round!G26","v":1.942622628571429E-3},{"$f":"IF(CA!I26=0, $D$34, IF(CA!I26=1, $D$35, $D$36))*(Parameter!$F$6-CA!I59)*Shape_round!H26","v":1.942622628571429E-3},{"$f":"IF(CA!J26=0, $D$34, IF(CA!J26=1, $D$35, $D$36))*(Parameter!$F$6-CA!J59)*Shape_round!I26","v":1.942622628571429E-3},{"$f":"IF(CA!K26=0, $D$34, IF(CA!K26=1, $D$35, $D$36))*(Parameter!$F$6-CA!K59)*Shape_round!J26","v":1.942622628571429E-3},{"$f":"IF(CA!L26=0, $D$34, IF(CA!L26=1, $D$35, $D$36))*(Parameter!$F$6-CA!L59)*Shape_round!K26","v":1.942622628571429E-3},{"$f":"IF(CA!M26=0, $D$34, IF(CA!M26=1, $D$35, $D$36))*(Parameter!$F$6-CA!M59)*Shape_round!L26","v":1.942622628571429E-3},{"$f":"IF(CA!N26=0, $D$34, IF(CA!N26=1, $D$35, $D$36))*(Parameter!$F$6-CA!N59)*Shape_round!M26","v":1.942622628571429E-3},{"$f":"IF(CA!O26=0, $D$34, IF(CA!O26=1, $D$35, $D$36))*(Parameter!$F$6-CA!O59)*Shape_round!N26","v":1.942622628571429E-3},{"$f":"IF(CA!P26=0, $D$34, IF(CA!P26=1, $D$35, $D$36))*(Parameter!$F$6-CA!P59)*Shape_round!O26","v":1.942622628571429E-3},{"$f":"IF(CA!Q26=0, $D$34, IF(CA!Q26=1, $D$35, $D$36))*(Parameter!$F$6-CA!Q59)*Shape_round!P26","v":1.942622628571429E-3},{"$f":"IF(CA!R26=0, $D$34, IF(CA!R26=1, $D$35, $D$36))*(Parameter!$F$6-CA!R59)*Shape_round!Q26","v":1.942622628571429E-3},{"$f":"IF(CA!S26=0, $D$34, IF(CA!S26=1, $D$35, $D$36))*(Parameter!$F$6-CA!S59)*Shape_round!R26","v":1.942622628571429E-3},{"$f":"IF(CA!T26=0, $D$34, IF(CA!T26=1, $D$35, $D$36))*(Parameter!$F$6-CA!T59)*Shape_round!S26","v":1.942622628571429E-3},{"$f":"IF(CA!U26=0, $D$34, IF(CA!U26=1, $D$35, $D$36))*(Parameter!$F$6-CA!U59)*Shape_round!T26","v":1.942622628571429E-3},{"$f":"IF(CA!V26=0, $D$34, IF(CA!V26=1, $D$35, $D$36))*(Parameter!$F$6-CA!V59)*Shape_round!U26","v":1.942622628571429E-3},{"$f":"IF(CA!W26=0, $D$34, IF(CA!W26=1, $D$35, $D$36))*(Parameter!$F$6-CA!W59)*Shape_round!V26","v":1.942622628571429E-3},{"$f":"IF(CA!X26=0, $D$34, IF(CA!X26=1, $D$35, $D$36))*(Parameter!$F$6-CA!X59)*Shape_round!W26","v":1.942622628571429E-3},{"$f":"IF(CA!Y26=0, $D$34, IF(CA!Y26=1, $D$35, $D$36))*(Parameter!$F$6-CA!Y59)*Shape_round!X26","v":1.942622628571429E-3},{"$f":"IF(CA!Z26=0, $D$34, IF(CA!Z26=1, $D$35, $D$36))*(Parameter!$F$6-CA!Z59)*Shape_round!Y26","v":1.942622628571429E-3},{"$f":"IF(CA!AA26=0, $D$34, IF(CA!AA26=1, $D$35, $D$36))*(Parameter!$F$6-CA!AA59)*Shape_round!Z26","v":1.942622628571429E-3},{"$f":"IF(CA!AB26=0, $D$34, IF(CA!AB26=1, $D$35, $D$36))*(Parameter!$F$6-CA!AB59)*Shape_round!AA26","v":1.942622628571429E-3},{"$f":"IF(CA!AC26=0, $D$34, IF(CA!AC26=1, $D$35, $D$36))*(Parameter!$F$6-CA!AC59)*Shape_round!AB26","v":1.942622628571429E-3},{"$f":"IF(CA!AD26=0, $D$34, IF(CA!AD26=1, $D$35, $D$36))*(Parameter!$F$6-CA!AD59)*Shape_round!AC26","v":1.942622628571429E-3},{"$f":"IF(CA!AE26=0, $D$34, IF(CA!AE26=1, $D$35, $D$36))*(Parameter!$F$6-CA!AE59)*Shape_round!AD26","v":1.942622628571429E-3}]
[null,{"$f":"IF(CA!B27=0, $D$34, IF(CA!B27=1, $D$35, $D$36))*(Parameter!$F$6-CA!B60)*Shape_round!A27","v":1.942622628571429E-3},{"$f":"IF(CA!C27=0, $D$34, IF(CA!C27=1, $D$35, $D$36))*(Parameter!$F$6-CA!C60)*Shape_round!B27","v":1.942622628571429E-3},{"$f":"IF(CA!D27=0, $D$34, IF(CA!D27=1, $D$35, $D$36))*(Parameter!$F$6-CA!D60)*Shape_round!C27","v":1.942622628571429E-3},{"$f":"IF(CA!E27=0, $D$34, IF(CA!E27=1, $D$35, $D$36))*(Parameter!$F$6-CA!E60)*Shape_round!D27","v":1.942622628571429E-3},{"$f":"IF(CA!F27=0, $D$34, IF(CA!F27=1, $D$35, $D$36))*(Parameter!$F$6-CA!F60)*Shape_round!E27","v":1.942622628571429E-3},{"$f":"IF(CA!G27=0, $D$34, IF(CA!G27=1, $D$35, $D$36))*(Parameter!$F$6-CA!G60)*Shape_round!F27","v":1.942622628571429E-3},{"$f":"IF(CA!H27=0, $D$34, IF(CA!H27=1, $D$35, $D$36))*(Parameter!$F$6-CA!H60)*Shape_round!G27","v":1.942622628571429E-3},{"$f":"IF(CA!I27=0, $D$34, IF(CA!I27=1, $D$35, $D$36))*(Parameter!$F$6-CA!I60)*Shape_round!H27","v":1.942622628571429E-3},{"$f":"IF(CA!J27=0, $D$34, IF(CA!J27=1, $D$35, $D$36))*(Parameter!$F$6-CA!J60)*Shape_round!I27","v":1.942622628571429E-3},{"$f":"IF(CA!K27=0, $D$34, IF(CA!K27=1, $D$35, $D$36))*(Parameter!$F$6-CA!K60)*Shape_round!J27","v":1.942622628571429E-3},{"$f":"IF(CA!L27=0, $D$34, IF(CA!L27=1, $D$35, $D$36))*(Parameter!$F$6-CA!L60)*Shape_round!K27","v":1.942622628571429E-3},{"$f":"IF(CA!M27=0, $D$34, IF(CA!M27=1, $D$35, $D$36))*(Parameter!$F$6-CA!M60)*Shape_round!L27","v":1.942622628571429E-3},{"$f":"IF(CA!N27=0, $D$34, IF(CA!N27=1, $D$35, $D$36))*(Parameter!$F$6-CA!N60)*Shape_round!M27","v":1.942622628571429E-3},{"$f":"IF(CA!O27=0, $D$34, IF(CA!O27=1, $D$35, $D$36))*(Parameter!$F$6-CA!O60)*Shape_round!N27","v":1.942622628571429E-3},{"$f":"IF(CA!P27=0, $D$34, IF(CA!P27=1, $D$35, $D$36))*(Parameter!$F$6-CA!P60)*Shape_round!O27","v":1.942622628571429E-3},{"$f":"IF(CA!Q27=0, $D$34, IF(CA!Q27=1, $D$35, $D$36))*(Parameter!$F$6-CA!Q60)*Shape_round!P27","v":1.942622628571429E-3},{"$f":"IF(CA!R27=0, $D$34, IF(CA!R27=1, $D$35, $D$36))*(Parameter!$F$6-CA!R60)*Shape_round!Q27","v":1.942622628571429E-3},{"$f":"IF(CA!S27=0, $D$34, IF(CA!S27=1, $D$35, $D$36))*(Parameter!$F$6-CA!S60)*Shape_round!R27","v":1.942622628571429E-3},{"$f":"IF(CA!T27=0, $D$34, IF(CA!T27=1, $D$35, $D$36))*(Parameter!$F$6-CA!T60)*Shape_round!S27","v":1.942622628571429E-3},{"$f":"IF(CA!U27=0, $D$34, IF(CA!U27=1, $D$35, $D$36))*(Parameter!$F$6-CA!U60)*Shape_round!T27","v":1.942622628571429E-3},{"$f":"IF(CA!V27=0, $D$34, IF(CA!V27=1, $D$35, $D$36))*(Parameter!$F$6-CA!V60)*Shape_round!U27","v":1.942622628571429E-3},{"$f":"IF(CA!W27=0, $D$34, IF(CA!W27=1, $D$35, $D$36))*(Parameter!$F$6-CA!W60)*Shape_round!V27","v":1.942622628571429E-3},{"$f":"IF(CA!X27=0, $D$34, IF(CA!X27=1, $D$35, $D$36))*(Parameter!$F$6-CA!X60)*Shape_round!W27","v":1.942622628571429E-3},{"$f":"IF(CA!Y27=0, $D$34, IF(CA!Y27=1, $D$35, $D$36))*(Parameter!$F$6-CA!Y60)*Shape_round!X27","v":1.942622628571429E-3},{"$f":"IF(CA!Z27=0, $D$34, IF(CA!Z27=1, $D$35, $D$36))*(Parameter!$F$6-CA!Z60)*Shape_round!Y27","v":1.942622628571429E-3},{"$f":"IF(CA!AA27=0, $D$34, IF(CA!AA27=1, $D$35, $D$36))*(Parameter!$F$6-CA!AA60)*Shape_round!Z27","v":1.942622628571429E-3},{"$f":"IF(CA!AB27=0, $D$34, IF(CA!AB27=1, $D$35, $D$36))*(Parameter!$F$6-CA!AB60)*Shape_round!AA27","v":1.942622628571429E-3},{"$f":"IF(CA!AC27=0, $D$34, IF(CA!AC27=1, $D$35, $D$36))*(Parameter!$F$6-CA!AC60)*Shape_round!AB27","v":1.942622628571429E-3},{"$f":"IF(CA!AD27=0, $D$34, IF(CA!AD27=1, $D$35, $D$36))*(Parameter!$F$6-CA!AD60)*Shape_round!AC27","v":1.942622628571429E-3},{"$f":"IF(CA!AE27=0, $D$34, IF(CA!AE27=1, $D$35, $D$36))*(Parameter!$F$6-CA!AE60)*Shape_round!AD27","v":1.942622628571429E-3}]
[null,{"$f":"IF(CA!B28=0, $D$34, IF(CA!B28=1, $D$35, $D$36))*(Parameter!$F$6-CA!B61)*Shape_round!A28","v":1.942622628571429E-3},{"$f":"IF(CA!C28=0, $D$34, IF(CA!C28=1, $D$35, $D$36))*(Parameter!$F$6-CA!C61)*Shape_round!B28","v":1.942622628571429E-3},{"$f":"IF(CA!D28=0, $D$34, IF(CA!D28=1, $D$35, $D$36))*(Parameter!$F$6-CA!D61)*Shape_round!C28","v":1.942622628571429E-3},{"$f":"IF(CA!E28=0, $D$34, IF(CA!E28=1, $D$35, $D$36))*(Parameter!$F$6-CA!E61)*Shape_round!D28","v":1.942622628571429E-3},{"$f":"IF(CA!F28=0, $D$34, IF(CA!F28=1, $D$35, $D$36))*(Parameter!$F$6-CA!F61)*Shape_round!E28","v":1.942622628571429E-3},{"$f":"IF(CA!G28=0, $D$34, IF(CA!G28=1, $D$35, $D$36))*(Parameter!$F$6-CA!G61)*Shape_round!F28","v":1.942622628571429E-3},{"$f":"IF(CA!H28=0, $D$34, IF(CA!H28=1, $D$35, $D$36))*(Parameter!$F$6-CA!H61)*Shape_round!G28","v":1.942622628571429E-3},{"$f":"IF(CA!I28=0, $D$34, IF(CA!I28=1, $D$35, $D$36))*(Parameter!$F$6-CA!I61)*Shape_round!H28","v":1.942622628571429E-3},{"$f":"IF(CA!J28=0, $D$34, IF(CA!J28=1, $D$35, $D$36))*(Parameter!$F$6-CA!J61)*Shape_round!I28","v":1.942622628571429E-3},{"$f":"IF(CA!K28=0, $D$34, IF(CA!K28=1, $D$35, $D$36))*(Parameter!$F$6-CA!K61)*Shape_round!J28","v":1.942622628571429E-3},{"$f":"IF(CA!L28=0, $D$34, IF(CA!L28=1, $D$35, $D$36))*(Parameter!$F$6-CA!L61)*Shape_round!K28","v":1.942622628571429E-3},{"$f":"IF(CA!M28=0, $D$34, IF(CA!M28=1, $D$35, $D$36))*(Parameter!$F$6-CA!M61)*Shape_round!L28","v":1.942622628571429E-3},{"$f":"IF(CA!N28=0, $D$34, IF(CA!N28=1, $D$35, $D$36))*(Parameter!$F$6-CA!N61)*Shape_round!M28","v":1.942622628571429E-3},{"$f":"IF(CA!O28=0, $D$34, IF(CA!O28=1, $D$35, $D$36))*(Parameter!$F$6-CA!O61)*Shape_round!N28","v":1.942622628571429E-3},{"$f":"IF(CA!P28=0, $D$34, IF(CA!P28=1, $D$35, $D$36))*(Parameter!$F$6-CA!P61)*Shape_round!O28","v":1.942622628571429E-3},{"$f":"IF(CA!Q28=0, $D$34, IF(CA!Q28=1, $D$35, $D$36))*(Parameter!$F$6-CA!Q61)*Shape_round!P28","v":1.942622628571429E-3},{"$f":"IF(CA!R28=0, $D$34, IF(CA!R28=1, $D$35, $D$36))*(Parameter!$F$6-CA!R61)*Shape_round!Q28","v":1.942622628571429E-3},{"$f":"IF(CA!S28=0, $D$34, IF(CA!S28=1, $D$35, $D$36))*(Parameter!$F$6-CA!S61)*Shape_round!R28","v":1.942622628571429E-3},{"$f":"IF(CA!T28=0, $D$34, IF(CA!T28=1, $D$35, $D$36))*(Parameter!$F$6-CA!T61)*Shape_round!S28","v":1.942622628571429E-3},{"$f":"IF(CA!U28=0, $D$34, IF(CA!U28=1, $D$35, $D$36))*(Parameter!$F$6-CA!U61)*Shape_round!T28","v":1.942622628571429E-3},{"$f":"IF(CA!V28=0, $D$34, IF(CA!V28=1, $D$35, $D$36))*(Parameter!$F$6-CA!V61)*Shape_round!U28","v":1.942622628571429E-3},{"$f":"IF(CA!W28=0, $D$34, IF(CA!W28=1, $D$35, $D$36))*(Parameter!$F$6-CA!W61)*Shape_round!V28","v":1.942622628571429E-3},{"$f":"IF(CA!X28=0, $D$34, IF(CA!X28=1, $D$35, $D$36))*(Parameter!$F$6-CA!X61)*Shape_round!W28","v":1.942622628571429E-3},{"$f":"IF(CA!Y28=0, $D$34, IF(CA!Y28=1, $D$35, $D$36))*(Parameter!$F$6-CA!Y61)*Shape_round!X28","v":1.942622628571429E-3},{"$f":"IF(CA!Z28=0, $D$34, IF(CA!Z28=1, $D$35, $D$36))*(Parameter!$F$6-CA!Z61)*Shape_round!Y28","v":1.942622628571429E-3},{"$f":"IF(CA!AA28=0, $D$34, IF(CA!AA28=1, $D$35, $D$36))*(Parameter!$F$6-CA!AA61)*Shape_round!Z28","v":1.942622628571429E-3},{"$f":"IF(CA!AB28=0, $D$34, IF(CA!AB28=1, $D$35, $D$36))*(Parameter!$F$6-CA!AB61)*Shape_round!AA28","v":1.942622628571429E-3},{"$f":"IF(CA!AC28=0, $D$34, IF(CA!AC28=1, $D$35, $D$36))*(Parameter!$F$6-CA!AC61)*Shape_round!AB28","v":1.942622628571429E-3},{"$f":"IF(CA!AD28=0, $D$34, IF(CA!AD28=1, $D$35, $D$36))*(Parameter!$F$6-CA!AD61)*Shape_round!AC28","v":1.942622628571429E-3},{"$f":"IF(CA!AE28=0, $D$34, IF(CA!AE28=1, $D$35, $D$36))*(Parameter!$F$6-CA!AE61)*Shape_round!AD28","v":1.942622628571429E-3}]
[null,{"$f":"IF(CA!B29=0, $D$34, IF(CA!B29=1, $D$35, $D$36))*(Parameter!$F$6-CA!B62)*Shape_round!A29","v":1.942622628571429E-3},{"$f":"IF(CA!C29=0, $D$34, IF(CA!C29=1, $D$35, $D$36))*(Parameter!$F$6-CA!C62)*Shape_round!B29","v":1.942622628571429E-3},{"$f":"IF(CA!D29=0, $D$34, IF(CA!D29=1, $D$35, $D$36))*(Parameter!$F$6-CA!D62)*Shape_round!C29","v":1.942622628571429E-3},{"$f":"IF(CA!E29=0, $D$34, IF(CA!E29=1, $D$35, $D$36))*(Parameter!$F$6-CA!E62)*Shape_round!D29","v":1.942622628571429E-3},{"$f":"IF(CA!F29=0, $D$34, IF(CA!F29=1, $D$35, $D$36))*(Parameter!$F$6-CA!F62)*Shape_round!E29","v":1.942622628571429E-3},{"$f":"IF(CA!G29=0, $D$34, IF(CA!G29=1, $D$35, $D$36))*(Parameter!$F$6-CA!G62)*Shape_round!F29","v":1.942622628571429E-3},{"$f":"IF(CA!H29=0, $D$34, IF(CA!H29=1, $D$35, $D$36))*(Parameter!$F$6-CA!H62)*Shape_round!G29","v":1.942622628571429E-3},{"$f":"IF(CA!I29=0, $D$34, IF(CA!I29=1, $D$35, $D$36))*(Parameter!$F$6-CA!I62)*Shape_round!H29","v":1.942622628571429E-3},{"$f":"IF(CA!J29=0, $D$34, IF(CA!J29=1, $D$35, $D$36))*(Parameter!$F$6-CA!J62)*Shape_round!I29","v":1.942622628571429E-3},{"$f":"IF(CA!K29=0, $D$34, IF(CA!K29=1, $D$35, $D$36))*(Parameter!$F$6-CA!K62)*Shape_round!J29","v":1.942622628571429E-3},{"$f":"IF(CA!L29=0, $D$34, IF(CA!L29=1, $D$35, $D$36))*(Parameter!$F$6-CA!L62)*Shape_round!K29","v":1.942622628571429E-3},{"$f":"IF(CA!M29=0, $D$34, IF(CA!M29=1, $D$35, $D$36))*(Parameter!$F$6-CA!M62)*Shape_round!L29","v":1.942622628571429E-3},{"$f":"IF(CA!N29=0, $D$34, IF(CA!N29=1, $D$35, $D$36))*(Parameter!$F$6-CA!N62)*Shape_round!M29","v":1.942622628571429E-3},{"$f":"IF(CA!O29=0, $D$34, IF(CA!O29=1, $D$35, $D$36))*(Parameter!$F$6-CA!O62)*Shape_round!N29","v":1.942622628571429E-3},{"$f":"IF(CA!P29=0, $D$34, IF(CA!P29=1, $D$35, $D$36))*(Parameter!$F$6-CA!P62)*Shape_round!O29","v":1.942622628571429E-3},{"$f":"IF(CA!Q29=0, $D$34, IF(CA!Q29=1, $D$35, $D$36))*(Parameter!$F$6-CA!Q62)*Shape_round!P29","v":1.942622628571429E-3},{"$f":"IF(CA!R29=0, $D$34, IF(CA!R29=1, $D$35, $D$36))*(Parameter!$F$6-CA!R62)*Shape_round!Q29","v":1.942622628571429E-3},{"$f":"IF(CA!S29=0, $D$34, IF(CA!S29=1, $D$35, $D$36))*(Parameter!$F$6-CA!S62)*Shape_round!R29","v":1.942622628571429E-3},{"$f":"IF(CA!T29=0, $D$34, IF(CA!T29=1, $D$35, $D$36))*(Parameter!$F$6-CA!T62)*Shape_round!S29","v":1.942622628571429E-3},{"$f":"IF(CA!U29=0, $D$34, IF(CA!U29=1, $D$35, $D$36))*(Parameter!$F$6-CA!U62)*Shape_round!T29","v":1.942622628571429E-3},{"$f":"IF(CA!V29=0, $D$34, IF(CA!V29=1, $D$35, $D$36))*(Parameter!$F$6-CA!V62)*Shape_round!U29","v":1.942622628571429E-3},{"$f":"IF(CA!W29=0, $D$34, IF(CA!W29=1, $D$35, $D$36))*(Parameter!$F$6-CA!W62)*Shape_round!V29","v":1.942622628571429E-3},{"$f":"IF(CA!X29=0, $D$34, IF(CA!X29=1, $D$35, $D$36))*(Parameter!$F$6-CA!X62)*Shape_round!W29","v":1.942622628571429E-3},{"$f":"IF(CA!Y29=0, $D$34, IF(CA!Y29=1, $D$35, $D$36))*(Parameter!$F$6-CA!Y62)*Shape_round!X29","v":1.942622628571429E-3},{"$f":"IF(CA!Z29=0, $D$34, IF(CA!Z29=1, $D$35, $D$36))*(Parameter!$F$6-CA!Z62)*Shape_round!Y29","v":1.942622628571429E-3},{"$f":"IF(CA!AA29=0, $D$34, IF(CA!AA29=1, $D$35, $D$36))*(Parameter!$F$6-CA!AA62)*Shape_round!Z29","v":1.942622628571429E-3},{"$f":"IF(CA!AB29=0, $D$34, IF(CA!AB29=1, $D$35, $D$36))*(Parameter!$F$6-CA!AB62)*Shape_round!AA29","v":1.942622628571429E-3},{"$f":"IF(CA!AC29=0, $D$34, IF(CA!AC29=1, $D$35, $D$36))*(Parameter!$F$6-CA!AC62)*Shape_round!AB29","v":1.942622628571429E-3},{"$f":"IF(CA!AD29=0, $D$34, IF(CA!AD29=1, $D$35, $D$36))*(Parameter!$F$6-CA!AD62)*Shape_round!AC29","v":1.942622628571429E-3},{"$f":"IF(CA!AE29=0, $D$34, IF(CA!AE29=1, $D$35, $D$36))*(Parameter!$F$6-CA!AE62)*Shape_round!AD29","v":1.942622628571429E-3}]
[null,{"$f":"IF(CA!B30=0, $D$34, IF(CA!B30=1, $D$35, $D$36))*(Parameter!$F$6-CA!B63)*Shape_round!A30","v":1.942622628571429E-3},{"$f":"IF(CA!C30=0, $D$34, IF(CA!C30=1, $D$35, $D$36))*(Parameter!$F$6-CA!C63)*Shape_round!B30","v":1.942622628571429E-3},{"$f":"IF(CA!D30=0, $D$34, IF(CA!D30=1, $D$35, $D$36))*(Parameter!$F$6-CA!D63)*Shape_round!C30","v":1.942622628571429E-3},{"$f":"IF(CA!E30=0, $D$34, IF(CA!E30=1, $D$35, $D$36))*(Parameter!$F$6-CA!E63)*Shape_round!D30","v":1.942622628571429E-3},{"$f":"IF(CA!F30=0, $D$34, IF(CA!F30=1, $D$35, $D$36))*(Parameter!$F$6-CA!F63)*Shape_round!E30","v":1.942622628571429E-3},{"$f":"IF(CA!G30=0, $D$34, IF(CA!G30=1, $D$35, $D$36))*(Parameter!$F$6-CA!G63)*Shape_round!F30","v":1.942622628571429E-3},{"$f":"IF(CA!H30=0, $D$34, IF(CA!H30=1, $D$35, $D$36))*(Parameter!$F$6-CA!H63)*Shape_round!G30","v":1.942622628571429E-3},{"$f":"IF(CA!I30=0, $D$34, IF(CA!I30=1, $D$35, $D$36))*(Parameter!$F$6-CA!I63)*Shape_round!H30","v":1.942622628571429E-3},{"$f":"IF(CA!J30=0, $D$34, IF(CA!J30=1, $D$35, $D$36))*(Parameter!$F$6-CA!J63)*Shape_round!I30","v":1.942622628571429E-3},{"$f":"IF(CA!K30=0, $D$34, IF(CA!K30=1, $D$35, $D$36))*(Parameter!$F$6-CA!K63)*Shape_round!J30","v":1.942622628571429E-3},{"$f":"IF(CA!L30=0, $D$34, IF(CA!L30=1, $D$35, $D$36))*(Parameter!$F$6-CA!L63)*Shape_round!K30","v":1.942622628571429E-3},{"$f":"IF(CA!M30=0, $D$34, IF(CA!M30=1, $D$35, $D$36))*(Parameter!$F$6-CA!M63)*Shape_round!L30","v":1.942622628571429E-3},{"$f":"IF(CA!N30=0, $D$34, IF(CA!N30=1, $D$35, $D$36))*(Parameter!$F$6-CA!N63)*Shape_round!M30","v":1.942622628571429E-3},{"$f":"IF(CA!O30=0, $D$34, IF(CA!O30=1, $D$35, $D$36))*(Parameter!$F$6-CA!O63)*Shape_round!N30","v":1.942622628571429E-3},{"$f":"IF(CA!P30=0, $D$34, IF(CA!P30=1, $D$35, $D$36))*(Parameter!$F$6-CA!P63)*Shape_round!O30","v":1.942622628571429E-3},{"$f":"IF(CA!Q30=0, $D$34, IF(CA!Q30=1, $D$35, $D$36))*(Parameter!$F$6-CA!Q63)*Shape_round!P30","v":1.942622628571429E-3},{"$f":"IF(CA!R30=0, $D$34, IF(CA!R30=1, $D$35, $D$36))*(Parameter!$F$6-CA!R63)*Shape_round!Q30","v":1.942622628571429E-3},{"$f":"IF(CA!S30=0, $D$34, IF(CA!S30=1, $D$35, $D$36))*(Parameter!$F$6-CA!S63)*Shape_round!R30","v":1.942622628571429E-3},{"$f":"IF(CA!T30=0, $D$34, IF(CA!T30=1, $D$35, $D$36))*(Parameter!$F$6-CA!T63)*Shape_round!S30","v":1.942622628571429E-3},{"$f":"IF(CA!U30=0, $D$34, IF(CA!U30=1, $D$35, $D$36))*(Parameter!$F$6-CA!U63)*Shape_round!T30","v":1.942622628571429E-3},{"$f":"IF(CA!V30=0, $D$34, IF(CA!V30=1, $D$35, $D$36))*(Parameter!$F$6-CA!V63)*Shape_round!U30","v":1.942622628571429E-3},{"$f":"IF(CA!W30=0, $D$34, IF(CA!W30=1, $D$35, $D$36))*(Parameter!$F$6-CA!W63)*Shape_round!V30","v":1.942622628571429E-3},{"$f":"IF(CA!X30=0, $D$34, IF(CA!X30=1, $D$35, $D$36))*(Parameter!$F$6-CA!X63)*Shape_round!W30","v":1.942622628571429E-3},{"$f":"IF(CA!Y30=0, $D$34, IF(CA!Y30=1, $D$35, $D$36))*(Parameter!$F$6-CA!Y63)*Shape_round!X30","v":1.942622628571429E-3},{"$f":"IF(CA!Z30=0, $D$34, IF(CA!Z30=1, $D$35, $D$36))*(Parameter!$F$6-CA!Z63)*Shape_round!Y30","v":1.942622628571429E-3},{"$f":"IF(CA!AA30=0, $D$34, IF(CA!AA30=1, $D$35, $D$36))*(Parameter!$F$6-CA!AA63)*Shape_round!Z30","v":1.942622628571429E-3},{"$f":"IF(CA!AB30=0, $D$34, IF(CA!AB30=1, $D$35, $D$36))*(Parameter!$F$6-CA!AB63)*Shape_round!AA30","v":1.942622628571429E-3},{"$f":"IF(CA!AC30=0, $D$34, IF(CA!AC30=1, $D$35, $D$36))*(Parameter!$F$6-CA!AC63)*Shape_round!AB30","v":1.942622628571429E-3},{"$f":"IF(CA!AD30=0, $D$34, IF(CA!AD30=1, $D$35, $D$36))*(Parameter!$F$6-CA!AD63)*Shape_round!AC30","v":1.942622628571429E-3},{"$f":"IF(CA!AE30=0, $D$34, IF(CA!AE30=1, $D$35, $D$36))*(Parameter!$F$6-CA!AE63)*Shape_round!AD30","v":1.942622628571429E-3}]
[null,{"$f":"IF(CA!B31=0, $D$34, IF(CA!B31=1, $D$35, $D$36))*(Parameter!$F$6-CA!B64)*Shape_round!A31","v":1.942622628571429E-3},{"$f":"IF(CA!C31=0, $D$34, IF(CA!C31=1, $D$35, $D$36))*(Parameter!$F$6-CA!C64)*Shape_round!B31","v":1.942622628571429E-3},{"$f":"IF(CA!D31=0, $D$34, IF(CA!D31=1, $D$35, $D$36))*(Parameter!$F$6-CA!D64)*Shape_round!C31","v":1.942622628571429E-3},{"$f":"IF(CA!E31=0, $D$34, IF(CA!E31=1, $D$35, $D$36))*(Parameter!$F$6-CA!E64)*Shape_round!D31","v":1.942622628571429E-3},{"$f":"IF(CA!F31=0, $D$34, IF(CA!F31=1, $D$35, $D$36))*(Parameter!$F$6-CA!F64)*Shape_round!E31","v":1.942622628571429E-3},{"$f":"IF(CA!G31=0, $D$34, IF(CA!G31=1, $D$35, $D$36))*(Parameter!$F$6-CA!G64)*Shape_round!F31","v":1.942622628571429E-3},{"$f":"IF(CA!H31=0, $D$34, IF(CA!H31=1, $D$35, $D$36))*(Parameter!$F$6-CA!H64)*Shape_round!G31","v":1.942622628571429E-3},{"$f":"IF(CA!I31=0, $D$34, IF(CA!I31=1, $D$35, $D$36))*(Parameter!$F$6-CA!I64)*Shape_round!H31","v":1.942622628571429E-3},{"$f":"IF(CA!J31=0, $D$34, IF(CA!J31=1, $D$35, $D$36))*(Parameter!$F$6-CA!J64)*Shape_round!I31","v":1.942622628571429E-3},{"$f":"IF(CA!K31=0, $D$34, IF(CA!K31=1, $D$35, $D$36))*(Parameter!$F$6-CA!K64)*Shape_round!J31","v":1.942622628571429E-3},{"$f":"IF(CA!L31=0, $D$34, IF(CA!L31=1, $D$35, $D$36))*(Parameter!$F$6-CA!L64)*Shape_round!K31","v":1.942622628571429E-3},{"$f":"IF(CA!M31=0, $D$34, IF(CA!M31=1, $D$35, $D$36))*(Parameter!$F$6-CA!M64)*Shape_round!L31","v":1.942622628571429E-3},{"$f":"IF(CA!N31=0, $D$34, IF(CA!N31=1, $D$35, $D$36))*(Parameter!$F$6-CA!N64)*Shape_round!M31","v":1.942622628571429E-3},{"$f":"IF(CA!O31=0, $D$34, IF(CA!O31=1, $D$35, $D$36))*(Parameter!$F$6-CA!O64)*Shape_round!N31","v":1.942622628571429E-3},{"$f":"IF(CA!P31=0, $D$34, IF(CA!P31=1, $D$35, $D$36))*(Parameter!$F$6-CA!P64)*Shape_round!O31","v":1.942622628571429E-3},{"$f":"IF(CA!Q31=0, $D$34, IF(CA!Q31=1, $D$35, $D$36))*(Parameter!$F$6-CA!Q64)*Shape_round!P31","v":1.942622628571429E-3},{"$f":"IF(CA!R31=0, $D$34, IF(CA!R31=1, $D$35, $D$36))*(Parameter!$F$6-CA!R64)*Shape_round!Q31","v":1.942622628571429E-3},{"$f":"IF(CA!S31=0, $D$34, IF(CA!S31=1, $D$35, $D$36))*(Parameter!$F$6-CA!S64)*Shape_round!R31","v":1.942622628571429E-3},{"$f":"IF(CA!T31=0, $D$34, IF(CA!T31=1, $D$35, $D$36))*(Parameter!$F$6-CA!T64)*Shape_round!S31","v":1.942622628571429E-3},{"$f":"IF(CA!U31=0, $D$34, IF(CA!U31=1, $D$35, $D$36))*(Parameter!$F$6-CA!U64)*Shape_round!T31","v":1.942622628571429E-3},{"$f":"IF(CA!V31=0, $D$34, IF(CA!V31=1, $D$35, $D$36))*(Parameter!$F$6-CA!V64)*Shape_round!U31","v":1.942622628571429E-3},{"$f":"IF(CA!W31=0, $D$34, IF(CA!W31=1, $D$35, $D$36))*(Parameter!$F$6-CA!W64)*Shape_round!V31","v":1.942622628571429E-3},{"$f":"IF(CA!X31=0, $D$34, IF(CA!X31=1, $D$35, $D$36))*(Parameter!$F$6-CA!X64)*Shape_round!W31","v":1.942622628571429E-3},{"$f":"IF(CA!Y31=0, $D$34, IF(CA!Y31=1, $D$35, $D$36))*(Parameter!$F$6-CA!Y64)*Shape_round!X31","v":1.942622628571429E-3},{"$f":"IF(CA!Z31=0, $D$34, IF(CA!Z31=1, $D$35, $D$36))*(Parameter!$F$6-CA!Z64)*Shape_round!Y31","v":1.942622628571429E-3},{"$f":"IF(CA!AA31=0, $D$34, IF(CA!AA31=1, $D$35, $D$36))*(Parameter!$F$6-CA!AA64)*Shape_round!Z31","v":1.942622628571429E-3},{"$f":"IF(CA!AB31=0, $D$34, IF(CA!AB31=1, $D$35, $D$36))*(Parameter!$F$6-CA!AB64)*Shape_round!AA31","v":1.942622628571429E-3},{"$f":"IF(CA!AC31=0, $D$34, IF(CA!AC31=1, $D$35, $D$36))*(Parameter!$F$6-CA!AC64)*Shape_round!AB31","v":1.942622628571429E-3},{"$f":"IF(CA!AD31=0, $D$34, IF(CA!AD31=1, $D$35, $D$36))*(Parameter!$F$6-CA!AD64)*Shape_round!AC31","v":1.942622628571429E-3},{"$f":"IF(CA!AE31=0, $D$34, IF(CA!AE31=1, $D$35, $D$36))*(Parameter!$F$6-CA!AE64)*Shape_round!AD31","v":1.942622628571429E-3}]
[]
[]
[null,"蒸気膜段階",null,{"$f":"Parameter!D7*$H$34","v":8.3528000000000005E-3},null,"FitParameter",null,{"$f":"Parameter!D16*Parameter!D17","v":8.0000000000000002E-3}]
[null,"沸騰段階",null,{"$f":"Parameter!D8*$H$34","v":3.9952000000000001E-2}]
[null,"対流段階",null,{"$f":"Parameter!D9*$H$34","v":6.9199999999999999E-3}]
[]
[null,"蒸気膜による断熱の影響"]

{"sheet":"Fractuation","index":13,"n_rows":62,"n_cols":123,"rows_kept":62,"cut":false,"hidden":true,"merged":[]}
[null,null,null,null,null,null,null,null,null,null,null,null,null,null,null,null,null,null,null,null,null,null,null,null,null,null,null,null,null,null,null,"Step-1",null,null,null,null,null,null,null,null,null,null,null,null,null,null,null,null,null,null,null,null,null,null,null,null,null,null,null,null,null,null,"Step-2",null,null,null,null,null,null,null,null,null,null,null,null,null,null,null,null,null,null,null,null,null,null,null,null,null,null,null,null,null,null,"Step-3"]
[{"$f":"AF2+_xlfn.NORM.INV(randvba(), 0,1)*Vapor_Fluctuation_Magnitude!A2+((AG2+AF3)/2-AF2)/6+((AG3)/1-AF2)/12+1/Parameter!$D$10^2*(Fractuation!AF33-Fractuation!BK33)","v":0},{"$f":"AG2+_xlfn.NORM.INV(randvba(), 0,1)*Vapor_Fluctuation_Magnitude!B2+((AH2+AG3+AF2)/3-AG2)/6+((AH3+AF3)/2-AG2)/12+1/Parameter!$D$10^2*(Fractuation!AG33-Fractuation!BL33)","v":0},{"$f":"AH2+_xlfn.NORM.INV(randvba(), 0,1)*Vapor_Fluctuation_Magnitude!C2+((AI2+AH3+AG2)/3-AH2)/6+((AI3+AG3)/2-AH2)/12+1/Parameter!$D$10^2*(Fractuation!AH33-Fractuation!BM33)","v":0},{"$f":"AI2+_xlfn.NORM.INV(randvba(), 0,1)*Vapor_Fluctuation_Magnitude!D2+((AJ2+AI3+AH2)/3-AI2)/6+((AJ3+AH3)/2-AI2)/12+1/Parameter!$D$10^2*(Fractuation!AI33-Fractuation!BN33)","v":0},{"$f":"AJ2+_xlfn.NORM.INV(randvba(), 0,1)*Vapor_Fluctuation_Magnitude!E2+((AK2+AJ3+AI2)/3-AJ2)/6+((AK3+AI3)/2-AJ2)/12+1/Parameter!$D$10^2*(Fractuation!AJ33-Fractuation!BO33)","v":0},{"$f":"AK2+_xlfn.NORM.INV(randvba(), 0,1)*Vapor_Fluctuation_Magnitude!F2+((AL2+AK3+AJ2)/3-AK2)/6+((AL3+AJ3)/2-AK2)/12+1/Parameter!$D$10^2*(Fractuation!AK33-Fractuation!BP33)","v":0},{"$f":"AL2+_xlfn.NORM.INV(randvba(), 0,1)*Vapor_Fluctuation_Magnitude!G2+((AM2+AL3+AK2)/3-AL2)/6+((AM3+AK3)/2-AL2)/12+1/Parameter!$D$10^2*(Fractuation!AL33-Fractuation!BQ33)","v":0},{"$f":"AM2+_xlfn.NORM.INV(randvba(), 0,1)*Vapor_Fluctuation_Magnitude!H2+((AN2+AM3+AL2)/3-AM2)/6+((AN3+AL3)/2-AM2)/12+1/Parameter!$D$10^2*(Fractuation!AM33-Fractuation!BR33)","v":0},{"$f":"AN2+_xlfn.NORM.INV(randvba(), 0,1)*Vapor_Fluctuation_Magnitude!I2+((AO2+AN3+AM2)/3-AN2)/6+((AO3+AM3)/2-AN2)/12+1/Parameter!$D$10^2*(Fractuation!AN33-Fractuation!BS33)","v":0},{"$f":"AO2+_xlfn.NORM.INV(randvba(), 0,1)*Vapor_Fluctuation_Magnitude!J2+((AP2+AO3+AN2)/3-AO2)/6+((AP3+AN3)/2-AO2)/12+1/Parameter!$D$10^2*(Fractuation!AO33-Fractuation!BT33)","v":0},{"$f":"AP2+_xlfn.NORM.INV(randvba(), 0,1)*Vapor_Fluctuation_Magnitude!K2+((AQ2+AP3+AO2)/3-AP2)/6+((AQ3+AO3)/2-AP2)/12+1/Parameter!$D$10^2*(Fractuation!AP33-Fractuation!BU33)","v":0},{"$f":"AQ2+_xlfn.NORM.INV(randvba(), 0,1)*Vapor_Fluctuation_Magnitude!L2+((AR2+AQ3+AP2)/3-AQ2)/6+((AR3+AP3)/2-AQ2)/12+1/Parameter!$D$10^2*(Fractuation!AQ33-Fractuation!BV33)","v":0},{"$f":"AR2+_xlfn.NORM.INV(randvba(), 0,1)*Vapor_Fluctuation_Magnitude!M2+((AS2+AR3+AQ2)/3-AR2)/6+((AS3+AQ3)/2-AR2)/12+1/Parameter!$D$10^2*(Fractuation!AR33-Fractuation!BW33)","v":0},{"$f":"AS2+_xlfn.NORM.INV(randvba(), 0,1)*Vapor_Fluctuation_Magnitude!N2+((AT2+AS3+AR2)/3-AS2)/6+((AT3+AR3)/2-AS2)/12+1/Parameter!$D$10^2*(Fractuation!AS33-Fractuation!BX33)","v":0},{"$f":"AT2+_xlfn.NORM.INV(randvba(), 0,1)*Vapor_Fluctuation_Magnitude!O2+((AU2+AT3+AS2)/3-AT2)/6+((AU3+AS3)/2-AT2)/12+1/Parameter!$D$10^2*(Fractuation!AT33-Fractuation!BY33)","v":0},{"$f":"AU2+_xlfn.NORM.INV(randvba(), 0,1)*Vapor_Fluctuation_Magnitude!P2+((AV2+AU3+AT2)/3-AU2)/6+((AV3+AT3)/2-AU2)/12+1/Parameter!$D$10^2*(Fractuation!AU33-Fractuation!BZ33)","v":0},{"$f":"AV2+_xlfn.NORM.INV(randvba(), 0,1)*Vapor_Fluctuation_Magnitude!Q2+((AW2+AV3+AU2)/3-AV2)/6+((AW3+AU3)/2-AV2)/12+1/Parameter!$D$10^2*(Fractuation!AV33-Fractuation!CA33)","v":0},{"$f":"AW2+_xlfn.NORM.INV(randvba(), 0,1)*Vapor_Fluctuation_Magnitude!R2+((AX2+AW3+AV2)/3-AW2)/6+((AX3+AV3)/2-AW2)/12+1/Parameter!$D$10^2*(Fractuation!AW33-Fractuation!CB33)","v":0},{"$f":"AX2+_xlfn.NORM.INV(randvba(), 0,1)*Vapor_Fluctuation_Magnitude!S2+((AY2+AX3+AW2)/3-AX2)/6+((AY3+AW3)/2-AX2)/12+1/Parameter!$D$10^2*(Fractuation!AX33-Fractuation!CC33)","v":0},{"$f":"AY2+_xlfn.NORM.INV(randvba(), 0,1)*Vapor_Fluctuation_Magnitude!T2+((AZ2+AY3+AX2)/3-AY2)/6+((AZ3+AX3)/2-AY2)/12+1/Parameter!$D$10^2*(Fractuation!AY33-Fractuation!CD33)","v":0},{"$f":"AZ2+_xlfn.NORM.INV(randvba(), 0,1)*Vapor_Fluctuation_Magnitude!U2+((BA2+AZ3+AY2)/3-AZ2)/6+((BA3+AY3)/2-AZ2)/12+1/Parameter!$D$10^2*(Fractuation!AZ33-Fractuation!CE33)","v":0},{"$f":"BA2+_xlfn.NORM.INV(randvba(), 0,1)*Vapor_Fluctuation_Magnitude!V2+((BB2+BA3+AZ2)/3-BA2)/6+((BB3+AZ3)/2-BA2)/12+1/Parameter!$D$10^2*(Fractuation!BA33-Fractuation!CF33)","v":0},{"$f":"BB2+_xlfn.NORM.INV(randvba(), 0,1)*Vapor_Fluctuation_Magnitude!W2+((BC2+BB3+BA2)/3-BB2)/6+((BC3+BA3)/2-BB2)/12+1/Parameter!$D$10^2*(Fractuation!BB33-Fractuation!CG33)","v":0},{"$f":"BC2+_xlfn.NORM.INV(randvba(), 0,1)*Vapor_Fluctuation_Magnitude!X2+((BD2+BC3+BB2)/3-BC2)/6+((BD3+BB3)/2-BC2)/12+1/Parameter!$D$10^2*(Fractuation!BC33-Fractuation!CH33)","v":0},{"$f":"BD2+_xlfn.NORM.INV(randvba(), 0,1)*Vapor_Fluctuation_Magnitude!Y2+((BE2+BD3+BC2)/3-BD2)/6+((BE3+BC3)/2-BD2)/12+1/Parameter!$D$10^2*(Fractuation!BD33-Fractuation!CI33)","v":0},{"$f":"BE2+_xlfn.NORM.INV(randvba(), 0,1)*Vapor_Fluctuation_Magnitude!Z2+((BF2+BE3+BD2)/3-BE2)/6+((BF3+BD3)/2-BE2)/12+1/Parameter!$D$10^2*(Fractuation!BE33-Fractuation!CJ33)","v":0},{"$f":"BF2+_xlfn.NORM.INV(randvba(), 0,1)*Vapor_Fluctuation_Magnitude!AA2+((BG2+BF3+BE2)/3-BF2)/6+((BG3+BE3)/2-BF2)/12+1/Parameter!$D$10^2*(Fractuation!BF33-Fractuation!CK33)","v":0},{"$f":"BG2+_xlfn.NORM.INV(randvba(), 0,1)*Vapor_Fluctuation_Magnitude!AB2+((BH2+BG3+BF2)/3-BG2)/6+((BH3+BF3)/2-BG2)/12+1/Parameter!$D$10^2*(Fractuation!BG33-Fractuation!CL33)","v":0},{"$f":"BH2+_xlfn.NORM.INV(randvba(), 0,1)*Vapor_Fluctuation_Magnitude!AC2+((BI2+BH3+BG2)/3-BH2)/6+((BI3+BG3)/2-BH2)/12+1/Parameter!$D$10^2*(Fractuation!BH33-Fractuation!CM33)","v":0},{"$f":"BI2+_xlfn.NORM.INV(randvba(), 0,1)*Vapor_Fluctuation_Magnitude!AD2+((BI3+BH2)/2-BI2)/6+((BH3)/1-BI2)/12+1/Parameter!$D$10^2*(Fractuation!BI33-Fractuation!CN33)","v":0},null,0,0,0,0,0,0,0,0,0,0,0,0,0,0,0,0,0,0,0,0,0,0,0,0,0,0,0,0,0,0,null,0,0,0,0,0,0,0,0,0,0,0,0,0,0,0,0,0,0,0,0,0,0,0,0,0,0,0,0,0,0,null,0,0,0,0,0,0,0,0,0,0,0,0,0,0,0,0,0,0,0,0,0,0,0,0,0,0,0,0,0,0]
[{"$f":"AF3+_xlfn.NORM.INV(randvba(), 0,1)*Vapor_Fluctuation_Magnitude!A3+((AF2+AG3+AF4)/3-AF3)/6+((AG2+AG4)/4-AF3)/12+1/Parameter!$D$10^2*(Fractuation!AF34-Fractuation!BK34)","v":0},{"$f":"AG3+_xlfn.NORM.INV(randvba(), 0,1)*Vapor_Fluctuation_Magnitude!B3+((AG2+AH3+AG4+AF3)/4-AG3)/6+((AH2+AH4+AF4+AF2)/4-AG3)/12+1/Parameter!$D$10^2*(Fractuation!AG34-Fractuation!BL34)","v":0},{"$f":"AH3+_xlfn.NORM.INV(randvba(), 0,1)*Vapor_Fluctuation_Magnitude!C3+((AH2+AI3+AH4+AG3)/4-AH3)/6+((AI2+AI4+AG4+AG2)/4-AH3)/12+1/Parameter!$D$10^2*(Fractuation!AH34-Fractuation!BM34)","v":0},{"$f":"AI3+_xlfn.NORM.INV(randvba(), 0,1)*Vapor_Fluctuation_Magnitude!D3+((AI2+AJ3+AI4+AH3)/4-AI3)/6+((AJ2+AJ4+AH4+AH2)/4-AI3)/12+1/Parameter!$D$10^2*(Fractuation!AI34-Fractuation!BN34)","v":0},{"$f":"AJ3+_xlfn.NORM.INV(randvba(), 0,1)*Vapor_Fluctuation_Magnitude!E3+((AJ2+AK3+AJ4+AI3)/4-AJ3)/6+((AK2+AK4+AI4+AI2)/4-AJ3)/12+1/Parameter!$D$10^2*(Fractuation!AJ34-Fractuation!BO34)","v":0},{"$f":"AK3+_xlfn.NORM.INV(randvba(), 0,1)*Vapor_Fluctuation_Magnitude!F3+((AK2+AL3+AK4+AJ3)/4-AK3)/6+((AL2+AL4+AJ4+AJ2)/4-AK3)/12+1/Parameter!$D$10^2*(Fractuation!AK34-Fractuation!BP34)","v":0},{"$f":"AL3+_xlfn.NORM.INV(randvba(), 0,1)*Vapor_Fluctuation_Magnitude!G3+((AL2+AM3+AL4+AK3)/4-AL3)/6+((AM2+AM4+AK4+AK2)/4-AL3)/12+1/Parameter!$D$10^2*(Fractuation!AL34-Fractuation!BQ34)","v":0},{"$f":"AM3+_xlfn.NORM.INV(randvba(), 0,1)*Vapor_Fluctuation_Magnitude!H3+((AM2+AN3+AM4+AL3)/4-AM3)/6+((AN2+AN4+AL4+AL2)/4-AM3)/12+1/Parameter!$D$10^2*(Fractuation!AM34-Fractuation!BR34)","v":0},{"$f":"AN3+_xlfn.NORM.INV(randvba(), 0,1)*Vapor_Fluctuation_Magnitude!I3+((AN2+AO3+AN4+AM3)/4-AN3)/6+((AO2+AO4+AM4+AM2)/4-AN3)/12+1/Parameter!$D$10^2*(Fractuation!AN34-Fractuation!BS34)","v":0},{"$f":"AO3+_xlfn.NORM.INV(randvba(), 0,1)*Vapor_Fluctuation_Magnitude!J3+((AO2+AP3+AO4+AN3)/4-AO3)/6+((AP2+AP4+AN4+AN2)/4-AO3)/12+1/Parameter!$D$10^2*(Fractuation!AO34-Fractuation!BT34)","v":0},{"$f":"AP3+_xlfn.NORM.INV(randvba(), 0,1)*Vapor_Fluctuation_Magnitude!K3+((AP2+AQ3+AP4+AO3)/4-AP3)/6+((AQ2+AQ4+AO4+AO2)/4-AP3)/12+1/Parameter!$D$10^2*(Fractuation!AP34-Fractuation!BU34)","v":0},{"$f":"AQ3+_xlfn.NORM.INV(randvba(), 0,1)*Vapor_Fluctuation_Magnitude!L3+((AQ2+AR3+AQ4+AP3)/4-AQ3)/6+((AR2+AR4+AP4+AP2)/4-AQ3)/12+1/Parameter!$D$10^2*(Fractuation!AQ34-Fractuation!BV34)","v":0},{"$f":"AR3+_xlfn.NORM.INV(randvba(), 0,1)*Vapor_Fluctuation_Magnitude!M3+((AR2+AS3+AR4+AQ3)/4-AR3)/6+((AS2+AS4+AQ4+AQ2)/4-AR3)/12+1/Parameter!$D$10^2*(Fractuation!AR34-Fractuation!BW34)","v":0},{"$f":"AS3+_xlfn.NORM.INV(randvba(), 0,1)*Vapor_Fluctuation_Magnitude!N3+((AS2+AT3+AS4+AR3)/4-AS3)/6+((AT2+AT4+AR4+AR2)/4-AS3)/12+1/Parameter!$D$10^2*(Fractuation!AS34-Fractuation!BX34)","v":0},{"$f":"AT3+_xlfn.NORM.INV(randvba(), 0,1)*Vapor_Fluctuation_Magnitude!O3+((AT2+AU3+AT4+AS3)/4-AT3)/6+((AU2+AU4+AS4+AS2)/4-AT3)/12+1/Parameter!$D$10^2*(Fractuation!AT34-Fractuation!BY34)","v":0},{"$f":"AU3+_xlfn.NORM.INV(randvba(), 0,1)*Vapor_Fluctuation_Magnitude!P3+((AU2+AV3+AU4+AT3)/4-AU3)/6+((AV2+AV4+AT4+AT2)/4-AU3)/12+1/Parameter!$D$10^2*(Fractuation!AU34-Fractuation!BZ34)","v":0},{"$f":"AV3+_xlfn.NORM.INV(randvba(), 0,1)*Vapor_Fluctuation_Magnitude!Q3+((AV2+AW3+AV4+AU3)/4-AV3)/6+((AW2+AW4+AU4+AU2)/4-AV3)/12+1/Parameter!$D$10^2*(Fractuation!AV34-Fractuation!CA34)","v":0},{"$f":"AW3+_xlfn.NORM.INV(randvba(), 0,1)*Vapor_Fluctuation_Magnitude!R3+((AW2+AX3+AW4+AV3)/4-AW3)/6+((AX2+AX4+AV4+AV2)/4-AW3)/12+1/Parameter!$D$10^2*(Fractuation!AW34-Fractuation!CB34)","v":0},{"$f":"AX3+_xlfn.NORM.INV(randvba(), 0,1)*Vapor_Fluctuation_Magnitude!S3+((AX2+AY3+AX4+AW3)/4-AX3)/6+((AY2+AY4+AW4+AW2)/4-AX3)/12+1/Parameter!$D$10^2*(Fractuation!AX34-Fractuation!CC34)","v":0},{"$f":"AY3+_xlfn.NORM.INV(randvba(), 0,1)*Vapor_Fluctuation_Magnitude!T3+((AY2+AZ3+AY4+AX3)/4-AY3)/6+((AZ2+AZ4+AX4+AX2)/4-AY3)/12+1/Parameter!$D$10^2*(Fractuation!AY34-Fractuation!CD34)","v":0},{"$f":"AZ3+_xlfn.NORM.INV(randvba(), 0,1)*Vapor_Fluctuation_Magnitude!U3+((AZ2+BA3+AZ4+AY3)/4-AZ3)/6+((BA2+BA4+AY4+AY2)/4-AZ3)/12+1/Parameter!$D$10^2*(Fractuation!AZ34-Fractuation!CE34)","v":0},{"$f":"BA3+_xlfn.NORM.INV(randvba(), 0,1)*Vapor_Fluctuation_Magnitude!V3+((BA2+BB3+BA4+AZ3)/4-BA3)/6+((BB2+BB4+AZ4+AZ2)/4-BA3)/12+1/Parameter!$D$10^2*(Fractuation!BA34-Fractuation!CF34)","v":0},{"$f":"BB3+_xlfn.NORM.INV(randvba(), 0,1)*Vapor_Fluctuation_Magnitude!W3+((BB2+BC3+BB4+BA3)/4-BB3)/6+((BC2+BC4+BA4+BA2)/4-BB3)/12+1/Parameter!$D$10^2*(Fractuation!BB34-Fractuation!CG34)","v":0},{"$f":"BC3+_xlfn.NORM.INV(randvba(), 0,1)*Vapor_Fluctuation_Magnitude!X3+((BC2+BD3+BC4+BB3)/4-BC3)/6+((BD2+BD4+BB4+BB2)/4-BC3)/12+1/Parameter!$D$10^2*(Fractuation!BC34-Fractuation!CH34)","v":0},{"$f":"BD3+_xlfn.NORM.INV(randvba(), 0,1)*Vapor_Fluctuation_Magnitude!Y3+((BD2+BE3+BD4+BC3)/4-BD3)/6+((BE2+BE4+BC4+BC2)/4-BD3)/12+1/Parameter!$D$10^2*(Fractuation!BD34-Fractuation!CI34)","v":0},{"$f":"BE3+_xlfn.NORM.INV(randvba(), 0,1)*Vapor_Fluctuation_Magnitude!Z3+((BE2+BF3+BE4+BD3)/4-BE3)/6+((BF2+BF4+BD4+BD2)/4-BE3)/12+1/Parameter!$D$10^2*(Fractuation!BE34-Fractuation!CJ34)","v":0},{"$f":"BF3+_xlfn.NORM.INV(randvba(), 0,1)*Vapor_Fluctuation_Magnitude!AA3+((BF2+BG3+BF4+BE3)/4-BF3)/6+((BG2+BG4+BE4+BE2)/4-BF3)/12+1/Parameter!$D$10^2*(Fractuation!BF34-Fractuation!CK34)","v":0},{"$f":"BG3+_xlfn.NORM.INV(randvba(), 0,1)*Vapor_Fluctuation_Magnitude!AB3+((BG2+BH3+BG4+BF3)/4-BG3)/6+((BH2+BH4+BF4+BF2)/4-BG3)/12+1/Parameter!$D$10^2*(Fractuation!BG34-Fractuation!CL34)","v":0},{"$f":"BH3+_xlfn.NORM.INV(randvba(), 0,1)*Vapor_Fluctuation_Magnitude!AC3+((BH2+BI3+BH4+BG3)/4-BH3)/6+((BI2+BI4+BG4+BG2)/4-BH3)/12+1/Parameter!$D$10^2*(Fractuation!BH34-Fractuation!CM34)","v":0},{"$f":"BI3+_xlfn.NORM.INV(randvba(), 0,1)*Vapor_Fluctuation_Magnitude!AD3+((BI2+BI4+BH3)/3-BI3)/6+((BH4+BH2)/2-BI3)/12+1/Parameter!$D$10^2*(Fractuation!BI34-Fractuation!CN34)","v":0},null,0,0,0,0,0,0,0,0,0,0,0,0,0,0,0,0,0,0,0,0,0,0,0,0,0,0,0,0,0,0,null,0,0,0,0,0,0,0,0,0,0,0,0,0,0,0,0,0,0,0,0,0,0,0,0,0,0,0,0,0,0,null,0,0,0,0,0,0,0,0,0,0,0,0,0,0,0,0,0,0,0,0,0,0,0,0,0,0,0,0,0,0]
[{"$f":"AF4+_xlfn.NORM.INV(randvba(), 0,1)*Vapor_Fluctuation_Magnitude!A4+((AF3+AG4+AF5)/3-AF4)/6+((AG3+AG5)/4-AF4)/12+1/Parameter!$D$10^2*(Fractuation!AF35-Fractuation!BK35)","v":0},{"$f":"AG4+_xlfn.NORM.INV(randvba(), 0,1)*Vapor_Fluctuation_Magnitude!B4+((AG3+AH4+AG5+AF4)/4-AG4)/6+((AH3+AH5+AF5+AF3)/4-AG4)/12+1/Parameter!$D$10^2*(Fractuation!AG35-Fractuation!BL35)","v":0},{"$f":"AH4+_xlfn.NORM.INV(randvba(), 0,1)*Vapor_Fluctuation_Magnitude!C4+((AH3+AI4+AH5+AG4)/4-AH4)/6+((AI3+AI5+AG5+AG3)/4-AH4)/12+1/Parameter!$D$10^2*(Fractuation!AH35-Fractuation!BM35)","v":0},{"$f":"AI4+_xlfn.NORM.INV(randvba(), 0,1)*Vapor_Fluctuation_Magnitude!D4+((AI3+AJ4+AI5+AH4)/4-AI4)/6+((AJ3+AJ5+AH5+AH3)/4-AI4)/12+1/Parameter!$D$10^2*(Fractuation!AI35-Fractuation!BN35)","v":0},{"$f":"AJ4+_xlfn.NORM.INV(randvba(), 0,1)*Vapor_Fluctuation_Magnitude!E4+((AJ3+AK4+AJ5+AI4)/4-AJ4)/6+((AK3+AK5+AI5+AI3)/4-AJ4)/12+1/Parameter!$D$10^2*(Fractuation!AJ35-Fractuation!BO35)","v":0},{"$f":"AK4+_xlfn.NORM.INV(randvba(), 0,1)*Vapor_Fluctuation_Magnitude!F4+((AK3+AL4+AK5+AJ4)/4-AK4)/6+((AL3+AL5+AJ5+AJ3)/4-AK4)/12+1/Parameter!$D$10^2*(Fractuation!AK35-Fractuation!BP35)","v":0},{"$f":"AL4+_xlfn.NORM.INV(randvba(), 0,1)*Vapor_Fluctuation_Magnitude!G4+((AL3+AM4+AL5+AK4)/4-AL4)/6+((AM3+AM5+AK5+AK3)/4-AL4)/12+1/Parameter!$D$10^2*(Fractuation!AL35-Fractuation!BQ35)","v":0},{"$f":"AM4+_xlfn.NORM.INV(randvba(), 0,1)*Vapor_Fluctuation_Magnitude!H4+((AM3+AN4+AM5+AL4)/4-AM4)/6+((AN3+AN5+AL5+AL3)/4-AM4)/12+1/Parameter!$D$10^2*(Fractuation!AM35-Fractuation!BR35)","v":0},{"$f":"AN4+_xlfn.NORM.INV(randvba(), 0,1)*Vapor_Fluctuation_Magnitude!I4+((AN3+AO4+AN5+AM4)/4-AN4)/6+((AO3+AO5+AM5+AM3)/4-AN4)/12+1/Parameter!$D$10^2*(Fractuation!AN35-Fractuation!BS35)","v":0},{"$f":"AO4+_xlfn.NORM.INV(randvba(), 0,1)*Vapor_Fluctuation_Magnitude!J4+((AO3+AP4+AO5+AN4)/4-AO4)/6+((AP3+AP5+AN5+AN3)/4-AO4)/12+1/Parameter!$D$10^2*(Fractuation!AO35-Fractuation!BT35)","v":0},{"$f":"AP4+_xlfn.NORM.INV(randvba(), 0,1)*Vapor_Fluctuation_Magnitude!K4+((AP3+AQ4+AP5+AO4)/4-AP4)/6+((AQ3+AQ5+AO5+AO3)/4-AP4)/12+1/Parameter!$D$10^2*(Fractuation!AP35-Fractuation!BU35)","v":0},{"$f":"AQ4+_xlfn.NORM.INV(randvba(), 0,1)*Vapor_Fluctuation_Magnitude!L4+((AQ3+AR4+AQ5+AP4)/4-AQ4)/6+((AR3+AR5+AP5+AP3)/4-AQ4)/12+1/Parameter!$D$10^2*(Fractuation!AQ35-Fractuation!BV35)","v":0},{"$f":"AR4+_xlfn.NORM.INV(randvba(), 0,1)*Vapor_Fluctuation_Magnitude!M4+((AR3+AS4+AR5+AQ4)/4-AR4)/6+((AS3+AS5+AQ5+AQ3)/4-AR4)/12+1/Parameter!$D$10^2*(Fractuation!AR35-Fractuation!BW35)","v":0},{"$f":"AS4+_xlfn.NORM.INV(randvba(), 0,1)*Vapor_Fluctuation_Magnitude!N4+((AS3+AT4+AS5+AR4)/4-AS4)/6+((AT3+AT5+AR5+AR3)/4-AS4)/12+1/Parameter!$D$10^2*(Fractuation!AS35-Fractuation!BX35)","v":0},{"$f":"AT4+_xlfn.NORM.INV(randvba(), 0,1)*Vapor_Fluctuation_Magnitude!O4+((AT3+AU4+AT5+AS4)/4-AT4)/6+((AU3+AU5+AS5+AS3)/4-AT4)/12+1/Parameter!$D$10^2*(Fractuation!AT35-Fractuation!BY35)","v":0},{"$f":"AU4+_xlfn.NORM.INV(randvba(), 0,1)*Vapor_Fluctuation_Magnitude!P4+((AU3+AV4+AU5+AT4)/4-AU4)/6+((AV3+AV5+AT5+AT3)/4-AU4)/12+1/Parameter!$D$10^2*(Fractuation!AU35-Fractuation!BZ35)","v":0},{"$f":"AV4+_xlfn.NORM.INV(randvba(), 0,1)*Vapor_Fluctuation_Magnitude!Q4+((AV3+AW4+AV5+AU4)/4-AV4)/6+((AW3+AW5+AU5+AU3)/4-AV4)/12+1/Parameter!$D$10^2*(Fractuation!AV35-Fractuation!CA35)","v":0},{"$f":"AW4+_xlfn.NORM.INV(randvba(), 0,1)*Vapor_Fluctuation_Magnitude!R4+((AW3+AX4+AW5+AV4)/4-AW4)/6+((AX3+AX5+AV5+AV3)/4-AW4)/12+1/Parameter!$D$10^2*(Fractuation!AW35-Fractuation!CB35)","v":0},{"$f":"AX4+_xlfn.NORM.INV(randvba(), 0,1)*Vapor_Fluctuation_Magnitude!S4+((AX3+AY4+AX5+AW4)/4-AX4)/6+((AY3+AY5+AW5+AW3)/4-AX4)/12+1/Parameter!$D$10^2*(Fractuation!AX35-Fractuation!CC35)","v":0},{"$f":"AY4+_xlfn.NORM.INV(randvba(), 0,1)*Vapor_Fluctuation_Magnitude!T4+((AY3+AZ4+AY5+AX4)/4-AY4)/6+((AZ3+AZ5+AX5+AX3)/4-AY4)/12+1/Parameter!$D$10^2*(Fractuation!AY35-Fractuation!CD35)","v":0},{"$f":"AZ4+_xlfn.NORM.INV(randvba(), 0,1)*Vapor_Fluctuation_Magnitude!U4+((AZ3+BA4+AZ5+AY4)/4-AZ4)/6+((BA3+BA5+AY5+AY3)/4-AZ4)/12+1/Parameter!$D$10^2*(Fractuation!AZ35-Fractuation!CE35)","v":0},{"$f":"BA4+_xlfn.NORM.INV(randvba(), 0,1)*Vapor_Fluctuation_Magnitude!V4+((BA3+BB4+BA5+AZ4)/4-BA4)/6+((BB3+BB5+AZ5+AZ3)/4-BA4)/12+1/Parameter!$D$10^2*(Fractuation!BA35-Fractuation!CF35)","v":0},{"$f":"BB4+_xlfn.NORM.INV(randvba(), 0,1)*Vapor_Fluctuation_Magnitude!W4+((BB3+BC4+BB5+BA4)/4-BB4)/6+((BC3+BC5+BA5+BA3)/4-BB4)/12+1/Parameter!$D$10^2*(Fractuation!BB35-Fractuation!CG35)","v":0},{"$f":"BC4+_xlfn.NORM.INV(randvba(), 0,1)*Vapor_Fluctuation_Magnitude!X4+((BC3+BD4+BC5+BB4)/4-BC4)/6+((BD3+BD5+BB5+BB3)/4-BC4)/12+1/Parameter!$D$10^2*(Fractuation!BC35-Fractuation!CH35)","v":0},{"$f":"BD4+_xlfn.NORM.INV(randvba(), 0,1)*Vapor_Fluctuation_Magnitude!Y4+((BD3+BE4+BD5+BC4)/4-BD4)/6+((BE3+BE5+BC5+BC3)/4-BD4)/12+1/Parameter!$D$10^2*(Fractuation!BD35-Fractuation!CI35)","v":0},{"$f":"BE4+_xlfn.NORM.INV(randvba(), 0,1)*Vapor_Fluctuation_Magnitude!Z4+((BE3+BF4+BE5+BD4)/4-BE4)/6+((BF3+BF5+BD5+BD3)/4-BE4)/12+1/Parameter!$D$10^2*(Fractuation!BE35-Fractuation!CJ35)","v":0},{"$f":"BF4+_xlfn.NORM.INV(randvba(), 0,1)*Vapor_Fluctuation_Magnitude!AA4+((BF3+BG4+BF5+BE4)/4-BF4)/6+((BG3+BG5+BE5+BE3)/4-BF4)/12+1/Parameter!$D$10^2*(Fractuation!BF35-Fractuation!CK35)","v":0},{"$f":"BG4+_xlfn.NORM.INV(randvba(), 0,1)*Vapor_Fluctuation_Magnitude!AB4+((BG3+BH4+BG5+BF4)/4-BG4)/6+((BH3+BH5+BF5+BF3)/4-BG4)/12+1/Parameter!$D$10^2*(Fractuation!BG35-Fractuation!CL35)","v":0},{"$f":"BH4+_xlfn.NORM.INV(randvba(), 0,1)*Vapor_Fluctuation_Magnitude!AC4+((BH3+BI4+BH5+BG4)/4-BH4)/6+((BI3+BI5+BG5+BG3)/4-BH4)/12+1/Parameter!$D$10^2*(Fractuation!BH35-Fractuation!CM35)","v":0},{"$f":"BI4+_xlfn.NORM.INV(randvba(), 0,1)*Vapor_Fluctuation_Magnitude!AD4+((BI3+BI5+BH4)/3-BI4)/6+((BH5+BH3)/2-BI4)/12+1/Parameter!$D$10^2*(Fractuation!BI35-Fractuation!CN35)","v":0},null,0,0,0,0,0,0,0,0,0,0,0,0,0,0,0,0,0,0,0,0,0,0,0,0,0,0,0,0,0,0,null,0,0,0,0,0,0,0,0,0,0,0,0,0,0,0,0,0,0,0,0,0,0,0,0,0,0,0,0,0,0,null,0,0,0,0,0,0,0,0,0,0,0,0,0,0,0,0,0,0,0,0,0,0,0,0,0,0,0,0,0,0]
[{"$f":"AF5+_xlfn.NORM.INV(randvba(), 0,1)*Vapor_Fluctuation_Magnitude!A5+((AF4+AG5+AF6)/3-AF5)/6+((AG4+AG6)/4-AF5)/12+1/Parameter!$D$10^2*(Fractuation!AF36-Fractuation!BK36)","v":0},{"$f":"AG5+_xlfn.NORM.INV(randvba(), 0,1)*Vapor_Fluctuation_Magnitude!B5+((AG4+AH5+AG6+AF5)/4-AG5)/6+((AH4+AH6+AF6+AF4)/4-AG5)/12+1/Parameter!$D$10^2*(Fractuation!AG36-Fractuation!BL36)","v":0},{"$f":"AH5+_xlfn.NORM.INV(randvba(), 0,1)*Vapor_Fluctuation_Magnitude!C5+((AH4+AI5+AH6+AG5)/4-AH5)/6+((AI4+AI6+AG6+AG4)/4-AH5)/12+1/Parameter!$D$10^2*(Fractuation!AH36-Fractuation!BM36)","v":0},{"$f":"AI5+_xlfn.NORM.INV(randvba(), 0,1)*Vapor_Fluctuation_Magnitude!D5+((AI4+AJ5+AI6+AH5)/4-AI5)/6+((AJ4+AJ6+AH6+AH4)/4-AI5)/12+1/Parameter!$D$10^2*(Fractuation!AI36-Fractuation!BN36)","v":0},{"$f":"AJ5+_xlfn.NORM.INV(randvba(), 0,1)*Vapor_Fluctuation_Magnitude!E5+((AJ4+AK5+AJ6+AI5)/4-AJ5)/6+((AK4+AK6+AI6+AI4)/4-AJ5)/12+1/Parameter!$D$10^2*(Fractuation!AJ36-Fractuation!BO36)","v":0},{"$f":"AK5+_xlfn.NORM.INV(randvba(), 0,1)*Vapor_Fluctuation_Magnitude!F5+((AK4+AL5+AK6+AJ5)/4-AK5)/6+((AL4+AL6+AJ6+AJ4)/4-AK5)/12+1/Parameter!$D$10^2*(Fractuation!AK36-Fractuation!BP36)","v":0},{"$f":"AL5+_xlfn.NORM.INV(randvba(), 0,1)*Vapor_Fluctuation_Magnitude!G5+((AL4+AM5+AL6+AK5)/4-AL5)/6+((AM4+AM6+AK6+AK4)/4-AL5)/12+1/Parameter!$D$10^2*(Fractuation!AL36-Fractuation!BQ36)","v":0},{"$f":"AM5+_xlfn.NORM.INV(randvba(), 0,1)*Vapor_Fluctuation_Magnitude!H5+((AM4+AN5+AM6+AL5)/4-AM5)/6+((AN4+AN6+AL6+AL4)/4-AM5)/12+1/Parameter!$D$10^2*(Fractuation!AM36-Fractuation!BR36)","v":0},{"$f":"AN5+_xlfn.NORM.INV(randvba(), 0,1)*Vapor_Fluctuation_Magnitude!I5+((AN4+AO5+AN6+AM5)/4-AN5)/6+((AO4+AO6+AM6+AM4)/4-AN5)/12+1/Parameter!$D$10^2*(Fractuation!AN36-Fractuation!BS36)","v":0},{"$f":"AO5+_xlfn.NORM.INV(randvba(), 0,1)*Vapor_Fluctuation_Magnitude!J5+((AO4+AP5+AO6+AN5)/4-AO5)/6+((AP4+AP6+AN6+AN4)/4-AO5)/12+1/Parameter!$D$10^2*(Fractuation!AO36-Fractuation!BT36)","v":0},{"$f":"AP5+_xlfn.NORM.INV(randvba(), 0,1)*Vapor_Fluctuation_Magnitude!K5+((AP4+AQ5+AP6+AO5)/4-AP5)/6+((AQ4+AQ6+AO6+AO4)/4-AP5)/12+1/Parameter!$D$10^2*(Fractuation!AP36-Fractuation!BU36)","v":0},{"$f":"AQ5+_xlfn.NORM.INV(randvba(), 0,1)*Vapor_Fluctuation_Magnitude!L5+((AQ4+AR5+AQ6+AP5)/4-AQ5)/6+((AR4+AR6+AP6+AP4)/4-AQ5)/12+1/Parameter!$D$10^2*(Fractuation!AQ36-Fractuation!BV36)","v":0},{"$f":"AR5+_xlfn.NORM.INV(randvba(), 0,1)*Vapor_Fluctuation_Magnitude!M5+((AR4+AS5+AR6+AQ5)/4-AR5)/6+((AS4+AS6+AQ6+AQ4)/4-AR5)/12+1/Parameter!$D$10^2*(Fractuation!AR36-Fractuation!BW36)","v":0},{"$f":"AS5+_xlfn.NORM.INV(randvba(), 0,1)*Vapor_Fluctuation_Magnitude!N5+((AS4+AT5+AS6+AR5)/4-AS5)/6+((AT4+AT6+AR6+AR4)/4-AS5)/12+1/Parameter!$D$10^2*(Fractuation!AS36-Fractuation!BX36)","v":0},{"$f":"AT5+_xlfn.NORM.INV(randvba(), 0,1)*Vapor_Fluctuation_Magnitude!O5+((AT4+AU5+AT6+AS5)/4-AT5)/6+((AU4+AU6+AS6+AS4)/4-AT5)/12+1/Parameter!$D$10^2*(Fractuation!AT36-Fractuation!BY36)","v":0},{"$f":"AU5+_xlfn.NORM.INV(randvba(), 0,1)*Vapor_Fluctuation_Magnitude!P5+((AU4+AV5+AU6+AT5)/4-AU5)/6+((AV4+AV6+AT6+AT4)/4-AU5)/12+1/Parameter!$D$10^2*(Fractuation!AU36-Fractuation!BZ36)","v":0},{"$f":"AV5+_xlfn.NORM.INV(randvba(), 0,1)*Vapor_Fluctuation_Magnitude!Q5+((AV4+AW5+AV6+AU5)/4-AV5)/6+((AW4+AW6+AU6+AU4)/4-AV5)/12+1/Parameter!$D$10^2*(Fractuation!AV36-Fractuation!CA36)","v":0},{"$f":"AW5+_xlfn.NORM.INV(randvba(), 0,1)*Vapor_Fluctuation_Magnitude!R5+((AW4+AX5+AW6+AV5)/4-AW5)/6+((AX4+AX6+AV6+AV4)/4-AW5)/12+1/Parameter!$D$10^2*(Fractuation!AW36-Fractuation!CB36)","v":0},{"$f":"AX5+_xlfn.NORM.INV(randvba(), 0,1)*Vapor_Fluctuation_Magnitude!S5+((AX4+AY5+AX6+AW5)/4-AX5)/6+((AY4+AY6+AW6+AW4)/4-AX5)/12+1/Parameter!$D$10^2*(Fractuation!AX36-Fractuation!CC36)","v":0},{"$f":"AY5+_xlfn.NORM.INV(randvba(), 0,1)*Vapor_Fluctuation_Magnitude!T5+((AY4+AZ5+AY6+AX5)/4-AY5)/6+((AZ4+AZ6+AX6+AX4)/4-AY5)/12+1/Parameter!$D$10^2*(Fractuation!AY36-Fractuation!CD36)","v":0},{"$f":"AZ5+_xlfn.NORM.INV(randvba(), 0,1)*Vapor_Fluctuation_Magnitude!U5+((AZ4+BA5+AZ6+AY5)/4-AZ5)/6+((BA4+BA6+AY6+AY4)/4-AZ5)/12+1/Parameter!$D$10^2*(Fractuation!AZ36-Fractuation!CE36)","v":0},{"$f":"BA5+_xlfn.NORM.INV(randvba(), 0,1)*Vapor_Fluctuation_Magnitude!V5+((BA4+BB5+BA6+AZ5)/4-BA5)/6+((BB4+BB6+AZ6+AZ4)/4-BA5)/12+1/Parameter!$D$10^2*(Fractuation!BA36-Fractuation!CF36)","v":0},{"$f":"BB5+_xlfn.NORM.INV(randvba(), 0,1)*Vapor_Fluctuation_Magnitude!W5+((BB4+BC5+BB6+BA5)/4-BB5)/6+((BC4+BC6+BA6+BA4)/4-BB5)/12+1/Parameter!$D$10^2*(Fractuation!BB36-Fractuation!CG36)","v":0},{"$f":"BC5+_xlfn.NORM.INV(randvba(), 0,1)*Vapor_Fluctuation_Magnitude!X5+((BC4+BD5+BC6+BB5)/4-BC5)/6+((BD4+BD6+BB6+BB4)/4-BC5)/12+1/Parameter!$D$10^2*(Fractuation!BC36-Fractuation!CH36)","v":0},{"$f":"BD5+_xlfn.NORM.INV(randvba(), 0,1)*Vapor_Fluctuation_Magnitude!Y5+((BD4+BE5+BD6+BC5)/4-BD5)/6+((BE4+BE6+BC6+BC4)/4-BD5)/12+1/Parameter!$D$10^2*(Fractuation!BD36-Fractuation!CI36)","v":0},{"$f":"BE5+_xlfn.NORM.INV(randvba(), 0,1)*Vapor_Fluctuation_Magnitude!Z5+((BE4+BF5+BE6+BD5)/4-BE5)/6+((BF4+BF6+BD6+BD4)/4-BE5)/12+1/Parameter!$D$10^2*(Fractuation!BE36-Fractuation!CJ36)","v":0},{"$f":"BF5+_xlfn.NORM.INV(randvba(), 0,1)*Vapor_Fluctuation_Magnitude!AA5+((BF4+BG5+BF6+BE5)/4-BF5)/6+((BG4+BG6+BE6+BE4)/4-BF5)/12+1/Parameter!$D$10^2*(Fractuation!BF36-Fractuation!CK36)","v":0},{"$f":"BG5+_xlfn.NORM.INV(randvba(), 0,1)*Vapor_Fluctuation_Magnitude!AB5+((BG4+BH5+BG6+BF5)/4-BG5)/6+((BH4+BH6+BF6+BF4)/4-BG5)/12+1/Parameter!$D$10^2*(Fractuation!BG36-Fractuation!CL36)","v":0},{"$f":"BH5+_xlfn.NORM.INV(randvba(), 0,1)*Vapor_Fluctuation_Magnitude!AC5+((BH4+BI5+BH6+BG5)/4-BH5)/6+((BI4+BI6+BG6+BG4)/4-BH5)/12+1/Parameter!$D$10^2*(Fractuation!BH36-Fractuation!CM36)","v":0},{"$f":"BI5+_xlfn.NORM.INV(randvba(), 0,1)*Vapor_Fluctuation_Magnitude!AD5+((BI4+BI6+BH5)/3-BI5)/6+((BH6+BH4)/2-BI5)/12+1/Parameter!$D$10^2*(Fractuation!BI36-Fractuation!CN36)","v":0},null,0,0,0,0,0,0,0,0,0,0,0,0,0,0,0,0,0,0,0,0,0,0,0,0,0,0,0,0,0,0,null,0,0,0,0,0,0,0,0,0,0,0,0,0,0,0,0,0,0,0,0,0,0,0,0,0,0,0,0,0,0,null,0,0,0,0,0,0,0,0,0,0,0,0,0,0,0,0,0,0,0,0,0,0,0,0,0,0,0,0,0,0]
[{"$f":"AF6+_xlfn.NORM.INV(randvba(), 0,1)*Vapor_Fluctuation_Magnitude!A6+((AF5+AG6+AF7)/3-AF6)/6+((AG5+AG7)/4-AF6)/12+1/Parameter!$D$10^2*(Fractuation!AF37-Fractuation!BK37)","v":0},{"$f":"AG6+_xlfn.NORM.INV(randvba(), 0,1)*Vapor_Fluctuation_Magnitude!B6+((AG5+AH6+AG7+AF6)/4-AG6)/6+((AH5+AH7+AF7+AF5)/4-AG6)/12+1/Parameter!$D$10^2*(Fractuation!AG37-Fractuation!BL37)","v":0},{"$f":"AH6+_xlfn.NORM.INV(randvba(), 0,1)*Vapor_Fluctuation_Magnitude!C6+((AH5+AI6+AH7+AG6)/4-AH6)/6+((AI5+AI7+AG7+AG5)/4-AH6)/12+1/Parameter!$D$10^2*(Fractuation!AH37-Fractuation!BM37)","v":0},{"$f":"AI6+_xlfn.NORM.INV(randvba(), 0,1)*Vapor_Fluctuation_Magnitude!D6+((AI5+AJ6+AI7+AH6)/4-AI6)/6+((AJ5+AJ7+AH7+AH5)/4-AI6)/12+1/Parameter!$D$10^2*(Fractuation!AI37-Fractuation!BN37)","v":0},{"$f":"AJ6+_xlfn.NORM.INV(randvba(), 0,1)*Vapor_Fluctuation_Magnitude!E6+((AJ5+AK6+AJ7+AI6)/4-AJ6)/6+((AK5+AK7+AI7+AI5)/4-AJ6)/12+1/Parameter!$D$10^2*(Fractuation!AJ37-Fractuation!BO37)","v":0},{"$f":"AK6+_xlfn.NORM.INV(randvba(), 0,1)*Vapor_Fluctuation_Magnitude!F6+((AK5+AL6+AK7+AJ6)/4-AK6)/6+((AL5+AL7+AJ7+AJ5)/4-AK6)/12+1/Parameter!$D$10^2*(Fractuation!AK37-Fractuation!BP37)","v":0},{"$f":"AL6+_xlfn.NORM.INV(randvba(), 0,1)*Vapor_Fluctuation_Magnitude!G6+((AL5+AM6+AL7+AK6)/4-AL6)/6+((AM5+AM7+AK7+AK5)/4-AL6)/12+1/Parameter!$D$10^2*(Fractuation!AL37-Fractuation!BQ37)","v":0},{"$f":"AM6+_xlfn.NORM.INV(randvba(), 0,1)*Vapor_Fluctuation_Magnitude!H6+((AM5+AN6+AM7+AL6)/4-AM6)/6+((AN5+AN7+AL7+AL5)/4-AM6)/12+1/Parameter!$D$10^2*(Fractuation!AM37-Fractuation!BR37)","v":0},{"$f":"AN6+_xlfn.NORM.INV(randvba(), 0,1)*Vapor_Fluctuation_Magnitude!I6+((AN5+AO6+AN7+AM6)/4-AN6)/6+((AO5+AO7+AM7+AM5)/4-AN6)/12+1/Parameter!$D$10^2*(Fractuation!AN37-Fractuation!BS37)","v":0},{"$f":"AO6+_xlfn.NORM.INV(randvba(), 0,1)*Vapor_Fluctuation_Magnitude!J6+((AO5+AP6+AO7+AN6)/4-AO6)/6+((AP5+AP7+AN7+AN5)/4-AO6)/12+1/Parameter!$D$10^2*(Fractuation!AO37-Fractuation!BT37)","v":0},{"$f":"AP6+_xlfn.NORM.INV(randvba(), 0,1)*Vapor_Fluctuation_Magnitude!K6+((AP5+AQ6+AP7+AO6)/4-AP6)/6+((AQ5+AQ7+AO7+AO5)/4-AP6)/12+1/Parameter!$D$10^2*(Fractuation!AP37-Fractuation!BU37)","v":0},{"$f":"AQ6+_xlfn.NORM.INV(randvba(), 0,1)*Vapor_Fluctuation_Magnitude!L6+((AQ5+AR6+AQ7+AP6)/4-AQ6)/6+((AR5+AR7+AP7+AP5)/4-AQ6)/12+1/Parameter!$D$10^2*(Fractuation!AQ37-Fractuation!BV37)","v":0},{"$f":"AR6+_xlfn.NORM.INV(randvba(), 0,1)*Vapor_Fluctuation_Magnitude!M6+((AR5+AS6+AR7+AQ6)/4-AR6)/6+((AS5+AS7+AQ7+AQ5)/4-AR6)/12+1/Parameter!$D$10^2*(Fractuation!AR37-Fractuation!BW37)","v":0},{"$f":"AS6+_xlfn.NORM.INV(randvba(), 0,1)*Vapor_Fluctuation_Magnitude!N6+((AS5+AT6+AS7+AR6)/4-AS6)/6+((AT5+AT7+AR7+AR5)/4-AS6)/12+1/Parameter!$D$10^2*(Fractuation!AS37-Fractuation!BX37)","v":0},{"$f":"AT6+_xlfn.NORM.INV(randvba(), 0,1)*Vapor_Fluctuation_Magnitude!O6+((AT5+AU6+AT7+AS6)/4-AT6)/6+((AU5+AU7+AS7+AS5)/4-AT6)/12+1/Parameter!$D$10^2*(Fractuation!AT37-Fractuation!BY37)","v":0},{"$f":"AU6+_xlfn.NORM.INV(randvba(), 0,1)*Vapor_Fluctuation_Magnitude!P6+((AU5+AV6+AU7+AT6)/4-AU6)/6+((AV5+AV7+AT7+AT5)/4-AU6)/12+1/Parameter!$D$10^2*(Fractuation!AU37-Fractuation!BZ37)","v":0},{"$f":"AV6+_xlfn.NORM.INV(randvba(), 0,1)*Vapor_Fluctuation_Magnitude!Q6+((AV5+AW6+AV7+AU6)/4-AV6)/6+((AW5+AW7+AU7+AU5)/4-AV6)/12+1/Parameter!$D$10^2*(Fractuation!AV37-Fractuation!CA37)","v":0},{"$f":"AW6+_xlfn.NORM.INV(randvba(), 0,1)*Vapor_Fluctuation_Magnitude!R6+((AW5+AX6+AW7+AV6)/4-AW6)/6+((AX5+AX7+AV7+AV5)/4-AW6)/12+1/Parameter!$D$10^2*(Fractuation!AW37-Fractuation!CB37)","v":0},{"$f":"AX6+_xlfn.NORM.INV(randvba(), 0,1)*Vapor_Fluctuation_Magnitude!S6+((AX5+AY6+AX7+AW6)/4-AX6)/6+((AY5+AY7+AW7+AW5)/4-AX6)/12+1/Parameter!$D$10^2*(Fractuation!AX37-Fractuation!CC37)","v":0},{"$f":"AY6+_xlfn.NORM.INV(randvba(), 0,1)*Vapor_Fluctuation_Magnitude!T6+((AY5+AZ6+AY7+AX6)/4-AY6)/6+((AZ5+AZ7+AX7+AX5)/4-AY6)/12+1/Parameter!$D$10^2*(Fractuation!AY37-Fractuation!CD37)","v":0},{"$f":"AZ6+_xlfn.NORM.INV(randvba(), 0,1)*Vapor_Fluctuation_Magnitude!U6+((AZ5+BA6+AZ7+AY6)/4-AZ6)/6+((BA5+BA7+AY7+AY5)/4-AZ6)/12+1/Parameter!$D$10^2*(Fractuation!AZ37-Fractuation!CE37)","v":0},{"$f":"BA6+_xlfn.NORM.INV(randvba(), 0,1)*Vapor_Fluctuation_Magnitude!V6+((BA5+BB6+BA7+AZ6)/4-BA6)/6+((BB5+BB7+AZ7+AZ5)/4-BA6)/12+1/Parameter!$D$10^2*(Fractuation!BA37-Fractuation!CF37)","v":0},{"$f":"BB6+_xlfn.NORM.INV(randvba(), 0,1)*Vapor_Fluctuation_Magnitude!W6+((BB5+BC6+BB7+BA6)/4-BB6)/6+((BC5+BC7+BA7+BA5)/4-BB6)/12+1/Parameter!$D$10^2*(Fractuation!BB37-Fractuation!CG37)","v":0},{"$f":"BC6+_xlfn.NORM.INV(randvba(), 0,1)*Vapor_Fluctuation_Magnitude!X6+((BC5+BD6+BC7+BB6)/4-BC6)/6+((BD5+BD7+BB7+BB5)/4-BC6)/12+1/Parameter!$D$10^2*(Fractuation!BC37-Fractuation!CH37)","v":0},{"$f":"BD6+_xlfn.NORM.INV(randvba(), 0,1)*Vapor_Fluctuation_Magnitude!Y6+((BD5+BE6+BD7+BC6)/4-BD6)/6+((BE5+BE7+BC7+BC5)/4-BD6)/12+1/Parameter!$D$10^2*(Fractuation!BD37-Fractuation!CI37)","v":0},{"$f":"BE6+_xlfn.NORM.INV(randvba(), 0,1)*Vapor_Fluctuation_Magnitude!Z6+((BE5+BF6+BE7+BD6)/4-BE6)/6+((BF5+BF7+BD7+BD5)/4-BE6)/12+1/Parameter!$D$10^2*(Fractuation!BE37-Fractuation!CJ37)","v":0},{"$f":"BF6+_xlfn.NORM.INV(randvba(), 0,1)*Vapor_Fluctuation_Magnitude!AA6+((BF5+BG6+BF7+BE6)/4-BF6)/6+((BG5+BG7+BE7+BE5)/4-BF6)/12+1/Parameter!$D$10^2*(Fractuation!BF37-Fractuation!CK37)","v":0},{"$f":"BG6+_xlfn.NORM.INV(randvba(), 0,1)*Vapor_Fluctuation_Magnitude!AB6+((BG5+BH6+BG7+BF6)/4-BG6)/6+((BH5+BH7+BF7+BF5)/4-BG6)/12+1/Parameter!$D$10^2*(Fractuation!BG37-Fractuation!CL37)","v":0},{"$f":"BH6+_xlfn.NORM.INV(randvba(), 0,1)*Vapor_Fluctuation_Magnitude!AC6+((BH5+BI6+BH7+BG6)/4-BH6)/6+((BI5+BI7+BG7+BG5)/4-BH6)/12+1/Parameter!$D$10^2*(Fractuation!BH37-Fractuation!CM37)","v":0},{"$f":"BI6+_xlfn.NORM.INV(randvba(), 0,1)*Vapor_Fluctuation_Magnitude!AD6+((BI5+BI7+BH6)/3-BI6)/6+((BH7+BH5)/2-BI6)/12+1/Parameter!$D$10^2*(Fractuation!BI37-Fractuation!CN37)","v":0},null,0,0,0,0,0,0,0,0,0,0,0,0,0,0,0,0,0,0,0,0,0,0,0,0,0,0,0,0,0,0,null,0,0,0,0,0,0,0,0,0,0,0,0,0,0,0,0,0,0,0,0,0,0,0,0,0,0,0,0,0,0,null,0,0,0,0,0,0,0,0,0,0,0,0,0,0,0,0,0,0,0,0,0,0,0,0,0,0,0,0,0,0]
[{"$f":"AF7+_xlfn.NORM.INV(randvba(), 0,1)*Vapor_Fluctuation_Magnitude!A7+((AF6+AG7+AF8)/3-AF7)/6+((AG6+AG8)/4-AF7)/12+1/Parameter!$D$10^2*(Fractuation!AF38-Fractuation!BK38)","v":0},{"$f":"AG7+_xlfn.NORM.INV(randvba(), 0,1)*Vapor_Fluctuation_Magnitude!B7+((AG6+AH7+AG8+AF7)/4-AG7)/6+((AH6+AH8+AF8+AF6)/4-AG7)/12+1/Parameter!$D$10^2*(Fractuation!AG38-Fractuation!BL38)","v":0},{"$f":"AH7+_xlfn.NORM.INV(randvba(), 0,1)*Vapor_Fluctuation_Magnitude!C7+((AH6+AI7+AH8+AG7)/4-AH7)/6+((AI6+AI8+AG8+AG6)/4-AH7)/12+1/Parameter!$D$10^2*(Fractuation!AH38-Fractuation!BM38)","v":0},{"$f":"AI7+_xlfn.NORM.INV(randvba(), 0,1)*Vapor_Fluctuation_Magnitude!D7+((AI6+AJ7+AI8+AH7)/4-AI7)/6+((AJ6+AJ8+AH8+AH6)/4-AI7)/12+1/Parameter!$D$10^2*(Fractuation!AI38-Fractuation!BN38)","v":0},{"$f":"AJ7+_xlfn.NORM.INV(randvba(), 0,1)*Vapor_Fluctuation_Magnitude!E7+((AJ6+AK7+AJ8+AI7)/4-AJ7)/6+((AK6+AK8+AI8+AI6)/4-AJ7)/12+1/Parameter!$D$10^2*(Fractuation!AJ38-Fractuation!BO38)","v":0},{"$f":"AK7+_xlfn.NORM.INV(randvba(), 0,1)*Vapor_Fluctuation_Magnitude!F7+((AK6+AL7+AK8+AJ7)/4-AK7)/6+((AL6+AL8+AJ8+AJ6)/4-AK7)/12+1/Parameter!$D$10^2*(Fractuation!AK38-Fractuation!BP38)","v":0},{"$f":"AL7+_xlfn.NORM.INV(randvba(), 0,1)*Vapor_Fluctuation_Magnitude!G7+((AL6+AM7+AL8+AK7)/4-AL7)/6+((AM6+AM8+AK8+AK6)/4-AL7)/12+1/Parameter!$D$10^2*(Fractuation!AL38-Fractuation!BQ38)","v":0},{"$f":"AM7+_xlfn.NORM.INV(randvba(), 0,1)*Vapor_Fluctuation_Magnitude!H7+((AM6+AN7+AM8+AL7)/4-AM7)/6+((AN6+AN8+AL8+AL6)/4-AM7)/12+1/Parameter!$D$10^2*(Fractuation!AM38-Fractuation!BR38)","v":0},{"$f":"AN7+_xlfn.NORM.INV(randvba(), 0,1)*Vapor_Fluctuation_Magnitude!I7+((AN6+AO7+AN8+AM7)/4-AN7)/6+((AO6+AO8+AM8+AM6)/4-AN7)/12+1/Parameter!$D$10^2*(Fractuation!AN38-Fractuation!BS38)","v":0},{"$f":"AO7+_xlfn.NORM.INV(randvba(), 0,1)*Vapor_Fluctuation_Magnitude!J7+((AO6+AP7+AO8+AN7)/4-AO7)/6+((AP6+AP8+AN8+AN6)/4-AO7)/12+1/Parameter!$D$10^2*(Fractuation!AO38-Fractuation!BT38)","v":0},{"$f":"AP7+_xlfn.NORM.INV(randvba(), 0,1)*Vapor_Fluctuation_Magnitude!K7+((AP6+AQ7+AP8+AO7)/4-AP7)/6+((AQ6+AQ8+AO8+AO6)/4-AP7)/12+1/Parameter!$D$10^2*(Fractuation!AP38-Fractuation!BU38)","v":0},{"$f":"AQ7+_xlfn.NORM.INV(randvba(), 0,1)*Vapor_Fluctuation_Magnitude!L7+((AQ6+AR7+AQ8+AP7)/4-AQ7)/6+((AR6+AR8+AP8+AP6)/4-AQ7)/12+1/Parameter!$D$10^2*(Fractuation!AQ38-Fractuation!BV38)","v":0},{"$f":"AR7+_xlfn.NORM.INV(randvba(), 0,1)*Vapor_Fluctuation_Magnitude!M7+((AR6+AS7+AR8+AQ7)/4-AR7)/6+((AS6+AS8+AQ8+AQ6)/4-AR7)/12+1/Parameter!$D$10^2*(Fractuation!AR38-Fractuation!BW38)","v":0},{"$f":"AS7+_xlfn.NORM.INV(randvba(), 0,1)*Vapor_Fluctuation_Magnitude!N7+((AS6+AT7+AS8+AR7)/4-AS7)/6+((AT6+AT8+AR8+AR6)/4-AS7)/12+1/Parameter!$D$10^2*(Fractuation!AS38-Fractuation!BX38)","v":0},{"$f":"AT7+_xlfn.NORM.INV(randvba(), 0,1)*Vapor_Fluctuation_Magnitude!O7+((AT6+AU7+AT8+AS7)/4-AT7)/6+((AU6+AU8+AS8+AS6)/4-AT7)/12+1/Parameter!$D$10^2*(Fractuation!AT38-Fractuation!BY38)","v":0},{"$f":"AU7+_xlfn.NORM.INV(randvba(), 0,1)*Vapor_Fluctuation_Magnitude!P7+((AU6+AV7+AU8+AT7)/4-AU7)/6+((AV6+AV8+AT8+AT6)/4-AU7)/12+1/Parameter!$D$10^2*(Fractuation!AU38-Fractuation!BZ38)","v":0},{"$f":"AV7+_xlfn.NORM.INV(randvba(), 0,1)*Vapor_Fluctuation_Magnitude!Q7+((AV6+AW7+AV8+AU7)/4-AV7)/6+((AW6+AW8+AU8+AU6)/4-AV7)/12+1/Parameter!$D$10^2*(Fractuation!AV38-Fractuation!CA38)","v":0},{"$f":"AW7+_xlfn.NORM.INV(randvba(), 0,1)*Vapor_Fluctuation_Magnitude!R7+((AW6+AX7+AW8+AV7)/4-AW7)/6+((AX6+AX8+AV8+AV6)/4-AW7)/12+1/Parameter!$D$10^2*(Fractuation!AW38-Fractuation!CB38)","v":0},{"$f":"AX7+_xlfn.NORM.INV(randvba(), 0,1)*Vapor_Fluctuation_Magnitude!S7+((AX6+AY7+AX8+AW7)/4-AX7)/6+((AY6+AY8+AW8+AW6)/4-AX7)/12+1/Parameter!$D$10^2*(Fractuation!AX38-Fractuation!CC38)","v":0},{"$f":"AY7+_xlfn.NORM.INV(randvba(), 0,1)*Vapor_Fluctuation_Magnitude!T7+((AY6+AZ7+AY8+AX7)/4-AY7)/6+((AZ6+AZ8+AX8+AX6)/4-AY7)/12+1/Parameter!$D$10^2*(Fractuation!AY38-Fractuation!CD38)","v":0},{"$f":"AZ7+_xlfn.NORM.INV(randvba(), 0,1)*Vapor_Fluctuation_Magnitude!U7+((AZ6+BA7+AZ8+AY7)/4-AZ7)/6+((BA6+BA8+AY8+AY6)/4-AZ7)/12+1/Parameter!$D$10^2*(Fractuation!AZ38-Fractuation!CE38)","v":0},{"$f":"BA7+_xlfn.NORM.INV(randvba(), 0,1)*Vapor_Fluctuation_Magnitude!V7+((BA6+BB7+BA8+AZ7)/4-BA7)/6+((BB6+BB8+AZ8+AZ6)/4-BA7)/12+1/Parameter!$D$10^2*(Fractuation!BA38-Fractuation!CF38)","v":0},{"$f":"BB7+_xlfn.NORM.INV(randvba(), 0,1)*Vapor_Fluctuation_Magnitude!W7+((BB6+BC7+BB8+BA7)/4-BB7)/6+((BC6+BC8+BA8+BA6)/4-BB7)/12+1/Parameter!$D$10^2*(Fractuation!BB38-Fractuation!CG38)","v":0},{"$f":"BC7+_xlfn.NORM.INV(randvba(), 0,1)*Vapor_Fluctuation_Magnitude!X7+((BC6+BD7+BC8+BB7)/4-BC7)/6+((BD6+BD8+BB8+BB6)/4-BC7)/12+1/Parameter!$D$10^2*(Fractuation!BC38-Fractuation!CH38)","v":0},{"$f":"BD7+_xlfn.NORM.INV(randvba(), 0,1)*Vapor_Fluctuation_Magnitude!Y7+((BD6+BE7+BD8+BC7)/4-BD7)/6+((BE6+BE8+BC8+BC6)/4-BD7)/12+1/Parameter!$D$10^2*(Fractuation!BD38-Fractuation!CI38)","v":0},{"$f":"BE7+_xlfn.NORM.INV(randvba(), 0,1)*Vapor_Fluctuation_Magnitude!Z7+((BE6+BF7+BE8+BD7)/4-BE7)/6+((BF6+BF8+BD8+BD6)/4-BE7)/12+1/Parameter!$D$10^2*(Fractuation!BE38-Fractuation!CJ38)","v":0},{"$f":"BF7+_xlfn.NORM.INV(randvba(), 0,1)*Vapor_Fluctuation_Magnitude!AA7+((BF6+BG7+BF8+BE7)/4-BF7)/6+((BG6+BG8+BE8+BE6)/4-BF7)/12+1/Parameter!$D$10^2*(Fractuation!BF38-Fractuation!CK38)","v":0},{"$f":"BG7+_xlfn.NORM.INV(randvba(), 0,1)*Vapor_Fluctuation_Magnitude!AB7+((BG6+BH7+BG8+BF7)/4-BG7)/6+((BH6+BH8+BF8+BF6)/4-BG7)/12+1/Parameter!$D$10^2*(Fractuation!BG38-Fractuation!CL38)","v":0},{"$f":"BH7+_xlfn.NORM.INV(randvba(), 0,1)*Vapor_Fluctuation_Magnitude!AC7+((BH6+BI7+BH8+BG7)/4-BH7)/6+((BI6+BI8+BG8+BG6)/4-BH7)/12+1/Parameter!$D$10^2*(Fractuation!BH38-Fractuation!CM38)","v":0},{"$f":"BI7+_xlfn.NORM.INV(randvba(), 0,1)*Vapor_Fluctuation_Magnitude!AD7+((BI6+BI8+BH7)/3-BI7)/6+((BH8+BH6)/2-BI7)/12+1/Parameter!$D$10^2*(Fractuation!BI38-Fractuation!CN38)","v":0},null,0,0,0,0,0,0,0,0,0,0,0,0,0,0,0,0,0,0,0,0,0,0,0,0,0,0,0,0,0,0,null,0,0,0,0,0,0,0,0,0,0,0,0,0,0,0,0,0,0,0,0,0,0,0,0,0,0,0,0,0,0,null,0,0,0,0,0,0,0,0,0,0,0,0,0,0,0,0,0,0,0,0,0,0,0,0,0,0,0,0,0,0]
[{"$f":"AF8+_xlfn.NORM.INV(randvba(), 0,1)*Vapor_Fluctuation_Magnitude!A8+((AF7+AG8+AF9)/3-AF8)/6+((AG7+AG9)/4-AF8)/12+1/Parameter!$D$10^2*(Fractuation!AF39-Fractuation!BK39)","v":0},{"$f":"AG8+_xlfn.NORM.INV(randvba(), 0,1)*Vapor_Fluctuation_Magnitude!B8+((AG7+AH8+AG9+AF8)/4-AG8)/6+((AH7+AH9+AF9+AF7)/4-AG8)/12+1/Parameter!$D$10^2*(Fractuation!AG39-Fractuation!BL39)","v":0},{"$f":"AH8+_xlfn.NORM.INV(randvba(), 0,1)*Vapor_Fluctuation_Magnitude!C8+((AH7+AI8+AH9+AG8)/4-AH8)/6+((AI7+AI9+AG9+AG7)/4-AH8)/12+1/Parameter!$D$10^2*(Fractuation!AH39-Fractuation!BM39)","v":0},{"$f":"AI8+_xlfn.NORM.INV(randvba(), 0,1)*Vapor_Fluctuation_Magnitude!D8+((AI7+AJ8+AI9+AH8)/4-AI8)/6+((AJ7+AJ9+AH9+AH7)/4-AI8)/12+1/Parameter!$D$10^2*(Fractuation!AI39-Fractuation!BN39)","v":0},{"$f":"AJ8+_xlfn.NORM.INV(randvba(), 0,1)*Vapor_Fluctuation_Magnitude!E8+((AJ7+AK8+AJ9+AI8)/4-AJ8)/6+((AK7+AK9+AI9+AI7)/4-AJ8)/12+1/Parameter!$D$10^2*(Fractuation!AJ39-Fractuation!BO39)","v":0},{"$f":"AK8+_xlfn.NORM.INV(randvba(), 0,1)*Vapor_Fluctuation_Magnitude!F8+((AK7+AL8+AK9+AJ8)/4-AK8)/6+((AL7+AL9+AJ9+AJ7)/4-AK8)/12+1/Parameter!$D$10^2*(Fractuation!AK39-Fractuation!BP39)","v":0},{"$f":"AL8+_xlfn.NORM.INV(randvba(), 0,1)*Vapor_Fluctuation_Magnitude!G8+((AL7+AM8+AL9+AK8)/4-AL8)/6+((AM7+AM9+AK9+AK7)/4-AL8)/12+1/Parameter!$D$10^2*(Fractuation!AL39-Fractuation!BQ39)","v":0},{"$f":"AM8+_xlfn.NORM.INV(randvba(), 0,1)*Vapor_Fluctuation_Magnitude!H8+((AM7+AN8+AM9+AL8)/4-AM8)/6+((AN7+AN9+AL9+AL7)/4-AM8)/12+1/Parameter!$D$10^2*(Fractuation!AM39-Fractuation!BR39)","v":0},{"$f":"AN8+_xlfn.NORM.INV(randvba(), 0,1)*Vapor_Fluctuation_Magnitude!I8+((AN7+AO8+AN9+AM8)/4-AN8)/6+((AO7+AO9+AM9+AM7)/4-AN8)/12+1/Parameter!$D$10^2*(Fractuation!AN39-Fractuation!BS39)","v":0},{"$f":"AO8+_xlfn.NORM.INV(randvba(), 0,1)*Vapor_Fluctuation_Magnitude!J8+((AO7+AP8+AO9+AN8)/4-AO8)/6+((AP7+AP9+AN9+AN7)/4-AO8)/12+1/Parameter!$D$10^2*(Fractuation!AO39-Fractuation!BT39)","v":0},{"$f":"AP8+_xlfn.NORM.INV(randvba(), 0,1)*Vapor_Fluctuation_Magnitude!K8+((AP7+AQ8+AP9+AO8)/4-AP8)/6+((AQ7+AQ9+AO9+AO7)/4-AP8)/12+1/Parameter!$D$10^2*(Fractuation!AP39-Fractuation!BU39)","v":0},{"$f":"AQ8+_xlfn.NORM.INV(randvba(), 0,1)*Vapor_Fluctuation_Magnitude!L8+((AQ7+AR8+AQ9+AP8)/4-AQ8)/6+((AR7+AR9+AP9+AP7)/4-AQ8)/12+1/Parameter!$D$10^2*(Fractuation!AQ39-Fractuation!BV39)","v":0},{"$f":"AR8+_xlfn.NORM.INV(randvba(), 0,1)*Vapor_Fluctuation_Magnitude!M8+((AR7+AS8+AR9+AQ8)/4-AR8)/6+((AS7+AS9+AQ9+AQ7)/4-AR8)/12+1/Parameter!$D$10^2*(Fractuation!AR39-Fractuation!BW39)","v":0},{"$f":"AS8+_xlfn.NORM.INV(randvba(), 0,1)*Vapor_Fluctuation_Magnitude!N8+((AS7+AT8+AS9+AR8)/4-AS8)/6+((AT7+AT9+AR9+AR7)/4-AS8)/12+1/Parameter!$D$10^2*(Fractuation!AS39-Fractuation!BX39)","v":0},{"$f":"AT8+_xlfn.NORM.INV(randvba(), 0,1)*Vapor_Fluctuation_Magnitude!O8+((AT7+AU8+AT9+AS8)/4-AT8)/6+((AU7+AU9+AS9+AS7)/4-AT8)/12+1/Parameter!$D$10^2*(Fractuation!AT39-Fractuation!BY39)","v":0},{"$f":"AU8+_xlfn.NORM.INV(randvba(), 0,1)*Vapor_Fluctuation_Magnitude!P8+((AU7+AV8+AU9+AT8)/4-AU8)/6+((AV7+AV9+AT9+AT7)/4-AU8)/12+1/Parameter!$D$10^2*(Fractuation!AU39-Fractuation!BZ39)","v":0},{"$f":"AV8+_xlfn.NORM.INV(randvba(), 0,1)*Vapor_Fluctuation_Magnitude!Q8+((AV7+AW8+AV9+AU8)/4-AV8)/6+((AW7+AW9+AU9+AU7)/4-AV8)/12+1/Parameter!$D$10^2*(Fractuation!AV39-Fractuation!CA39)","v":0},{"$f":"AW8+_xlfn.NORM.INV(randvba(), 0,1)*Vapor_Fluctuation_Magnitude!R8+((AW7+AX8+AW9+AV8)/4-AW8)/6+((AX7+AX9+AV9+AV7)/4-AW8)/12+1/Parameter!$D$10^2*(Fractuation!AW39-Fractuation!CB39)","v":0},{"$f":"AX8+_xlfn.NORM.INV(randvba(), 0,1)*Vapor_Fluctuation_Magnitude!S8+((AX7+AY8+AX9+AW8)/4-AX8)/6+((AY7+AY9+AW9+AW7)/4-AX8)/12+1/Parameter!$D$10^2*(Fractuation!AX39-Fractuation!CC39)","v":0},{"$f":"AY8+_xlfn.NORM.INV(randvba(), 0,1)*Vapor_Fluctuation_Magnitude!T8+((AY7+AZ8+AY9+AX8)/4-AY8)/6+((AZ7+AZ9+AX9+AX7)/4-AY8)/12+1/Parameter!$D$10^2*(Fractuation!AY39-Fractuation!CD39)","v":0},{"$f":"AZ8+_xlfn.NORM.INV(randvba(), 0,1)*Vapor_Fluctuation_Magnitude!U8+((AZ7+BA8+AZ9+AY8)/4-AZ8)/6+((BA7+BA9+AY9+AY7)/4-AZ8)/12+1/Parameter!$D$10^2*(Fractuation!AZ39-Fractuation!CE39)","v":0},{"$f":"BA8+_xlfn.NORM.INV(randvba(), 0,1)*Vapor_Fluctuation_Magnitude!V8+((BA7+BB8+BA9+AZ8)/4-BA8)/6+((BB7+BB9+AZ9+AZ7)/4-BA8)/12+1/Parameter!$D$10^2*(Fractuation!BA39-Fractuation!CF39)","v":0},{"$f":"BB8+_xlfn.NORM.INV(randvba(), 0,1)*Vapor_Fluctuation_Magnitude!W8+((BB7+BC8+BB9+BA8)/4-BB8)/6+((BC7+BC9+BA9+BA7)/4-BB8)/12+1/Parameter!$D$10^2*(Fractuation!BB39-Fractuation!CG39)","v":0},{"$f":"BC8+_xlfn.NORM.INV(randvba(), 0,1)*Vapor_Fluctuation_Magnitude!X8+((BC7+BD8+BC9+BB8)/4-BC8)/6+((BD7+BD9+BB9+BB7)/4-BC8)/12+1/Parameter!$D$10^2*(Fractuation!BC39-Fractuation!CH39)","v":0},{"$f":"BD8+_xlfn.NORM.INV(randvba(), 0,1)*Vapor_Fluctuation_Magnitude!Y8+((BD7+BE8+BD9+BC8)/4-BD8)/6+((BE7+BE9+BC9+BC7)/4-BD8)/12+1/Parameter!$D$10^2*(Fractuation!BD39-Fractuation!CI39)","v":0},{"$f":"BE8+_xlfn.NORM.INV(randvba(), 0,1)*Vapor_Fluctuation_Magnitude!Z8+((BE7+BF8+BE9+BD8)/4-BE8)/6+((BF7+BF9+BD9+BD7)/4-BE8)/12+1/Parameter!$D$10^2*(Fractuation!BE39-Fractuation!CJ39)","v":0},{"$f":"BF8+_xlfn.NORM.INV(randvba(), 0,1)*Vapor_Fluctuation_Magnitude!AA8+((BF7+BG8+BF9+BE8)/4-BF8)/6+((BG7+BG9+BE9+BE7)/4-BF8)/12+1/Parameter!$D$10^2*(Fractuation!BF39-Fractuation!CK39)","v":0},{"$f":"BG8+_xlfn.NORM.INV(randvba(), 0,1)*Vapor_Fluctuation_Magnitude!AB8+((BG7+BH8+BG9+BF8)/4-BG8)/6+((BH7+BH9+BF9+BF7)/4-BG8)/12+1/Parameter!$D$10^2*(Fractuation!BG39-Fractuation!CL39)","v":0},{"$f":"BH8+_xlfn.NORM.INV(randvba(), 0,1)*Vapor_Fluctuation_Magnitude!AC8+((BH7+BI8+BH9+BG8)/4-BH8)/6+((BI7+BI9+BG9+BG7)/4-BH8)/12+1/Parameter!$D$10^2*(Fractuation!BH39-Fractuation!CM39)","v":0},{"$f":"BI8+_xlfn.NORM.INV(randvba(), 0,1)*Vapor_Fluctuation_Magnitude!AD8+((BI7+BI9+BH8)/3-BI8)/6+((BH9+BH7)/2-BI8)/12+1/Parameter!$D$10^2*(Fractuation!BI39-Fractuation!CN39)","v":0},null,0,0,0,0,0,0,0,0,0,0,0,0,0,0,0,0,0,0,0,0,0,0,0,0,0,0,0,0,0,0,null,0,0,0,0,0,0,0,0,0,0,0,0,0,0,0,0,0,0,0,0,0,0,0,0,0,0,0,0,0,0,null,0,0,0,0,0,0,0,0,0,0,0,0,0,0,0,0,0,0,0,0,0,0,0,0,0,0,0,0,0,0]
[{"$f":"AF9+_xlfn.NORM.INV(randvba(), 0,1)*Vapor_Fluctuation_Magnitude!A9+((AF8+AG9+AF10)/3-AF9)/6+((AG8+AG10)/4-AF9)/12+1/Parameter!$D$10^2*(Fractuation!AF40-Fractuation!BK40)","v":0.73722361340597875},{"$f":"AG9+_xlfn.NORM.INV(randvba(), 0,1)*Vapor_Fluctuation_Magnitude!B9+((AG8+AH9+AG10+AF9)/4-AG9)/6+((AH8+AH10+AF10+AF8)/4-AG9)/12+1/Parameter!$D$10^2*(Fractuation!AG40-Fractuation!BL40)","v":0.116421229256804},{"$f":"AH9+_xlfn.NORM.INV(randvba(), 0,1)*Vapor_Fluctuation_Magnitude!C9+((AH8+AI9+AH10+AG9)/4-AH9)/6+((AI8+AI10+AG10+AG8)/4-AH9)/12+1/Parameter!$D$10^2*(Fractuation!AH40-Fractuation!BM40)","v":0.29891659961658035},{"$f":"AI9+_xlfn.NORM.INV(randvba(), 0,1)*Vapor_Fluctuation_Magnitude!D9+((AI8+AJ9+AI10+AH9)/4-AI9)/6+((AJ8+AJ10+AH10+AH8)/4-AI9)/12+1/Parameter!$D$10^2*(Fractuation!AI40-Fractuation!BN40)","v":1.4602047043105533},{"$f":"AJ9+_xlfn.NORM.INV(randvba(), 0,1)*Vapor_Fluctuation_Magnitude!E9+((AJ8+AK9+AJ10+AI9)/4-AJ9)/6+((AK8+AK10+AI10+AI8)/4-AJ9)/12+1/Parameter!$D$10^2*(Fractuation!AJ40-Fractuation!BO40)","v":-0.21991724926054976},{"$f":"AK9+_xlfn.NORM.INV(randvba(), 0,1)*Vapor_Fluctuation_Magnitude!F9+((AK8+AL9+AK10+AJ9)/4-AK9)/6+((AL8+AL10+AJ10+AJ8)/4-AK9)/12+1/Parameter!$D$10^2*(Fractuation!AK40-Fractuation!BP40)","v":-0.15963744505876148},{"$f":"AL9+_xlfn.NORM.INV(randvba(), 0,1)*Vapor_Fluctuation_Magnitude!G9+((AL8+AM9+AL10+AK9)/4-AL9)/6+((AM8+AM10+AK10+AK8)/4-AL9)/12+1/Parameter!$D$10^2*(Fractuation!AL40-Fractuation!BQ40)","v":-1.8516444166730996},{"$f":"AM9+_xlfn.NORM.INV(randvba(), 0,1)*Vapor_Fluctuation_Magnitude!H9+((AM8+AN9+AM10+AL9)/4-AM9)/6+((AN8+AN10+AL10+AL8)/4-AM9)/12+1/Parameter!$D$10^2*(Fractuation!AM40-Fractuation!BR40)","v":-2.7803672933857304},{"$f":"AN9+_xlfn.NORM.INV(randvba(), 0,1)*Vapor_Fluctuation_Magnitude!I9+((AN8+AO9+AN10+AM9)/4-AN9)/6+((AO8+AO10+AM10+AM8)/4-AN9)/12+1/Parameter!$D$10^2*(Fractuation!AN40-Fractuation!BS40)","v":-0.14814374326412028},{"$f":"AO9+_xlfn.NORM.INV(randvba(), 0,1)*Vapor_Fluctuation_Magnitude!J9+((AO8+AP9+AO10+AN9)/4-AO9)/6+((AP8+AP10+AN10+AN8)/4-AO9)/12+1/Parameter!$D$10^2*(Fractuation!AO40-Fractuation!BT40)","v":-0.36899253580422153},{"$f":"AP9+_xlfn.NORM.INV(randvba(), 0,1)*Vapor_Fluctuation_Magnitude!K9+((AP8+AQ9+AP10+AO9)/4-AP9)/6+((AQ8+AQ10+AO10+AO8)/4-AP9)/12+1/Parameter!$D$10^2*(Fractuation!AP40-Fractuation!BU40)","v":-0.3225021106236195},{"$f":"AQ9+_xlfn.NORM.INV(randvba(), 0,1)*Vapor_Fluctuation_Magnitude!L9+((AQ8+AR9+AQ10+AP9)/4-AQ9)/6+((AR8+AR10+AP10+AP8)/4-AQ9)/12+1/Parameter!$D$10^2*(Fractuation!AQ40-Fractuation!BV40)","v":0.9927583686755258},{"$f":"AR9+_xlfn.NORM.INV(randvba(), 0,1)*Vapor_Fluctuation_Magnitude!M9+((AR8+AS9+AR10+AQ9)/4-AR9)/6+((AS8+AS10+AQ10+AQ8)/4-AR9)/12+1/Parameter!$D$10^2*(Fractuation!AR40-Fractuation!BW40)","v":-0.49064946752219246},{"$f":"AS9+_xlfn.NORM.INV(randvba(), 0,1)*Vapor_Fluctuation_Magnitude!N9+((AS8+AT9+AS10+AR9)/4-AS9)/6+((AT8+AT10+AR10+AR8)/4-AS9)/12+1/Parameter!$D$10^2*(Fractuation!AS40-Fractuation!BX40)","v":-0.61172693769244746},{"$f":"AT9+_xlfn.NORM.INV(randvba(), 0,1)*Vapor_Fluctuation_Magnitude!O9+((AT8+AU9+AT10+AS9)/4-AT9)/6+((AU8+AU10+AS10+AS8)/4-AT9)/12+1/Parameter!$D$10^2*(Fractuation!AT40-Fractuation!BY40)","v":-9.5712728273953329E-2},{"$f":"AU9+_xlfn.NORM.INV(randvba(), 0,1)*Vapor_Fluctuation_Magnitude!P9+((AU8+AV9+AU10+AT9)/4-AU9)/6+((AV8+AV10+AT10+AT8)/4-AU9)/12+1/Parameter!$D$10^2*(Fractuation!AU40-Fractuation!BZ40)","v":-1.2645149172335517},{"$f":"AV9+_xlfn.NORM.INV(randvba(), 0,1)*Vapor_Fluctuation_Magnitude!Q9+((AV8+AW9+AV10+AU9)/4-AV9)/6+((AW8+AW10+AU10+AU8)/4-AV9)/12+1/Parameter!$D$10^2*(Fractuation!AV40-Fractuation!CA40)","v":1.4008938340006178},{"$f":"AW9+_xlfn.NORM.INV(randvba(), 0,1)*Vapor_Fluctuation_Magnitude!R9+((AW8+AX9+AW10+AV9)/4-AW9)/6+((AX8+AX10+AV10+AV8)/4-AW9)/12+1/Parameter!$D$10^2*(Fractuation!AW40-Fractuation!CB40)","v":-3.7188904404681466E-3},{"$f":"AX9+_xlfn.NORM.INV(randvba(), 0,1)*Vapor_Fluctuation_Magnitude!S9+((AX8+AY9+AX10+AW9)/4-AX9)/6+((AY8+AY10+AW10+AW8)/4-AX9)/12+1/Parameter!$D$10^2*(Fractuation!AX40-Fractuation!CC40)","v":0.85089943254526246},{"$f":"AY9+_xlfn.NORM.INV(randvba(), 0,1)*Vapor_Fluctuation_Magnitude!T9+((AY8+AZ9+AY10+AX9)/4-AY9)/6+((AZ8+AZ10+AX10+AX8)/4-AY9)/12+1/Parameter!$D$10^2*(Fractuation!AY40-Fractuation!CD40)","v":-0.43710693748311369},{"$f":"AZ9+_xlfn.NORM.INV(randvba(), 0,1)*Vapor_Fluctuation_Magnitude!U9+((AZ8+BA9+AZ10+AY9)/4-AZ9)/6+((BA8+BA10+AY10+AY8)/4-AZ9)/12+1/Parameter!$D$10^2*(Fractuation!AZ40-Fractuation!CE40)","v":0.51087813458828235},{"$f":"BA9+_xlfn.NORM.INV(randvba(), 0,1)*Vapor_Fluctuation_Magnitude!V9+((BA8+BB9+BA10+AZ9)/4-BA9)/6+((BB8+BB10+AZ10+AZ8)/4-BA9)/12+1/Parameter!$D$10^2*(Fractuation!BA40-Fractuation!CF40)","v":2.2853592705339227E-2},{"$f":"BB9+_xlfn.NORM.INV(randvba(), 0,1)*Vapor_Fluctuation_Magnitude!W9+((BB8+BC9+BB10+BA9)/4-BB9)/6+((BC8+BC10+BA10+BA8)/4-BB9)/12+1/Parameter!$D$10^2*(Fractuation!BB40-Fractuation!CG40)","v":0.26805999927922913},{"$f":"BC9+_xlfn.NORM.INV(randvba(), 0,1)*Vapor_Fluctuation_Magnitude!X9+((BC8+BD9+BC10+BB9)/4-BC9)/6+((BD8+BD10+BB10+BB8)/4-BC9)/12+1/Parameter!$D$10^2*(Fractuation!BC40-Fractuation!CH40)","v":0.10554737910537532},{"$f":"BD9+_xlfn.NORM.INV(randvba(), 0,1)*Vapor_Fluctuation_Magnitude!Y9+((BD8+BE9+BD10+BC9)/4-BD9)/6+((BE8+BE10+BC10+BC8)/4-BD9)/12+1/Parameter!$D$10^2*(Fractuation!BD40-Fractuation!CI40)","v":-0.26774918376157736},{"$f":"BE9+_xlfn.NORM.INV(randvba(), 0,1)*Vapor_Fluctuation_Magnitude!Z9+((BE8+BF9+BE10+BD9)/4-BE9)/6+((BF8+BF10+BD10+BD8)/4-BE9)/12+1/Parameter!$D$10^2*(Fractuation!BE40-Fractuation!CJ40)","v":-0.3039256008111178},{"$f":"BF9+_xlfn.NORM.INV(randvba(), 0,1)*Vapor_Fluctuation_Magnitude!AA9+((BF8+BG9+BF10+BE9)/4-BF9)/6+((BG8+BG10+BE10+BE8)/4-BF9)/12+1/Parameter!$D$10^2*(Fractuation!BF40-Fractuation!CK40)","v":1.7738154982129519},{"$f":"BG9+_xlfn.NORM.INV(randvba(), 0,1)*Vapor_Fluctuation_Magnitude!AB9+((BG8+BH9+BG10+BF9)/4-BG9)/6+((BH8+BH10+BF10+BF8)/4-BG9)/12+1/Parameter!$D$10^2*(Fractuation!BG40-Fractuation!CL40)","v":8.0272395288251447E-2},{"$f":"BH9+_xlfn.NORM.INV(randvba(), 0,1)*Vapor_Fluctuation_Magnitude!AC9+((BH8+BI9+BH10+BG9)/4-BH9)/6+((BI8+BI10+BG10+BG8)/4-BH9)/12+1/Parameter!$D$10^2*(Fractuation!BH40-Fractuation!CM40)","v":0.50895323004144233},{"$f":"BI9+_xlfn.NORM.INV(randvba(), 0,1)*Vapor_Fluctuation_Magnitude!AD9+((BI8+BI10+BH9)/3-BI9)/6+((BH10+BH8)/2-BI9)/12+1/Parameter!$D$10^2*(Fractuation!BI40-Fractuation!CN40)","v":-0.62911667340060062},null,0,0,0,0,0,0,0,0,0,0,0,0,0,0,0,0,0,0,0,0,0,0,0,0,0,0,0,0,0,0,null,0,0,0,0,0,0,0,0,0,0,0,0,0,0,0,0,0,0,0,0,0,0,0,0,0,0,0,0,0,0,null,0,0,0,0,0,0,0,0,0,0,0,0,0,0,0,0,0,0,0,0,0,0,0,0,0,0,0,0,0,0]
[{"$f":"AF10+_xlfn.NORM.INV(randvba(), 0,1)*Vapor_Fluctuation_Magnitude!A10+((AF9+AG10+AF11)/3-AF10)/6+((AG9+AG11)/4-AF10)/12+1/Parameter!$D$10^2*(Fractuation!AF41-Fractuation!BK41)","v":0.36666316341899119},{"$f":"AG10+_xlfn.NORM.INV(randvba(), 0,1)*Vapor_Fluctuation_Magnitude!B10+((AG9+AH10+AG11+AF10)/4-AG10)/6+((AH9+AH11+AF11+AF9)/4-AG10)/12+1/Parameter!$D$10^2*(Fractuation!AG41-Fractuation!BL41)","v":-1.9639128030369091E-2},{"$f":"AH10+_xlfn.NORM.INV(randvba(), 0,1)*Vapor_Fluctuation_Magnitude!C10+((AH9+AI10+AH11+AG10)/4-AH10)/6+((AI9+AI11+AG11+AG9)/4-AH10)/12+1/Parameter!$D$10^2*(Fractuation!AH41-Fractuation!BM41)","v":0.83764303328413059},{"$f":"AI10+_xlfn.NORM.INV(randvba(), 0,1)*Vapor_Fluctuation_Magnitude!D10+((AI9+AJ10+AI11+AH10)/4-AI10)/6+((AJ9+AJ11+AH11+AH9)/4-AI10)/12+1/Parameter!$D$10^2*(Fractuation!AI41-Fractuation!BN41)","v":0.33647173256019031},{"$f":"AJ10+_xlfn.NORM.INV(randvba(), 0,1)*Vapor_Fluctuation_Magnitude!E10+((AJ9+AK10+AJ11+AI10)/4-AJ10)/6+((AK9+AK11+AI11+AI9)/4-AJ10)/12+1/Parameter!$D$10^2*(Fractuation!AJ41-Fractuation!BO41)","v":-1.7254161112101116},{"$f":"AK10+_xlfn.NORM.INV(randvba(), 0,1)*Vapor_Fluctuation_Magnitude!F10+((AK9+AL10+AK11+AJ10)/4-AK10)/6+((AL9+AL11+AJ11+AJ9)/4-AK10)/12+1/Parameter!$D$10^2*(Fractuation!AK41-Fractuation!BP41)","v":-0.70154728632912766},{"$f":"AL10+_xlfn.NORM.INV(randvba(), 0,1)*Vapor_Fluctuation_Magnitude!G10+((AL9+AM10+AL11+AK10)/4-AL10)/6+((AM9+AM11+AK11+AK9)/4-AL10)/12+1/Parameter!$D$10^2*(Fractuation!AL41-Fractuation!BQ41)","v":0.10784620047747355},{"$f":"AM10+_xlfn.NORM.INV(randvba(), 0,1)*Vapor_Fluctuation_Magnitude!H10+((AM9+AN10+AM11+AL10)/4-AM10)/6+((AN9+AN11+AL11+AL9)/4-AM10)/12+1/Parameter!$D$10^2*(Fractuation!AM41-Fractuation!BR41)","v":-0.91884124503773312},{"$f":"AN10+_xlfn.NORM.INV(randvba(), 0,1)*Vapor_Fluctuation_Magnitude!I10+((AN9+AO10+AN11+AM10)/4-AN10)/6+((AO9+AO11+AM11+AM9)/4-AN10)/12+1/Parameter!$D$10^2*(Fractuation!AN41-Fractuation!BS41)","v":0.72911854655626018},{"$f":"AO10+_xlfn.NORM.INV(randvba(), 0,1)*Vapor_Fluctuation_Magnitude!J10+((AO9+AP10+AO11+AN10)/4-AO10)/6+((AP9+AP11+AN11+AN9)/4-AO10)/12+1/Parameter!$D$10^2*(Fractuation!AO41-Fractuation!BT41)","v":-0.17244884585679432},{"$f":"AP10+_xlfn.NORM.INV(randvba(), 0,1)*Vapor_Fluctuation_Magnitude!K10+((AP9+AQ10+AP11+AO10)/4-AP10)/6+((AQ9+AQ11+AO11+AO9)/4-AP10)/12+1/Parameter!$D$10^2*(Fractuation!AP41-Fractuation!BU41)","v":-0.6717554682689415},{"$f":"AQ10+_xlfn.NORM.INV(randvba(), 0,1)*Vapor_Fluctuation_Magnitude!L10+((AQ9+AR10+AQ11+AP10)/4-AQ10)/6+((AR9+AR11+AP11+AP9)/4-AQ10)/12+1/Parameter!$D$10^2*(Fractuation!AQ41-Fractuation!BV41)","v":0.50435642940646019},{"$f":"AR10+_xlfn.NORM.INV(randvba(), 0,1)*Vapor_Fluctuation_Magnitude!M10+((AR9+AS10+AR11+AQ10)/4-AR10)/6+((AS9+AS11+AQ11+AQ9)/4-AR10)/12+1/Parameter!$D$10^2*(Fractuation!AR41-Fractuation!BW41)","v":-0.29873974868973141},{"$f":"AS10+_xlfn.NORM.INV(randvba(), 0,1)*Vapor_Fluctuation_Magnitude!N10+((AS9+AT10+AS11+AR10)/4-AS10)/6+((AT9+AT11+AR11+AR9)/4-AS10)/12+1/Parameter!$D$10^2*(Fractuation!AS41-Fractuation!BX41)","v":1.1332522668074789},{"$f":"AT10+_xlfn.NORM.INV(randvba(), 0,1)*Vapor_Fluctuation_Magnitude!O10+((AT9+AU10+AT11+AS10)/4-AT10)/6+((AU9+AU11+AS11+AS9)/4-AT10)/12+1/Parameter!$D$10^2*(Fractuation!AT41-Fractuation!BY41)","v":-1.3071247853847003},{"$f":"AU10+_xlfn.NORM.INV(randvba(), 0,1)*Vapor_Fluctuation_Magnitude!P10+((AU9+AV10+AU11+AT10)/4-AU10)/6+((AV9+AV11+AT11+AT9)/4-AU10)/12+1/Parameter!$D$10^2*(Fractuation!AU41-Fractuation!BZ41)","v":0.26123339052133349},{"$f":"AV10+_xlfn.NORM.INV(randvba(), 0,1)*Vapor_Fluctuation_Magnitude!Q10+((AV9+AW10+AV11+AU10)/4-AV10)/6+((AW9+AW11+AU11+AU9)/4-AV10)/12+1/Parameter!$D$10^2*(Fractuation!AV41-Fractuation!CA41)","v":-1.2038033611505565},{"$f":"AW10+_xlfn.NORM.INV(randvba(), 0,1)*Vapor_Fluctuation_Magnitude!R10+((AW9+AX10+AW11+AV10)/4-AW10)/6+((AX9+AX11+AV11+AV9)/4-AW10)/12+1/Parameter!$D$10^2*(Fractuation!AW41-Fractuation!CB41)","v":-0.81468159202123369},{"$f":"AX10+_xlfn.NORM.INV(randvba(), 0,1)*Vapor_Fluctuation_Magnitude!S10+((AX9+AY10+AX11+AW10)/4-AX10)/6+((AY9+AY11+AW11+AW9)/4-AX10)/12+1/Parameter!$D$10^2*(Fractuation!AX41-Fractuation!CC41)","v":-0.56958302053333276},{"$f":"AY10+_xlfn.NORM.INV(randvba(), 0,1)*Vapor_Fluctuation_Magnitude!T10+((AY9+AZ10+AY11+AX10)/4-AY10)/6+((AZ9+AZ11+AX11+AX9)/4-AY10)/12+1/Parameter!$D$10^2*(Fractuation!AY41-Fractuation!CD41)","v":0.3256146468976322},{"$f":"AZ10+_xlfn.NORM.INV(randvba(), 0,1)*Vapor_Fluctuation_Magnitude!U10+((AZ9+BA10+AZ11+AY10)/4-AZ10)/6+((BA9+BA11+AY11+AY9)/4-AZ10)/12+1/Parameter!$D$10^2*(Fractuation!AZ41-Fractuation!CE41)","v":0.8432843586977139},{"$f":"BA10+_xlfn.NORM.INV(randvba(), 0,1)*Vapor_Fluctuation_Magnitude!V10+((BA9+BB10+BA11+AZ10)/4-BA10)/6+((BB9+BB11+AZ11+AZ9)/4-BA10)/12+1/Parameter!$D$10^2*(Fractuation!BA41-Fractuation!CF41)","v":0.5132185418630093},{"$f":"BB10+_xlfn.NORM.INV(randvba(), 0,1)*Vapor_Fluctuation_Magnitude!W10+((BB9+BC10+BB11+BA10)/4-BB10)/6+((BC9+BC11+BA11+BA9)/4-BB10)/12+1/Parameter!$D$10^2*(Fractuation!BB41-Fractuation!CG41)","v":-1.4004364036135422},{"$f":"BC10+_xlfn.NORM.INV(randvba(), 0,1)*Vapor_Fluctuation_Magnitude!X10+((BC9+BD10+BC11+BB10)/4-BC10)/6+((BD9+BD11+BB11+BB9)/4-BC10)/12+1/Parameter!$D$10^2*(Fractuation!BC41-Fractuation!CH41)","v":-0.19443342464426422},{"$f":"BD10+_xlfn.NORM.INV(randvba(), 0,1)*Vapor_Fluctuation_Magnitude!Y10+((BD9+BE10+BD11+BC10)/4-BD10)/6+((BE9+BE11+BC11+BC9)/4-BD10)/12+1/Parameter!$D$10^2*(Fractuation!BD41-Fractuation!CI41)","v":0.58234587824156114},{"$f":"BE10+_xlfn.NORM.INV(randvba(), 0,1)*Vapor_Fluctuation_Magnitude!Z10+((BE9+BF10+BE11+BD10)/4-BE10)/6+((BF9+BF11+BD11+BD9)/4-BE10)/12+1/Parameter!$D$10^2*(Fractuation!BE41-Fractuation!CJ41)","v":-0.61874003373037889},{"$f":"BF10+_xlfn.NORM.INV(randvba(), 0,1)*Vapor_Fluctuation_Magnitude!AA10+((BF9+BG10+BF11+BE10)/4-BF10)/6+((BG9+BG11+BE11+BE9)/4-BF10)/12+1/Parameter!$D$10^2*(Fractuation!BF41-Fractuation!CK41)","v":-1.4095941942233049E-2},{"$f":"BG10+_xlfn.NORM.INV(randvba(), 0,1)*Vapor_Fluctuation_Magnitude!AB10+((BG9+BH10+BG11+BF10)/4-BG10)/6+((BH9+BH11+BF11+BF9)/4-BG10)/12+1/Parameter!$D$10^2*(Fractuation!BG41-Fractuation!CL41)","v":0.92611570561579892},{"$f":"BH10+_xlfn.NORM.INV(randvba(), 0,1)*Vapor_Fluctuation_Magnitude!AC10+((BH9+BI10+BH11+BG10)/4-BH10)/6+((BI9+BI11+BG11+BG9)/4-BH10)/12+1/Parameter!$D$10^2*(Fractuation!BH41-Fractuation!CM41)","v":0.13400874119925424},{"$f":"BI10+_xlfn.NORM.INV(randvba(), 0,1)*Vapor_Fluctuation_Magnitude!AD10+((BI9+BI11+BH10)/3-BI10)/6+((BH11+BH9)/2-BI10)/12+1/Parameter!$D$10^2*(Fractuation!BI41-Fractuation!CN41)","v":-1.5871718596490183},null,0,0,0,0,0,0,0,0,0,0,0,0,0,0,0,0,0,0,0,0,0,0,0,0,0,0,0,0,0,0,null,0,0,0,0,0,0,0,0,0,0,0,0,0,0,0,0,0,0,0,0,0,0,0,0,0,0,0,0,0,0,null,0,0,0,0,0,0,0,0,0,0,0,0,0,0,0,0,0,0,0,0,0,0,0,0,0,0,0,0,0,0]
[{"$f":"AF11+_xlfn.NORM.INV(randvba(), 0,1)*Vapor_Fluctuation_Magnitude!A11+((AF10+AG11+AF12)/3-AF11)/6+((AG10+AG12)/4-AF11)/12+1/Parameter!$D$10^2*(Fractuation!AF42-Fractuation!BK42)","v":-0.81863073385755802},{"$f":"AG11+_xlfn.NORM.INV(randvba(), 0,1)*Vapor_Fluctuation_Magnitude!B11+((AG10+AH11+AG12+AF11)/4-AG11)/6+((AH10+AH12+AF12+AF10)/4-AG11)/12+1/Parameter!$D$10^2*(Fractuation!AG42-Fractuation!BL42)","v":0.29256219943169814},{"$f":"AH11+_xlfn.NORM.INV(randvba(), 0,1)*Vapor_Fluctuation_Magnitude!C11+((AH10+AI11+AH12+AG11)/4-AH11)/6+((AI10+AI12+AG12+AG10)/4-AH11)/12+1/Parameter!$D$10^2*(Fractuation!AH42-Fractuation!BM42)","v":-1.0536270505753045},{"$f":"AI11+_xlfn.NORM.INV(randvba(), 0,1)*Vapor_Fluctuation_Magnitude!D11+((AI10+AJ11+AI12+AH11)/4-AI11)/6+((AJ10+AJ12+AH12+AH10)/4-AI11)/12+1/Parameter!$D$10^2*(Fractuation!AI42-Fractuation!BN42)","v":0.47209772986403792},{"$f":"AJ11+_xlfn.NORM.INV(randvba(), 0,1)*Vapor_Fluctuation_Magnitude!E11+((AJ10+AK11+AJ12+AI11)/4-AJ11)/6+((AK10+AK12+AI12+AI10)/4-AJ11)/12+1/Parameter!$D$10^2*(Fractuation!AJ42-Fractuation!BO42)","v":-0.4406424452130438},{"$f":"AK11+_xlfn.NORM.INV(randvba(), 0,1)*Vapor_Fluctuation_Magnitude!F11+((AK10+AL11+AK12+AJ11)/4-AK11)/6+((AL10+AL12+AJ12+AJ10)/4-AK11)/12+1/Parameter!$D$10^2*(Fractuation!AK42-Fractuation!BP42)","v":-1.688588365852026},{"$f":"AL11+_xlfn.NORM.INV(randvba(), 0,1)*Vapor_Fluctuation_Magnitude!G11+((AL10+AM11+AL12+AK11)/4-AL11)/6+((AM10+AM12+AK12+AK10)/4-AL11)/12+1/Parameter!$D$10^2*(Fractuation!AL42-Fractuation!BQ42)","v":-0.18030550756108879},{"$f":"AM11+_xlfn.NORM.INV(randvba(), 0,1)*Vapor_Fluctuation_Magnitude!H11+((AM10+AN11+AM12+AL11)/4-AM11)/6+((AN10+AN12+AL12+AL10)/4-AM11)/12+1/Parameter!$D$10^2*(Fractuation!AM42-Fractuation!BR42)","v":0.20490391085388743},{"$f":"AN11+_xlfn.NORM.INV(randvba(), 0,1)*Vapor_Fluctuation_Magnitude!I11+((AN10+AO11+AN12+AM11)/4-AN11)/6+((AO10+AO12+AM12+AM10)/4-AN11)/12+1/Parameter!$D$10^2*(Fractuation!AN42-Fractuation!BS42)","v":0.48488855194029257},{"$f":"AO11+_xlfn.NORM.INV(randvba(), 0,1)*Vapor_Fluctuation_Magnitude!J11+((AO10+AP11+AO12+AN11)/4-AO11)/6+((AP10+AP12+AN12+AN10)/4-AO11)/12+1/Parameter!$D$10^2*(Fractuation!AO42-Fractuation!BT42)","v":0.34345508184845103},{"$f":"AP11+_xlfn.NORM.INV(randvba(), 0,1)*Vapor_Fluctuation_Magnitude!K11+((AP10+AQ11+AP12+AO11)/4-AP11)/6+((AQ10+AQ12+AO12+AO10)/4-AP11)/12+1/Parameter!$D$10^2*(Fractuation!AP42-Fractuation!BU42)","v":0.10844086993985907},{"$f":"AQ11+_xlfn.NORM.INV(randvba(), 0,1)*Vapor_Fluctuation_Magnitude!L11+((AQ10+AR11+AQ12+AP11)/4-AQ11)/6+((AR10+AR12+AP12+AP10)/4-AQ11)/12+1/Parameter!$D$10^2*(Fractuation!AQ42-Fractuation!BV42)","v":0.27113625924903156},{"$f":"AR11+_xlfn.NORM.INV(randvba(), 0,1)*Vapor_Fluctuation_Magnitude!M11+((AR10+AS11+AR12+AQ11)/4-AR11)/6+((AS10+AS12+AQ12+AQ10)/4-AR11)/12+1/Parameter!$D$10^2*(Fractuation!AR42-Fractuation!BW42)","v":0.11959995242793281},{"$f":"AS11+_xlfn.NORM.INV(randvba(), 0,1)*Vapor_Fluctuation_Magnitude!N11+((AS10+AT11+AS12+AR11)/4-AS11)/6+((AT10+AT12+AR12+AR10)/4-AS11)/12+1/Parameter!$D$10^2*(Fractuation!AS42-Fractuation!BX42)","v":-0.98285932401967513},{"$f":"AT11+_xlfn.NORM.INV(randvba(), 0,1)*Vapor_Fluctuation_Magnitude!O11+((AT10+AU11+AT12+AS11)/4-AT11)/6+((AU10+AU12+AS12+AS10)/4-AT11)/12+1/Parameter!$D$10^2*(Fractuation!AT42-Fractuation!BY42)","v":-1.5181273185525357},{"$f":"AU11+_xlfn.NORM.INV(randvba(), 0,1)*Vapor_Fluctuation_Magnitude!P11+((AU10+AV11+AU12+AT11)/4-AU11)/6+((AV10+AV12+AT12+AT10)/4-AU11)/12+1/Parameter!$D$10^2*(Fractuation!AU42-Fractuation!BZ42)","v":-0.30337737934811959},{"$f":"AV11+_xlfn.NORM.INV(randvba(), 0,1)*Vapor_Fluctuation_Magnitude!Q11+((AV10+AW11+AV12+AU11)/4-AV11)/6+((AW10+AW12+AU12+AU10)/4-AV11)/12+1/Parameter!$D$10^2*(Fractuation!AV42-Fractuation!CA42)","v":1.6405700199557545},{"$f":"AW11+_xlfn.NORM.INV(randvba(), 0,1)*Vapor_Fluctuation_Magnitude!R11+((AW10+AX11+AW12+AV11)/4-AW11)/6+((AX10+AX12+AV12+AV10)/4-AW11)/12+1/Parameter!$D$10^2*(Fractuation!AW42-Fractuation!CB42)","v":-0.22928610791363344},{"$f":"AX11+_xlfn.NORM.INV(randvba(), 0,1)*Vapor_Fluctuation_Magnitude!S11+((AX10+AY11+AX12+AW11)/4-AX11)/6+((AY10+AY12+AW12+AW10)/4-AX11)/12+1/Parameter!$D$10^2*(Fractuation!AX42-Fractuation!CC42)","v":4.4364729077764384E-2},{"$f":"AY11+_xlfn.NORM.INV(randvba(), 0,1)*Vapor_Fluctuation_Magnitude!T11+((AY10+AZ11+AY12+AX11)/4-AY11)/6+((AZ10+AZ12+AX12+AX10)/4-AY11)/12+1/Parameter!$D$10^2*(Fractuation!AY42-Fractuation!CD42)","v":-3.8591463553169607E-2},{"$f":"AZ11+_xlfn.NORM.INV(randvba(), 0,1)*Vapor_Fluctuation_Magnitude!U11+((AZ10+BA11+AZ12+AY11)/4-AZ11)/6+((BA10+BA12+AY12+AY10)/4-AZ11)/12+1/Parameter!$D$10^2*(Fractuation!AZ42-Fractuation!CE42)","v":-1.3080447668749902},{"$f":"BA11+_xlfn.NORM.INV(randvba(), 0,1)*Vapor_Fluctuation_Magnitude!V11+((BA10+BB11+BA12+AZ11)/4-BA11)/6+((BB10+BB12+AZ12+AZ10)/4-BA11)/12+1/Parameter!$D$10^2*(Fractuation!BA42-Fractuation!CF42)","v":-0.53659745708471163},{"$f":"BB11+_xlfn.NORM.INV(randvba(), 0,1)*Vapor_Fluctuation_Magnitude!W11+((BB10+BC11+BB12+BA11)/4-BB11)/6+((BC10+BC12+BA12+BA10)/4-BB11)/12+1/Parameter!$D$10^2*(Fractuation!BB42-Fractuation!CG42)","v":-1.2931833666318948},{"$f":"BC11+_xlfn.NORM.INV(randvba(), 0,1)*Vapor_Fluctuation_Magnitude!X11+((BC10+BD11+BC12+BB11)/4-BC11)/6+((BD10+BD12+BB12+BB10)/4-BC11)/12+1/Parameter!$D$10^2*(Fractuation!BC42-Fractuation!CH42)","v":-0.85767894414022861},{"$f":"BD11+_xlfn.NORM.INV(randvba(), 0,1)*Vapor_Fluctuation_Magnitude!Y11+((BD10+BE11+BD12+BC11)/4-BD11)/6+((BE10+BE12+BC12+BC10)/4-BD11)/12+1/Parameter!$D$10^2*(Fractuation!BD42-Fractuation!CI42)","v":-0.2080391453370069},{"$f":"BE11+_xlfn.NORM.INV(randvba(), 0,1)*Vapor_Fluctuation_Magnitude!Z11+((BE10+BF11+BE12+BD11)/4-BE11)/6+((BF10+BF12+BD12+BD10)/4-BE11)/12+1/Parameter!$D$10^2*(Fractuation!BE42-Fractuation!CJ42)","v":-0.22745061526477847},{"$f":"BF11+_xlfn.NORM.INV(randvba(), 0,1)*Vapor_Fluctuation_Magnitude!AA11+((BF10+BG11+BF12+BE11)/4-BF11)/6+((BG10+BG12+BE12+BE10)/4-BF11)/12+1/Parameter!$D$10^2*(Fractuation!BF42-Fractuation!CK42)","v":0.89521511420093502},{"$f":"BG11+_xlfn.NORM.INV(randvba(), 0,1)*Vapor_Fluctuation_Magnitude!AB11+((BG10+BH11+BG12+BF11)/4-BG11)/6+((BH10+BH12+BF12+BF10)/4-BG11)/12+1/Parameter!$D$10^2*(Fractuation!BG42-Fractuation!CL42)","v":-0.24914682073526143},{"$f":"BH11+_xlfn.NORM.INV(randvba(), 0,1)*Vapor_Fluctuation_Magnitude!AC11+((BH10+BI11+BH12+BG11)/4-BH11)/6+((BI10+BI12+BG12+BG10)/4-BH11)/12+1/Parameter!$D$10^2*(Fractuation!BH42-Fractuation!CM42)","v":2.0471938997666621E-2},{"$f":"BI11+_xlfn.NORM.INV(randvba(), 0,1)*Vapor_Fluctuation_Magnitude!AD11+((BI10+BI12+BH11)/3-BI11)/6+((BH12+BH10)/2-BI11)/12+1/Parameter!$D$10^2*(Fractuation!BI42-Fractuation!CN42)","v":1.9263021429018259},null,0,0,0,0,0,0,0,0,0,0,0,0,0,0,0,0,0,0,0,0,0,0,0,0,0,0,0,0,0,0,null,0,0,0,0,0,0,0,0,0,0,0,0,0,0,0,0,0,0,0,0,0,0,0,0,0,0,0,0,0,0,null,0,0,0,0,0,0,0,0,0,0,0,0,0,0,0,0,0,0,0,0,0,0,0,0,0,0,0,0,0,0]
[{"$f":"AF12+_xlfn.NORM.INV(randvba(), 0,1)*Vapor_Fluctuation_Magnitude!A12+((AF11+AG12+AF13)/3-AF12)/6+((AG11+AG13)/4-AF12)/12+1/Parameter!$D$10^2*(Fractuation!AF43-Fractuation!BK43)","v":0.33165206363596739},{"$f":"AG12+_xlfn.NORM.INV(randvba(), 0,1)*Vapor_Fluctuation_Magnitude!B12+((AG11+AH12+AG13+AF12)/4-AG12)/6+((AH11+AH13+AF13+AF11)/4-AG12)/12+1/Parameter!$D$10^2*(Fractuation!AG43-Fractuation!BL43)","v":-0.61847192268487894},{"$f":"AH12+_xlfn.NORM.INV(randvba(), 0,1)*Vapor_Fluctuation_Magnitude!C12+((AH11+AI12+AH13+AG12)/4-AH12)/6+((AI11+AI13+AG13+AG11)/4-AH12)/12+1/Parameter!$D$10^2*(Fractuation!AH43-Fractuation!BM43)","v":1.6899148932980817E-2},{"$f":"AI12+_xlfn.NORM.INV(randvba(), 0,1)*Vapor_Fluctuation_Magnitude!D12+((AI11+AJ12+AI13+AH12)/4-AI12)/6+((AJ11+AJ13+AH13+AH11)/4-AI12)/12+1/Parameter!$D$10^2*(Fractuation!AI43-Fractuation!BN43)","v":-0.34773746525413246},{"$f":"AJ12+_xlfn.NORM.INV(randvba(), 0,1)*Vapor_Fluctuation_Magnitude!E12+((AJ11+AK12+AJ13+AI12)/4-AJ12)/6+((AK11+AK13+AI13+AI11)/4-AJ12)/12+1/Parameter!$D$10^2*(Fractuation!AJ43-Fractuation!BO43)","v":-1.3459859231343403},{"$f":"AK12+_xlfn.NORM.INV(randvba(), 0,1)*Vapor_Fluctuation_Magnitude!F12+((AK11+AL12+AK13+AJ12)/4-AK12)/6+((AL11+AL13+AJ13+AJ11)/4-AK12)/12+1/Parameter!$D$10^2*(Fractuation!AK43-Fractuation!BP43)","v":0.52680062699237018},{"$f":"AL12+_xlfn.NORM.INV(randvba(), 0,1)*Vapor_Fluctuation_Magnitude!G12+((AL11+AM12+AL13+AK12)/4-AL12)/6+((AM11+AM13+AK13+AK11)/4-AL12)/12+1/Parameter!$D$10^2*(Fractuation!AL43-Fractuation!BQ43)","v":0.81043695609468847},{"$f":"AM12+_xlfn.NORM.INV(randvba(), 0,1)*Vapor_Fluctuation_Magnitude!H12+((AM11+AN12+AM13+AL12)/4-AM12)/6+((AN11+AN13+AL13+AL11)/4-AM12)/12+1/Parameter!$D$10^2*(Fractuation!AM43-Fractuation!BR43)","v":0.22701137025925466},{"$f":"AN12+_xlfn.NORM.INV(randvba(), 0,1)*Vapor_Fluctuation_Magnitude!I12+((AN11+AO12+AN13+AM12)/4-AN12)/6+((AO11+AO13+AM13+AM11)/4-AN12)/12+1/Parameter!$D$10^2*(Fractuation!AN43-Fractuation!BS43)","v":-0.3002042065202386},{"$f":"AO12+_xlfn.NORM.INV(randvba(), 0,1)*Vapor_Fluctuation_Magnitude!J12+((AO11+AP12+AO13+AN12)/4-AO12)/6+((AP11+AP13+AN13+AN11)/4-AO12)/12+1/Parameter!$D$10^2*(Fractuation!AO43-Fractuation!BT43)","v":0.15360677695091551},{"$f":"AP12+_xlfn.NORM.INV(randvba(), 0,1)*Vapor_Fluctuation_Magnitude!K12+((AP11+AQ12+AP13+AO12)/4-AP12)/6+((AQ11+AQ13+AO13+AO11)/4-AP12)/12+1/Parameter!$D$10^2*(Fractuation!AP43-Fractuation!BU43)","v":2.1507803020219698},{"$f":"AQ12+_xlfn.NORM.INV(randvba(), 0,1)*Vapor_Fluctuation_Magnitude!L12+((AQ11+AR12+AQ13+AP12)/4-AQ12)/6+((AR11+AR13+AP13+AP11)/4-AQ12)/12+1/Parameter!$D$10^2*(Fractuation!AQ43-Fractuation!BV43)","v":0.22736398930564131},{"$f":"AR12+_xlfn.NORM.INV(randvba(), 0,1)*Vapor_Fluctuation_Magnitude!M12+((AR11+AS12+AR13+AQ12)/4-AR12)/6+((AS11+AS13+AQ13+AQ11)/4-AR12)/12+1/Parameter!$D$10^2*(Fractuation!AR43-Fractuation!BW43)","v":1.7556138120484424},{"$f":"AS12+_xlfn.NORM.INV(randvba(), 0,1)*Vapor_Fluctuation_Magnitude!N12+((AS11+AT12+AS13+AR12)/4-AS12)/6+((AT11+AT13+AR13+AR11)/4-AS12)/12+1/Parameter!$D$10^2*(Fractuation!AS43-Fractuation!BX43)","v":0.10273557745371184},{"$f":"AT12+_xlfn.NORM.INV(randvba(), 0,1)*Vapor_Fluctuation_Magnitude!O12+((AT11+AU12+AT13+AS12)/4-AT12)/6+((AU11+AU13+AS13+AS11)/4-AT12)/12+1/Parameter!$D$10^2*(Fractuation!AT43-Fractuation!BY43)","v":-0.82889367690327476},{"$f":"AU12+_xlfn.NORM.INV(randvba(), 0,1)*Vapor_Fluctuation_Magnitude!P12+((AU11+AV12+AU13+AT12)/4-AU12)/6+((AV11+AV13+AT13+AT11)/4-AU12)/12+1/Parameter!$D$10^2*(Fractuation!AU43-Fractuation!BZ43)","v":-0.31141465352822084},{"$f":"AV12+_xlfn.NORM.INV(randvba(), 0,1)*Vapor_Fluctuation_Magnitude!Q12+((AV11+AW12+AV13+AU12)/4-AV12)/6+((AW11+AW13+AU13+AU11)/4-AV12)/12+1/Parameter!$D$10^2*(Fractuation!AV43-Fractuation!CA43)","v":0.3722135694707121},{"$f":"AW12+_xlfn.NORM.INV(randvba(), 0,1)*Vapor_Fluctuation_Magnitude!R12+((AW11+AX12+AW13+AV12)/4-AW12)/6+((AX11+AX13+AV13+AV11)/4-AW12)/12+1/Parameter!$D$10^2*(Fractuation!AW43-Fractuation!CB43)","v":0.69378861407140435},{"$f":"AX12+_xlfn.NORM.INV(randvba(), 0,1)*Vapor_Fluctuation_Magnitude!S12+((AX11+AY12+AX13+AW12)/4-AX12)/6+((AY11+AY13+AW13+AW11)/4-AX12)/12+1/Parameter!$D$10^2*(Fractuation!AX43-Fractuation!CC43)","v":-1.1585457389323863},{"$f":"AY12+_xlfn.NORM.INV(randvba(), 0,1)*Vapor_Fluctuation_Magnitude!T12+((AY11+AZ12+AY13+AX12)/4-AY12)/6+((AZ11+AZ13+AX13+AX11)/4-AY12)/12+1/Parameter!$D$10^2*(Fractuation!AY43-Fractuation!CD43)","v":6.2376331989637386E-2},{"$f":"AZ12+_xlfn.NORM.INV(randvba(), 0,1)*Vapor_Fluctuation_Magnitude!U12+((AZ11+BA12+AZ13+AY12)/4-AZ12)/6+((BA11+BA13+AY13+AY11)/4-AZ12)/12+1/Parameter!$D$10^2*(Fractuation!AZ43-Fractuation!CE43)","v":-1.5574882604077753},{"$f":"BA12+_xlfn.NORM.INV(randvba(), 0,1)*Vapor_Fluctuation_Magnitude!V12+((BA11+BB12+BA13+AZ12)/4-BA12)/6+((BB11+BB13+AZ13+AZ11)/4-BA12)/12+1/Parameter!$D$10^2*(Fractuation!BA43-Fractuation!CF43)","v":0.2441372866416445},{"$f":"BB12+_xlfn.NORM.INV(randvba(), 0,1)*Vapor_Fluctuation_Magnitude!W12+((BB11+BC12+BB13+BA12)/4-BB12)/6+((BC11+BC13+BA13+BA11)/4-BB12)/12+1/Parameter!$D$10^2*(Fractuation!BB43-Fractuation!CG43)","v":0.31878004967718965},{"$f":"BC12+_xlfn.NORM.INV(randvba(), 0,1)*Vapor_Fluctuation_Magnitude!X12+((BC11+BD12+BC13+BB12)/4-BC12)/6+((BD11+BD13+BB13+BB11)/4-BC12)/12+1/Parameter!$D$10^2*(Fractuation!BC43-Fractuation!CH43)","v":-0.95466536141480973},{"$f":"BD12+_xlfn.NORM.INV(randvba(), 0,1)*Vapor_Fluctuation_Magnitude!Y12+((BD11+BE12+BD13+BC12)/4-BD12)/6+((BE11+BE13+BC13+BC11)/4-BD12)/12+1/Parameter!$D$10^2*(Fractuation!BD43-Fractuation!CI43)","v":-0.52161130642075715},{"$f":"BE12+_xlfn.NORM.INV(randvba(), 0,1)*Vapor_Fluctuation_Magnitude!Z12+((BE11+BF12+BE13+BD12)/4-BE12)/6+((BF11+BF13+BD13+BD11)/4-BE12)/12+1/Parameter!$D$10^2*(Fractuation!BE43-Fractuation!CJ43)","v":0.50860462491731495},{"$f":"BF12+_xlfn.NORM.INV(randvba(), 0,1)*Vapor_Fluctuation_Magnitude!AA12+((BF11+BG12+BF13+BE12)/4-BF12)/6+((BG11+BG13+BE13+BE11)/4-BF12)/12+1/Parameter!$D$10^2*(Fractuation!BF43-Fractuation!CK43)","v":-0.37030525744071602},{"$f":"BG12+_xlfn.NORM.INV(randvba(), 0,1)*Vapor_Fluctuation_Magnitude!AB12+((BG11+BH12+BG13+BF12)/4-BG12)/6+((BH11+BH13+BF13+BF11)/4-BG12)/12+1/Parameter!$D$10^2*(Fractuation!BG43-Fractuation!CL43)","v":0.62644420667717615},{"$f":"BH12+_xlfn.NORM.INV(randvba(), 0,1)*Vapor_Fluctuation_Magnitude!AC12+((BH11+BI12+BH13+BG12)/4-BH12)/6+((BI11+BI13+BG13+BG11)/4-BH12)/12+1/Parameter!$D$10^2*(Fractuation!BH43-Fractuation!CM43)","v":-1.202301808861991},{"$f":"BI12+_xlfn.NORM.INV(randvba(), 0,1)*Vapor_Fluctuation_Magnitude!AD12+((BI11+BI13+BH12)/3-BI12)/6+((BH13+BH11)/2-BI12)/12+1/Parameter!$D$10^2*(Fractuation!BI43-Fractuation!CN43)","v":-0.18265763720959535},null,0,0,0,0,0,0,0,0,0,0,0,0,0,0,0,0,0,0,0,0,0,0,0,0,0,0,0,0,0,0,null,0,0,0,0,0,0,0,0,0,0,0,0,0,0,0,0,0,0,0,0,0,0,0,0,0,0,0,0,0,0,null,0,0,0,0,0,0,0,0,0,0,0,0,0,0,0,0,0,0,0,0,0,0,0,0,0,0,0,0,0,0]
[{"$f":"AF13+_xlfn.NORM.INV(randvba(), 0,1)*Vapor_Fluctuation_Magnitude!A13+((AF12+AG13+AF14)/3-AF13)/6+((AG12+AG14)/4-AF13)/12+1/Parameter!$D$10^2*(Fractuation!AF44-Fractuation!BK44)","v":-0.30914346064164494},{"$f":"AG13+_xlfn.NORM.INV(randvba(), 0,1)*Vapor_Fluctuation_Magnitude!B13+((AG12+AH13+AG14+AF13)/4-AG13)/6+((AH12+AH14+AF14+AF12)/4-AG13)/12+1/Parameter!$D$10^2*(Fractuation!AG44-Fractuation!BL44)","v":-0.80746618274807114},{"$f":"AH13+_xlfn.NORM.INV(randvba(), 0,1)*Vapor_Fluctuation_Magnitude!C13+((AH12+AI13+AH14+AG13)/4-AH13)/6+((AI12+AI14+AG14+AG12)/4-AH13)/12+1/Parameter!$D$10^2*(Fractuation!AH44-Fractuation!BM44)","v":0.8189645664615004},{"$f":"AI13+_xlfn.NORM.INV(randvba(), 0,1)*Vapor_Fluctuation_Magnitude!D13+((AI12+AJ13+AI14+AH13)/4-AI13)/6+((AJ12+AJ14+AH14+AH12)/4-AI13)/12+1/Parameter!$D$10^2*(Fractuation!AI44-Fractuation!BN44)","v":-0.7796452988514655},{"$f":"AJ13+_xlfn.NORM.INV(randvba(), 0,1)*Vapor_Fluctuation_Magnitude!E13+((AJ12+AK13+AJ14+AI13)/4-AJ13)/6+((AK12+AK14+AI14+AI12)/4-AJ13)/12+1/Parameter!$D$10^2*(Fractuation!AJ44-Fractuation!BO44)","v":0.46332357746699859},{"$f":"AK13+_xlfn.NORM.INV(randvba(), 0,1)*Vapor_Fluctuation_Magnitude!F13+((AK12+AL13+AK14+AJ13)/4-AK13)/6+((AL12+AL14+AJ14+AJ12)/4-AK13)/12+1/Parameter!$D$10^2*(Fractuation!AK44-Fractuation!BP44)","v":-0.45054928627763247},{"$f":"AL13+_xlfn.NORM.INV(randvba(), 0,1)*Vapor_Fluctuation_Magnitude!G13+((AL12+AM13+AL14+AK13)/4-AL13)/6+((AM12+AM14+AK14+AK12)/4-AL13)/12+1/Parameter!$D$10^2*(Fractuation!AL44-Fractuation!BQ44)","v":0.72936784440956548},{"$f":"AM13+_xlfn.NORM.INV(randvba(), 0,1)*Vapor_Fluctuation_Magnitude!H13+((AM12+AN13+AM14+AL13)/4-AM13)/6+((AN12+AN14+AL14+AL12)/4-AM13)/12+1/Parameter!$D$10^2*(Fractuation!AM44-Fractuation!BR44)","v":-0.89863026009293978},{"$f":"AN13+_xlfn.NORM.INV(randvba(), 0,1)*Vapor_Fluctuation_Magnitude!I13+((AN12+AO13+AN14+AM13)/4-AN13)/6+((AO12+AO14+AM14+AM12)/4-AN13)/12+1/Parameter!$D$10^2*(Fractuation!AN44-Fractuation!BS44)","v":-2.1203399209542648},{"$f":"AO13+_xlfn.NORM.INV(randvba(), 0,1)*Vapor_Fluctuation_Magnitude!J13+((AO12+AP13+AO14+AN13)/4-AO13)/6+((AP12+AP14+AN14+AN12)/4-AO13)/12+1/Parameter!$D$10^2*(Fractuation!AO44-Fractuation!BT44)","v":0.20573933773156697},{"$f":"AP13+_xlfn.NORM.INV(randvba(), 0,1)*Vapor_Fluctuation_Magnitude!K13+((AP12+AQ13+AP14+AO13)/4-AP13)/6+((AQ12+AQ14+AO14+AO12)/4-AP13)/12+1/Parameter!$D$10^2*(Fractuation!AP44-Fractuation!BU44)","v":1.4582671295887775},{"$f":"AQ13+_xlfn.NORM.INV(randvba(), 0,1)*Vapor_Fluctuation_Magnitude!L13+((AQ12+AR13+AQ14+AP13)/4-AQ13)/6+((AR12+AR14+AP14+AP12)/4-AQ13)/12+1/Parameter!$D$10^2*(Fractuation!AQ44-Fractuation!BV44)","v":1.6311540029801272},{"$f":"AR13+_xlfn.NORM.INV(randvba(), 0,1)*Vapor_Fluctuation_Magnitude!M13+((AR12+AS13+AR14+AQ13)/4-AR13)/6+((AS12+AS14+AQ14+AQ12)/4-AR13)/12+1/Parameter!$D$10^2*(Fractuation!AR44-Fractuation!BW44)","v":1.3640085836260056},{"$f":"AS13+_xlfn.NORM.INV(randvba(), 0,1)*Vapor_Fluctuation_Magnitude!N13+((AS12+AT13+AS14+AR13)/4-AS13)/6+((AT12+AT14+AR14+AR12)/4-AS13)/12+1/Parameter!$D$10^2*(Fractuation!AS44-Fractuation!BX44)","v":0.11811425339061651},{"$f":"AT13+_xlfn.NORM.INV(randvba(), 0,1)*Vapor_Fluctuation_Magnitude!O13+((AT12+AU13+AT14+AS13)/4-AT13)/6+((AU12+AU14+AS14+AS12)/4-AT13)/12+1/Parameter!$D$10^2*(Fractuation!AT44-Fractuation!BY44)","v":0.26063191780815176},{"$f":"AU13+_xlfn.NORM.INV(randvba(), 0,1)*Vapor_Fluctuation_Magnitude!P13+((AU12+AV13+AU14+AT13)/4-AU13)/6+((AV12+AV14+AT14+AT12)/4-AU13)/12+1/Parameter!$D$10^2*(Fractuation!AU44-Fractuation!BZ44)","v":1.4286332588354254},{"$f":"AV13+_xlfn.NORM.INV(randvba(), 0,1)*Vapor_Fluctuation_Magnitude!Q13+((AV12+AW13+AV14+AU13)/4-AV13)/6+((AW12+AW14+AU14+AU12)/4-AV13)/12+1/Parameter!$D$10^2*(Fractuation!AV44-Fractuation!CA44)","v":2.2732392402450719E-2},{"$f":"AW13+_xlfn.NORM.INV(randvba(), 0,1)*Vapor_Fluctuation_Magnitude!R13+((AW12+AX13+AW14+AV13)/4-AW13)/6+((AX12+AX14+AV14+AV12)/4-AW13)/12+1/Parameter!$D$10^2*(Fractuation!AW44-Fractuation!CB44)","v":-0.94025521055973105},{"$f":"AX13+_xlfn.NORM.INV(randvba(), 0,1)*Vapor_Fluctuation_Magnitude!S13+((AX12+AY13+AX14+AW13)/4-AX13)/6+((AY12+AY14+AW14+AW12)/4-AX13)/12+1/Parameter!$D$10^2*(Fractuation!AX44-Fractuation!CC44)","v":-0.81867689675980748},{"$f":"AY13+_xlfn.NORM.INV(randvba(), 0,1)*Vapor_Fluctuation_Magnitude!T13+((AY12+AZ13+AY14+AX13)/4-AY13)/6+((AZ12+AZ14+AX14+AX12)/4-AY13)/12+1/Parameter!$D$10^2*(Fractuation!AY44-Fractuation!CD44)","v":2.0780323993949121},{"$f":"AZ13+_xlfn.NORM.INV(randvba(), 0,1)*Vapor_Fluctuation_Magnitude!U13+((AZ12+BA13+AZ14+AY13)/4-AZ13)/6+((BA12+BA14+AY14+AY12)/4-AZ13)/12+1/Parameter!$D$10^2*(Fractuation!AZ44-Fractuation!CE44)","v":0.52588031500622368},{"$f":"BA13+_xlfn.NORM.INV(randvba(), 0,1)*Vapor_Fluctuation_Magnitude!V13+((BA12+BB13+BA14+AZ13)/4-BA13)/6+((BB12+BB14+AZ14+AZ12)/4-BA13)/12+1/Parameter!$D$10^2*(Fractuation!BA44-Fractuation!CF44)","v":-1.0583280574087539},{"$f":"BB13+_xlfn.NORM.INV(randvba(), 0,1)*Vapor_Fluctuation_Magnitude!W13+((BB12+BC13+BB14+BA13)/4-BB13)/6+((BC12+BC14+BA14+BA12)/4-BB13)/12+1/Parameter!$D$10^2*(Fractuation!BB44-Fractuation!CG44)","v":-1.6117835307380886},{"$f":"BC13+_xlfn.NORM.INV(randvba(), 0,1)*Vapor_Fluctuation_Magnitude!X13+((BC12+BD13+BC14+BB13)/4-BC13)/6+((BD12+BD14+BB14+BB12)/4-BC13)/12+1/Parameter!$D$10^2*(Fractuation!BC44-Fractuation!CH44)","v":0.29338550349295534},{"$f":"BD13+_xlfn.NORM.INV(randvba(), 0,1)*Vapor_Fluctuation_Magnitude!Y13+((BD12+BE13+BD14+BC13)/4-BD13)/6+((BE12+BE14+BC14+BC12)/4-BD13)/12+1/Parameter!$D$10^2*(Fractuation!BD44-Fractuation!CI44)","v":-0.44094787102923971},{"$f":"BE13+_xlfn.NORM.INV(randvba(), 0,1)*Vapor_Fluctuation_Magnitude!Z13+((BE12+BF13+BE14+BD13)/4-BE13)/6+((BF12+BF14+BD14+BD12)/4-BE13)/12+1/Parameter!$D$10^2*(Fractuation!BE44-Fractuation!CJ44)","v":0.56783671734939034},{"$f":"BF13+_xlfn.NORM.INV(randvba(), 0,1)*Vapor_Fluctuation_Magnitude!AA13+((BF12+BG13+BF14+BE13)/4-BF13)/6+((BG12+BG14+BE14+BE12)/4-BF13)/12+1/Parameter!$D$10^2*(Fractuation!BF44-Fractuation!CK44)","v":-1.2934378375954305},{"$f":"BG13+_xlfn.NORM.INV(randvba(), 0,1)*Vapor_Fluctuation_Magnitude!AB13+((BG12+BH13+BG14+BF13)/4-BG13)/6+((BH12+BH14+BF14+BF12)/4-BG13)/12+1/Parameter!$D$10^2*(Fractuation!BG44-Fractuation!CL44)","v":2.0502375225026768},{"$f":"BH13+_xlfn.NORM.INV(randvba(), 0,1)*Vapor_Fluctuation_Magnitude!AC13+((BH12+BI13+BH14+BG13)/4-BH13)/6+((BI12+BI14+BG14+BG12)/4-BH13)/12+1/Parameter!$D$10^2*(Fractuation!BH44-Fractuation!CM44)","v":0.97337761973287351},{"$f":"BI13+_xlfn.NORM.INV(randvba(), 0,1)*Vapor_Fluctuation_Magnitude!AD13+((BI12+BI14+BH13)/3-BI13)/6+((BH14+BH12)/2-BI13)/12+1/Parameter!$D$10^2*(Fractuation!BI44-Fractuation!CN44)","v":0.16422254949398837},null,0,0,0,0,0,0,0,0,0,0,0,0,0,0,0,0,0,0,0,0,0,0,0,0,0,0,0,0,0,0,null,0,0,0,0,0,0,0,0,0,0,0,0,0,0,0,0,0,0,0,0,0,0,0,0,0,0,0,0,0,0,null,0,0,0,0,0,0,0,0,0,0,0,0,0,0,0,0,0,0,0,0,0,0,0,0,0,0,0,0,0,0]
[{"$f":"AF14+_xlfn.NORM.INV(randvba(), 0,1)*Vapor_Fluctuation_Magnitude!A14+((AF13+AG14+AF15)/3-AF14)/6+((AG13+AG15)/4-AF14)/12+1/Parameter!$D$10^2*(Fractuation!AF45-Fractuation!BK45)","v":0.69113761329532397},{"$f":"AG14+_xlfn.NORM.INV(randvba(), 0,1)*Vapor_Fluctuation_Magnitude!B14+((AG13+AH14+AG15+AF14)/4-AG14)/6+((AH13+AH15+AF15+AF13)/4-AG14)/12+1/Parameter!$D$10^2*(Fractuation!AG45-Fractuation!BL45)","v":-0.59127409129440156},{"$f":"AH14+_xlfn.NORM.INV(randvba(), 0,1)*Vapor_Fluctuation_Magnitude!C14+((AH13+AI14+AH15+AG14)/4-AH14)/6+((AI13+AI15+AG15+AG13)/4-AH14)/12+1/Parameter!$D$10^2*(Fractuation!AH45-Fractuation!BM45)","v":0.30603125242630963},{"$f":"AI14+_xlfn.NORM.INV(randvba(), 0,1)*Vapor_Fluctuation_Magnitude!D14+((AI13+AJ14+AI15+AH14)/4-AI14)/6+((AJ13+AJ15+AH15+AH13)/4-AI14)/12+1/Parameter!$D$10^2*(Fractuation!AI45-Fractuation!BN45)","v":-0.74617255036059205},{"$f":"AJ14+_xlfn.NORM.INV(randvba(), 0,1)*Vapor_Fluctuation_Magnitude!E14+((AJ13+AK14+AJ15+AI14)/4-AJ14)/6+((AK13+AK15+AI15+AI13)/4-AJ14)/12+1/Parameter!$D$10^2*(Fractuation!AJ45-Fractuation!BO45)","v":0.33974527041028019},{"$f":"AK14+_xlfn.NORM.INV(randvba(), 0,1)*Vapor_Fluctuation_Magnitude!F14+((AK13+AL14+AK15+AJ14)/4-AK14)/6+((AL13+AL15+AJ15+AJ13)/4-AK14)/12+1/Parameter!$D$10^2*(Fractuation!AK45-Fractuation!BP45)","v":1.0687607951648874},{"$f":"AL14+_xlfn.NORM.INV(randvba(), 0,1)*Vapor_Fluctuation_Magnitude!G14+((AL13+AM14+AL15+AK14)/4-AL14)/6+((AM13+AM15+AK15+AK13)/4-AL14)/12+1/Parameter!$D$10^2*(Fractuation!AL45-Fractuation!BQ45)","v":-0.30813121161254681},{"$f":"AM14+_xlfn.NORM.INV(randvba(), 0,1)*Vapor_Fluctuation_Magnitude!H14+((AM13+AN14+AM15+AL14)/4-AM14)/6+((AN13+AN15+AL15+AL13)/4-AM14)/12+1/Parameter!$D$10^2*(Fractuation!AM45-Fractuation!BR45)","v":-0.26319969662567977},{"$f":"AN14+_xlfn.NORM.INV(randvba(), 0,1)*Vapor_Fluctuation_Magnitude!I14+((AN13+AO14+AN15+AM14)/4-AN14)/6+((AO13+AO15+AM15+AM13)/4-AN14)/12+1/Parameter!$D$10^2*(Fractuation!AN45-Fractuation!BS45)","v":0.70671942104181018},{"$f":"AO14+_xlfn.NORM.INV(randvba(), 0,1)*Vapor_Fluctuation_Magnitude!J14+((AO13+AP14+AO15+AN14)/4-AO14)/6+((AP13+AP15+AN15+AN13)/4-AO14)/12+1/Parameter!$D$10^2*(Fractuation!AO45-Fractuation!BT45)","v":0.23387309161617881},{"$f":"AP14+_xlfn.NORM.INV(randvba(), 0,1)*Vapor_Fluctuation_Magnitude!K14+((AP13+AQ14+AP15+AO14)/4-AP14)/6+((AQ13+AQ15+AO15+AO13)/4-AP14)/12+1/Parameter!$D$10^2*(Fractuation!AP45-Fractuation!BU45)","v":-0.57229909910421817},{"$f":"AQ14+_xlfn.NORM.INV(randvba(), 0,1)*Vapor_Fluctuation_Magnitude!L14+((AQ13+AR14+AQ15+AP14)/4-AQ14)/6+((AR13+AR15+AP15+AP13)/4-AQ14)/12+1/Parameter!$D$10^2*(Fractuation!AQ45-Fractuation!BV45)","v":-0.79573868115047341},{"$f":"AR14+_xlfn.NORM.INV(randvba(), 0,1)*Vapor_Fluctuation_Magnitude!M14+((AR13+AS14+AR15+AQ14)/4-AR14)/6+((AS13+AS15+AQ15+AQ13)/4-AR14)/12+1/Parameter!$D$10^2*(Fractuation!AR45-Fractuation!BW45)","v":1.4159536877368695},{"$f":"AS14+_xlfn.NORM.INV(randvba(), 0,1)*Vapor_Fluctuation_Magnitude!N14+((AS13+AT14+AS15+AR14)/4-AS14)/6+((AT13+AT15+AR15+AR13)/4-AS14)/12+1/Parameter!$D$10^2*(Fractuation!AS45-Fractuation!BX45)","v":-0.14118348099406289},{"$f":"AT14+_xlfn.NORM.INV(randvba(), 0,1)*Vapor_Fluctuation_Magnitude!O14+((AT13+AU14+AT15+AS14)/4-AT14)/6+((AU13+AU15+AS15+AS13)/4-AT14)/12+1/Parameter!$D$10^2*(Fractuation!AT45-Fractuation!BY45)","v":-0.24979138792697428},{"$f":"AU14+_xlfn.NORM.INV(randvba(), 0,1)*Vapor_Fluctuation_Magnitude!P14+((AU13+AV14+AU15+AT14)/4-AU14)/6+((AV13+AV15+AT15+AT13)/4-AU14)/12+1/Parameter!$D$10^2*(Fractuation!AU45-Fractuation!BZ45)","v":-2.00224486281859},{"$f":"AV14+_xlfn.NORM.INV(randvba(), 0,1)*Vapor_Fluctuation_Magnitude!Q14+((AV13+AW14+AV15+AU14)/4-AV14)/6+((AW13+AW15+AU15+AU13)/4-AV14)/12+1/Parameter!$D$10^2*(Fractuation!AV45-Fractuation!CA45)","v":-0.82633991413870123},{"$f":"AW14+_xlfn.NORM.INV(randvba(), 0,1)*Vapor_Fluctuation_Magnitude!R14+((AW13+AX14+AW15+AV14)/4-AW14)/6+((AX13+AX15+AV15+AV13)/4-AW14)/12+1/Parameter!$D$10^2*(Fractuation!AW45-Fractuation!CB45)","v":-1.413511464017118},{"$f":"AX14+_xlfn.NORM.INV(randvba(), 0,1)*Vapor_Fluctuation_Magnitude!S14+((AX13+AY14+AX15+AW14)/4-AX14)/6+((AY13+AY15+AW15+AW13)/4-AX14)/12+1/Parameter!$D$10^2*(Fractuation!AX45-Fractuation!CC45)","v":-0.39146600845492663},{"$f":"AY14+_xlfn.NORM.INV(randvba(), 0,1)*Vapor_Fluctuation_Magnitude!T14+((AY13+AZ14+AY15+AX14)/4-AY14)/6+((AZ13+AZ15+AX15+AX13)/4-AY14)/12+1/Parameter!$D$10^2*(Fractuation!AY45-Fractuation!CD45)","v":0.30334781177656994},{"$f":"AZ14+_xlfn.NORM.INV(randvba(), 0,1)*Vapor_Fluctuation_Magnitude!U14+((AZ13+BA14+AZ15+AY14)/4-AZ14)/6+((BA13+BA15+AY15+AY13)/4-AZ14)/12+1/Parameter!$D$10^2*(Fractuation!AZ45-Fractuation!CE45)","v":-0.21923601394286468},{"$f":"BA14+_xlfn.NORM.INV(randvba(), 0,1)*Vapor_Fluctuation_Magnitude!V14+((BA13+BB14+BA15+AZ14)/4-BA14)/6+((BB13+BB15+AZ15+AZ13)/4-BA14)/12+1/Parameter!$D$10^2*(Fractuation!BA45-Fractuation!CF45)","v":-1.0907654985187043},{"$f":"BB14+_xlfn.NORM.INV(randvba(), 0,1)*Vapor_Fluctuation_Magnitude!W14+((BB13+BC14+BB15+BA14)/4-BB14)/6+((BC13+BC15+BA15+BA13)/4-BB14)/12+1/Parameter!$D$10^2*(Fractuation!BB45-Fractuation!CG45)","v":-0.4904386628438816},{"$f":"BC14+_xlfn.NORM.INV(randvba(), 0,1)*Vapor_Fluctuation_Magnitude!X14+((BC13+BD14+BC15+BB14)/4-BC14)/6+((BD13+BD15+BB15+BB13)/4-BC14)/12+1/Parameter!$D$10^2*(Fractuation!BC45-Fractuation!CH45)","v":-7.3420600125579305E-3},{"$f":"BD14+_xlfn.NORM.INV(randvba(), 0,1)*Vapor_Fluctuation_Magnitude!Y14+((BD13+BE14+BD15+BC14)/4-BD14)/6+((BE13+BE15+BC15+BC13)/4-BD14)/12+1/Parameter!$D$10^2*(Fractuation!BD45-Fractuation!CI45)","v":-1.4138097358910382},{"$f":"BE14+_xlfn.NORM.INV(randvba(), 0,1)*Vapor_Fluctuation_Magnitude!Z14+((BE13+BF14+BE15+BD14)/4-BE14)/6+((BF13+BF15+BD15+BD13)/4-BE14)/12+1/Parameter!$D$10^2*(Fractuation!BE45-Fractuation!CJ45)","v":-7.8537851785474386E-2},{"$f":"BF14+_xlfn.NORM.INV(randvba(), 0,1)*Vapor_Fluctuation_Magnitude!AA14+((BF13+BG14+BF15+BE14)/4-BF14)/6+((BG13+BG15+BE15+BE13)/4-BF14)/12+1/Parameter!$D$10^2*(Fractuation!BF45-Fractuation!CK45)","v":0.86061681896477937},{"$f":"BG14+_xlfn.NORM.INV(randvba(), 0,1)*Vapor_Fluctuation_Magnitude!AB14+((BG13+BH14+BG15+BF14)/4-BG14)/6+((BH13+BH15+BF15+BF13)/4-BG14)/12+1/Parameter!$D$10^2*(Fractuation!BG45-Fractuation!CL45)","v":1.3364467965546929},{"$f":"BH14+_xlfn.NORM.INV(randvba(), 0,1)*Vapor_Fluctuation_Magnitude!AC14+((BH13+BI14+BH15+BG14)/4-BH14)/6+((BI13+BI15+BG15+BG13)/4-BH14)/12+1/Parameter!$D$10^2*(Fractuation!BH45-Fractuation!CM45)","v":-0.87710914029577391},{"$f":"BI14+_xlfn.NORM.INV(randvba(), 0,1)*Vapor_Fluctuation_Magnitude!AD14+((BI13+BI15+BH14)/3-BI14)/6+((BH15+BH13)/2-BI14)/12+1/Parameter!$D$10^2*(Fractuation!BI45-Fractuation!CN45)","v":-0.60392475581483873},null,0,0,0,0,0,0,0,0,0,0,0,0,0,0,0,0,0,0,0,0,0,0,0,0,0,0,0,0,0,0,null,0,0,0,0,0,0,0,0,0,0,0,0,0,0,0,0,0,0,0,0,0,0,0,0,0,0,0,0,0,0,null,0,0,0,0,0,0,0,0,0,0,0,0,0,0,0,0,0,0,0,0,0,0,0,0,0,0,0,0,0,0]
[{"$f":"AF15+_xlfn.NORM.INV(randvba(), 0,1)*Vapor_Fluctuation_Magnitude!A15+((AF14+AG15+AF16)/3-AF15)/6+((AG14+AG16)/4-AF15)/12+1/Parameter!$D$10^2*(Fractuation!AF46-Fractuation!BK46)","v":0.62346551965048225},{"$f":"AG15+_xlfn.NORM.INV(randvba(), 0,1)*Vapor_Fluctuation_Magnitude!B15+((AG14+AH15+AG16+AF15)/4-AG15)/6+((AH14+AH16+AF16+AF14)/4-AG15)/12+1/Parameter!$D$10^2*(Fractuation!AG46-Fractuation!BL46)","v":-0.58795884018516198},{"$f":"AH15+_xlfn.NORM.INV(randvba(), 0,1)*Vapor_Fluctuation_Magnitude!C15+((AH14+AI15+AH16+AG15)/4-AH15)/6+((AI14+AI16+AG16+AG14)/4-AH15)/12+1/Parameter!$D$10^2*(Fractuation!AH46-Fractuation!BM46)","v":0.10890376782484092},{"$f":"AI15+_xlfn.NORM.INV(randvba(), 0,1)*Vapor_Fluctuation_Magnitude!D15+((AI14+AJ15+AI16+AH15)/4-AI15)/6+((AJ14+AJ16+AH16+AH14)/4-AI15)/12+1/Parameter!$D$10^2*(Fractuation!AI46-Fractuation!BN46)","v":-0.58862282933642907},{"$f":"AJ15+_xlfn.NORM.INV(randvba(), 0,1)*Vapor_Fluctuation_Magnitude!E15+((AJ14+AK15+AJ16+AI15)/4-AJ15)/6+((AK14+AK16+AI16+AI14)/4-AJ15)/12+1/Parameter!$D$10^2*(Fractuation!AJ46-Fractuation!BO46)","v":-0.36759860524763899},{"$f":"AK15+_xlfn.NORM.INV(randvba(), 0,1)*Vapor_Fluctuation_Magnitude!F15+((AK14+AL15+AK16+AJ15)/4-AK15)/6+((AL14+AL16+AJ16+AJ14)/4-AK15)/12+1/Parameter!$D$10^2*(Fractuation!AK46-Fractuation!BP46)","v":-1.0396737977802764},{"$f":"AL15+_xlfn.NORM.INV(randvba(), 0,1)*Vapor_Fluctuation_Magnitude!G15+((AL14+AM15+AL16+AK15)/4-AL15)/6+((AM14+AM16+AK16+AK14)/4-AL15)/12+1/Parameter!$D$10^2*(Fractuation!AL46-Fractuation!BQ46)","v":-2.5494082238013055E-2},{"$f":"AM15+_xlfn.NORM.INV(randvba(), 0,1)*Vapor_Fluctuation_Magnitude!H15+((AM14+AN15+AM16+AL15)/4-AM15)/6+((AN14+AN16+AL16+AL14)/4-AM15)/12+1/Parameter!$D$10^2*(Fractuation!AM46-Fractuation!BR46)","v":0.4508446520223664},{"$f":"AN15+_xlfn.NORM.INV(randvba(), 0,1)*Vapor_Fluctuation_Magnitude!I15+((AN14+AO15+AN16+AM15)/4-AN15)/6+((AO14+AO16+AM16+AM14)/4-AN15)/12+1/Parameter!$D$10^2*(Fractuation!AN46-Fractuation!BS46)","v":-1.321588648818272},{"$f":"AO15+_xlfn.NORM.INV(randvba(), 0,1)*Vapor_Fluctuation_Magnitude!J15+((AO14+AP15+AO16+AN15)/4-AO15)/6+((AP14+AP16+AN16+AN14)/4-AO15)/12+1/Parameter!$D$10^2*(Fractuation!AO46-Fractuation!BT46)","v":-0.26411856167920533},{"$f":"AP15+_xlfn.NORM.INV(randvba(), 0,1)*Vapor_Fluctuation_Magnitude!K15+((AP14+AQ15+AP16+AO15)/4-AP15)/6+((AQ14+AQ16+AO16+AO14)/4-AP15)/12+1/Parameter!$D$10^2*(Fractuation!AP46-Fractuation!BU46)","v":0.97168501196787782},{"$f":"AQ15+_xlfn.NORM.INV(randvba(), 0,1)*Vapor_Fluctuation_Magnitude!L15+((AQ14+AR15+AQ16+AP15)/4-AQ15)/6+((AR14+AR16+AP16+AP14)/4-AQ15)/12+1/Parameter!$D$10^2*(Fractuation!AQ46-Fractuation!BV46)","v":-1.4959591637378595},{"$f":"AR15+_xlfn.NORM.INV(randvba(), 0,1)*Vapor_Fluctuation_Magnitude!M15+((AR14+AS15+AR16+AQ15)/4-AR15)/6+((AS14+AS16+AQ16+AQ14)/4-AR15)/12+1/Parameter!$D$10^2*(Fractuation!AR46-Fractuation!BW46)","v":-0.52968423363591122},{"$f":"AS15+_xlfn.NORM.INV(randvba(), 0,1)*Vapor_Fluctuation_Magnitude!N15+((AS14+AT15+AS16+AR15)/4-AS15)/6+((AT14+AT16+AR16+AR14)/4-AS15)/12+1/Parameter!$D$10^2*(Fractuation!AS46-Fractuation!BX46)","v":-2.0789950806428323},{"$f":"AT15+_xlfn.NORM.INV(randvba(), 0,1)*Vapor_Fluctuation_Magnitude!O15+((AT14+AU15+AT16+AS15)/4-AT15)/6+((AU14+AU16+AS16+AS14)/4-AT15)/12+1/Parameter!$D$10^2*(Fractuation!AT46-Fractuation!BY46)","v":-0.41494603351312603},{"$f":"AU15+_xlfn.NORM.INV(randvba(), 0,1)*Vapor_Fluctuation_Magnitude!P15+((AU14+AV15+AU16+AT15)/4-AU15)/6+((AV14+AV16+AT16+AT14)/4-AU15)/12+1/Parameter!$D$10^2*(Fractuation!AU46-Fractuation!BZ46)","v":-0.92447024375511444},{"$f":"AV15+_xlfn.NORM.INV(randvba(), 0,1)*Vapor_Fluctuation_Magnitude!Q15+((AV14+AW15+AV16+AU15)/4-AV15)/6+((AW14+AW16+AU16+AU14)/4-AV15)/12+1/Parameter!$D$10^2*(Fractuation!AV46-Fractuation!CA46)","v":1.1385130884680086},{"$f":"AW15+_xlfn.NORM.INV(randvba(), 0,1)*Vapor_Fluctuation_Magnitude!R15+((AW14+AX15+AW16+AV15)/4-AW15)/6+((AX14+AX16+AV16+AV14)/4-AW15)/12+1/Parameter!$D$10^2*(Fractuation!AW46-Fractuation!CB46)","v":-0.99264489968626357},{"$f":"AX15+_xlfn.NORM.INV(randvba(), 0,1)*Vapor_Fluctuation_Magnitude!S15+((AX14+AY15+AX16+AW15)/4-AX15)/6+((AY14+AY16+AW16+AW14)/4-AX15)/12+1/Parameter!$D$10^2*(Fractuation!AX46-Fractuation!CC46)","v":1.3797227091192092},{"$f":"AY15+_xlfn.NORM.INV(randvba(), 0,1)*Vapor_Fluctuation_Magnitude!T15+((AY14+AZ15+AY16+AX15)/4-AY15)/6+((AZ14+AZ16+AX16+AX14)/4-AY15)/12+1/Parameter!$D$10^2*(Fractuation!AY46-Fractuation!CD46)","v":-0.81479923370885809},{"$f":"AZ15+_xlfn.NORM.INV(randvba(), 0,1)*Vapor_Fluctuation_Magnitude!U15+((AZ14+BA15+AZ16+AY15)/4-AZ15)/6+((BA14+BA16+AY16+AY14)/4-AZ15)/12+1/Parameter!$D$10^2*(Fractuation!AZ46-Fractuation!CE46)","v":-1.6989124544473959},{"$f":"BA15+_xlfn.NORM.INV(randvba(), 0,1)*Vapor_Fluctuation_Magnitude!V15+((BA14+BB15+BA16+AZ15)/4-BA15)/6+((BB14+BB16+AZ16+AZ14)/4-BA15)/12+1/Parameter!$D$10^2*(Fractuation!BA46-Fractuation!CF46)","v":-5.0208137739530589E-2},{"$f":"BB15+_xlfn.NORM.INV(randvba(), 0,1)*Vapor_Fluctuation_Magnitude!W15+((BB14+BC15+BB16+BA15)/4-BB15)/6+((BC14+BC16+BA16+BA14)/4-BB15)/12+1/Parameter!$D$10^2*(Fractuation!BB46-Fractuation!CG46)","v":0.46999132478404293},{"$f":"BC15+_xlfn.NORM.INV(randvba(), 0,1)*Vapor_Fluctuation_Magnitude!X15+((BC14+BD15+BC16+BB15)/4-BC15)/6+((BD14+BD16+BB16+BB14)/4-BC15)/12+1/Parameter!$D$10^2*(Fractuation!BC46-Fractuation!CH46)","v":1.183275903241624},{"$f":"BD15+_xlfn.NORM.INV(randvba(), 0,1)*Vapor_Fluctuation_Magnitude!Y15+((BD14+BE15+BD16+BC15)/4-BD15)/6+((BE14+BE16+BC16+BC14)/4-BD15)/12+1/Parameter!$D$10^2*(Fractuation!BD46-Fractuation!CI46)","v":-1.3869109081996869},{"$f":"BE15+_xlfn.NORM.INV(randvba(), 0,1)*Vapor_Fluctuation_Magnitude!Z15+((BE14+BF15+BE16+BD15)/4-BE15)/6+((BF14+BF16+BD16+BD14)/4-BE15)/12+1/Parameter!$D$10^2*(Fractuation!BE46-Fractuation!CJ46)","v":-0.70405758397597074},{"$f":"BF15+_xlfn.NORM.INV(randvba(), 0,1)*Vapor_Fluctuation_Magnitude!AA15+((BF14+BG15+BF16+BE15)/4-BF15)/6+((BG14+BG16+BE16+BE14)/4-BF15)/12+1/Parameter!$D$10^2*(Fractuation!BF46-Fractuation!CK46)","v":-1.0133953435210399},{"$f":"BG15+_xlfn.NORM.INV(randvba(), 0,1)*Vapor_Fluctuation_Magnitude!AB15+((BG14+BH15+BG16+BF15)/4-BG15)/6+((BH14+BH16+BF16+BF14)/4-BG15)/12+1/Parameter!$D$10^2*(Fractuation!BG46-Fractuation!CL46)","v":1.1548606697098125},{"$f":"BH15+_xlfn.NORM.INV(randvba(), 0,1)*Vapor_Fluctuation_Magnitude!AC15+((BH14+BI15+BH16+BG15)/4-BH15)/6+((BI14+BI16+BG16+BG14)/4-BH15)/12+1/Parameter!$D$10^2*(Fractuation!BH46-Fractuation!CM46)","v":0.31257101176036267},{"$f":"BI15+_xlfn.NORM.INV(randvba(), 0,1)*Vapor_Fluctuation_Magnitude!AD15+((BI14+BI16+BH15)/3-BI15)/6+((BH16+BH14)/2-BI15)/12+1/Parameter!$D$10^2*(Fractuation!BI46-Fractuation!CN46)","v":0.53133406071633815},null,0,0,0,0,0,0,0,0,0,0,0,0,0,0,0,0,0,0,0,0,0,0,0,0,0,0,0,0,0,0,null,0,0,0,0,0,0,0,0,0,0,0,0,0,0,0,0,0,0,0,0,0,0,0,0,0,0,0,0,0,0,null,0,0,0,0,0,0,0,0,0,0,0,0,0,0,0,0,0,0,0,0,0,0,0,0,0,0,0,0,0,0]
[{"$f":"AF16+_xlfn.NORM.INV(randvba(), 0,1)*Vapor_Fluctuation_Magnitude!A16+((AF15+AG16+AF17)/3-AF16)/6+((AG15+AG17)/4-AF16)/12+1/Parameter!$D$10^2*(Fractuation!AF47-Fractuation!BK47)","v":-0.10933001521290489},{"$f":"AG16+_xlfn.NORM.INV(randvba(), 0,1)*Vapor_Fluctuation_Magnitude!B16+((AG15+AH16+AG17+AF16)/4-AG16)/6+((AH15+AH17+AF17+AF15)/4-AG16)/12+1/Parameter!$D$10^2*(Fractuation!AG47-Fractuation!BL47)","v":0.7390835390128776},{"$f":"AH16+_xlfn.NORM.INV(randvba(), 0,1)*Vapor_Fluctuation_Magnitude!C16+((AH15+AI16+AH17+AG16)/4-AH16)/6+((AI15+AI17+AG17+AG15)/4-AH16)/12+1/Parameter!$D$10^2*(Fractuation!AH47-Fractuation!BM47)","v":0.25038811351962625},{"$f":"AI16+_xlfn.NORM.INV(randvba(), 0,1)*Vapor_Fluctuation_Magnitude!D16+((AI15+AJ16+AI17+AH16)/4-AI16)/6+((AJ15+AJ17+AH17+AH15)/4-AI16)/12+1/Parameter!$D$10^2*(Fractuation!AI47-Fractuation!BN47)","v":0.67665548993154545},{"$f":"AJ16+_xlfn.NORM.INV(randvba(), 0,1)*Vapor_Fluctuation_Magnitude!E16+((AJ15+AK16+AJ17+AI16)/4-AJ16)/6+((AK15+AK17+AI17+AI15)/4-AJ16)/12+1/Parameter!$D$10^2*(Fractuation!AJ47-Fractuation!BO47)","v":-0.9829273786722772},{"$f":"AK16+_xlfn.NORM.INV(randvba(), 0,1)*Vapor_Fluctuation_Magnitude!F16+((AK15+AL16+AK17+AJ16)/4-AK16)/6+((AL15+AL17+AJ17+AJ15)/4-AK16)/12+1/Parameter!$D$10^2*(Fractuation!AK47-Fractuation!BP47)","v":-0.17570937437864495},{"$f":"AL16+_xlfn.NORM.INV(randvba(), 0,1)*Vapor_Fluctuation_Magnitude!G16+((AL15+AM16+AL17+AK16)/4-AL16)/6+((AM15+AM17+AK17+AK15)/4-AL16)/12+1/Parameter!$D$10^2*(Fractuation!AL47-Fractuation!BQ47)","v":1.2560233119003701},{"$f":"AM16+_xlfn.NORM.INV(randvba(), 0,1)*Vapor_Fluctuation_Magnitude!H16+((AM15+AN16+AM17+AL16)/4-AM16)/6+((AN15+AN17+AL17+AL15)/4-AM16)/12+1/Parameter!$D$10^2*(Fractuation!AM47-Fractuation!BR47)","v":-0.16757928065936295},{"$f":"AN16+_xlfn.NORM.INV(randvba(), 0,1)*Vapor_Fluctuation_Magnitude!I16+((AN15+AO16+AN17+AM16)/4-AN16)/6+((AO15+AO17+AM17+AM15)/4-AN16)/12+1/Parameter!$D$10^2*(Fractuation!AN47-Fractuation!BS47)","v":-0.77419038000594076},{"$f":"AO16+_xlfn.NORM.INV(randvba(), 0,1)*Vapor_Fluctuation_Magnitude!J16+((AO15+AP16+AO17+AN16)/4-AO16)/6+((AP15+AP17+AN17+AN15)/4-AO16)/12+1/Parameter!$D$10^2*(Fractuation!AO47-Fractuation!BT47)","v":1.2086434767010634},{"$f":"AP16+_xlfn.NORM.INV(randvba(), 0,1)*Vapor_Fluctuation_Magnitude!K16+((AP15+AQ16+AP17+AO16)/4-AP16)/6+((AQ15+AQ17+AO17+AO15)/4-AP16)/12+1/Parameter!$D$10^2*(Fractuation!AP47-Fractuation!BU47)","v":-1.0250202317429442},{"$f":"AQ16+_xlfn.NORM.INV(randvba(), 0,1)*Vapor_Fluctuation_Magnitude!L16+((AQ15+AR16+AQ17+AP16)/4-AQ16)/6+((AR15+AR17+AP17+AP15)/4-AQ16)/12+1/Parameter!$D$10^2*(Fractuation!AQ47-Fractuation!BV47)","v":0.10515465667560724},{"$f":"AR16+_xlfn.NORM.INV(randvba(), 0,1)*Vapor_Fluctuation_Magnitude!M16+((AR15+AS16+AR17+AQ16)/4-AR16)/6+((AS15+AS17+AQ17+AQ15)/4-AR16)/12+1/Parameter!$D$10^2*(Fractuation!AR47-Fractuation!BW47)","v":-0.5783810605116928},{"$f":"AS16+_xlfn.NORM.INV(randvba(), 0,1)*Vapor_Fluctuation_Magnitude!N16+((AS15+AT16+AS17+AR16)/4-AS16)/6+((AT15+AT17+AR17+AR15)/4-AS16)/12+1/Parameter!$D$10^2*(Fractuation!AS47-Fractuation!BX47)","v":-0.16918090443980013},{"$f":"AT16+_xlfn.NORM.INV(randvba(), 0,1)*Vapor_Fluctuation_Magnitude!O16+((AT15+AU16+AT17+AS16)/4-AT16)/6+((AU15+AU17+AS17+AS15)/4-AT16)/12+1/Parameter!$D$10^2*(Fractuation!AT47-Fractuation!BY47)","v":0.19923027296682},{"$f":"AU16+_xlfn.NORM.INV(randvba(), 0,1)*Vapor_Fluctuation_Magnitude!P16+((AU15+AV16+AU17+AT16)/4-AU16)/6+((AV15+AV17+AT17+AT15)/4-AU16)/12+1/Parameter!$D$10^2*(Fractuation!AU47-Fractuation!BZ47)","v":0.3794447512729871},{"$f":"AV16+_xlfn.NORM.INV(randvba(), 0,1)*Vapor_Fluctuation_Magnitude!Q16+((AV15+AW16+AV17+AU16)/4-AV16)/6+((AW15+AW17+AU17+AU15)/4-AV16)/12+1/Parameter!$D$10^2*(Fractuation!AV47-Fractuation!CA47)","v":-1.0253467102167628},{"$f":"AW16+_xlfn.NORM.INV(randvba(), 0,1)*Vapor_Fluctuation_Magnitude!R16+((AW15+AX16+AW17+AV16)/4-AW16)/6+((AX15+AX17+AV17+AV15)/4-AW16)/12+1/Parameter!$D$10^2*(Fractuation!AW47-Fractuation!CB47)","v":-1.7067664435316041},{"$f":"AX16+_xlfn.NORM.INV(randvba(), 0,1)*Vapor_Fluctuation_Magnitude!S16+((AX15+AY16+AX17+AW16)/4-AX16)/6+((AY15+AY17+AW17+AW15)/4-AX16)/12+1/Parameter!$D$10^2*(Fractuation!AX47-Fractuation!CC47)","v":-1.772063913653648},{"$f":"AY16+_xlfn.NORM.INV(randvba(), 0,1)*Vapor_Fluctuation_Magnitude!T16+((AY15+AZ16+AY17+AX16)/4-AY16)/6+((AZ15+AZ17+AX17+AX15)/4-AY16)/12+1/Parameter!$D$10^2*(Fractuation!AY47-Fractuation!CD47)","v":-0.60393820302265511},{"$f":"AZ16+_xlfn.NORM.INV(randvba(), 0,1)*Vapor_Fluctuation_Magnitude!U16+((AZ15+BA16+AZ17+AY16)/4-AZ16)/6+((BA15+BA17+AY17+AY15)/4-AZ16)/12+1/Parameter!$D$10^2*(Fractuation!AZ47-Fractuation!CE47)","v":0.37612262730350859},{"$f":"BA16+_xlfn.NORM.INV(randvba(), 0,1)*Vapor_Fluctuation_Magnitude!V16+((BA15+BB16+BA17+AZ16)/4-BA16)/6+((BB15+BB17+AZ17+AZ15)/4-BA16)/12+1/Parameter!$D$10^2*(Fractuation!BA47-Fractuation!CF47)","v":0.46196753770784232},{"$f":"BB16+_xlfn.NORM.INV(randvba(), 0,1)*Vapor_Fluctuation_Magnitude!W16+((BB15+BC16+BB17+BA16)/4-BB16)/6+((BC15+BC17+BA17+BA15)/4-BB16)/12+1/Parameter!$D$10^2*(Fractuation!BB47-Fractuation!CG47)","v":-1.3578390197944856},{"$f":"BC16+_xlfn.NORM.INV(randvba(), 0,1)*Vapor_Fluctuation_Magnitude!X16+((BC15+BD16+BC17+BB16)/4-BC16)/6+((BD15+BD17+BB17+BB15)/4-BC16)/12+1/Parameter!$D$10^2*(Fractuation!BC47-Fractuation!CH47)","v":-1.0227669218870379},{"$f":"BD16+_xlfn.NORM.INV(randvba(), 0,1)*Vapor_Fluctuation_Magnitude!Y16+((BD15+BE16+BD17+BC16)/4-BD16)/6+((BE15+BE17+BC17+BC15)/4-BD16)/12+1/Parameter!$D$10^2*(Fractuation!BD47-Fractuation!CI47)","v":2.4966472563035267},{"$f":"BE16+_xlfn.NORM.INV(randvba(), 0,1)*Vapor_Fluctuation_Magnitude!Z16+((BE15+BF16+BE17+BD16)/4-BE16)/6+((BF15+BF17+BD17+BD15)/4-BE16)/12+1/Parameter!$D$10^2*(Fractuation!BE47-Fractuation!CJ47)","v":-0.33048874827663699},{"$f":"BF16+_xlfn.NORM.INV(randvba(), 0,1)*Vapor_Fluctuation_Magnitude!AA16+((BF15+BG16+BF17+BE16)/4-BF16)/6+((BG15+BG17+BE17+BE15)/4-BF16)/12+1/Parameter!$D$10^2*(Fractuation!BF47-Fractuation!CK47)","v":0.61103225565962516},{"$f":"BG16+_xlfn.NORM.INV(randvba(), 0,1)*Vapor_Fluctuation_Magnitude!AB16+((BG15+BH16+BG17+BF16)/4-BG16)/6+((BH15+BH17+BF17+BF15)/4-BG16)/12+1/Parameter!$D$10^2*(Fractuation!BG47-Fractuation!CL47)","v":1.7826487877112278},{"$f":"BH16+_xlfn.NORM.INV(randvba(), 0,1)*Vapor_Fluctuation_Magnitude!AC16+((BH15+BI16+BH17+BG16)/4-BH16)/6+((BI15+BI17+BG17+BG15)/4-BH16)/12+1/Parameter!$D$10^2*(Fractuation!BH47-Fractuation!CM47)","v":1.1679857466324726},{"$f":"BI16+_xlfn.NORM.INV(randvba(), 0,1)*Vapor_Fluctuation_Magnitude!AD16+((BI15+BI17+BH16)/3-BI16)/6+((BH17+BH15)/2-BI16)/12+1/Parameter!$D$10^2*(Fractuation!BI47-Fractuation!CN47)","v":-0.75963118048602141},null,0,0,0,0,0,0,0,0,0,0,0,0,0,0,0,0,0,0,0,0,0,0,0,0,0,0,0,0,0,0,null,0,0,0,0,0,0,0,0,0,0,0,0,0,0,0,0,0,0,0,0,0,0,0,0,0,0,0,0,0,0,null,0,0,0,0,0,0,0,0,0,0,0,0,0,0,0,0,0,0,0,0,0,0,0,0,0,0,0,0,0,0]
[{"$f":"AF17+_xlfn.NORM.INV(randvba(), 0,1)*Vapor_Fluctuation_Magnitude!A17+((AF16+AG17+AF18)/3-AF17)/6+((AG16+AG18)/4-AF17)/12+1/Parameter!$D$10^2*(Fractuation!AF48-Fractuation!BK48)","v":-1.6648708093292486E-2},{"$f":"AG17+_xlfn.NORM.INV(randvba(), 0,1)*Vapor_Fluctuation_Magnitude!B17+((AG16+AH17+AG18+AF17)/4-AG17)/6+((AH16+AH18+AF18+AF16)/4-AG17)/12+1/Parameter!$D$10^2*(Fractuation!AG48-Fractuation!BL48)","v":-0.43249321664331714},{"$f":"AH17+_xlfn.NORM.INV(randvba(), 0,1)*Vapor_Fluctuation_Magnitude!C17+((AH16+AI17+AH18+AG17)/4-AH17)/6+((AI16+AI18+AG18+AG16)/4-AH17)/12+1/Parameter!$D$10^2*(Fractuation!AH48-Fractuation!BM48)","v":-0.63169550768297855},{"$f":"AI17+_xlfn.NORM.INV(randvba(), 0,1)*Vapor_Fluctuation_Magnitude!D17+((AI16+AJ17+AI18+AH17)/4-AI17)/6+((AJ16+AJ18+AH18+AH16)/4-AI17)/12+1/Parameter!$D$10^2*(Fractuation!AI48-Fractuation!BN48)","v":-0.2212705336778642},{"$f":"AJ17+_xlfn.NORM.INV(randvba(), 0,1)*Vapor_Fluctuation_Magnitude!E17+((AJ16+AK17+AJ18+AI17)/4-AJ17)/6+((AK16+AK18+AI18+AI16)/4-AJ17)/12+1/Parameter!$D$10^2*(Fractuation!AJ48-Fractuation!BO48)","v":0.19134899561196433},{"$f":"AK17+_xlfn.NORM.INV(randvba(), 0,1)*Vapor_Fluctuation_Magnitude!F17+((AK16+AL17+AK18+AJ17)/4-AK17)/6+((AL16+AL18+AJ18+AJ16)/4-AK17)/12+1/Parameter!$D$10^2*(Fractuation!AK48-Fractuation!BP48)","v":-0.57806549025092824},{"$f":"AL17+_xlfn.NORM.INV(randvba(), 0,1)*Vapor_Fluctuation_Magnitude!G17+((AL16+AM17+AL18+AK17)/4-AL17)/6+((AM16+AM18+AK18+AK16)/4-AL17)/12+1/Parameter!$D$10^2*(Fractuation!AL48-Fractuation!BQ48)","v":0.45000529433772302},{"$f":"AM17+_xlfn.NORM.INV(randvba(), 0,1)*Vapor_Fluctuation_Magnitude!H17+((AM16+AN17+AM18+AL17)/4-AM17)/6+((AN16+AN18+AL18+AL16)/4-AM17)/12+1/Parameter!$D$10^2*(Fractuation!AM48-Fractuation!BR48)","v":-0.22735663001076101},{"$f":"AN17+_xlfn.NORM.INV(randvba(), 0,1)*Vapor_Fluctuation_Magnitude!I17+((AN16+AO17+AN18+AM17)/4-AN17)/6+((AO16+AO18+AM18+AM16)/4-AN17)/12+1/Parameter!$D$10^2*(Fractuation!AN48-Fractuation!BS48)","v":6.1511121294463593E-3},{"$f":"AO17+_xlfn.NORM.INV(randvba(), 0,1)*Vapor_Fluctuation_Magnitude!J17+((AO16+AP17+AO18+AN17)/4-AO17)/6+((AP16+AP18+AN18+AN16)/4-AO17)/12+1/Parameter!$D$10^2*(Fractuation!AO48-Fractuation!BT48)","v":0.50316891995766766},{"$f":"AP17+_xlfn.NORM.INV(randvba(), 0,1)*Vapor_Fluctuation_Magnitude!K17+((AP16+AQ17+AP18+AO17)/4-AP17)/6+((AQ16+AQ18+AO18+AO16)/4-AP17)/12+1/Parameter!$D$10^2*(Fractuation!AP48-Fractuation!BU48)","v":1.5979327253612716},{"$f":"AQ17+_xlfn.NORM.INV(randvba(), 0,1)*Vapor_Fluctuation_Magnitude!L17+((AQ16+AR17+AQ18+AP17)/4-AQ17)/6+((AR16+AR18+AP18+AP16)/4-AQ17)/12+1/Parameter!$D$10^2*(Fractuation!AQ48-Fractuation!BV48)","v":-1.1244058468136677},{"$f":"AR17+_xlfn.NORM.INV(randvba(), 0,1)*Vapor_Fluctuation_Magnitude!M17+((AR16+AS17+AR18+AQ17)/4-AR17)/6+((AS16+AS18+AQ18+AQ16)/4-AR17)/12+1/Parameter!$D$10^2*(Fractuation!AR48-Fractuation!BW48)","v":-0.51723068879703882},{"$f":"AS17+_xlfn.NORM.INV(randvba(), 0,1)*Vapor_Fluctuation_Magnitude!N17+((AS16+AT17+AS18+AR17)/4-AS17)/6+((AT16+AT18+AR18+AR16)/4-AS17)/12+1/Parameter!$D$10^2*(Fractuation!AS48-Fractuation!BX48)","v":2.1329108139964643},{"$f":"AT17+_xlfn.NORM.INV(randvba(), 0,1)*Vapor_Fluctuation_Magnitude!O17+((AT16+AU17+AT18+AS17)/4-AT17)/6+((AU16+AU18+AS18+AS16)/4-AT17)/12+1/Parameter!$D$10^2*(Fractuation!AT48-Fractuation!BY48)","v":-0.21373626373846358},{"$f":"AU17+_xlfn.NORM.INV(randvba(), 0,1)*Vapor_Fluctuation_Magnitude!P17+((AU16+AV17+AU18+AT17)/4-AU17)/6+((AV16+AV18+AT18+AT16)/4-AU17)/12+1/Parameter!$D$10^2*(Fractuation!AU48-Fractuation!BZ48)","v":8.4503934320491556E-3},{"$f":"AV17+_xlfn.NORM.INV(randvba(), 0,1)*Vapor_Fluctuation_Magnitude!Q17+((AV16+AW17+AV18+AU17)/4-AV17)/6+((AW16+AW18+AU18+AU16)/4-AV17)/12+1/Parameter!$D$10^2*(Fractuation!AV48-Fractuation!CA48)","v":0.97798864753891257},{"$f":"AW17+_xlfn.NORM.INV(randvba(), 0,1)*Vapor_Fluctuation_Magnitude!R17+((AW16+AX17+AW18+AV17)/4-AW17)/6+((AX16+AX18+AV18+AV16)/4-AW17)/12+1/Parameter!$D$10^2*(Fractuation!AW48-Fractuation!CB48)","v":-1.5785149547495185},{"$f":"AX17+_xlfn.NORM.INV(randvba(), 0,1)*Vapor_Fluctuation_Magnitude!S17+((AX16+AY17+AX18+AW17)/4-AX17)/6+((AY16+AY18+AW18+AW16)/4-AX17)/12+1/Parameter!$D$10^2*(Fractuation!AX48-Fractuation!CC48)","v":-0.58479716529466896},{"$f":"AY17+_xlfn.NORM.INV(randvba(), 0,1)*Vapor_Fluctuation_Magnitude!T17+((AY16+AZ17+AY18+AX17)/4-AY17)/6+((AZ16+AZ18+AX18+AX16)/4-AY17)/12+1/Parameter!$D$10^2*(Fractuation!AY48-Fractuation!CD48)","v":-0.20160860655885024},{"$f":"AZ17+_xlfn.NORM.INV(randvba(), 0,1)*Vapor_Fluctuation_Magnitude!U17+((AZ16+BA17+AZ18+AY17)/4-AZ17)/6+((BA16+BA18+AY18+AY16)/4-AZ17)/12+1/Parameter!$D$10^2*(Fractuation!AZ48-Fractuation!CE48)","v":-0.48289230485779694},{"$f":"BA17+_xlfn.NORM.INV(randvba(), 0,1)*Vapor_Fluctuation_Magnitude!V17+((BA16+BB17+BA18+AZ17)/4-BA17)/6+((BB16+BB18+AZ18+AZ16)/4-BA17)/12+1/Parameter!$D$10^2*(Fractuation!BA48-Fractuation!CF48)","v":-1.2189430200036007},{"$f":"BB17+_xlfn.NORM.INV(randvba(), 0,1)*Vapor_Fluctuation_Magnitude!W17+((BB16+BC17+BB18+BA17)/4-BB17)/6+((BC16+BC18+BA18+BA16)/4-BB17)/12+1/Parameter!$D$10^2*(Fractuation!BB48-Fractuation!CG48)","v":-0.65377331484369239},{"$f":"BC17+_xlfn.NORM.INV(randvba(), 0,1)*Vapor_Fluctuation_Magnitude!X17+((BC16+BD17+BC18+BB17)/4-BC17)/6+((BD16+BD18+BB18+BB16)/4-BC17)/12+1/Parameter!$D$10^2*(Fractuation!BC48-Fractuation!CH48)","v":-0.22043340919875434},{"$f":"BD17+_xlfn.NORM.INV(randvba(), 0,1)*Vapor_Fluctuation_Magnitude!Y17+((BD16+BE17+BD18+BC17)/4-BD17)/6+((BE16+BE18+BC18+BC16)/4-BD17)/12+1/Parameter!$D$10^2*(Fractuation!BD48-Fractuation!CI48)","v":3.4441613243021009E-2},{"$f":"BE17+_xlfn.NORM.INV(randvba(), 0,1)*Vapor_Fluctuation_Magnitude!Z17+((BE16+BF17+BE18+BD17)/4-BE17)/6+((BF16+BF18+BD18+BD16)/4-BE17)/12+1/Parameter!$D$10^2*(Fractuation!BE48-Fractuation!CJ48)","v":1.296333253384258},{"$f":"BF17+_xlfn.NORM.INV(randvba(), 0,1)*Vapor_Fluctuation_Magnitude!AA17+((BF16+BG17+BF18+BE17)/4-BF17)/6+((BG16+BG18+BE18+BE16)/4-BF17)/12+1/Parameter!$D$10^2*(Fractuation!BF48-Fractuation!CK48)","v":-0.68641540803885004},{"$f":"BG17+_xlfn.NORM.INV(randvba(), 0,1)*Vapor_Fluctuation_Magnitude!AB17+((BG16+BH17+BG18+BF17)/4-BG17)/6+((BH16+BH18+BF18+BF16)/4-BG17)/12+1/Parameter!$D$10^2*(Fractuation!BG48-Fractuation!CL48)","v":-1.897427314043675},{"$f":"BH17+_xlfn.NORM.INV(randvba(), 0,1)*Vapor_Fluctuation_Magnitude!AC17+((BH16+BI17+BH18+BG17)/4-BH17)/6+((BI16+BI18+BG18+BG16)/4-BH17)/12+1/Parameter!$D$10^2*(Fractuation!BH48-Fractuation!CM48)","v":-0.54502888424002671},{"$f":"BI17+_xlfn.NORM.INV(randvba(), 0,1)*Vapor_Fluctuation_Magnitude!AD17+((BI16+BI18+BH17)/3-BI17)/6+((BH18+BH16)/2-BI17)/12+1/Parameter!$D$10^2*(Fractuation!BI48-Fractuation!CN48)","v":0.30503828320909127},null,0,0,0,0,0,0,0,0,0,0,0,0,0,0,0,0,0,0,0,0,0,0,0,0,0,0,0,0,0,0,null,0,0,0,0,0,0,0,0,0,0,0,0,0,0,0,0,0,0,0,0,0,0,0,0,0,0,0,0,0,0,null,0,0,0,0,0,0,0,0,0,0,0,0,0,0,0,0,0,0,0,0,0,0,0,0,0,0,0,0,0,0]
[{"$f":"AF18+_xlfn.NORM.INV(randvba(), 0,1)*Vapor_Fluctuation_Magnitude!A18+((AF17+AG18+AF19)/3-AF18)/6+((AG17+AG19)/4-AF18)/12+1/Parameter!$D$10^2*(Fractuation!AF49-Fractuation!BK49)","v":-0.10133869274665734},{"$f":"AG18+_xlfn.NORM.INV(randvba(), 0,1)*Vapor_Fluctuation_Magnitude!B18+((AG17+AH18+AG19+AF18)/4-AG18)/6+((AH17+AH19+AF19+AF17)/4-AG18)/12+1/Parameter!$D$10^2*(Fractuation!AG49-Fractuation!BL49)","v":0.39662427436124087},{"$f":"AH18+_xlfn.NORM.INV(randvba(), 0,1)*Vapor_Fluctuation_Magnitude!C18+((AH17+AI18+AH19+AG18)/4-AH18)/6+((AI17+AI19+AG19+AG17)/4-AH18)/12+1/Parameter!$D$10^2*(Fractuation!AH49-Fractuation!BM49)","v":0.15352861748681246},{"$f":"AI18+_xlfn.NORM.INV(randvba(), 0,1)*Vapor_Fluctuation_Magnitude!D18+((AI17+AJ18+AI19+AH18)/4-AI18)/6+((AJ17+AJ19+AH19+AH17)/4-AI18)/12+1/Parameter!$D$10^2*(Fractuation!AI49-Fractuation!BN49)","v":-0.45058599813308503},{"$f":"AJ18+_xlfn.NORM.INV(randvba(), 0,1)*Vapor_Fluctuation_Magnitude!E18+((AJ17+AK18+AJ19+AI18)/4-AJ18)/6+((AK17+AK19+AI19+AI17)/4-AJ18)/12+1/Parameter!$D$10^2*(Fractuation!AJ49-Fractuation!BO49)","v":0.37937506960764794},{"$f":"AK18+_xlfn.NORM.INV(randvba(), 0,1)*Vapor_Fluctuation_Magnitude!F18+((AK17+AL18+AK19+AJ18)/4-AK18)/6+((AL17+AL19+AJ19+AJ17)/4-AK18)/12+1/Parameter!$D$10^2*(Fractuation!AK49-Fractuation!BP49)","v":0.95338159760229479},{"$f":"AL18+_xlfn.NORM.INV(randvba(), 0,1)*Vapor_Fluctuation_Magnitude!G18+((AL17+AM18+AL19+AK18)/4-AL18)/6+((AM17+AM19+AK19+AK17)/4-AL18)/12+1/Parameter!$D$10^2*(Fractuation!AL49-Fractuation!BQ49)","v":1.6865801939689349},{"$f":"AM18+_xlfn.NORM.INV(randvba(), 0,1)*Vapor_Fluctuation_Magnitude!H18+((AM17+AN18+AM19+AL18)/4-AM18)/6+((AN17+AN19+AL19+AL17)/4-AM18)/12+1/Parameter!$D$10^2*(Fractuation!AM49-Fractuation!BR49)","v":-0.13326164033228577},{"$f":"AN18+_xlfn.NORM.INV(randvba(), 0,1)*Vapor_Fluctuation_Magnitude!I18+((AN17+AO18+AN19+AM18)/4-AN18)/6+((AO17+AO19+AM19+AM17)/4-AN18)/12+1/Parameter!$D$10^2*(Fractuation!AN49-Fractuation!BS49)","v":2.0321666450340259},{"$f":"AO18+_xlfn.NORM.INV(randvba(), 0,1)*Vapor_Fluctuation_Magnitude!J18+((AO17+AP18+AO19+AN18)/4-AO18)/6+((AP17+AP19+AN19+AN17)/4-AO18)/12+1/Parameter!$D$10^2*(Fractuation!AO49-Fractuation!BT49)","v":-1.3413922902200839},{"$f":"AP18+_xlfn.NORM.INV(randvba(), 0,1)*Vapor_Fluctuation_Magnitude!K18+((AP17+AQ18+AP19+AO18)/4-AP18)/6+((AQ17+AQ19+AO19+AO17)/4-AP18)/12+1/Parameter!$D$10^2*(Fractuation!AP49-Fractuation!BU49)","v":0.25879701075886846},{"$f":"AQ18+_xlfn.NORM.INV(randvba(), 0,1)*Vapor_Fluctuation_Magnitude!L18+((AQ17+AR18+AQ19+AP18)/4-AQ18)/6+((AR17+AR19+AP19+AP17)/4-AQ18)/12+1/Parameter!$D$10^2*(Fractuation!AQ49-Fractuation!BV49)","v":-0.12313681579781251},{"$f":"AR18+_xlfn.NORM.INV(randvba(), 0,1)*Vapor_Fluctuation_Magnitude!M18+((AR17+AS18+AR19+AQ18)/4-AR18)/6+((AS17+AS19+AQ19+AQ17)/4-AR18)/12+1/Parameter!$D$10^2*(Fractuation!AR49-Fractuation!BW49)","v":0.33181986677694247},{"$f":"AS18+_xlfn.NORM.INV(randvba(), 0,1)*Vapor_Fluctuation_Magnitude!N18+((AS17+AT18+AS19+AR18)/4-AS18)/6+((AT17+AT19+AR19+AR17)/4-AS18)/12+1/Parameter!$D$10^2*(Fractuation!AS49-Fractuation!BX49)","v":-1.1672735221758475},{"$f":"AT18+_xlfn.NORM.INV(randvba(), 0,1)*Vapor_Fluctuation_Magnitude!O18+((AT17+AU18+AT19+AS18)/4-AT18)/6+((AU17+AU19+AS19+AS17)/4-AT18)/12+1/Parameter!$D$10^2*(Fractuation!AT49-Fractuation!BY49)","v":-0.80514282320340524},{"$f":"AU18+_xlfn.NORM.INV(randvba(), 0,1)*Vapor_Fluctuation_Magnitude!P18+((AU17+AV18+AU19+AT18)/4-AU18)/6+((AV17+AV19+AT19+AT17)/4-AU18)/12+1/Parameter!$D$10^2*(Fractuation!AU49-Fractuation!BZ49)","v":-0.72043828782936647},{"$f":"AV18+_xlfn.NORM.INV(randvba(), 0,1)*Vapor_Fluctuation_Magnitude!Q18+((AV17+AW18+AV19+AU18)/4-AV18)/6+((AW17+AW19+AU19+AU17)/4-AV18)/12+1/Parameter!$D$10^2*(Fractuation!AV49-Fractuation!CA49)","v":-1.2288526452000619},{"$f":"AW18+_xlfn.NORM.INV(randvba(), 0,1)*Vapor_Fluctuation_Magnitude!R18+((AW17+AX18+AW19+AV18)/4-AW18)/6+((AX17+AX19+AV19+AV17)/4-AW18)/12+1/Parameter!$D$10^2*(Fractuation!AW49-Fractuation!CB49)","v":-1.451135598847572},{"$f":"AX18+_xlfn.NORM.INV(randvba(), 0,1)*Vapor_Fluctuation_Magnitude!S18+((AX17+AY18+AX19+AW18)/4-AX18)/6+((AY17+AY19+AW19+AW17)/4-AX18)/12+1/Parameter!$D$10^2*(Fractuation!AX49-Fractuation!CC49)","v":-0.78327263279029036},{"$f":"AY18+_xlfn.NORM.INV(randvba(), 0,1)*Vapor_Fluctuation_Magnitude!T18+((AY17+AZ18+AY19+AX18)/4-AY18)/6+((AZ17+AZ19+AX19+AX17)/4-AY18)/12+1/Parameter!$D$10^2*(Fractuation!AY49-Fractuation!CD49)","v":-0.15758675257266791},{"$f":"AZ18+_xlfn.NORM.INV(randvba(), 0,1)*Vapor_Fluctuation_Magnitude!U18+((AZ17+BA18+AZ19+AY18)/4-AZ18)/6+((BA17+BA19+AY19+AY17)/4-AZ18)/12+1/Parameter!$D$10^2*(Fractuation!AZ49-Fractuation!CE49)","v":0.4876724149349419},{"$f":"BA18+_xlfn.NORM.INV(randvba(), 0,1)*Vapor_Fluctuation_Magnitude!V18+((BA17+BB18+BA19+AZ18)/4-BA18)/6+((BB17+BB19+AZ19+AZ17)/4-BA18)/12+1/Parameter!$D$10^2*(Fractuation!BA49-Fractuation!CF49)","v":0.93304691510888704},{"$f":"BB18+_xlfn.NORM.INV(randvba(), 0,1)*Vapor_Fluctuation_Magnitude!W18+((BB17+BC18+BB19+BA18)/4-BB18)/6+((BC17+BC19+BA19+BA17)/4-BB18)/12+1/Parameter!$D$10^2*(Fractuation!BB49-Fractuation!CG49)","v":-0.33906552276405533},{"$f":"BC18+_xlfn.NORM.INV(randvba(), 0,1)*Vapor_Fluctuation_Magnitude!X18+((BC17+BD18+BC19+BB18)/4-BC18)/6+((BD17+BD19+BB19+BB17)/4-BC18)/12+1/Parameter!$D$10^2*(Fractuation!BC49-Fractuation!CH49)","v":-0.71913855415747063},{"$f":"BD18+_xlfn.NORM.INV(randvba(), 0,1)*Vapor_Fluctuation_Magnitude!Y18+((BD17+BE18+BD19+BC18)/4-BD18)/6+((BE17+BE19+BC19+BC17)/4-BD18)/12+1/Parameter!$D$10^2*(Fractuation!BD49-Fractuation!CI49)","v":-0.44170906253458325},{"$f":"BE18+_xlfn.NORM.INV(randvba(), 0,1)*Vapor_Fluctuation_Magnitude!Z18+((BE17+BF18+BE19+BD18)/4-BE18)/6+((BF17+BF19+BD19+BD17)/4-BE18)/12+1/Parameter!$D$10^2*(Fractuation!BE49-Fractuation!CJ49)","v":-1.8670026933147481},{"$f":"BF18+_xlfn.NORM.INV(randvba(), 0,1)*Vapor_Fluctuation_Magnitude!AA18+((BF17+BG18+BF19+BE18)/4-BF18)/6+((BG17+BG19+BE19+BE17)/4-BF18)/12+1/Parameter!$D$10^2*(Fractuation!BF49-Fractuation!CK49)","v":0.9252367292080409},{"$f":"BG18+_xlfn.NORM.INV(randvba(), 0,1)*Vapor_Fluctuation_Magnitude!AB18+((BG17+BH18+BG19+BF18)/4-BG18)/6+((BH17+BH19+BF19+BF17)/4-BG18)/12+1/Parameter!$D$10^2*(Fractuation!BG49-Fractuation!CL49)","v":-0.46100361178071098},{"$f":"BH18+_xlfn.NORM.INV(randvba(), 0,1)*Vapor_Fluctuation_Magnitude!AC18+((BH17+BI18+BH19+BG18)/4-BH18)/6+((BI17+BI19+BG19+BG17)/4-BH18)/12+1/Parameter!$D$10^2*(Fractuation!BH49-Fractuation!CM49)","v":-1.1115999013111975},{"$f":"BI18+_xlfn.NORM.INV(randvba(), 0,1)*Vapor_Fluctuation_Magnitude!AD18+((BI17+BI19+BH18)/3-BI18)/6+((BH19+BH17)/2-BI18)/12+1/Parameter!$D$10^2*(Fractuation!BI49-Fractuation!CN49)","v":-0.25656968248917161},null,0,0,0,0,0,0,0,0,0,0,0,0,0,0,0,0,0,0,0,0,0,0,0,0,0,0,0,0,0,0,null,0,0,0,0,0,0,0,0,0,0,0,0,0,0,0,0,0,0,0,0,0,0,0,0,0,0,0,0,0,0,null,0,0,0,0,0,0,0,0,0,0,0,0,0,0,0,0,0,0,0,0,0,0,0,0,0,0,0,0,0,0]
[{"$f":"AF19+_xlfn.NORM.INV(randvba(), 0,1)*Vapor_Fluctuation_Magnitude!A19+((AF18+AG19+AF20)/3-AF19)/6+((AG18+AG20)/4-AF19)/12+1/Parameter!$D$10^2*(Fractuation!AF50-Fractuation!BK50)","v":0.96501030190017001},{"$f":"AG19+_xlfn.NORM.INV(randvba(), 0,1)*Vapor_Fluctuation_Magnitude!B19+((AG18+AH19+AG20+AF19)/4-AG19)/6+((AH18+AH20+AF20+AF18)/4-AG19)/12+1/Parameter!$D$10^2*(Fractuation!AG50-Fractuation!BL50)","v":-1.4469652335978669},{"$f":"AH19+_xlfn.NORM.INV(randvba(), 0,1)*Vapor_Fluctuation_Magnitude!C19+((AH18+AI19+AH20+AG19)/4-AH19)/6+((AI18+AI20+AG20+AG18)/4-AH19)/12+1/Parameter!$D$10^2*(Fractuation!AH50-Fractuation!BM50)","v":0.23486175513752575},{"$f":"AI19+_xlfn.NORM.INV(randvba(), 0,1)*Vapor_Fluctuation_Magnitude!D19+((AI18+AJ19+AI20+AH19)/4-AI19)/6+((AJ18+AJ20+AH20+AH18)/4-AI19)/12+1/Parameter!$D$10^2*(Fractuation!AI50-Fractuation!BN50)","v":-0.45385860911695802},{"$f":"AJ19+_xlfn.NORM.INV(randvba(), 0,1)*Vapor_Fluctuation_Magnitude!E19+((AJ18+AK19+AJ20+AI19)/4-AJ19)/6+((AK18+AK20+AI20+AI18)/4-AJ19)/12+1/Parameter!$D$10^2*(Fractuation!AJ50-Fractuation!BO50)","v":1.4989161073520971},{"$f":"AK19+_xlfn.NORM.INV(randvba(), 0,1)*Vapor_Fluctuation_Magnitude!F19+((AK18+AL19+AK20+AJ19)/4-AK19)/6+((AL18+AL20+AJ20+AJ18)/4-AK19)/12+1/Parameter!$D$10^2*(Fractuation!AK50-Fractuation!BP50)","v":-8.0284086622237516E-2},{"$f":"AL19+_xlfn.NORM.INV(randvba(), 0,1)*Vapor_Fluctuation_Magnitude!G19+((AL18+AM19+AL20+AK19)/4-AL19)/6+((AM18+AM20+AK20+AK18)/4-AL19)/12+1/Parameter!$D$10^2*(Fractuation!AL50-Fractuation!BQ50)","v":0.59643830306095835},{"$f":"AM19+_xlfn.NORM.INV(randvba(), 0,1)*Vapor_Fluctuation_Magnitude!H19+((AM18+AN19+AM20+AL19)/4-AM19)/6+((AN18+AN20+AL20+AL18)/4-AM19)/12+1/Parameter!$D$10^2*(Fractuation!AM50-Fractuation!BR50)","v":-1.2849210458222946},{"$f":"AN19+_xlfn.NORM.INV(randvba(), 0,1)*Vapor_Fluctuation_Magnitude!I19+((AN18+AO19+AN20+AM19)/4-AN19)/6+((AO18+AO20+AM20+AM18)/4-AN19)/12+1/Parameter!$D$10^2*(Fractuation!AN50-Fractuation!BS50)","v":0.22539244393450572},{"$f":"AO19+_xlfn.NORM.INV(randvba(), 0,1)*Vapor_Fluctuation_Magnitude!J19+((AO18+AP19+AO20+AN19)/4-AO19)/6+((AP18+AP20+AN20+AN18)/4-AO19)/12+1/Parameter!$D$10^2*(Fractuation!AO50-Fractuation!BT50)","v":0.83200627572448771},{"$f":"AP19+_xlfn.NORM.INV(randvba(), 0,1)*Vapor_Fluctuation_Magnitude!K19+((AP18+AQ19+AP20+AO19)/4-AP19)/6+((AQ18+AQ20+AO20+AO18)/4-AP19)/12+1/Parameter!$D$10^2*(Fractuation!AP50-Fractuation!BU50)","v":1.1669493622677674},{"$f":"AQ19+_xlfn.NORM.INV(randvba(), 0,1)*Vapor_Fluctuation_Magnitude!L19+((AQ18+AR19+AQ20+AP19)/4-AQ19)/6+((AR18+AR20+AP20+AP18)/4-AQ19)/12+1/Parameter!$D$10^2*(Fractuation!AQ50-Fractuation!BV50)","v":0.39174508075805714},{"$f":"AR19+_xlfn.NORM.INV(randvba(), 0,1)*Vapor_Fluctuation_Magnitude!M19+((AR18+AS19+AR20+AQ19)/4-AR19)/6+((AS18+AS20+AQ20+AQ18)/4-AR19)/12+1/Parameter!$D$10^2*(Fractuation!AR50-Fractuation!BW50)","v":-0.46011269369430391},{"$f":"AS19+_xlfn.NORM.INV(randvba(), 0,1)*Vapor_Fluctuation_Magnitude!N19+((AS18+AT19+AS20+AR19)/4-AS19)/6+((AT18+AT20+AR20+AR18)/4-AS19)/12+1/Parameter!$D$10^2*(Fractuation!AS50-Fractuation!BX50)","v":1.3338827848823942},{"$f":"AT19+_xlfn.NORM.INV(randvba(), 0,1)*Vapor_Fluctuation_Magnitude!O19+((AT18+AU19+AT20+AS19)/4-AT19)/6+((AU18+AU20+AS20+AS18)/4-AT19)/12+1/Parameter!$D$10^2*(Fractuation!AT50-Fractuation!BY50)","v":-1.4458625037904409},{"$f":"AU19+_xlfn.NORM.INV(randvba(), 0,1)*Vapor_Fluctuation_Magnitude!P19+((AU18+AV19+AU20+AT19)/4-AU19)/6+((AV18+AV20+AT20+AT18)/4-AU19)/12+1/Parameter!$D$10^2*(Fractuation!AU50-Fractuation!BZ50)","v":0.27659138231395303},{"$f":"AV19+_xlfn.NORM.INV(randvba(), 0,1)*Vapor_Fluctuation_Magnitude!Q19+((AV18+AW19+AV20+AU19)/4-AV19)/6+((AW18+AW20+AU20+AU18)/4-AV19)/12+1/Parameter!$D$10^2*(Fractuation!AV50-Fractuation!CA50)","v":-0.17230190384881175},{"$f":"AW19+_xlfn.NORM.INV(randvba(), 0,1)*Vapor_Fluctuation_Magnitude!R19+((AW18+AX19+AW20+AV19)/4-AW19)/6+((AX18+AX20+AV20+AV18)/4-AW19)/12+1/Parameter!$D$10^2*(Fractuation!AW50-Fractuation!CB50)","v":-1.2510799399039114},{"$f":"AX19+_xlfn.NORM.INV(randvba(), 0,1)*Vapor_Fluctuation_Magnitude!S19+((AX18+AY19+AX20+AW19)/4-AX19)/6+((AY18+AY20+AW20+AW18)/4-AX19)/12+1/Parameter!$D$10^2*(Fractuation!AX50-Fractuation!CC50)","v":0.530998578066047},{"$f":"AY19+_xlfn.NORM.INV(randvba(), 0,1)*Vapor_Fluctuation_Magnitude!T19+((AY18+AZ19+AY20+AX19)/4-AY19)/6+((AZ18+AZ20+AX20+AX18)/4-AY19)/12+1/Parameter!$D$10^2*(Fractuation!AY50-Fractuation!CD50)","v":-0.57222659214913296},{"$f":"AZ19+_xlfn.NORM.INV(randvba(), 0,1)*Vapor_Fluctuation_Magnitude!U19+((AZ18+BA19+AZ20+AY19)/4-AZ19)/6+((BA18+BA20+AY20+AY18)/4-AZ19)/12+1/Parameter!$D$10^2*(Fractuation!AZ50-Fractuation!CE50)","v":-9.2928877683645522E-2},{"$f":"BA19+_xlfn.NORM.INV(randvba(), 0,1)*Vapor_Fluctuation_Magnitude!V19+((BA18+BB19+BA20+AZ19)/4-BA19)/6+((BB18+BB20+AZ20+AZ18)/4-BA19)/12+1/Parameter!$D$10^2*(Fractuation!BA50-Fractuation!CF50)","v":0.66306256858750012},{"$f":"BB19+_xlfn.NORM.INV(randvba(), 0,1)*Vapor_Fluctuation_Magnitude!W19+((BB18+BC19+BB20+BA19)/4-BB19)/6+((BC18+BC20+BA20+BA18)/4-BB19)/12+1/Parameter!$D$10^2*(Fractuation!BB50-Fractuation!CG50)","v":-0.67678830048275307},{"$f":"BC19+_xlfn.NORM.INV(randvba(), 0,1)*Vapor_Fluctuation_Magnitude!X19+((BC18+BD19+BC20+BB19)/4-BC19)/6+((BD18+BD20+BB20+BB18)/4-BC19)/12+1/Parameter!$D$10^2*(Fractuation!BC50-Fractuation!CH50)","v":1.2786546642307672},{"$f":"BD19+_xlfn.NORM.INV(randvba(), 0,1)*Vapor_Fluctuation_Magnitude!Y19+((BD18+BE19+BD20+BC19)/4-BD19)/6+((BE18+BE20+BC20+BC18)/4-BD19)/12+1/Parameter!$D$10^2*(Fractuation!BD50-Fractuation!CI50)","v":-1.0350992079509804},{"$f":"BE19+_xlfn.NORM.INV(randvba(), 0,1)*Vapor_Fluctuation_Magnitude!Z19+((BE18+BF19+BE20+BD19)/4-BE19)/6+((BF18+BF20+BD20+BD18)/4-BE19)/12+1/Parameter!$D$10^2*(Fractuation!BE50-Fractuation!CJ50)","v":-1.6154299313971823},{"$f":"BF19+_xlfn.NORM.INV(randvba(), 0,1)*Vapor_Fluctuation_Magnitude!AA19+((BF18+BG19+BF20+BE19)/4-BF19)/6+((BG18+BG20+BE20+BE18)/4-BF19)/12+1/Parameter!$D$10^2*(Fractuation!BF50-Fractuation!CK50)","v":0.28044724715522157},{"$f":"BG19+_xlfn.NORM.INV(randvba(), 0,1)*Vapor_Fluctuation_Magnitude!AB19+((BG18+BH19+BG20+BF19)/4-BG19)/6+((BH18+BH20+BF20+BF18)/4-BG19)/12+1/Parameter!$D$10^2*(Fractuation!BG50-Fractuation!CL50)","v":0.18877374271481434},{"$f":"BH19+_xlfn.NORM.INV(randvba(), 0,1)*Vapor_Fluctuation_Magnitude!AC19+((BH18+BI19+BH20+BG19)/4-BH19)/6+((BI18+BI20+BG20+BG18)/4-BH19)/12+1/Parameter!$D$10^2*(Fractuation!BH50-Fractuation!CM50)","v":-0.77630119453030677},{"$f":"BI19+_xlfn.NORM.INV(randvba(), 0,1)*Vapor_Fluctuation_Magnitude!AD19+((BI18+BI20+BH19)/3-BI19)/6+((BH20+BH18)/2-BI19)/12+1/Parameter!$D$10^2*(Fractuation!BI50-Fractuation!CN50)","v":-0.49315467589714046},null,0,0,0,0,0,0,0,0,0,0,0,0,0,0,0,0,0,0,0,0,0,0,0,0,0,0,0,0,0,0,null,0,0,0,0,0,0,0,0,0,0,0,0,0,0,0,0,0,0,0,0,0,0,0,0,0,0,0,0,0,0,null,0,0,0,0,0,0,0,0,0,0,0,0,0,0,0,0,0,0,0,0,0,0,0,0,0,0,0,0,0,0]
[{"$f":"AF20+_xlfn.NORM.INV(randvba(), 0,1)*Vapor_Fluctuation_Magnitude!A20+((AF19+AG20+AF21)/3-AF20)/6+((AG19+AG21)/4-AF20)/12+1/Parameter!$D$10^2*(Fractuation!AF51-Fractuation!BK51)","v":-0.22592042285793829},{"$f":"AG20+_xlfn.NORM.INV(randvba(), 0,1)*Vapor_Fluctuation_Magnitude!B20+((AG19+AH20+AG21+AF20)/4-AG20)/6+((AH19+AH21+AF21+AF19)/4-AG20)/12+1/Parameter!$D$10^2*(Fractuation!AG51-Fractuation!BL51)","v":-0.2307333927405277},{"$f":"AH20+_xlfn.NORM.INV(randvba(), 0,1)*Vapor_Fluctuation_Magnitude!C20+((AH19+AI20+AH21+AG20)/4-AH20)/6+((AI19+AI21+AG21+AG19)/4-AH20)/12+1/Parameter!$D$10^2*(Fractuation!AH51-Fractuation!BM51)","v":-0.34595560678638498},{"$f":"AI20+_xlfn.NORM.INV(randvba(), 0,1)*Vapor_Fluctuation_Magnitude!D20+((AI19+AJ20+AI21+AH20)/4-AI20)/6+((AJ19+AJ21+AH21+AH19)/4-AI20)/12+1/Parameter!$D$10^2*(Fractuation!AI51-Fractuation!BN51)","v":0.50308532406547424},{"$f":"AJ20+_xlfn.NORM.INV(randvba(), 0,1)*Vapor_Fluctuation_Magnitude!E20+((AJ19+AK20+AJ21+AI20)/4-AJ20)/6+((AK19+AK21+AI21+AI19)/4-AJ20)/12+1/Parameter!$D$10^2*(Fractuation!AJ51-Fractuation!BO51)","v":-0.43523914964168264},{"$f":"AK20+_xlfn.NORM.INV(randvba(), 0,1)*Vapor_Fluctuation_Magnitude!F20+((AK19+AL20+AK21+AJ20)/4-AK20)/6+((AL19+AL21+AJ21+AJ19)/4-AK20)/12+1/Parameter!$D$10^2*(Fractuation!AK51-Fractuation!BP51)","v":-0.61835163089644318},{"$f":"AL20+_xlfn.NORM.INV(randvba(), 0,1)*Vapor_Fluctuation_Magnitude!G20+((AL19+AM20+AL21+AK20)/4-AL20)/6+((AM19+AM21+AK21+AK19)/4-AL20)/12+1/Parameter!$D$10^2*(Fractuation!AL51-Fractuation!BQ51)","v":-0.12328103793875929},{"$f":"AM20+_xlfn.NORM.INV(randvba(), 0,1)*Vapor_Fluctuation_Magnitude!H20+((AM19+AN20+AM21+AL20)/4-AM20)/6+((AN19+AN21+AL21+AL19)/4-AM20)/12+1/Parameter!$D$10^2*(Fractuation!AM51-Fractuation!BR51)","v":-0.37596179352201048},{"$f":"AN20+_xlfn.NORM.INV(randvba(), 0,1)*Vapor_Fluctuation_Magnitude!I20+((AN19+AO20+AN21+AM20)/4-AN20)/6+((AO19+AO21+AM21+AM19)/4-AN20)/12+1/Parameter!$D$10^2*(Fractuation!AN51-Fractuation!BS51)","v":0.68177971021471284},{"$f":"AO20+_xlfn.NORM.INV(randvba(), 0,1)*Vapor_Fluctuation_Magnitude!J20+((AO19+AP20+AO21+AN20)/4-AO20)/6+((AP19+AP21+AN21+AN19)/4-AO20)/12+1/Parameter!$D$10^2*(Fractuation!AO51-Fractuation!BT51)","v":1.5988283347732584},{"$f":"AP20+_xlfn.NORM.INV(randvba(), 0,1)*Vapor_Fluctuation_Magnitude!K20+((AP19+AQ20+AP21+AO20)/4-AP20)/6+((AQ19+AQ21+AO21+AO19)/4-AP20)/12+1/Parameter!$D$10^2*(Fractuation!AP51-Fractuation!BU51)","v":-0.52585132118047806},{"$f":"AQ20+_xlfn.NORM.INV(randvba(), 0,1)*Vapor_Fluctuation_Magnitude!L20+((AQ19+AR20+AQ21+AP20)/4-AQ20)/6+((AR19+AR21+AP21+AP19)/4-AQ20)/12+1/Parameter!$D$10^2*(Fractuation!AQ51-Fractuation!BV51)","v":7.4820306201312081E-2},{"$f":"AR20+_xlfn.NORM.INV(randvba(), 0,1)*Vapor_Fluctuation_Magnitude!M20+((AR19+AS20+AR21+AQ20)/4-AR20)/6+((AS19+AS21+AQ21+AQ19)/4-AR20)/12+1/Parameter!$D$10^2*(Fractuation!AR51-Fractuation!BW51)","v":0.51374543543881968},{"$f":"AS20+_xlfn.NORM.INV(randvba(), 0,1)*Vapor_Fluctuation_Magnitude!N20+((AS19+AT20+AS21+AR20)/4-AS20)/6+((AT19+AT21+AR21+AR19)/4-AS20)/12+1/Parameter!$D$10^2*(Fractuation!AS51-Fractuation!BX51)","v":-0.32013708727679113},{"$f":"AT20+_xlfn.NORM.INV(randvba(), 0,1)*Vapor_Fluctuation_Magnitude!O20+((AT19+AU20+AT21+AS20)/4-AT20)/6+((AU19+AU21+AS21+AS19)/4-AT20)/12+1/Parameter!$D$10^2*(Fractuation!AT51-Fractuation!BY51)","v":-1.0828478851309127},{"$f":"AU20+_xlfn.NORM.INV(randvba(), 0,1)*Vapor_Fluctuation_Magnitude!P20+((AU19+AV20+AU21+AT20)/4-AU20)/6+((AV19+AV21+AT21+AT19)/4-AU20)/12+1/Parameter!$D$10^2*(Fractuation!AU51-Fractuation!BZ51)","v":0.78744269249585142},{"$f":"AV20+_xlfn.NORM.INV(randvba(), 0,1)*Vapor_Fluctuation_Magnitude!Q20+((AV19+AW20+AV21+AU20)/4-AV20)/6+((AW19+AW21+AU21+AU19)/4-AV20)/12+1/Parameter!$D$10^2*(Fractuation!AV51-Fractuation!CA51)","v":1.6007202400809977},{"$f":"AW20+_xlfn.NORM.INV(randvba(), 0,1)*Vapor_Fluctuation_Magnitude!R20+((AW19+AX20+AW21+AV20)/4-AW20)/6+((AX19+AX21+AV21+AV19)/4-AW20)/12+1/Parameter!$D$10^2*(Fractuation!AW51-Fractuation!CB51)","v":0.18389881253774654},{"$f":"AX20+_xlfn.NORM.INV(randvba(), 0,1)*Vapor_Fluctuation_Magnitude!S20+((AX19+AY20+AX21+AW20)/4-AX20)/6+((AY19+AY21+AW21+AW19)/4-AX20)/12+1/Parameter!$D$10^2*(Fractuation!AX51-Fractuation!CC51)","v":-0.82265157157491609},{"$f":"AY20+_xlfn.NORM.INV(randvba(), 0,1)*Vapor_Fluctuation_Magnitude!T20+((AY19+AZ20+AY21+AX20)/4-AY20)/6+((AZ19+AZ21+AX21+AX19)/4-AY20)/12+1/Parameter!$D$10^2*(Fractuation!AY51-Fractuation!CD51)","v":0.6204662726004414},{"$f":"AZ20+_xlfn.NORM.INV(randvba(), 0,1)*Vapor_Fluctuation_Magnitude!U20+((AZ19+BA20+AZ21+AY20)/4-AZ20)/6+((BA19+BA21+AY21+AY19)/4-AZ20)/12+1/Parameter!$D$10^2*(Fractuation!AZ51-Fractuation!CE51)","v":-1.1347030301164167},{"$f":"BA20+_xlfn.NORM.INV(randvba(), 0,1)*Vapor_Fluctuation_Magnitude!V20+((BA19+BB20+BA21+AZ20)/4-BA20)/6+((BB19+BB21+AZ21+AZ19)/4-BA20)/12+1/Parameter!$D$10^2*(Fractuation!BA51-Fractuation!CF51)","v":-0.11851913080267246},{"$f":"BB20+_xlfn.NORM.INV(randvba(), 0,1)*Vapor_Fluctuation_Magnitude!W20+((BB19+BC20+BB21+BA20)/4-BB20)/6+((BC19+BC21+BA21+BA19)/4-BB20)/12+1/Parameter!$D$10^2*(Fractuation!BB51-Fractuation!CG51)","v":-0.82372755251463081},{"$f":"BC20+_xlfn.NORM.INV(randvba(), 0,1)*Vapor_Fluctuation_Magnitude!X20+((BC19+BD20+BC21+BB20)/4-BC20)/6+((BD19+BD21+BB21+BB19)/4-BC20)/12+1/Parameter!$D$10^2*(Fractuation!BC51-Fractuation!CH51)","v":-0.24085396492256606},{"$f":"BD20+_xlfn.NORM.INV(randvba(), 0,1)*Vapor_Fluctuation_Magnitude!Y20+((BD19+BE20+BD21+BC20)/4-BD20)/6+((BE19+BE21+BC21+BC19)/4-BD20)/12+1/Parameter!$D$10^2*(Fractuation!BD51-Fractuation!CI51)","v":-0.25611174093324152},{"$f":"BE20+_xlfn.NORM.INV(randvba(), 0,1)*Vapor_Fluctuation_Magnitude!Z20+((BE19+BF20+BE21+BD20)/4-BE20)/6+((BF19+BF21+BD21+BD19)/4-BE20)/12+1/Parameter!$D$10^2*(Fractuation!BE51-Fractuation!CJ51)","v":0.40909026371927265},{"$f":"BF20+_xlfn.NORM.INV(randvba(), 0,1)*Vapor_Fluctuation_Magnitude!AA20+((BF19+BG20+BF21+BE20)/4-BF20)/6+((BG19+BG21+BE21+BE19)/4-BF20)/12+1/Parameter!$D$10^2*(Fractuation!BF51-Fractuation!CK51)","v":1.2930106637273744},{"$f":"BG20+_xlfn.NORM.INV(randvba(), 0,1)*Vapor_Fluctuation_Magnitude!AB20+((BG19+BH20+BG21+BF20)/4-BG20)/6+((BH19+BH21+BF21+BF19)/4-BG20)/12+1/Parameter!$D$10^2*(Fractuation!BG51-Fractuation!CL51)","v":-0.7612235619987463},{"$f":"BH20+_xlfn.NORM.INV(randvba(), 0,1)*Vapor_Fluctuation_Magnitude!AC20+((BH19+BI20+BH21+BG20)/4-BH20)/6+((BI19+BI21+BG21+BG19)/4-BH20)/12+1/Parameter!$D$10^2*(Fractuation!BH51-Fractuation!CM51)","v":1.4578575150575288E-2},{"$f":"BI20+_xlfn.NORM.INV(randvba(), 0,1)*Vapor_Fluctuation_Magnitude!AD20+((BI19+BI21+BH20)/3-BI20)/6+((BH21+BH19)/2-BI20)/12+1/Parameter!$D$10^2*(Fractuation!BI51-Fractuation!CN51)","v":-0.28061756875993715},null,0,0,0,0,0,0,0,0,0,0,0,0,0,0,0,0,0,0,0,0,0,0,0,0,0,0,0,0,0,0,null,0,0,0,0,0,0,0,0,0,0,0,0,0,0,0,0,0,0,0,0,0,0,0,0,0,0,0,0,0,0,null,0,0,0,0,0,0,0,0,0,0,0,0,0,0,0,0,0,0,0,0,0,0,0,0,0,0,0,0,0,0]
[{"$f":"AF21+_xlfn.NORM.INV(randvba(), 0,1)*Vapor_Fluctuation_Magnitude!A21+((AF20+AG21+AF22)/3-AF21)/6+((AG20+AG22)/4-AF21)/12+1/Parameter!$D$10^2*(Fractuation!AF52-Fractuation!BK52)","v":4.681530364519005E-2},{"$f":"AG21+_xlfn.NORM.INV(randvba(), 0,1)*Vapor_Fluctuation_Magnitude!B21+((AG20+AH21+AG22+AF21)/4-AG21)/6+((AH20+AH22+AF22+AF20)/4-AG21)/12+1/Parameter!$D$10^2*(Fractuation!AG52-Fractuation!BL52)","v":0.30049570597669295},{"$f":"AH21+_xlfn.NORM.INV(randvba(), 0,1)*Vapor_Fluctuation_Magnitude!C21+((AH20+AI21+AH22+AG21)/4-AH21)/6+((AI20+AI22+AG22+AG20)/4-AH21)/12+1/Parameter!$D$10^2*(Fractuation!AH52-Fractuation!BM52)","v":0.61625402189107092},{"$f":"AI21+_xlfn.NORM.INV(randvba(), 0,1)*Vapor_Fluctuation_Magnitude!D21+((AI20+AJ21+AI22+AH21)/4-AI21)/6+((AJ20+AJ22+AH22+AH20)/4-AI21)/12+1/Parameter!$D$10^2*(Fractuation!AI52-Fractuation!BN52)","v":-0.21136694105186885},{"$f":"AJ21+_xlfn.NORM.INV(randvba(), 0,1)*Vapor_Fluctuation_Magnitude!E21+((AJ20+AK21+AJ22+AI21)/4-AJ21)/6+((AK20+AK22+AI22+AI20)/4-AJ21)/12+1/Parameter!$D$10^2*(Fractuation!AJ52-Fractuation!BO52)","v":0.71734755550014662},{"$f":"AK21+_xlfn.NORM.INV(randvba(), 0,1)*Vapor_Fluctuation_Magnitude!F21+((AK20+AL21+AK22+AJ21)/4-AK21)/6+((AL20+AL22+AJ22+AJ20)/4-AK21)/12+1/Parameter!$D$10^2*(Fractuation!AK52-Fractuation!BP52)","v":1.2834563657850799},{"$f":"AL21+_xlfn.NORM.INV(randvba(), 0,1)*Vapor_Fluctuation_Magnitude!G21+((AL20+AM21+AL22+AK21)/4-AL21)/6+((AM20+AM22+AK22+AK20)/4-AL21)/12+1/Parameter!$D$10^2*(Fractuation!AL52-Fractuation!BQ52)","v":1.2058700423163535},{"$f":"AM21+_xlfn.NORM.INV(randvba(), 0,1)*Vapor_Fluctuation_Magnitude!H21+((AM20+AN21+AM22+AL21)/4-AM21)/6+((AN20+AN22+AL22+AL20)/4-AM21)/12+1/Parameter!$D$10^2*(Fractuation!AM52-Fractuation!BR52)","v":-3.4903213808217552},{"$f":"AN21+_xlfn.NORM.INV(randvba(), 0,1)*Vapor_Fluctuation_Magnitude!I21+((AN20+AO21+AN22+AM21)/4-AN21)/6+((AO20+AO22+AM22+AM20)/4-AN21)/12+1/Parameter!$D$10^2*(Fractuation!AN52-Fractuation!BS52)","v":0.19000796646685847},{"$f":"AO21+_xlfn.NORM.INV(randvba(), 0,1)*Vapor_Fluctuation_Magnitude!J21+((AO20+AP21+AO22+AN21)/4-AO21)/6+((AP20+AP22+AN22+AN20)/4-AO21)/12+1/Parameter!$D$10^2*(Fractuation!AO52-Fractuation!BT52)","v":1.6759804961984492},{"$f":"AP21+_xlfn.NORM.INV(randvba(), 0,1)*Vapor_Fluctuation_Magnitude!K21+((AP20+AQ21+AP22+AO21)/4-AP21)/6+((AQ20+AQ22+AO22+AO20)/4-AP21)/12+1/Parameter!$D$10^2*(Fractuation!AP52-Fractuation!BU52)","v":-0.61362499538766335},{"$f":"AQ21+_xlfn.NORM.INV(randvba(), 0,1)*Vapor_Fluctuation_Magnitude!L21+((AQ20+AR21+AQ22+AP21)/4-AQ21)/6+((AR20+AR22+AP22+AP20)/4-AQ21)/12+1/Parameter!$D$10^2*(Fractuation!AQ52-Fractuation!BV52)","v":1.299412638334293},{"$f":"AR21+_xlfn.NORM.INV(randvba(), 0,1)*Vapor_Fluctuation_Magnitude!M21+((AR20+AS21+AR22+AQ21)/4-AR21)/6+((AS20+AS22+AQ22+AQ20)/4-AR21)/12+1/Parameter!$D$10^2*(Fractuation!AR52-Fractuation!BW52)","v":0.86704487016385567},{"$f":"AS21+_xlfn.NORM.INV(randvba(), 0,1)*Vapor_Fluctuation_Magnitude!N21+((AS20+AT21+AS22+AR21)/4-AS21)/6+((AT20+AT22+AR22+AR20)/4-AS21)/12+1/Parameter!$D$10^2*(Fractuation!AS52-Fractuation!BX52)","v":-0.21256688809591553},{"$f":"AT21+_xlfn.NORM.INV(randvba(), 0,1)*Vapor_Fluctuation_Magnitude!O21+((AT20+AU21+AT22+AS21)/4-AT21)/6+((AU20+AU22+AS22+AS20)/4-AT21)/12+1/Parameter!$D$10^2*(Fractuation!AT52-Fractuation!BY52)","v":0.21349429475178996},{"$f":"AU21+_xlfn.NORM.INV(randvba(), 0,1)*Vapor_Fluctuation_Magnitude!P21+((AU20+AV21+AU22+AT21)/4-AU21)/6+((AV20+AV22+AT22+AT20)/4-AU21)/12+1/Parameter!$D$10^2*(Fractuation!AU52-Fractuation!BZ52)","v":-0.24919598421442871},{"$f":"AV21+_xlfn.NORM.INV(randvba(), 0,1)*Vapor_Fluctuation_Magnitude!Q21+((AV20+AW21+AV22+AU21)/4-AV21)/6+((AW20+AW22+AU22+AU20)/4-AV21)/12+1/Parameter!$D$10^2*(Fractuation!AV52-Fractuation!CA52)","v":1.0829706101662446},{"$f":"AW21+_xlfn.NORM.INV(randvba(), 0,1)*Vapor_Fluctuation_Magnitude!R21+((AW20+AX21+AW22+AV21)/4-AW21)/6+((AX20+AX22+AV22+AV20)/4-AW21)/12+1/Parameter!$D$10^2*(Fractuation!AW52-Fractuation!CB52)","v":-1.0870553516887485},{"$f":"AX21+_xlfn.NORM.INV(randvba(), 0,1)*Vapor_Fluctuation_Magnitude!S21+((AX20+AY21+AX22+AW21)/4-AX21)/6+((AY20+AY22+AW22+AW20)/4-AX21)/12+1/Parameter!$D$10^2*(Fractuation!AX52-Fractuation!CC52)","v":-1.642310763516426},{"$f":"AY21+_xlfn.NORM.INV(randvba(), 0,1)*Vapor_Fluctuation_Magnitude!T21+((AY20+AZ21+AY22+AX21)/4-AY21)/6+((AZ20+AZ22+AX22+AX20)/4-AY21)/12+1/Parameter!$D$10^2*(Fractuation!AY52-Fractuation!CD52)","v":0.39450873995306601},{"$f":"AZ21+_xlfn.NORM.INV(randvba(), 0,1)*Vapor_Fluctuation_Magnitude!U21+((AZ20+BA21+AZ22+AY21)/4-AZ21)/6+((BA20+BA22+AY22+AY20)/4-AZ21)/12+1/Parameter!$D$10^2*(Fractuation!AZ52-Fractuation!CE52)","v":0.20288391212782084},{"$f":"BA21+_xlfn.NORM.INV(randvba(), 0,1)*Vapor_Fluctuation_Magnitude!V21+((BA20+BB21+BA22+AZ21)/4-BA21)/6+((BB20+BB22+AZ22+AZ20)/4-BA21)/12+1/Parameter!$D$10^2*(Fractuation!BA52-Fractuation!CF52)","v":-0.41140297488121386},{"$f":"BB21+_xlfn.NORM.INV(randvba(), 0,1)*Vapor_Fluctuation_Magnitude!W21+((BB20+BC21+BB22+BA21)/4-BB21)/6+((BC20+BC22+BA22+BA20)/4-BB21)/12+1/Parameter!$D$10^2*(Fractuation!BB52-Fractuation!CG52)","v":-0.98243801930649388},{"$f":"BC21+_xlfn.NORM.INV(randvba(), 0,1)*Vapor_Fluctuation_Magnitude!X21+((BC20+BD21+BC22+BB21)/4-BC21)/6+((BD20+BD22+BB22+BB20)/4-BC21)/12+1/Parameter!$D$10^2*(Fractuation!BC52-Fractuation!CH52)","v":9.2360191036720038E-2},{"$f":"BD21+_xlfn.NORM.INV(randvba(), 0,1)*Vapor_Fluctuation_Magnitude!Y21+((BD20+BE21+BD22+BC21)/4-BD21)/6+((BE20+BE22+BC22+BC20)/4-BD21)/12+1/Parameter!$D$10^2*(Fractuation!BD52-Fractuation!CI52)","v":1.2333607519044201},{"$f":"BE21+_xlfn.NORM.INV(randvba(), 0,1)*Vapor_Fluctuation_Magnitude!Z21+((BE20+BF21+BE22+BD21)/4-BE21)/6+((BF20+BF22+BD22+BD20)/4-BE21)/12+1/Parameter!$D$10^2*(Fractuation!BE52-Fractuation!CJ52)","v":-0.68975565128597671},{"$f":"BF21+_xlfn.NORM.INV(randvba(), 0,1)*Vapor_Fluctuation_Magnitude!AA21+((BF20+BG21+BF22+BE21)/4-BF21)/6+((BG20+BG22+BE22+BE20)/4-BF21)/12+1/Parameter!$D$10^2*(Fractuation!BF52-Fractuation!CK52)","v":-1.5928805909234525},{"$f":"BG21+_xlfn.NORM.INV(randvba(), 0,1)*Vapor_Fluctuation_Magnitude!AB21+((BG20+BH21+BG22+BF21)/4-BG21)/6+((BH20+BH22+BF22+BF20)/4-BG21)/12+1/Parameter!$D$10^2*(Fractuation!BG52-Fractuation!CL52)","v":0.66197664752599639},{"$f":"BH21+_xlfn.NORM.INV(randvba(), 0,1)*Vapor_Fluctuation_Magnitude!AC21+((BH20+BI21+BH22+BG21)/4-BH21)/6+((BI20+BI22+BG22+BG20)/4-BH21)/12+1/Parameter!$D$10^2*(Fractuation!BH52-Fractuation!CM52)","v":-0.23686266697262343},{"$f":"BI21+_xlfn.NORM.INV(randvba(), 0,1)*Vapor_Fluctuation_Magnitude!AD21+((BI20+BI22+BH21)/3-BI21)/6+((BH22+BH20)/2-BI21)/12+1/Parameter!$D$10^2*(Fractuation!BI52-Fractuation!CN52)","v":0.50299969702977032},null,0,0,0,0,0,0,0,0,0,0,0,0,0,0,0,0,0,0,0,0,0,0,0,0,0,0,0,0,0,0,null,0,0,0,0,0,0,0,0,0,0,0,0,0,0,0,0,0,0,0,0,0,0,0,0,0,0,0,0,0,0,null,0,0,0,0,0,0,0,0,0,0,0,0,0,0,0,0,0,0,0,0,0,0,0,0,0,0,0,0,0,0]
[{"$f":"AF22+_xlfn.NORM.INV(randvba(), 0,1)*Vapor_Fluctuation_Magnitude!A22+((AF21+AG22+AF23)/3-AF22)/6+((AG21+AG23)/4-AF22)/12+1/Parameter!$D$10^2*(Fractuation!AF53-Fractuation!BK53)","v":-0.93935829870352761},{"$f":"AG22+_xlfn.NORM.INV(randvba(), 0,1)*Vapor_Fluctuation_Magnitude!B22+((AG21+AH22+AG23+AF22)/4-AG22)/6+((AH21+AH23+AF23+AF21)/4-AG22)/12+1/Parameter!$D$10^2*(Fractuation!AG53-Fractuation!BL53)","v":-0.34922901362597364},{"$f":"AH22+_xlfn.NORM.INV(randvba(), 0,1)*Vapor_Fluctuation_Magnitude!C22+((AH21+AI22+AH23+AG22)/4-AH22)/6+((AI21+AI23+AG23+AG21)/4-AH22)/12+1/Parameter!$D$10^2*(Fractuation!AH53-Fractuation!BM53)","v":-1.6016527202290245},{"$f":"AI22+_xlfn.NORM.INV(randvba(), 0,1)*Vapor_Fluctuation_Magnitude!D22+((AI21+AJ22+AI23+AH22)/4-AI22)/6+((AJ21+AJ23+AH23+AH21)/4-AI22)/12+1/Parameter!$D$10^2*(Fractuation!AI53-Fractuation!BN53)","v":0.21710801799803367},{"$f":"AJ22+_xlfn.NORM.INV(randvba(), 0,1)*Vapor_Fluctuation_Magnitude!E22+((AJ21+AK22+AJ23+AI22)/4-AJ22)/6+((AK21+AK23+AI23+AI21)/4-AJ22)/12+1/Parameter!$D$10^2*(Fractuation!AJ53-Fractuation!BO53)","v":-1.5466298244101699},{"$f":"AK22+_xlfn.NORM.INV(randvba(), 0,1)*Vapor_Fluctuation_Magnitude!F22+((AK21+AL22+AK23+AJ22)/4-AK22)/6+((AL21+AL23+AJ23+AJ21)/4-AK22)/12+1/Parameter!$D$10^2*(Fractuation!AK53-Fractuation!BP53)","v":1.2764441486095881},{"$f":"AL22+_xlfn.NORM.INV(randvba(), 0,1)*Vapor_Fluctuation_Magnitude!G22+((AL21+AM22+AL23+AK22)/4-AL22)/6+((AM21+AM23+AK23+AK21)/4-AL22)/12+1/Parameter!$D$10^2*(Fractuation!AL53-Fractuation!BQ53)","v":-0.80755125876208533},{"$f":"AM22+_xlfn.NORM.INV(randvba(), 0,1)*Vapor_Fluctuation_Magnitude!H22+((AM21+AN22+AM23+AL22)/4-AM22)/6+((AN21+AN23+AL23+AL21)/4-AM22)/12+1/Parameter!$D$10^2*(Fractuation!AM53-Fractuation!BR53)","v":0.39041774310689242},{"$f":"AN22+_xlfn.NORM.INV(randvba(), 0,1)*Vapor_Fluctuation_Magnitude!I22+((AN21+AO22+AN23+AM22)/4-AN22)/6+((AO21+AO23+AM23+AM21)/4-AN22)/12+1/Parameter!$D$10^2*(Fractuation!AN53-Fractuation!BS53)","v":0.70788713365136768},{"$f":"AO22+_xlfn.NORM.INV(randvba(), 0,1)*Vapor_Fluctuation_Magnitude!J22+((AO21+AP22+AO23+AN22)/4-AO22)/6+((AP21+AP23+AN23+AN21)/4-AO22)/12+1/Parameter!$D$10^2*(Fractuation!AO53-Fractuation!BT53)","v":-1.2244733945979263},{"$f":"AP22+_xlfn.NORM.INV(randvba(), 0,1)*Vapor_Fluctuation_Magnitude!K22+((AP21+AQ22+AP23+AO22)/4-AP22)/6+((AQ21+AQ23+AO23+AO21)/4-AP22)/12+1/Parameter!$D$10^2*(Fractuation!AP53-Fractuation!BU53)","v":0.40443879271577399},{"$f":"AQ22+_xlfn.NORM.INV(randvba(), 0,1)*Vapor_Fluctuation_Magnitude!L22+((AQ21+AR22+AQ23+AP22)/4-AQ22)/6+((AR21+AR23+AP23+AP21)/4-AQ22)/12+1/Parameter!$D$10^2*(Fractuation!AQ53-Fractuation!BV53)","v":0.19384894066815986},{"$f":"AR22+_xlfn.NORM.INV(randvba(), 0,1)*Vapor_Fluctuation_Magnitude!M22+((AR21+AS22+AR23+AQ22)/4-AR22)/6+((AS21+AS23+AQ23+AQ21)/4-AR22)/12+1/Parameter!$D$10^2*(Fractuation!AR53-Fractuation!BW53)","v":-0.50542717138255888},{"$f":"AS22+_xlfn.NORM.INV(randvba(), 0,1)*Vapor_Fluctuation_Magnitude!N22+((AS21+AT22+AS23+AR22)/4-AS22)/6+((AT21+AT23+AR23+AR21)/4-AS22)/12+1/Parameter!$D$10^2*(Fractuation!AS53-Fractuation!BX53)","v":-0.69398705107531788},{"$f":"AT22+_xlfn.NORM.INV(randvba(), 0,1)*Vapor_Fluctuation_Magnitude!O22+((AT21+AU22+AT23+AS22)/4-AT22)/6+((AU21+AU23+AS23+AS21)/4-AT22)/12+1/Parameter!$D$10^2*(Fractuation!AT53-Fractuation!BY53)","v":-1.3496788586352702},{"$f":"AU22+_xlfn.NORM.INV(randvba(), 0,1)*Vapor_Fluctuation_Magnitude!P22+((AU21+AV22+AU23+AT22)/4-AU22)/6+((AV21+AV23+AT23+AT21)/4-AU22)/12+1/Parameter!$D$10^2*(Fractuation!AU53-Fractuation!BZ53)","v":-0.60362769002134808},{"$f":"AV22+_xlfn.NORM.INV(randvba(), 0,1)*Vapor_Fluctuation_Magnitude!Q22+((AV21+AW22+AV23+AU22)/4-AV22)/6+((AW21+AW23+AU23+AU21)/4-AV22)/12+1/Parameter!$D$10^2*(Fractuation!AV53-Fractuation!CA53)","v":-1.0581198707817872},{"$f":"AW22+_xlfn.NORM.INV(randvba(), 0,1)*Vapor_Fluctuation_Magnitude!R22+((AW21+AX22+AW23+AV22)/4-AW22)/6+((AX21+AX23+AV23+AV21)/4-AW22)/12+1/Parameter!$D$10^2*(Fractuation!AW53-Fractuation!CB53)","v":1.1550970413174959},{"$f":"AX22+_xlfn.NORM.INV(randvba(), 0,1)*Vapor_Fluctuation_Magnitude!S22+((AX21+AY22+AX23+AW22)/4-AX22)/6+((AY21+AY23+AW23+AW21)/4-AX22)/12+1/Parameter!$D$10^2*(Fractuation!AX53-Fractuation!CC53)","v":-2.1370319131852424},{"$f":"AY22+_xlfn.NORM.INV(randvba(), 0,1)*Vapor_Fluctuation_Magnitude!T22+((AY21+AZ22+AY23+AX22)/4-AY22)/6+((AZ21+AZ23+AX23+AX21)/4-AY22)/12+1/Parameter!$D$10^2*(Fractuation!AY53-Fractuation!CD53)","v":1.4875064041773001},{"$f":"AZ22+_xlfn.NORM.INV(randvba(), 0,1)*Vapor_Fluctuation_Magnitude!U22+((AZ21+BA22+AZ23+AY22)/4-AZ22)/6+((BA21+BA23+AY23+AY21)/4-AZ22)/12+1/Parameter!$D$10^2*(Fractuation!AZ53-Fractuation!CE53)","v":-0.1941633266451265},{"$f":"BA22+_xlfn.NORM.INV(randvba(), 0,1)*Vapor_Fluctuation_Magnitude!V22+((BA21+BB22+BA23+AZ22)/4-BA22)/6+((BB21+BB23+AZ23+AZ21)/4-BA22)/12+1/Parameter!$D$10^2*(Fractuation!BA53-Fractuation!CF53)","v":4.5174577506683945E-2},{"$f":"BB22+_xlfn.NORM.INV(randvba(), 0,1)*Vapor_Fluctuation_Magnitude!W22+((BB21+BC22+BB23+BA22)/4-BB22)/6+((BC21+BC23+BA23+BA21)/4-BB22)/12+1/Parameter!$D$10^2*(Fractuation!BB53-Fractuation!CG53)","v":-2.181268010963231},{"$f":"BC22+_xlfn.NORM.INV(randvba(), 0,1)*Vapor_Fluctuation_Magnitude!X22+((BC21+BD22+BC23+BB22)/4-BC22)/6+((BD21+BD23+BB23+BB21)/4-BC22)/12+1/Parameter!$D$10^2*(Fractuation!BC53-Fractuation!CH53)","v":0.86941280488426753},{"$f":"BD22+_xlfn.NORM.INV(randvba(), 0,1)*Vapor_Fluctuation_Magnitude!Y22+((BD21+BE22+BD23+BC22)/4-BD22)/6+((BE21+BE23+BC23+BC21)/4-BD22)/12+1/Parameter!$D$10^2*(Fractuation!BD53-Fractuation!CI53)","v":0.18534181287820536},{"$f":"BE22+_xlfn.NORM.INV(randvba(), 0,1)*Vapor_Fluctuation_Magnitude!Z22+((BE21+BF22+BE23+BD22)/4-BE22)/6+((BF21+BF23+BD23+BD21)/4-BE22)/12+1/Parameter!$D$10^2*(Fractuation!BE53-Fractuation!CJ53)","v":-1.5579979779528528},{"$f":"BF22+_xlfn.NORM.INV(randvba(), 0,1)*Vapor_Fluctuation_Magnitude!AA22+((BF21+BG22+BF23+BE22)/4-BF22)/6+((BG21+BG23+BE23+BE21)/4-BF22)/12+1/Parameter!$D$10^2*(Fractuation!BF53-Fractuation!CK53)","v":0.11055145351347853},{"$f":"BG22+_xlfn.NORM.INV(randvba(), 0,1)*Vapor_Fluctuation_Magnitude!AB22+((BG21+BH22+BG23+BF22)/4-BG22)/6+((BH21+BH23+BF23+BF21)/4-BG22)/12+1/Parameter!$D$10^2*(Fractuation!BG53-Fractuation!CL53)","v":2.3548869372520227},{"$f":"BH22+_xlfn.NORM.INV(randvba(), 0,1)*Vapor_Fluctuation_Magnitude!AC22+((BH21+BI22+BH23+BG22)/4-BH22)/6+((BI21+BI23+BG23+BG21)/4-BH22)/12+1/Parameter!$D$10^2*(Fractuation!BH53-Fractuation!CM53)","v":0.36146564347298343},{"$f":"BI22+_xlfn.NORM.INV(randvba(), 0,1)*Vapor_Fluctuation_Magnitude!AD22+((BI21+BI23+BH22)/3-BI22)/6+((BH23+BH21)/2-BI22)/12+1/Parameter!$D$10^2*(Fractuation!BI53-Fractuation!CN53)","v":2.0350670232098222},null,0,0,0,0,0,0,0,0,0,0,0,0,0,0,0,0,0,0,0,0,0,0,0,0,0,0,0,0,0,0,null,0,0,0,0,0,0,0,0,0,0,0,0,0,0,0,0,0,0,0,0,0,0,0,0,0,0,0,0,0,0,null,0,0,0,0,0,0,0,0,0,0,0,0,0,0,0,0,0,0,0,0,0,0,0,0,0,0,0,0,0,0]
[{"$f":"AF23+_xlfn.NORM.INV(randvba(), 0,1)*Vapor_Fluctuation_Magnitude!A23+((AF22+AG23+AF24)/3-AF23)/6+((AG22+AG24)/4-AF23)/12+1/Parameter!$D$10^2*(Fractuation!AF54-Fractuation!BK54)","v":8.2869492830159833E-2},{"$f":"AG23+_xlfn.NORM.INV(randvba(), 0,1)*Vapor_Fluctuation_Magnitude!B23+((AG22+AH23+AG24+AF23)/4-AG23)/6+((AH22+AH24+AF24+AF22)/4-AG23)/12+1/Parameter!$D$10^2*(Fractuation!AG54-Fractuation!BL54)","v":0.34398478310099978},{"$f":"AH23+_xlfn.NORM.INV(randvba(), 0,1)*Vapor_Fluctuation_Magnitude!C23+((AH22+AI23+AH24+AG23)/4-AH23)/6+((AI22+AI24+AG24+AG22)/4-AH23)/12+1/Parameter!$D$10^2*(Fractuation!AH54-Fractuation!BM54)","v":0.11130144352407004},{"$f":"AI23+_xlfn.NORM.INV(randvba(), 0,1)*Vapor_Fluctuation_Magnitude!D23+((AI22+AJ23+AI24+AH23)/4-AI23)/6+((AJ22+AJ24+AH24+AH22)/4-AI23)/12+1/Parameter!$D$10^2*(Fractuation!AI54-Fractuation!BN54)","v":-0.73359879201493561},{"$f":"AJ23+_xlfn.NORM.INV(randvba(), 0,1)*Vapor_Fluctuation_Magnitude!E23+((AJ22+AK23+AJ24+AI23)/4-AJ23)/6+((AK22+AK24+AI24+AI22)/4-AJ23)/12+1/Parameter!$D$10^2*(Fractuation!AJ54-Fractuation!BO54)","v":-5.5138226326473617E-2},{"$f":"AK23+_xlfn.NORM.INV(randvba(), 0,1)*Vapor_Fluctuation_Magnitude!F23+((AK22+AL23+AK24+AJ23)/4-AK23)/6+((AL22+AL24+AJ24+AJ22)/4-AK23)/12+1/Parameter!$D$10^2*(Fractuation!AK54-Fractuation!BP54)","v":-0.31876904609794254},{"$f":"AL23+_xlfn.NORM.INV(randvba(), 0,1)*Vapor_Fluctuation_Magnitude!G23+((AL22+AM23+AL24+AK23)/4-AL23)/6+((AM22+AM24+AK24+AK22)/4-AL23)/12+1/Parameter!$D$10^2*(Fractuation!AL54-Fractuation!BQ54)","v":4.3108362342035293E-2},{"$f":"AM23+_xlfn.NORM.INV(randvba(), 0,1)*Vapor_Fluctuation_Magnitude!H23+((AM22+AN23+AM24+AL23)/4-AM23)/6+((AN22+AN24+AL24+AL22)/4-AM23)/12+1/Parameter!$D$10^2*(Fractuation!AM54-Fractuation!BR54)","v":-1.2295224011715982},{"$f":"AN23+_xlfn.NORM.INV(randvba(), 0,1)*Vapor_Fluctuation_Magnitude!I23+((AN22+AO23+AN24+AM23)/4-AN23)/6+((AO22+AO24+AM24+AM22)/4-AN23)/12+1/Parameter!$D$10^2*(Fractuation!AN54-Fractuation!BS54)","v":-0.78013071309993631},{"$f":"AO23+_xlfn.NORM.INV(randvba(), 0,1)*Vapor_Fluctuation_Magnitude!J23+((AO22+AP23+AO24+AN23)/4-AO23)/6+((AP22+AP24+AN24+AN22)/4-AO23)/12+1/Parameter!$D$10^2*(Fractuation!AO54-Fractuation!BT54)","v":-0.53715364283782729},{"$f":"AP23+_xlfn.NORM.INV(randvba(), 0,1)*Vapor_Fluctuation_Magnitude!K23+((AP22+AQ23+AP24+AO23)/4-AP23)/6+((AQ22+AQ24+AO24+AO22)/4-AP23)/12+1/Parameter!$D$10^2*(Fractuation!AP54-Fractuation!BU54)","v":-0.20988427379033203},{"$f":"AQ23+_xlfn.NORM.INV(randvba(), 0,1)*Vapor_Fluctuation_Magnitude!L23+((AQ22+AR23+AQ24+AP23)/4-AQ23)/6+((AR22+AR24+AP24+AP22)/4-AQ23)/12+1/Parameter!$D$10^2*(Fractuation!AQ54-Fractuation!BV54)","v":1.0810494308786984},{"$f":"AR23+_xlfn.NORM.INV(randvba(), 0,1)*Vapor_Fluctuation_Magnitude!M23+((AR22+AS23+AR24+AQ23)/4-AR23)/6+((AS22+AS24+AQ24+AQ22)/4-AR23)/12+1/Parameter!$D$10^2*(Fractuation!AR54-Fractuation!BW54)","v":2.3547363382927924},{"$f":"AS23+_xlfn.NORM.INV(randvba(), 0,1)*Vapor_Fluctuation_Magnitude!N23+((AS22+AT23+AS24+AR23)/4-AS23)/6+((AT22+AT24+AR24+AR22)/4-AS23)/12+1/Parameter!$D$10^2*(Fractuation!AS54-Fractuation!BX54)","v":-0.96304362319777292},{"$f":"AT23+_xlfn.NORM.INV(randvba(), 0,1)*Vapor_Fluctuation_Magnitude!O23+((AT22+AU23+AT24+AS23)/4-AT23)/6+((AU22+AU24+AS24+AS22)/4-AT23)/12+1/Parameter!$D$10^2*(Fractuation!AT54-Fractuation!BY54)","v":1.4862924380127323},{"$f":"AU23+_xlfn.NORM.INV(randvba(), 0,1)*Vapor_Fluctuation_Magnitude!P23+((AU22+AV23+AU24+AT23)/4-AU23)/6+((AV22+AV24+AT24+AT22)/4-AU23)/12+1/Parameter!$D$10^2*(Fractuation!AU54-Fractuation!BZ54)","v":-1.1888810942785777},{"$f":"AV23+_xlfn.NORM.INV(randvba(), 0,1)*Vapor_Fluctuation_Magnitude!Q23+((AV22+AW23+AV24+AU23)/4-AV23)/6+((AW22+AW24+AU24+AU22)/4-AV23)/12+1/Parameter!$D$10^2*(Fractuation!AV54-Fractuation!CA54)","v":-1.5471275577535377},{"$f":"AW23+_xlfn.NORM.INV(randvba(), 0,1)*Vapor_Fluctuation_Magnitude!R23+((AW22+AX23+AW24+AV23)/4-AW23)/6+((AX22+AX24+AV24+AV22)/4-AW23)/12+1/Parameter!$D$10^2*(Fractuation!AW54-Fractuation!CB54)","v":0.41772029337106198},{"$f":"AX23+_xlfn.NORM.INV(randvba(), 0,1)*Vapor_Fluctuation_Magnitude!S23+((AX22+AY23+AX24+AW23)/4-AX23)/6+((AY22+AY24+AW24+AW22)/4-AX23)/12+1/Parameter!$D$10^2*(Fractuation!AX54-Fractuation!CC54)","v":1.6480689089343801},{"$f":"AY23+_xlfn.NORM.INV(randvba(), 0,1)*Vapor_Fluctuation_Magnitude!T23+((AY22+AZ23+AY24+AX23)/4-AY23)/6+((AZ22+AZ24+AX24+AX22)/4-AY23)/12+1/Parameter!$D$10^2*(Fractuation!AY54-Fractuation!CD54)","v":1.1177496469705523E-2},{"$f":"AZ23+_xlfn.NORM.INV(randvba(), 0,1)*Vapor_Fluctuation_Magnitude!U23+((AZ22+BA23+AZ24+AY23)/4-AZ23)/6+((BA22+BA24+AY24+AY22)/4-AZ23)/12+1/Parameter!$D$10^2*(Fractuation!AZ54-Fractuation!CE54)","v":-0.87556449838272787},{"$f":"BA23+_xlfn.NORM.INV(randvba(), 0,1)*Vapor_Fluctuation_Magnitude!V23+((BA22+BB23+BA24+AZ23)/4-BA23)/6+((BB22+BB24+AZ24+AZ22)/4-BA23)/12+1/Parameter!$D$10^2*(Fractuation!BA54-Fractuation!CF54)","v":-0.12253044839523178},{"$f":"BB23+_xlfn.NORM.INV(randvba(), 0,1)*Vapor_Fluctuation_Magnitude!W23+((BB22+BC23+BB24+BA23)/4-BB23)/6+((BC22+BC24+BA24+BA22)/4-BB23)/12+1/Parameter!$D$10^2*(Fractuation!BB54-Fractuation!CG54)","v":-0.43908269733622307},{"$f":"BC23+_xlfn.NORM.INV(randvba(), 0,1)*Vapor_Fluctuation_Magnitude!X23+((BC22+BD23+BC24+BB23)/4-BC23)/6+((BD22+BD24+BB24+BB22)/4-BC23)/12+1/Parameter!$D$10^2*(Fractuation!BC54-Fractuation!CH54)","v":0.34297396459564344},{"$f":"BD23+_xlfn.NORM.INV(randvba(), 0,1)*Vapor_Fluctuation_Magnitude!Y23+((BD22+BE23+BD24+BC23)/4-BD23)/6+((BE22+BE24+BC24+BC22)/4-BD23)/12+1/Parameter!$D$10^2*(Fractuation!BD54-Fractuation!CI54)","v":0.69677928276713652},{"$f":"BE23+_xlfn.NORM.INV(randvba(), 0,1)*Vapor_Fluctuation_Magnitude!Z23+((BE22+BF23+BE24+BD23)/4-BE23)/6+((BF22+BF24+BD24+BD22)/4-BE23)/12+1/Parameter!$D$10^2*(Fractuation!BE54-Fractuation!CJ54)","v":0.87033389478505685},{"$f":"BF23+_xlfn.NORM.INV(randvba(), 0,1)*Vapor_Fluctuation_Magnitude!AA23+((BF22+BG23+BF24+BE23)/4-BF23)/6+((BG22+BG24+BE24+BE22)/4-BF23)/12+1/Parameter!$D$10^2*(Fractuation!BF54-Fractuation!CK54)","v":0.83099781278456542},{"$f":"BG23+_xlfn.NORM.INV(randvba(), 0,1)*Vapor_Fluctuation_Magnitude!AB23+((BG22+BH23+BG24+BF23)/4-BG23)/6+((BH22+BH24+BF24+BF22)/4-BG23)/12+1/Parameter!$D$10^2*(Fractuation!BG54-Fractuation!CL54)","v":1.0463906419282227},{"$f":"BH23+_xlfn.NORM.INV(randvba(), 0,1)*Vapor_Fluctuation_Magnitude!AC23+((BH22+BI23+BH24+BG23)/4-BH23)/6+((BI22+BI24+BG24+BG22)/4-BH23)/12+1/Parameter!$D$10^2*(Fractuation!BH54-Fractuation!CM54)","v":-0.69569256958097381},{"$f":"BI23+_xlfn.NORM.INV(randvba(), 0,1)*Vapor_Fluctuation_Magnitude!AD23+((BI22+BI24+BH23)/3-BI23)/6+((BH24+BH22)/2-BI23)/12+1/Parameter!$D$10^2*(Fractuation!BI54-Fractuation!CN54)","v":-0.97720368760141074},null,0,0,0,0,0,0,0,0,0,0,0,0,0,0,0,0,0,0,0,0,0,0,0,0,0,0,0,0,0,0,null,0,0,0,0,0,0,0,0,0,0,0,0,0,0,0,0,0,0,0,0,0,0,0,0,0,0,0,0,0,0,null,0,0,0,0,0,0,0,0,0,0,0,0,0,0,0,0,0,0,0,0,0,0,0,0,0,0,0,0,0,0]
[{"$f":"AF24+_xlfn.NORM.INV(randvba(), 0,1)*Vapor_Fluctuation_Magnitude!A24+((AF23+AG24+AF25)/3-AF24)/6+((AG23+AG25)/4-AF24)/12+1/Parameter!$D$10^2*(Fractuation!AF55-Fractuation!BK55)","v":0.14849057491626852},{"$f":"AG24+_xlfn.NORM.INV(randvba(), 0,1)*Vapor_Fluctuation_Magnitude!B24+((AG23+AH24+AG25+AF24)/4-AG24)/6+((AH23+AH25+AF25+AF23)/4-AG24)/12+1/Parameter!$D$10^2*(Fractuation!AG55-Fractuation!BL55)","v":-0.67457397051933732},{"$f":"AH24+_xlfn.NORM.INV(randvba(), 0,1)*Vapor_Fluctuation_Magnitude!C24+((AH23+AI24+AH25+AG24)/4-AH24)/6+((AI23+AI25+AG25+AG23)/4-AH24)/12+1/Parameter!$D$10^2*(Fractuation!AH55-Fractuation!BM55)","v":0.13859083244516177},{"$f":"AI24+_xlfn.NORM.INV(randvba(), 0,1)*Vapor_Fluctuation_Magnitude!D24+((AI23+AJ24+AI25+AH24)/4-AI24)/6+((AJ23+AJ25+AH25+AH23)/4-AI24)/12+1/Parameter!$D$10^2*(Fractuation!AI55-Fractuation!BN55)","v":-0.27855949000372482},{"$f":"AJ24+_xlfn.NORM.INV(randvba(), 0,1)*Vapor_Fluctuation_Magnitude!E24+((AJ23+AK24+AJ25+AI24)/4-AJ24)/6+((AK23+AK25+AI25+AI23)/4-AJ24)/12+1/Parameter!$D$10^2*(Fractuation!AJ55-Fractuation!BO55)","v":1.8081580020323282},{"$f":"AK24+_xlfn.NORM.INV(randvba(), 0,1)*Vapor_Fluctuation_Magnitude!F24+((AK23+AL24+AK25+AJ24)/4-AK24)/6+((AL23+AL25+AJ25+AJ23)/4-AK24)/12+1/Parameter!$D$10^2*(Fractuation!AK55-Fractuation!BP55)","v":9.6027627319231104E-2},{"$f":"AL24+_xlfn.NORM.INV(randvba(), 0,1)*Vapor_Fluctuation_Magnitude!G24+((AL23+AM24+AL25+AK24)/4-AL24)/6+((AM23+AM25+AK25+AK23)/4-AL24)/12+1/Parameter!$D$10^2*(Fractuation!AL55-Fractuation!BQ55)","v":-0.47164715934355006},{"$f":"AM24+_xlfn.NORM.INV(randvba(), 0,1)*Vapor_Fluctuation_Magnitude!H24+((AM23+AN24+AM25+AL24)/4-AM24)/6+((AN23+AN25+AL25+AL23)/4-AM24)/12+1/Parameter!$D$10^2*(Fractuation!AM55-Fractuation!BR55)","v":0.47908888625735285},{"$f":"AN24+_xlfn.NORM.INV(randvba(), 0,1)*Vapor_Fluctuation_Magnitude!I24+((AN23+AO24+AN25+AM24)/4-AN24)/6+((AO23+AO25+AM25+AM23)/4-AN24)/12+1/Parameter!$D$10^2*(Fractuation!AN55-Fractuation!BS55)","v":-0.5301726851602071},{"$f":"AO24+_xlfn.NORM.INV(randvba(), 0,1)*Vapor_Fluctuation_Magnitude!J24+((AO23+AP24+AO25+AN24)/4-AO24)/6+((AP23+AP25+AN25+AN23)/4-AO24)/12+1/Parameter!$D$10^2*(Fractuation!AO55-Fractuation!BT55)","v":1.1191113530061718},{"$f":"AP24+_xlfn.NORM.INV(randvba(), 0,1)*Vapor_Fluctuation_Magnitude!K24+((AP23+AQ24+AP25+AO24)/4-AP24)/6+((AQ23+AQ25+AO25+AO23)/4-AP24)/12+1/Parameter!$D$10^2*(Fractuation!AP55-Fractuation!BU55)","v":0.38792926506821324},{"$f":"AQ24+_xlfn.NORM.INV(randvba(), 0,1)*Vapor_Fluctuation_Magnitude!L24+((AQ23+AR24+AQ25+AP24)/4-AQ24)/6+((AR23+AR25+AP25+AP23)/4-AQ24)/12+1/Parameter!$D$10^2*(Fractuation!AQ55-Fractuation!BV55)","v":2.1001467080937202},{"$f":"AR24+_xlfn.NORM.INV(randvba(), 0,1)*Vapor_Fluctuation_Magnitude!M24+((AR23+AS24+AR25+AQ24)/4-AR24)/6+((AS23+AS25+AQ25+AQ23)/4-AR24)/12+1/Parameter!$D$10^2*(Fractuation!AR55-Fractuation!BW55)","v":-7.8447631458278377E-2},{"$f":"AS24+_xlfn.NORM.INV(randvba(), 0,1)*Vapor_Fluctuation_Magnitude!N24+((AS23+AT24+AS25+AR24)/4-AS24)/6+((AT23+AT25+AR25+AR23)/4-AS24)/12+1/Parameter!$D$10^2*(Fractuation!AS55-Fractuation!BX55)","v":0.58582651925065699},{"$f":"AT24+_xlfn.NORM.INV(randvba(), 0,1)*Vapor_Fluctuation_Magnitude!O24+((AT23+AU24+AT25+AS24)/4-AT24)/6+((AU23+AU25+AS25+AS23)/4-AT24)/12+1/Parameter!$D$10^2*(Fractuation!AT55-Fractuation!BY55)","v":6.1699413559496666E-2},{"$f":"AU24+_xlfn.NORM.INV(randvba(), 0,1)*Vapor_Fluctuation_Magnitude!P24+((AU23+AV24+AU25+AT24)/4-AU24)/6+((AV23+AV25+AT25+AT23)/4-AU24)/12+1/Parameter!$D$10^2*(Fractuation!AU55-Fractuation!BZ55)","v":-1.7147174001572476},{"$f":"AV24+_xlfn.NORM.INV(randvba(), 0,1)*Vapor_Fluctuation_Magnitude!Q24+((AV23+AW24+AV25+AU24)/4-AV24)/6+((AW23+AW25+AU25+AU23)/4-AV24)/12+1/Parameter!$D$10^2*(Fractuation!AV55-Fractuation!CA55)","v":2.4366906706275757E-2},{"$f":"AW24+_xlfn.NORM.INV(randvba(), 0,1)*Vapor_Fluctuation_Magnitude!R24+((AW23+AX24+AW25+AV24)/4-AW24)/6+((AX23+AX25+AV25+AV23)/4-AW24)/12+1/Parameter!$D$10^2*(Fractuation!AW55-Fractuation!CB55)","v":0.24764492723374334},{"$f":"AX24+_xlfn.NORM.INV(randvba(), 0,1)*Vapor_Fluctuation_Magnitude!S24+((AX23+AY24+AX25+AW24)/4-AX24)/6+((AY23+AY25+AW25+AW23)/4-AX24)/12+1/Parameter!$D$10^2*(Fractuation!AX55-Fractuation!CC55)","v":-0.58756852562820938},{"$f":"AY24+_xlfn.NORM.INV(randvba(), 0,1)*Vapor_Fluctuation_Magnitude!T24+((AY23+AZ24+AY25+AX24)/4-AY24)/6+((AZ23+AZ25+AX25+AX23)/4-AY24)/12+1/Parameter!$D$10^2*(Fractuation!AY55-Fractuation!CD55)","v":-0.34513771640135293},{"$f":"AZ24+_xlfn.NORM.INV(randvba(), 0,1)*Vapor_Fluctuation_Magnitude!U24+((AZ23+BA24+AZ25+AY24)/4-AZ24)/6+((BA23+BA25+AY25+AY23)/4-AZ24)/12+1/Parameter!$D$10^2*(Fractuation!AZ55-Fractuation!CE55)","v":-2.3487439390007046},{"$f":"BA24+_xlfn.NORM.INV(randvba(), 0,1)*Vapor_Fluctuation_Magnitude!V24+((BA23+BB24+BA25+AZ24)/4-BA24)/6+((BB23+BB25+AZ25+AZ23)/4-BA24)/12+1/Parameter!$D$10^2*(Fractuation!BA55-Fractuation!CF55)","v":-0.94010784204340747},{"$f":"BB24+_xlfn.NORM.INV(randvba(), 0,1)*Vapor_Fluctuation_Magnitude!W24+((BB23+BC24+BB25+BA24)/4-BB24)/6+((BC23+BC25+BA25+BA23)/4-BB24)/12+1/Parameter!$D$10^2*(Fractuation!BB55-Fractuation!CG55)","v":1.013086544781771},{"$f":"BC24+_xlfn.NORM.INV(randvba(), 0,1)*Vapor_Fluctuation_Magnitude!X24+((BC23+BD24+BC25+BB24)/4-BC24)/6+((BD23+BD25+BB25+BB23)/4-BC24)/12+1/Parameter!$D$10^2*(Fractuation!BC55-Fractuation!CH55)","v":0.66637969457134016},{"$f":"BD24+_xlfn.NORM.INV(randvba(), 0,1)*Vapor_Fluctuation_Magnitude!Y24+((BD23+BE24+BD25+BC24)/4-BD24)/6+((BE23+BE25+BC25+BC23)/4-BD24)/12+1/Parameter!$D$10^2*(Fractuation!BD55-Fractuation!CI55)","v":1.8571981605108931},{"$f":"BE24+_xlfn.NORM.INV(randvba(), 0,1)*Vapor_Fluctuation_Magnitude!Z24+((BE23+BF24+BE25+BD24)/4-BE24)/6+((BF23+BF25+BD25+BD23)/4-BE24)/12+1/Parameter!$D$10^2*(Fractuation!BE55-Fractuation!CJ55)","v":-0.64624305874464105},{"$f":"BF24+_xlfn.NORM.INV(randvba(), 0,1)*Vapor_Fluctuation_Magnitude!AA24+((BF23+BG24+BF25+BE24)/4-BF24)/6+((BG23+BG25+BE25+BE23)/4-BF24)/12+1/Parameter!$D$10^2*(Fractuation!BF55-Fractuation!CK55)","v":1.6439381899839278},{"$f":"BG24+_xlfn.NORM.INV(randvba(), 0,1)*Vapor_Fluctuation_Magnitude!AB24+((BG23+BH24+BG25+BF24)/4-BG24)/6+((BH23+BH25+BF25+BF23)/4-BG24)/12+1/Parameter!$D$10^2*(Fractuation!BG55-Fractuation!CL55)","v":0.84401629109782561},{"$f":"BH24+_xlfn.NORM.INV(randvba(), 0,1)*Vapor_Fluctuation_Magnitude!AC24+((BH23+BI24+BH25+BG24)/4-BH24)/6+((BI23+BI25+BG25+BG23)/4-BH24)/12+1/Parameter!$D$10^2*(Fractuation!BH55-Fractuation!CM55)","v":-7.5237726487984699E-2},{"$f":"BI24+_xlfn.NORM.INV(randvba(), 0,1)*Vapor_Fluctuation_Magnitude!AD24+((BI23+BI25+BH24)/3-BI24)/6+((BH25+BH23)/2-BI24)/12+1/Parameter!$D$10^2*(Fractuation!BI55-Fractuation!CN55)","v":0.50537861990577415},null,0,0,0,0,0,0,0,0,0,0,0,0,0,0,0,0,0,0,0,0,0,0,0,0,0,0,0,0,0,0,null,0,0,0,0,0,0,0,0,0,0,0,0,0,0,0,0,0,0,0,0,0,0,0,0,0,0,0,0,0,0,null,0,0,0,0,0,0,0,0,0,0,0,0,0,0,0,0,0,0,0,0,0,0,0,0,0,0,0,0,0,0]
[{"$f":"AF25+_xlfn.NORM.INV(randvba(), 0,1)*Vapor_Fluctuation_Magnitude!A25+((AF24+AG25+AF26)/3-AF25)/6+((AG24+AG26)/4-AF25)/12+1/Parameter!$D$10^2*(Fractuation!AF56-Fractuation!BK56)","v":0},{"$f":"AG25+_xlfn.NORM.INV(randvba(), 0,1)*Vapor_Fluctuation_Magnitude!B25+((AG24+AH25+AG26+AF25)/4-AG25)/6+((AH24+AH26+AF26+AF24)/4-AG25)/12+1/Parameter!$D$10^2*(Fractuation!AG56-Fractuation!BL56)","v":0},{"$f":"AH25+_xlfn.NORM.INV(randvba(), 0,1)*Vapor_Fluctuation_Magnitude!C25+((AH24+AI25+AH26+AG25)/4-AH25)/6+((AI24+AI26+AG26+AG24)/4-AH25)/12+1/Parameter!$D$10^2*(Fractuation!AH56-Fractuation!BM56)","v":0},{"$f":"AI25+_xlfn.NORM.INV(randvba(), 0,1)*Vapor_Fluctuation_Magnitude!D25+((AI24+AJ25+AI26+AH25)/4-AI25)/6+((AJ24+AJ26+AH26+AH24)/4-AI25)/12+1/Parameter!$D$10^2*(Fractuation!AI56-Fractuation!BN56)","v":0},{"$f":"AJ25+_xlfn.NORM.INV(randvba(), 0,1)*Vapor_Fluctuation_Magnitude!E25+((AJ24+AK25+AJ26+AI25)/4-AJ25)/6+((AK24+AK26+AI26+AI24)/4-AJ25)/12+1/Parameter!$D$10^2*(Fractuation!AJ56-Fractuation!BO56)","v":0},{"$f":"AK25+_xlfn.NORM.INV(randvba(), 0,1)*Vapor_Fluctuation_Magnitude!F25+((AK24+AL25+AK26+AJ25)/4-AK25)/6+((AL24+AL26+AJ26+AJ24)/4-AK25)/12+1/Parameter!$D$10^2*(Fractuation!AK56-Fractuation!BP56)","v":0},{"$f":"AL25+_xlfn.NORM.INV(randvba(), 0,1)*Vapor_Fluctuation_Magnitude!G25+((AL24+AM25+AL26+AK25)/4-AL25)/6+((AM24+AM26+AK26+AK24)/4-AL25)/12+1/Parameter!$D$10^2*(Fractuation!AL56-Fractuation!BQ56)","v":0},{"$f":"AM25+_xlfn.NORM.INV(randvba(), 0,1)*Vapor_Fluctuation_Magnitude!H25+((AM24+AN25+AM26+AL25)/4-AM25)/6+((AN24+AN26+AL26+AL24)/4-AM25)/12+1/Parameter!$D$10^2*(Fractuation!AM56-Fractuation!BR56)","v":0},{"$f":"AN25+_xlfn.NORM.INV(randvba(), 0,1)*Vapor_Fluctuation_Magnitude!I25+((AN24+AO25+AN26+AM25)/4-AN25)/6+((AO24+AO26+AM26+AM24)/4-AN25)/12+1/Parameter!$D$10^2*(Fractuation!AN56-Fractuation!BS56)","v":0},{"$f":"AO25+_xlfn.NORM.INV(randvba(), 0,1)*Vapor_Fluctuation_Magnitude!J25+((AO24+AP25+AO26+AN25)/4-AO25)/6+((AP24+AP26+AN26+AN24)/4-AO25)/12+1/Parameter!$D$10^2*(Fractuation!AO56-Fractuation!BT56)","v":0},{"$f":"AP25+_xlfn.NORM.INV(randvba(), 0,1)*Vapor_Fluctuation_Magnitude!K25+((AP24+AQ25+AP26+AO25)/4-AP25)/6+((AQ24+AQ26+AO26+AO24)/4-AP25)/12+1/Parameter!$D$10^2*(Fractuation!AP56-Fractuation!BU56)","v":0},{"$f":"AQ25+_xlfn.NORM.INV(randvba(), 0,1)*Vapor_Fluctuation_Magnitude!L25+((AQ24+AR25+AQ26+AP25)/4-AQ25)/6+((AR24+AR26+AP26+AP24)/4-AQ25)/12+1/Parameter!$D$10^2*(Fractuation!AQ56-Fractuation!BV56)","v":0},{"$f":"AR25+_xlfn.NORM.INV(randvba(), 0,1)*Vapor_Fluctuation_Magnitude!M25+((AR24+AS25+AR26+AQ25)/4-AR25)/6+((AS24+AS26+AQ26+AQ24)/4-AR25)/12+1/Parameter!$D$10^2*(Fractuation!AR56-Fractuation!BW56)","v":0},{"$f":"AS25+_xlfn.NORM.INV(randvba(), 0,1)*Vapor_Fluctuation_Magnitude!N25+((AS24+AT25+AS26+AR25)/4-AS25)/6+((AT24+AT26+AR26+AR24)/4-AS25)/12+1/Parameter!$D$10^2*(Fractuation!AS56-Fractuation!BX56)","v":0},{"$f":"AT25+_xlfn.NORM.INV(randvba(), 0,1)*Vapor_Fluctuation_Magnitude!O25+((AT24+AU25+AT26+AS25)/4-AT25)/6+((AU24+AU26+AS26+AS24)/4-AT25)/12+1/Parameter!$D$10^2*(Fractuation!AT56-Fractuation!BY56)","v":0},{"$f":"AU25+_xlfn.NORM.INV(randvba(), 0,1)*Vapor_Fluctuation_Magnitude!P25+((AU24+AV25+AU26+AT25)/4-AU25)/6+((AV24+AV26+AT26+AT24)/4-AU25)/12+1/Parameter!$D$10^2*(Fractuation!AU56-Fractuation!BZ56)","v":0},{"$f":"AV25+_xlfn.NORM.INV(randvba(), 0,1)*Vapor_Fluctuation_Magnitude!Q25+((AV24+AW25+AV26+AU25)/4-AV25)/6+((AW24+AW26+AU26+AU24)/4-AV25)/12+1/Parameter!$D$10^2*(Fractuation!AV56-Fractuation!CA56)","v":0},{"$f":"AW25+_xlfn.NORM.INV(randvba(), 0,1)*Vapor_Fluctuation_Magnitude!R25+((AW24+AX25+AW26+AV25)/4-AW25)/6+((AX24+AX26+AV26+AV24)/4-AW25)/12+1/Parameter!$D$10^2*(Fractuation!AW56-Fractuation!CB56)","v":0},{"$f":"AX25+_xlfn.NORM.INV(randvba(), 0,1)*Vapor_Fluctuation_Magnitude!S25+((AX24+AY25+AX26+AW25)/4-AX25)/6+((AY24+AY26+AW26+AW24)/4-AX25)/12+1/Parameter!$D$10^2*(Fractuation!AX56-Fractuation!CC56)","v":0},{"$f":"AY25+_xlfn.NORM.INV(randvba(), 0,1)*Vapor_Fluctuation_Magnitude!T25+((AY24+AZ25+AY26+AX25)/4-AY25)/6+((AZ24+AZ26+AX26+AX24)/4-AY25)/12+1/Parameter!$D$10^2*(Fractuation!AY56-Fractuation!CD56)","v":0},{"$f":"AZ25+_xlfn.NORM.INV(randvba(), 0,1)*Vapor_Fluctuation_Magnitude!U25+((AZ24+BA25+AZ26+AY25)/4-AZ25)/6+((BA24+BA26+AY26+AY24)/4-AZ25)/12+1/Parameter!$D$10^2*(Fractuation!AZ56-Fractuation!CE56)","v":0},{"$f":"BA25+_xlfn.NORM.INV(randvba(), 0,1)*Vapor_Fluctuation_Magnitude!V25+((BA24+BB25+BA26+AZ25)/4-BA25)/6+((BB24+BB26+AZ26+AZ24)/4-BA25)/12+1/Parameter!$D$10^2*(Fractuation!BA56-Fractuation!CF56)","v":0},{"$f":"BB25+_xlfn.NORM.INV(randvba(), 0,1)*Vapor_Fluctuation_Magnitude!W25+((BB24+BC25+BB26+BA25)/4-BB25)/6+((BC24+BC26+BA26+BA24)/4-BB25)/12+1/Parameter!$D$10^2*(Fractuation!BB56-Fractuation!CG56)","v":0},{"$f":"BC25+_xlfn.NORM.INV(randvba(), 0,1)*Vapor_Fluctuation_Magnitude!X25+((BC24+BD25+BC26+BB25)/4-BC25)/6+((BD24+BD26+BB26+BB24)/4-BC25)/12+1/Parameter!$D$10^2*(Fractuation!BC56-Fractuation!CH56)","v":0},{"$f":"BD25+_xlfn.NORM.INV(randvba(), 0,1)*Vapor_Fluctuation_Magnitude!Y25+((BD24+BE25+BD26+BC25)/4-BD25)/6+((BE24+BE26+BC26+BC24)/4-BD25)/12+1/Parameter!$D$10^2*(Fractuation!BD56-Fractuation!CI56)","v":0},{"$f":"BE25+_xlfn.NORM.INV(randvba(), 0,1)*Vapor_Fluctuation_Magnitude!Z25+((BE24+BF25+BE26+BD25)/4-BE25)/6+((BF24+BF26+BD26+BD24)/4-BE25)/12+1/Parameter!$D$10^2*(Fractuation!BE56-Fractuation!CJ56)","v":0},{"$f":"BF25+_xlfn.NORM.INV(randvba(), 0,1)*Vapor_Fluctuation_Magnitude!AA25+((BF24+BG25+BF26+BE25)/4-BF25)/6+((BG24+BG26+BE26+BE24)/4-BF25)/12+1/Parameter!$D$10^2*(Fractuation!BF56-Fractuation!CK56)","v":0},{"$f":"BG25+_xlfn.NORM.INV(randvba(), 0,1)*Vapor_Fluctuation_Magnitude!AB25+((BG24+BH25+BG26+BF25)/4-BG25)/6+((BH24+BH26+BF26+BF24)/4-BG25)/12+1/Parameter!$D$10^2*(Fractuation!BG56-Fractuation!CL56)","v":0},{"$f":"BH25+_xlfn.NORM.INV(randvba(), 0,1)*Vapor_Fluctuation_Magnitude!AC25+((BH24+BI25+BH26+BG25)/4-BH25)/6+((BI24+BI26+BG26+BG24)/4-BH25)/12+1/Parameter!$D$10^2*(Fractuation!BH56-Fractuation!CM56)","v":0},{"$f":"BI25+_xlfn.NORM.INV(randvba(), 0,1)*Vapor_Fluctuation_Magnitude!AD25+((BI24+BI26+BH25)/3-BI25)/6+((BH26+BH24)/2-BI25)/12+1/Parameter!$D$10^2*(Fractuation!BI56-Fractuation!CN56)","v":0},null,0,0,0,0,0,0,0,0,0,0,0,0,0,0,0,0,0,0,0,0,0,0,0,0,0,0,0,0,0,0,null,0,0,0,0,0,0,0,0,0,0,0,0,0,0,0,0,0,0,0,0,0,0,0,0,0,0,0,0,0,0,null,0,0,0,0,0,0,0,0,0,0,0,0,0,0,0,0,0,0,0,0,0,0,0,0,0,0,0,0,0,0]
[{"$f":"AF26+_xlfn.NORM.INV(randvba(), 0,1)*Vapor_Fluctuation_Magnitude!A26+((AF25+AG26+AF27)/3-AF26)/6+((AG25+AG27)/4-AF26)/12+1/Parameter!$D$10^2*(Fractuation!AF57-Fractuation!BK57)","v":0},{"$f":"AG26+_xlfn.NORM.INV(randvba(), 0,1)*Vapor_Fluctuation_Magnitude!B26+((AG25+AH26+AG27+AF26)/4-AG26)/6+((AH25+AH27+AF27+AF25)/4-AG26)/12+1/Parameter!$D$10^2*(Fractuation!AG57-Fractuation!BL57)","v":0},{"$f":"AH26+_xlfn.NORM.INV(randvba(), 0,1)*Vapor_Fluctuation_Magnitude!C26+((AH25+AI26+AH27+AG26)/4-AH26)/6+((AI25+AI27+AG27+AG25)/4-AH26)/12+1/Parameter!$D$10^2*(Fractuation!AH57-Fractuation!BM57)","v":0},{"$f":"AI26+_xlfn.NORM.INV(randvba(), 0,1)*Vapor_Fluctuation_Magnitude!D26+((AI25+AJ26+AI27+AH26)/4-AI26)/6+((AJ25+AJ27+AH27+AH25)/4-AI26)/12+1/Parameter!$D$10^2*(Fractuation!AI57-Fractuation!BN57)","v":0},{"$f":"AJ26+_xlfn.NORM.INV(randvba(), 0,1)*Vapor_Fluctuation_Magnitude!E26+((AJ25+AK26+AJ27+AI26)/4-AJ26)/6+((AK25+AK27+AI27+AI25)/4-AJ26)/12+1/Parameter!$D$10^2*(Fractuation!AJ57-Fractuation!BO57)","v":0},{"$f":"AK26+_xlfn.NORM.INV(randvba(), 0,1)*Vapor_Fluctuation_Magnitude!F26+((AK25+AL26+AK27+AJ26)/4-AK26)/6+((AL25+AL27+AJ27+AJ25)/4-AK26)/12+1/Parameter!$D$10^2*(Fractuation!AK57-Fractuation!BP57)","v":0},{"$f":"AL26+_xlfn.NORM.INV(randvba(), 0,1)*Vapor_Fluctuation_Magnitude!G26+((AL25+AM26+AL27+AK26)/4-AL26)/6+((AM25+AM27+AK27+AK25)/4-AL26)/12+1/Parameter!$D$10^2*(Fractuation!AL57-Fractuation!BQ57)","v":0},{"$f":"AM26+_xlfn.NORM.INV(randvba(), 0,1)*Vapor_Fluctuation_Magnitude!H26+((AM25+AN26+AM27+AL26)/4-AM26)/6+((AN25+AN27+AL27+AL25)/4-AM26)/12+1/Parameter!$D$10^2*(Fractuation!AM57-Fractuation!BR57)","v":0},{"$f":"AN26+_xlfn.NORM.INV(randvba(), 0,1)*Vapor_Fluctuation_Magnitude!I26+((AN25+AO26+AN27+AM26)/4-AN26)/6+((AO25+AO27+AM27+AM25)/4-AN26)/12+1/Parameter!$D$10^2*(Fractuation!AN57-Fractuation!BS57)","v":0},{"$f":"AO26+_xlfn.NORM.INV(randvba(), 0,1)*Vapor_Fluctuation_Magnitude!J26+((AO25+AP26+AO27+AN26)/4-AO26)/6+((AP25+AP27+AN27+AN25)/4-AO26)/12+1/Parameter!$D$10^2*(Fractuation!AO57-Fractuation!BT57)","v":0},{"$f":"AP26+_xlfn.NORM.INV(randvba(), 0,1)*Vapor_Fluctuation_Magnitude!K26+((AP25+AQ26+AP27+AO26)/4-AP26)/6+((AQ25+AQ27+AO27+AO25)/4-AP26)/12+1/Parameter!$D$10^2*(Fractuation!AP57-Fractuation!BU57)","v":0},{"$f":"AQ26+_xlfn.NORM.INV(randvba(), 0,1)*Vapor_Fluctuation_Magnitude!L26+((AQ25+AR26+AQ27+AP26)/4-AQ26)/6+((AR25+AR27+AP27+AP25)/4-AQ26)/12+1/Parameter!$D$10^2*(Fractuation!AQ57-Fractuation!BV57)","v":0},{"$f":"AR26+_xlfn.NORM.INV(randvba(), 0,1)*Vapor_Fluctuation_Magnitude!M26+((AR25+AS26+AR27+AQ26)/4-AR26)/6+((AS25+AS27+AQ27+AQ25)/4-AR26)/12+1/Parameter!$D$10^2*(Fractuation!AR57-Fractuation!BW57)","v":0},{"$f":"AS26+_xlfn.NORM.INV(randvba(), 0,1)*Vapor_Fluctuation_Magnitude!N26+((AS25+AT26+AS27+AR26)/4-AS26)/6+((AT25+AT27+AR27+AR25)/4-AS26)/12+1/Parameter!$D$10^2*(Fractuation!AS57-Fractuation!BX57)","v":0},{"$f":"AT26+_xlfn.NORM.INV(randvba(), 0,1)*Vapor_Fluctuation_Magnitude!O26+((AT25+AU26+AT27+AS26)/4-AT26)/6+((AU25+AU27+AS27+AS25)/4-AT26)/12+1/Parameter!$D$10^2*(Fractuation!AT57-Fractuation!BY57)","v":0},{"$f":"AU26+_xlfn.NORM.INV(randvba(), 0,1)*Vapor_Fluctuation_Magnitude!P26+((AU25+AV26+AU27+AT26)/4-AU26)/6+((AV25+AV27+AT27+AT25)/4-AU26)/12+1/Parameter!$D$10^2*(Fractuation!AU57-Fractuation!BZ57)","v":0},{"$f":"AV26+_xlfn.NORM.INV(randvba(), 0,1)*Vapor_Fluctuation_Magnitude!Q26+((AV25+AW26+AV27+AU26)/4-AV26)/6+((AW25+AW27+AU27+AU25)/4-AV26)/12+1/Parameter!$D$10^2*(Fractuation!AV57-Fractuation!CA57)","v":0},{"$f":"AW26+_xlfn.NORM.INV(randvba(), 0,1)*Vapor_Fluctuation_Magnitude!R26+((AW25+AX26+AW27+AV26)/4-AW26)/6+((AX25+AX27+AV27+AV25)/4-AW26)/12+1/Parameter!$D$10^2*(Fractuation!AW57-Fractuation!CB57)","v":0},{"$f":"AX26+_xlfn.NORM.INV(randvba(), 0,1)*Vapor_Fluctuation_Magnitude!S26+((AX25+AY26+AX27+AW26)/4-AX26)/6+((AY25+AY27+AW27+AW25)/4-AX26)/12+1/Parameter!$D$10^2*(Fractuation!AX57-Fractuation!CC57)","v":0},{"$f":"AY26+_xlfn.NORM.INV(randvba(), 0,1)*Vapor_Fluctuation_Magnitude!T26+((AY25+AZ26+AY27+AX26)/4-AY26)/6+((AZ25+AZ27+AX27+AX25)/4-AY26)/12+1/Parameter!$D$10^2*(Fractuation!AY57-Fractuation!CD57)","v":0},{"$f":"AZ26+_xlfn.NORM.INV(randvba(), 0,1)*Vapor_Fluctuation_Magnitude!U26+((AZ25+BA26+AZ27+AY26)/4-AZ26)/6+((BA25+BA27+AY27+AY25)/4-AZ26)/12+1/Parameter!$D$10^2*(Fractuation!AZ57-Fractuation!CE57)","v":0},{"$f":"BA26+_xlfn.NORM.INV(randvba(), 0,1)*Vapor_Fluctuation_Magnitude!V26+((BA25+BB26+BA27+AZ26)/4-BA26)/6+((BB25+BB27+AZ27+AZ25)/4-BA26)/12+1/Parameter!$D$10^2*(Fractuation!BA57-Fractuation!CF57)","v":0},{"$f":"BB26+_xlfn.NORM.INV(randvba(), 0,1)*Vapor_Fluctuation_Magnitude!W26+((BB25+BC26+BB27+BA26)/4-BB26)/6+((BC25+BC27+BA27+BA25)/4-BB26)/12+1/Parameter!$D$10^2*(Fractuation!BB57-Fractuation!CG57)","v":0},{"$f":"BC26+_xlfn.NORM.INV(randvba(), 0,1)*Vapor_Fluctuation_Magnitude!X26+((BC25+BD26+BC27+BB26)/4-BC26)/6+((BD25+BD27+BB27+BB25)/4-BC26)/12+1/Parameter!$D$10^2*(Fractuation!BC57-Fractuation!CH57)","v":0},{"$f":"BD26+_xlfn.NORM.INV(randvba(), 0,1)*Vapor_Fluctuation_Magnitude!Y26+((BD25+BE26+BD27+BC26)/4-BD26)/6+((BE25+BE27+BC27+BC25)/4-BD26)/12+1/Parameter!$D$10^2*(Fractuation!BD57-Fractuation!CI57)","v":0},{"$f":"BE26+_xlfn.NORM.INV(randvba(), 0,1)*Vapor_Fluctuation_Magnitude!Z26+((BE25+BF26+BE27+BD26)/4-BE26)/6+((BF25+BF27+BD27+BD25)/4-BE26)/12+1/Parameter!$D$10^2*(Fractuation!BE57-Fractuation!CJ57)","v":0},{"$f":"BF26+_xlfn.NORM.INV(randvba(), 0,1)*Vapor_Fluctuation_Magnitude!AA26+((BF25+BG26+BF27+BE26)/4-BF26)/6+((BG25+BG27+BE27+BE25)/4-BF26)/12+1/Parameter!$D$10^2*(Fractuation!BF57-Fractuation!CK57)","v":0},{"$f":"BG26+_xlfn.NORM.INV(randvba(), 0,1)*Vapor_Fluctuation_Magnitude!AB26+((BG25+BH26+BG27+BF26)/4-BG26)/6+((BH25+BH27+BF27+BF25)/4-BG26)/12+1/Parameter!$D$10^2*(Fractuation!BG57-Fractuation!CL57)","v":0},{"$f":"BH26+_xlfn.NORM.INV(randvba(), 0,1)*Vapor_Fluctuation_Magnitude!AC26+((BH25+BI26+BH27+BG26)/4-BH26)/6+((BI25+BI27+BG27+BG25)/4-BH26)/12+1/Parameter!$D$10^2*(Fractuation!BH57-Fractuation!CM57)","v":0},{"$f":"BI26+_xlfn.NORM.INV(randvba(), 0,1)*Vapor_Fluctuation_Magnitude!AD26+((BI25+BI27+BH26)/3-BI26)/6+((BH27+BH25)/2-BI26)/12+1/Parameter!$D$10^2*(Fractuation!BI57-Fractuation!CN57)","v":0},null,0,0,0,0,0,0,0,0,0,0,0,0,0,0,0,0,0,0,0,0,0,0,0,0,0,0,0,0,0,0,null,0,0,0,0,0,0,0,0,0,0,0,0,0,0,0,0,0,0,0,0,0,0,0,0,0,0,0,0,0,0,null,0,0,0,0,0,0,0,0,0,0,0,0,0,0,0,0,0,0,0,0,0,0,0,0,0,0,0,0,0,0]
[{"$f":"AF27+_xlfn.NORM.INV(randvba(), 0,1)*Vapor_Fluctuation_Magnitude!A27+((AF26+AG27+AF28)/3-AF27)/6+((AG26+AG28)/4-AF27)/12+1/Parameter!$D$10^2*(Fractuation!AF58-Fractuation!BK58)","v":0},{"$f":"AG27+_xlfn.NORM.INV(randvba(), 0,1)*Vapor_Fluctuation_Magnitude!B27+((AG26+AH27+AG28+AF27)/4-AG27)/6+((AH26+AH28+AF28+AF26)/4-AG27)/12+1/Parameter!$D$10^2*(Fractuation!AG58-Fractuation!BL58)","v":0},{"$f":"AH27+_xlfn.NORM.INV(randvba(), 0,1)*Vapor_Fluctuation_Magnitude!C27+((AH26+AI27+AH28+AG27)/4-AH27)/6+((AI26+AI28+AG28+AG26)/4-AH27)/12+1/Parameter!$D$10^2*(Fractuation!AH58-Fractuation!BM58)","v":0},{"$f":"AI27+_xlfn.NORM.INV(randvba(), 0,1)*Vapor_Fluctuation_Magnitude!D27+((AI26+AJ27+AI28+AH27)/4-AI27)/6+((AJ26+AJ28+AH28+AH26)/4-AI27)/12+1/Parameter!$D$10^2*(Fractuation!AI58-Fractuation!BN58)","v":0},{"$f":"AJ27+_xlfn.NORM.INV(randvba(), 0,1)*Vapor_Fluctuation_Magnitude!E27+((AJ26+AK27+AJ28+AI27)/4-AJ27)/6+((AK26+AK28+AI28+AI26)/4-AJ27)/12+1/Parameter!$D$10^2*(Fractuation!AJ58-Fractuation!BO58)","v":0},{"$f":"AK27+_xlfn.NORM.INV(randvba(), 0,1)*Vapor_Fluctuation_Magnitude!F27+((AK26+AL27+AK28+AJ27)/4-AK27)/6+((AL26+AL28+AJ28+AJ26)/4-AK27)/12+1/Parameter!$D$10^2*(Fractuation!AK58-Fractuation!BP58)","v":0},{"$f":"AL27+_xlfn.NORM.INV(randvba(), 0,1)*Vapor_Fluctuation_Magnitude!G27+((AL26+AM27+AL28+AK27)/4-AL27)/6+((AM26+AM28+AK28+AK26)/4-AL27)/12+1/Parameter!$D$10^2*(Fractuation!AL58-Fractuation!BQ58)","v":0},{"$f":"AM27+_xlfn.NORM.INV(randvba(), 0,1)*Vapor_Fluctuation_Magnitude!H27+((AM26+AN27+AM28+AL27)/4-AM27)/6+((AN26+AN28+AL28+AL26)/4-AM27)/12+1/Parameter!$D$10^2*(Fractuation!AM58-Fractuation!BR58)","v":0},{"$f":"AN27+_xlfn.NORM.INV(randvba(), 0,1)*Vapor_Fluctuation_Magnitude!I27+((AN26+AO27+AN28+AM27)/4-AN27)/6+((AO26+AO28+AM28+AM26)/4-AN27)/12+1/Parameter!$D$10^2*(Fractuation!AN58-Fractuation!BS58)","v":0},{"$f":"AO27+_xlfn.NORM.INV(randvba(), 0,1)*Vapor_Fluctuation_Magnitude!J27+((AO26+AP27+AO28+AN27)/4-AO27)/6+((AP26+AP28+AN28+AN26)/4-AO27)/12+1/Parameter!$D$10^2*(Fractuation!AO58-Fractuation!BT58)","v":0},{"$f":"AP27+_xlfn.NORM.INV(randvba(), 0,1)*Vapor_Fluctuation_Magnitude!K27+((AP26+AQ27+AP28+AO27)/4-AP27)/6+((AQ26+AQ28+AO28+AO26)/4-AP27)/12+1/Parameter!$D$10^2*(Fractuation!AP58-Fractuation!BU58)","v":0},{"$f":"AQ27+_xlfn.NORM.INV(randvba(), 0,1)*Vapor_Fluctuation_Magnitude!L27+((AQ26+AR27+AQ28+AP27)/4-AQ27)/6+((AR26+AR28+AP28+AP26)/4-AQ27)/12+1/Parameter!$D$10^2*(Fractuation!AQ58-Fractuation!BV58)","v":0},{"$f":"AR27+_xlfn.NORM.INV(randvba(), 0,1)*Vapor_Fluctuation_Magnitude!M27+((AR26+AS27+AR28+AQ27)/4-AR27)/6+((AS26+AS28+AQ28+AQ26)/4-AR27)/12+1/Parameter!$D$10^2*(Fractuation!AR58-Fractuation!BW58)","v":0},{"$f":"AS27+_xlfn.NORM.INV(randvba(), 0,1)*Vapor_Fluctuation_Magnitude!N27+((AS26+AT27+AS28+AR27)/4-AS27)/6+((AT26+AT28+AR28+AR26)/4-AS27)/12+1/Parameter!$D$10^2*(Fractuation!AS58-Fractuation!BX58)","v":0},{"$f":"AT27+_xlfn.NORM.INV(randvba(), 0,1)*Vapor_Fluctuation_Magnitude!O27+((AT26+AU27+AT28+AS27)/4-AT27)/6+((AU26+AU28+AS28+AS26)/4-AT27)/12+1/Parameter!$D$10^2*(Fractuation!AT58-Fractuation!BY58)","v":0},{"$f":"AU27+_xlfn.NORM.INV(randvba(), 0,1)*Vapor_Fluctuation_Magnitude!P27+((AU26+AV27+AU28+AT27)/4-AU27)/6+((AV26+AV28+AT28+AT26)/4-AU27)/12+1/Parameter!$D$10^2*(Fractuation!AU58-Fractuation!BZ58)","v":0},{"$f":"AV27+_xlfn.NORM.INV(randvba(), 0,1)*Vapor_Fluctuation_Magnitude!Q27+((AV26+AW27+AV28+AU27)/4-AV27)/6+((AW26+AW28+AU28+AU26)/4-AV27)/12+1/Parameter!$D$10^2*(Fractuation!AV58-Fractuation!CA58)","v":0},{"$f":"AW27+_xlfn.NORM.INV(randvba(), 0,1)*Vapor_Fluctuation_Magnitude!R27+((AW26+AX27+AW28+AV27)/4-AW27)/6+((AX26+AX28+AV28+AV26)/4-AW27)/12+1/Parameter!$D$10^2*(Fractuation!AW58-Fractuation!CB58)","v":0},{"$f":"AX27+_xlfn.NORM.INV(randvba(), 0,1)*Vapor_Fluctuation_Magnitude!S27+((AX26+AY27+AX28+AW27)/4-AX27)/6+((AY26+AY28+AW28+AW26)/4-AX27)/12+1/Parameter!$D$10^2*(Fractuation!AX58-Fractuation!CC58)","v":0},{"$f":"AY27+_xlfn.NORM.INV(randvba(), 0,1)*Vapor_Fluctuation_Magnitude!T27+((AY26+AZ27+AY28+AX27)/4-AY27)/6+((AZ26+AZ28+AX28+AX26)/4-AY27)/12+1/Parameter!$D$10^2*(Fractuation!AY58-Fractuation!CD58)","v":0},{"$f":"AZ27+_xlfn.NORM.INV(randvba(), 0,1)*Vapor_Fluctuation_Magnitude!U27+((AZ26+BA27+AZ28+AY27)/4-AZ27)/6+((BA26+BA28+AY28+AY26)/4-AZ27)/12+1/Parameter!$D$10^2*(Fractuation!AZ58-Fractuation!CE58)","v":0},{"$f":"BA27+_xlfn.NORM.INV(randvba(), 0,1)*Vapor_Fluctuation_Magnitude!V27+((BA26+BB27+BA28+AZ27)/4-BA27)/6+((BB26+BB28+AZ28+AZ26)/4-BA27)/12+1/Parameter!$D$10^2*(Fractuation!BA58-Fractuation!CF58)","v":0},{"$f":"BB27+_xlfn.NORM.INV(randvba(), 0,1)*Vapor_Fluctuation_Magnitude!W27+((BB26+BC27+BB28+BA27)/4-BB27)/6+((BC26+BC28+BA28+BA26)/4-BB27)/12+1/Parameter!$D$10^2*(Fractuation!BB58-Fractuation!CG58)","v":0},{"$f":"BC27+_xlfn.NORM.INV(randvba(), 0,1)*Vapor_Fluctuation_Magnitude!X27+((BC26+BD27+BC28+BB27)/4-BC27)/6+((BD26+BD28+BB28+BB26)/4-BC27)/12+1/Parameter!$D$10^2*(Fractuation!BC58-Fractuation!CH58)","v":0},{"$f":"BD27+_xlfn.NORM.INV(randvba(), 0,1)*Vapor_Fluctuation_Magnitude!Y27+((BD26+BE27+BD28+BC27)/4-BD27)/6+((BE26+BE28+BC28+BC26)/4-BD27)/12+1/Parameter!$D$10^2*(Fractuation!BD58-Fractuation!CI58)","v":0},{"$f":"BE27+_xlfn.NORM.INV(randvba(), 0,1)*Vapor_Fluctuation_Magnitude!Z27+((BE26+BF27+BE28+BD27)/4-BE27)/6+((BF26+BF28+BD28+BD26)/4-BE27)/12+1/Parameter!$D$10^2*(Fractuation!BE58-Fractuation!CJ58)","v":0},{"$f":"BF27+_xlfn.NORM.INV(randvba(), 0,1)*Vapor_Fluctuation_Magnitude!AA27+((BF26+BG27+BF28+BE27)/4-BF27)/6+((BG26+BG28+BE28+BE26)/4-BF27)/12+1/Parameter!$D$10^2*(Fractuation!BF58-Fractuation!CK58)","v":0},{"$f":"BG27+_xlfn.NORM.INV(randvba(), 0,1)*Vapor_Fluctuation_Magnitude!AB27+((BG26+BH27+BG28+BF27)/4-BG27)/6+((BH26+BH28+BF28+BF26)/4-BG27)/12+1/Parameter!$D$10^2*(Fractuation!BG58-Fractuation!CL58)","v":0},{"$f":"BH27+_xlfn.NORM.INV(randvba(), 0,1)*Vapor_Fluctuation_Magnitude!AC27+((BH26+BI27+BH28+BG27)/4-BH27)/6+((BI26+BI28+BG28+BG26)/4-BH27)/12+1/Parameter!$D$10^2*(Fractuation!BH58-Fractuation!CM58)","v":0},{"$f":"BI27+_xlfn.NORM.INV(randvba(), 0,1)*Vapor_Fluctuation_Magnitude!AD27+((BI26+BI28+BH27)/3-BI27)/6+((BH28+BH26)/2-BI27)/12+1/Parameter!$D$10^2*(Fractuation!BI58-Fractuation!CN58)","v":0},null,0,0,0,0,0,0,0,0,0,0,0,0,0,0,0,0,0,0,0,0,0,0,0,0,0,0,0,0,0,0,null,0,0,0,0,0,0,0,0,0,0,0,0,0,0,0,0,0,0,0,0,0,0,0,0,0,0,0,0,0,0,null,0,0,0,0,0,0,0,0,0,0,0,0,0,0,0,0,0,0,0,0,0,0,0,0,0,0,0,0,0,0]
[{"$f":"AF28+_xlfn.NORM.INV(randvba(), 0,1)*Vapor_Fluctuation_Magnitude!A28+((AF27+AG28+AF29)/3-AF28)/6+((AG27+AG29)/4-AF28)/12+1/Parameter!$D$10^2*(Fractuation!AF59-Fractuation!BK59)","v":0},{"$f":"AG28+_xlfn.NORM.INV(randvba(), 0,1)*Vapor_Fluctuation_Magnitude!B28+((AG27+AH28+AG29+AF28)/4-AG28)/6+((AH27+AH29+AF29+AF27)/4-AG28)/12+1/Parameter!$D$10^2*(Fractuation!AG59-Fractuation!BL59)","v":0},{"$f":"AH28+_xlfn.NORM.INV(randvba(), 0,1)*Vapor_Fluctuation_Magnitude!C28+((AH27+AI28+AH29+AG28)/4-AH28)/6+((AI27+AI29+AG29+AG27)/4-AH28)/12+1/Parameter!$D$10^2*(Fractuation!AH59-Fractuation!BM59)","v":0},{"$f":"AI28+_xlfn.NORM.INV(randvba(), 0,1)*Vapor_Fluctuation_Magnitude!D28+((AI27+AJ28+AI29+AH28)/4-AI28)/6+((AJ27+AJ29+AH29+AH27)/4-AI28)/12+1/Parameter!$D$10^2*(Fractuation!AI59-Fractuation!BN59)","v":0},{"$f":"AJ28+_xlfn.NORM.INV(randvba(), 0,1)*Vapor_Fluctuation_Magnitude!E28+((AJ27+AK28+AJ29+AI28)/4-AJ28)/6+((AK27+AK29+AI29+AI27)/4-AJ28)/12+1/Parameter!$D$10^2*(Fractuation!AJ59-Fractuation!BO59)","v":0},{"$f":"AK28+_xlfn.NORM.INV(randvba(), 0,1)*Vapor_Fluctuation_Magnitude!F28+((AK27+AL28+AK29+AJ28)/4-AK28)/6+((AL27+AL29+AJ29+AJ27)/4-AK28)/12+1/Parameter!$D$10^2*(Fractuation!AK59-Fractuation!BP59)","v":0},{"$f":"AL28+_xlfn.NORM.INV(randvba(), 0,1)*Vapor_Fluctuation_Magnitude!G28+((AL27+AM28+AL29+AK28)/4-AL28)/6+((AM27+AM29+AK29+AK27)/4-AL28)/12+1/Parameter!$D$10^2*(Fractuation!AL59-Fractuation!BQ59)","v":0},{"$f":"AM28+_xlfn.NORM.INV(randvba(), 0,1)*Vapor_Fluctuation_Magnitude!H28+((AM27+AN28+AM29+AL28)/4-AM28)/6+((AN27+AN29+AL29+AL27)/4-AM28)/12+1/Parameter!$D$10^2*(Fractuation!AM59-Fractuation!BR59)","v":0},{"$f":"AN28+_xlfn.NORM.INV(randvba(), 0,1)*Vapor_Fluctuation_Magnitude!I28+((AN27+AO28+AN29+AM28)/4-AN28)/6+((AO27+AO29+AM29+AM27)/4-AN28)/12+1/Parameter!$D$10^2*(Fractuation!AN59-Fractuation!BS59)","v":0},{"$f":"AO28+_xlfn.NORM.INV(randvba(), 0,1)*Vapor_Fluctuation_Magnitude!J28+((AO27+AP28+AO29+AN28)/4-AO28)/6+((AP27+AP29+AN29+AN27)/4-AO28)/12+1/Parameter!$D$10^2*(Fractuation!AO59-Fractuation!BT59)","v":0},{"$f":"AP28+_xlfn.NORM.INV(randvba(), 0,1)*Vapor_Fluctuation_Magnitude!K28+((AP27+AQ28+AP29+AO28)/4-AP28)/6+((AQ27+AQ29+AO29+AO27)/4-AP28)/12+1/Parameter!$D$10^2*(Fractuation!AP59-Fractuation!BU59)","v":0},{"$f":"AQ28+_xlfn.NORM.INV(randvba(), 0,1)*Vapor_Fluctuation_Magnitude!L28+((AQ27+AR28+AQ29+AP28)/4-AQ28)/6+((AR27+AR29+AP29+AP27)/4-AQ28)/12+1/Parameter!$D$10^2*(Fractuation!AQ59-Fractuation!BV59)","v":0},{"$f":"AR28+_xlfn.NORM.INV(randvba(), 0,1)*Vapor_Fluctuation_Magnitude!M28+((AR27+AS28+AR29+AQ28)/4-AR28)/6+((AS27+AS29+AQ29+AQ27)/4-AR28)/12+1/Parameter!$D$10^2*(Fractuation!AR59-Fractuation!BW59)","v":0},{"$f":"AS28+_xlfn.NORM.INV(randvba(), 0,1)*Vapor_Fluctuation_Magnitude!N28+((AS27+AT28+AS29+AR28)/4-AS28)/6+((AT27+AT29+AR29+AR27)/4-AS28)/12+1/Parameter!$D$10^2*(Fractuation!AS59-Fractuation!BX59)","v":0},{"$f":"AT28+_xlfn.NORM.INV(randvba(), 0,1)*Vapor_Fluctuation_Magnitude!O28+((AT27+AU28+AT29+AS28)/4-AT28)/6+((AU27+AU29+AS29+AS27)/4-AT28)/12+1/Parameter!$D$10^2*(Fractuation!AT59-Fractuation!BY59)","v":0},{"$f":"AU28+_xlfn.NORM.INV(randvba(), 0,1)*Vapor_Fluctuation_Magnitude!P28+((AU27+AV28+AU29+AT28)/4-AU28)/6+((AV27+AV29+AT29+AT27)/4-AU28)/12+1/Parameter!$D$10^2*(Fractuation!AU59-Fractuation!BZ59)","v":0},{"$f":"AV28+_xlfn.NORM.INV(randvba(), 0,1)*Vapor_Fluctuation_Magnitude!Q28+((AV27+AW28+AV29+AU28)/4-AV28)/6+((AW27+AW29+AU29+AU27)/4-AV28)/12+1/Parameter!$D$10^2*(Fractuation!AV59-Fractuation!CA59)","v":0},{"$f":"AW28+_xlfn.NORM.INV(randvba(), 0,1)*Vapor_Fluctuation_Magnitude!R28+((AW27+AX28+AW29+AV28)/4-AW28)/6+((AX27+AX29+AV29+AV27)/4-AW28)/12+1/Parameter!$D$10^2*(Fractuation!AW59-Fractuation!CB59)","v":0},{"$f":"AX28+_xlfn.NORM.INV(randvba(), 0,1)*Vapor_Fluctuation_Magnitude!S28+((AX27+AY28+AX29+AW28)/4-AX28)/6+((AY27+AY29+AW29+AW27)/4-AX28)/12+1/Parameter!$D$10^2*(Fractuation!AX59-Fractuation!CC59)","v":0},{"$f":"AY28+_xlfn.NORM.INV(randvba(), 0,1)*Vapor_Fluctuation_Magnitude!T28+((AY27+AZ28+AY29+AX28)/4-AY28)/6+((AZ27+AZ29+AX29+AX27)/4-AY28)/12+1/Parameter!$D$10^2*(Fractuation!AY59-Fractuation!CD59)","v":0},{"$f":"AZ28+_xlfn.NORM.INV(randvba(), 0,1)*Vapor_Fluctuation_Magnitude!U28+((AZ27+BA28+AZ29+AY28)/4-AZ28)/6+((BA27+BA29+AY29+AY27)/4-AZ28)/12+1/Parameter!$D$10^2*(Fractuation!AZ59-Fractuation!CE59)","v":0},{"$f":"BA28+_xlfn.NORM.INV(randvba(), 0,1)*Vapor_Fluctuation_Magnitude!V28+((BA27+BB28+BA29+AZ28)/4-BA28)/6+((BB27+BB29+AZ29+AZ27)/4-BA28)/12+1/Parameter!$D$10^2*(Fractuation!BA59-Fractuation!CF59)","v":0},{"$f":"BB28+_xlfn.NORM.INV(randvba(), 0,1)*Vapor_Fluctuation_Magnitude!W28+((BB27+BC28+BB29+BA28)/4-BB28)/6+((BC27+BC29+BA29+BA27)/4-BB28)/12+1/Parameter!$D$10^2*(Fractuation!BB59-Fractuation!CG59)","v":0},{"$f":"BC28+_xlfn.NORM.INV(randvba(), 0,1)*Vapor_Fluctuation_Magnitude!X28+((BC27+BD28+BC29+BB28)/4-BC28)/6+((BD27+BD29+BB29+BB27)/4-BC28)/12+1/Parameter!$D$10^2*(Fractuation!BC59-Fractuation!CH59)","v":0},{"$f":"BD28+_xlfn.NORM.INV(randvba(), 0,1)*Vapor_Fluctuation_Magnitude!Y28+((BD27+BE28+BD29+BC28)/4-BD28)/6+((BE27+BE29+BC29+BC27)/4-BD28)/12+1/Parameter!$D$10^2*(Fractuation!BD59-Fractuation!CI59)","v":0},{"$f":"BE28+_xlfn.NORM.INV(randvba(), 0,1)*Vapor_Fluctuation_Magnitude!Z28+((BE27+BF28+BE29+BD28)/4-BE28)/6+((BF27+BF29+BD29+BD27)/4-BE28)/12+1/Parameter!$D$10^2*(Fractuation!BE59-Fractuation!CJ59)","v":0},{"$f":"BF28+_xlfn.NORM.INV(randvba(), 0,1)*Vapor_Fluctuation_Magnitude!AA28+((BF27+BG28+BF29+BE28)/4-BF28)/6+((BG27+BG29+BE29+BE27)/4-BF28)/12+1/Parameter!$D$10^2*(Fractuation!BF59-Fractuation!CK59)","v":0},{"$f":"BG28+_xlfn.NORM.INV(randvba(), 0,1)*Vapor_Fluctuation_Magnitude!AB28+((BG27+BH28+BG29+BF28)/4-BG28)/6+((BH27+BH29+BF29+BF27)/4-BG28)/12+1/Parameter!$D$10^2*(Fractuation!BG59-Fractuation!CL59)","v":0},{"$f":"BH28+_xlfn.NORM.INV(randvba(), 0,1)*Vapor_Fluctuation_Magnitude!AC28+((BH27+BI28+BH29+BG28)/4-BH28)/6+((BI27+BI29+BG29+BG27)/4-BH28)/12+1/Parameter!$D$10^2*(Fractuation!BH59-Fractuation!CM59)","v":0},{"$f":"BI28+_xlfn.NORM.INV(randvba(), 0,1)*Vapor_Fluctuation_Magnitude!AD28+((BI27+BI29+BH28)/3-BI28)/6+((BH29+BH27)/2-BI28)/12+1/Parameter!$D$10^2*(Fractuation!BI59-Fractuation!CN59)","v":0},null,0,0,0,0,0,0,0,0,0,0,0,0,0,0,0,0,0,0,0,0,0,0,0,0,0,0,0,0,0,0,null,0,0,0,0,0,0,0,0,0,0,0,0,0,0,0,0,0,0,0,0,0,0,0,0,0,0,0,0,0,0,null,0,0,0,0,0,0,0,0,0,0,0,0,0,0,0,0,0,0,0,0,0,0,0,0,0,0,0,0,0,0]
[{"$f":"AF29+_xlfn.NORM.INV(randvba(), 0,1)*Vapor_Fluctuation_Magnitude!A29+((AF28+AG29+AF30)/3-AF29)/6+((AG28+AG30)/4-AF29)/12+1/Parameter!$D$10^2*(Fractuation!AF60-Fractuation!BK60)","v":0},{"$f":"AG29+_xlfn.NORM.INV(randvba(), 0,1)*Vapor_Fluctuation_Magnitude!B29+((AG28+AH29+AG30+AF29)/4-AG29)/6+((AH28+AH30+AF30+AF28)/4-AG29)/12+1/Parameter!$D$10^2*(Fractuation!AG60-Fractuation!BL60)","v":0},{"$f":"AH29+_xlfn.NORM.INV(randvba(), 0,1)*Vapor_Fluctuation_Magnitude!C29+((AH28+AI29+AH30+AG29)/4-AH29)/6+((AI28+AI30+AG30+AG28)/4-AH29)/12+1/Parameter!$D$10^2*(Fractuation!AH60-Fractuation!BM60)","v":0},{"$f":"AI29+_xlfn.NORM.INV(randvba(), 0,1)*Vapor_Fluctuation_Magnitude!D29+((AI28+AJ29+AI30+AH29)/4-AI29)/6+((AJ28+AJ30+AH30+AH28)/4-AI29)/12+1/Parameter!$D$10^2*(Fractuation!AI60-Fractuation!BN60)","v":0},{"$f":"AJ29+_xlfn.NORM.INV(randvba(), 0,1)*Vapor_Fluctuation_Magnitude!E29+((AJ28+AK29+AJ30+AI29)/4-AJ29)/6+((AK28+AK30+AI30+AI28)/4-AJ29)/12+1/Parameter!$D$10^2*(Fractuation!AJ60-Fractuation!BO60)","v":0},{"$f":"AK29+_xlfn.NORM.INV(randvba(), 0,1)*Vapor_Fluctuation_Magnitude!F29+((AK28+AL29+AK30+AJ29)/4-AK29)/6+((AL28+AL30+AJ30+AJ28)/4-AK29)/12+1/Parameter!$D$10^2*(Fractuation!AK60-Fractuation!BP60)","v":0},{"$f":"AL29+_xlfn.NORM.INV(randvba(), 0,1)*Vapor_Fluctuation_Magnitude!G29+((AL28+AM29+AL30+AK29)/4-AL29)/6+((AM28+AM30+AK30+AK28)/4-AL29)/12+1/Parameter!$D$10^2*(Fractuation!AL60-Fractuation!BQ60)","v":0},{"$f":"AM29+_xlfn.NORM.INV(randvba(), 0,1)*Vapor_Fluctuation_Magnitude!H29+((AM28+AN29+AM30+AL29)/4-AM29)/6+((AN28+AN30+AL30+AL28)/4-AM29)/12+1/Parameter!$D$10^2*(Fractuation!AM60-Fractuation!BR60)","v":0},{"$f":"AN29+_xlfn.NORM.INV(randvba(), 0,1)*Vapor_Fluctuation_Magnitude!I29+((AN28+AO29+AN30+AM29)/4-AN29)/6+((AO28+AO30+AM30+AM28)/4-AN29)/12+1/Parameter!$D$10^2*(Fractuation!AN60-Fractuation!BS60)","v":0},{"$f":"AO29+_xlfn.NORM.INV(randvba(), 0,1)*Vapor_Fluctuation_Magnitude!J29+((AO28+AP29+AO30+AN29)/4-AO29)/6+((AP28+AP30+AN30+AN28)/4-AO29)/12+1/Parameter!$D$10^2*(Fractuation!AO60-Fractuation!BT60)","v":0},{"$f":"AP29+_xlfn.NORM.INV(randvba(), 0,1)*Vapor_Fluctuation_Magnitude!K29+((AP28+AQ29+AP30+AO29)/4-AP29)/6+((AQ28+AQ30+AO30+AO28)/4-AP29)/12+1/Parameter!$D$10^2*(Fractuation!AP60-Fractuation!BU60)","v":0},{"$f":"AQ29+_xlfn.NORM.INV(randvba(), 0,1)*Vapor_Fluctuation_Magnitude!L29+((AQ28+AR29+AQ30+AP29)/4-AQ29)/6+((AR28+AR30+AP30+AP28)/4-AQ29)/12+1/Parameter!$D$10^2*(Fractuation!AQ60-Fractuation!BV60)","v":0},{"$f":"AR29+_xlfn.NORM.INV(randvba(), 0,1)*Vapor_Fluctuation_Magnitude!M29+((AR28+AS29+AR30+AQ29)/4-AR29)/6+((AS28+AS30+AQ30+AQ28)/4-AR29)/12+1/Parameter!$D$10^2*(Fractuation!AR60-Fractuation!BW60)","v":0},{"$f":"AS29+_xlfn.NORM.INV(randvba(), 0,1)*Vapor_Fluctuation_Magnitude!N29+((AS28+AT29+AS30+AR29)/4-AS29)/6+((AT28+AT30+AR30+AR28)/4-AS29)/12+1/Parameter!$D$10^2*(Fractuation!AS60-Fractuation!BX60)","v":0},{"$f":"AT29+_xlfn.NORM.INV(randvba(), 0,1)*Vapor_Fluctuation_Magnitude!O29+((AT28+AU29+AT30+AS29)/4-AT29)/6+((AU28+AU30+AS30+AS28)/4-AT29)/12+1/Parameter!$D$10^2*(Fractuation!AT60-Fractuation!BY60)","v":0},{"$f":"AU29+_xlfn.NORM.INV(randvba(), 0,1)*Vapor_Fluctuation_Magnitude!P29+((AU28+AV29+AU30+AT29)/4-AU29)/6+((AV28+AV30+AT30+AT28)/4-AU29)/12+1/Parameter!$D$10^2*(Fractuation!AU60-Fractuation!BZ60)","v":0},{"$f":"AV29+_xlfn.NORM.INV(randvba(), 0,1)*Vapor_Fluctuation_Magnitude!Q29+((AV28+AW29+AV30+AU29)/4-AV29)/6+((AW28+AW30+AU30+AU28)/4-AV29)/12+1/Parameter!$D$10^2*(Fractuation!AV60-Fractuation!CA60)","v":0},{"$f":"AW29+_xlfn.NORM.INV(randvba(), 0,1)*Vapor_Fluctuation_Magnitude!R29+((AW28+AX29+AW30+AV29)/4-AW29)/6+((AX28+AX30+AV30+AV28)/4-AW29)/12+1/Parameter!$D$10^2*(Fractuation!AW60-Fractuation!CB60)","v":0},{"$f":"AX29+_xlfn.NORM.INV(randvba(), 0,1)*Vapor_Fluctuation_Magnitude!S29+((AX28+AY29+AX30+AW29)/4-AX29)/6+((AY28+AY30+AW30+AW28)/4-AX29)/12+1/Parameter!$D$10^2*(Fractuation!AX60-Fractuation!CC60)","v":0},{"$f":"AY29+_xlfn.NORM.INV(randvba(), 0,1)*Vapor_Fluctuation_Magnitude!T29+((AY28+AZ29+AY30+AX29)/4-AY29)/6+((AZ28+AZ30+AX30+AX28)/4-AY29)/12+1/Parameter!$D$10^2*(Fractuation!AY60-Fractuation!CD60)","v":0},{"$f":"AZ29+_xlfn.NORM.INV(randvba(), 0,1)*Vapor_Fluctuation_Magnitude!U29+((AZ28+BA29+AZ30+AY29)/4-AZ29)/6+((BA28+BA30+AY30+AY28)/4-AZ29)/12+1/Parameter!$D$10^2*(Fractuation!AZ60-Fractuation!CE60)","v":0},{"$f":"BA29+_xlfn.NORM.INV(randvba(), 0,1)*Vapor_Fluctuation_Magnitude!V29+((BA28+BB29+BA30+AZ29)/4-BA29)/6+((BB28+BB30+AZ30+AZ28)/4-BA29)/12+1/Parameter!$D$10^2*(Fractuation!BA60-Fractuation!CF60)","v":0},{"$f":"BB29+_xlfn.NORM.INV(randvba(), 0,1)*Vapor_Fluctuation_Magnitude!W29+((BB28+BC29+BB30+BA29)/4-BB29)/6+((BC28+BC30+BA30+BA28)/4-BB29)/12+1/Parameter!$D$10^2*(Fractuation!BB60-Fractuation!CG60)","v":0},{"$f":"BC29+_xlfn.NORM.INV(randvba(), 0,1)*Vapor_Fluctuation_Magnitude!X29+((BC28+BD29+BC30+BB29)/4-BC29)/6+((BD28+BD30+BB30+BB28)/4-BC29)/12+1/Parameter!$D$10^2*(Fractuation!BC60-Fractuation!CH60)","v":0},{"$f":"BD29+_xlfn.NORM.INV(randvba(), 0,1)*Vapor_Fluctuation_Magnitude!Y29+((BD28+BE29+BD30+BC29)/4-BD29)/6+((BE28+BE30+BC30+BC28)/4-BD29)/12+1/Parameter!$D$10^2*(Fractuation!BD60-Fractuation!CI60)","v":0},{"$f":"BE29+_xlfn.NORM.INV(randvba(), 0,1)*Vapor_Fluctuation_Magnitude!Z29+((BE28+BF29+BE30+BD29)/4-BE29)/6+((BF28+BF30+BD30+BD28)/4-BE29)/12+1/Parameter!$D$10^2*(Fractuation!BE60-Fractuation!CJ60)","v":0},{"$f":"BF29+_xlfn.NORM.INV(randvba(), 0,1)*Vapor_Fluctuation_Magnitude!AA29+((BF28+BG29+BF30+BE29)/4-BF29)/6+((BG28+BG30+BE30+BE28)/4-BF29)/12+1/Parameter!$D$10^2*(Fractuation!BF60-Fractuation!CK60)","v":0},{"$f":"BG29+_xlfn.NORM.INV(randvba(), 0,1)*Vapor_Fluctuation_Magnitude!AB29+((BG28+BH29+BG30+BF29)/4-BG29)/6+((BH28+BH30+BF30+BF28)/4-BG29)/12+1/Parameter!$D$10^2*(Fractuation!BG60-Fractuation!CL60)","v":0},{"$f":"BH29+_xlfn.NORM.INV(randvba(), 0,1)*Vapor_Fluctuation_Magnitude!AC29+((BH28+BI29+BH30+BG29)/4-BH29)/6+((BI28+BI30+BG30+BG28)/4-BH29)/12+1/Parameter!$D$10^2*(Fractuation!BH60-Fractuation!CM60)","v":0},{"$f":"BI29+_xlfn.NORM.INV(randvba(), 0,1)*Vapor_Fluctuation_Magnitude!AD29+((BI28+BI30+BH29)/3-BI29)/6+((BH30+BH28)/2-BI29)/12+1/Parameter!$D$10^2*(Fractuation!BI60-Fractuation!CN60)","v":0},null,0,0,0,0,0,0,0,0,0,0,0,0,0,0,0,0,0,0,0,0,0,0,0,0,0,0,0,0,0,0,null,0,0,0,0,0,0,0,0,0,0,0,0,0,0,0,0,0,0,0,0,0,0,0,0,0,0,0,0,0,0,null,0,0,0,0,0,0,0,0,0,0,0,0,0,0,0,0,0,0,0,0,0,0,0,0,0,0,0,0,0,0]
[{"$f":"AF30+_xlfn.NORM.INV(randvba(), 0,1)*Vapor_Fluctuation_Magnitude!A30+((AF29+AG30+AF31)/3-AF30)/6+((AG29+AG31)/4-AF30)/12+1/Parameter!$D$10^2*(Fractuation!AF61-Fractuation!BK61)","v":0},{"$f":"AG30+_xlfn.NORM.INV(randvba(), 0,1)*Vapor_Fluctuation_Magnitude!B30+((AG29+AH30+AG31+AF30)/4-AG30)/6+((AH29+AH31+AF31+AF29)/4-AG30)/12+1/Parameter!$D$10^2*(Fractuation!AG61-Fractuation!BL61)","v":0},{"$f":"AH30+_xlfn.NORM.INV(randvba(), 0,1)*Vapor_Fluctuation_Magnitude!C30+((AH29+AI30+AH31+AG30)/4-AH30)/6+((AI29+AI31+AG31+AG29)/4-AH30)/12+1/Parameter!$D$10^2*(Fractuation!AH61-Fractuation!BM61)","v":0},{"$f":"AI30+_xlfn.NORM.INV(randvba(), 0,1)*Vapor_Fluctuation_Magnitude!D30+((AI29+AJ30+AI31+AH30)/4-AI30)/6+((AJ29+AJ31+AH31+AH29)/4-AI30)/12+1/Parameter!$D$10^2*(Fractuation!AI61-Fractuation!BN61)","v":0},{"$f":"AJ30+_xlfn.NORM.INV(randvba(), 0,1)*Vapor_Fluctuation_Magnitude!E30+((AJ29+AK30+AJ31+AI30)/4-AJ30)/6+((AK29+AK31+AI31+AI29)/4-AJ30)/12+1/Parameter!$D$10^2*(Fractuation!AJ61-Fractuation!BO61)","v":0},{"$f":"AK30+_xlfn.NORM.INV(randvba(), 0,1)*Vapor_Fluctuation_Magnitude!F30+((AK29+AL30+AK31+AJ30)/4-AK30)/6+((AL29+AL31+AJ31+AJ29)/4-AK30)/12+1/Parameter!$D$10^2*(Fractuation!AK61-Fractuation!BP61)","v":0},{"$f":"AL30+_xlfn.NORM.INV(randvba(), 0,1)*Vapor_Fluctuation_Magnitude!G30+((AL29+AM30+AL31+AK30)/4-AL30)/6+((AM29+AM31+AK31+AK29)/4-AL30)/12+1/Parameter!$D$10^2*(Fractuation!AL61-Fractuation!BQ61)","v":0},{"$f":"AM30+_xlfn.NORM.INV(randvba(), 0,1)*Vapor_Fluctuation_Magnitude!H30+((AM29+AN30+AM31+AL30)/4-AM30)/6+((AN29+AN31+AL31+AL29)/4-AM30)/12+1/Parameter!$D$10^2*(Fractuation!AM61-Fractuation!BR61)","v":0},{"$f":"AN30+_xlfn.NORM.INV(randvba(), 0,1)*Vapor_Fluctuation_Magnitude!I30+((AN29+AO30+AN31+AM30)/4-AN30)/6+((AO29+AO31+AM31+AM29)/4-AN30)/12+1/Parameter!$D$10^2*(Fractuation!AN61-Fractuation!BS61)","v":0},{"$f":"AO30+_xlfn.NORM.INV(randvba(), 0,1)*Vapor_Fluctuation_Magnitude!J30+((AO29+AP30+AO31+AN30)/4-AO30)/6+((AP29+AP31+AN31+AN29)/4-AO30)/12+1/Parameter!$D$10^2*(Fractuation!AO61-Fractuation!BT61)","v":0},{"$f":"AP30+_xlfn.NORM.INV(randvba(), 0,1)*Vapor_Fluctuation_Magnitude!K30+((AP29+AQ30+AP31+AO30)/4-AP30)/6+((AQ29+AQ31+AO31+AO29)/4-AP30)/12+1/Parameter!$D$10^2*(Fractuation!AP61-Fractuation!BU61)","v":0},{"$f":"AQ30+_xlfn.NORM.INV(randvba(), 0,1)*Vapor_Fluctuation_Magnitude!L30+((AQ29+AR30+AQ31+AP30)/4-AQ30)/6+((AR29+AR31+AP31+AP29)/4-AQ30)/12+1/Parameter!$D$10^2*(Fractuation!AQ61-Fractuation!BV61)","v":0},{"$f":"AR30+_xlfn.NORM.INV(randvba(), 0,1)*Vapor_Fluctuation_Magnitude!M30+((AR29+AS30+AR31+AQ30)/4-AR30)/6+((AS29+AS31+AQ31+AQ29)/4-AR30)/12+1/Parameter!$D$10^2*(Fractuation!AR61-Fractuation!BW61)","v":0},{"$f":"AS30+_xlfn.NORM.INV(randvba(), 0,1)*Vapor_Fluctuation_Magnitude!N30+((AS29+AT30+AS31+AR30)/4-AS30)/6+((AT29+AT31+AR31+AR29)/4-AS30)/12+1/Parameter!$D$10^2*(Fractuation!AS61-Fractuation!BX61)","v":0},{"$f":"AT30+_xlfn.NORM.INV(randvba(), 0,1)*Vapor_Fluctuation_Magnitude!O30+((AT29+AU30+AT31+AS30)/4-AT30)/6+((AU29+AU31+AS31+AS29)/4-AT30)/12+1/Parameter!$D$10^2*(Fractuation!AT61-Fractuation!BY61)","v":0},{"$f":"AU30+_xlfn.NORM.INV(randvba(), 0,1)*Vapor_Fluctuation_Magnitude!P30+((AU29+AV30+AU31+AT30)/4-AU30)/6+((AV29+AV31+AT31+AT29)/4-AU30)/12+1/Parameter!$D$10^2*(Fractuation!AU61-Fractuation!BZ61)","v":0},{"$f":"AV30+_xlfn.NORM.INV(randvba(), 0,1)*Vapor_Fluctuation_Magnitude!Q30+((AV29+AW30+AV31+AU30)/4-AV30)/6+((AW29+AW31+AU31+AU29)/4-AV30)/12+1/Parameter!$D$10^2*(Fractuation!AV61-Fractuation!CA61)","v":0},{"$f":"AW30+_xlfn.NORM.INV(randvba(), 0,1)*Vapor_Fluctuation_Magnitude!R30+((AW29+AX30+AW31+AV30)/4-AW30)/6+((AX29+AX31+AV31+AV29)/4-AW30)/12+1/Parameter!$D$10^2*(Fractuation!AW61-Fractuation!CB61)","v":0},{"$f":"AX30+_xlfn.NORM.INV(randvba(), 0,1)*Vapor_Fluctuation_Magnitude!S30+((AX29+AY30+AX31+AW30)/4-AX30)/6+((AY29+AY31+AW31+AW29)/4-AX30)/12+1/Parameter!$D$10^2*(Fractuation!AX61-Fractuation!CC61)","v":0},{"$f":"AY30+_xlfn.NORM.INV(randvba(), 0,1)*Vapor_Fluctuation_Magnitude!T30+((AY29+AZ30+AY31+AX30)/4-AY30)/6+((AZ29+AZ31+AX31+AX29)/4-AY30)/12+1/Parameter!$D$10^2*(Fractuation!AY61-Fractuation!CD61)","v":0},{"$f":"AZ30+_xlfn.NORM.INV(randvba(), 0,1)*Vapor_Fluctuation_Magnitude!U30+((AZ29+BA30+AZ31+AY30)/4-AZ30)/6+((BA29+BA31+AY31+AY29)/4-AZ30)/12+1/Parameter!$D$10^2*(Fractuation!AZ61-Fractuation!CE61)","v":0},{"$f":"BA30+_xlfn.NORM.INV(randvba(), 0,1)*Vapor_Fluctuation_Magnitude!V30+((BA29+BB30+BA31+AZ30)/4-BA30)/6+((BB29+BB31+AZ31+AZ29)/4-BA30)/12+1/Parameter!$D$10^2*(Fractuation!BA61-Fractuation!CF61)","v":0},{"$f":"BB30+_xlfn.NORM.INV(randvba(), 0,1)*Vapor_Fluctuation_Magnitude!W30+((BB29+BC30+BB31+BA30)/4-BB30)/6+((BC29+BC31+BA31+BA29)/4-BB30)/12+1/Parameter!$D$10^2*(Fractuation!BB61-Fractuation!CG61)","v":0},{"$f":"BC30+_xlfn.NORM.INV(randvba(), 0,1)*Vapor_Fluctuation_Magnitude!X30+((BC29+BD30+BC31+BB30)/4-BC30)/6+((BD29+BD31+BB31+BB29)/4-BC30)/12+1/Parameter!$D$10^2*(Fractuation!BC61-Fractuation!CH61)","v":0},{"$f":"BD30+_xlfn.NORM.INV(randvba(), 0,1)*Vapor_Fluctuation_Magnitude!Y30+((BD29+BE30+BD31+BC30)/4-BD30)/6+((BE29+BE31+BC31+BC29)/4-BD30)/12+1/Parameter!$D$10^2*(Fractuation!BD61-Fractuation!CI61)","v":0},{"$f":"BE30+_xlfn.NORM.INV(randvba(), 0,1)*Vapor_Fluctuation_Magnitude!Z30+((BE29+BF30+BE31+BD30)/4-BE30)/6+((BF29+BF31+BD31+BD29)/4-BE30)/12+1/Parameter!$D$10^2*(Fractuation!BE61-Fractuation!CJ61)","v":0},{"$f":"BF30+_xlfn.NORM.INV(randvba(), 0,1)*Vapor_Fluctuation_Magnitude!AA30+((BF29+BG30+BF31+BE30)/4-BF30)/6+((BG29+BG31+BE31+BE29)/4-BF30)/12+1/Parameter!$D$10^2*(Fractuation!BF61-Fractuation!CK61)","v":0},{"$f":"BG30+_xlfn.NORM.INV(randvba(), 0,1)*Vapor_Fluctuation_Magnitude!AB30+((BG29+BH30+BG31+BF30)/4-BG30)/6+((BH29+BH31+BF31+BF29)/4-BG30)/12+1/Parameter!$D$10^2*(Fractuation!BG61-Fractuation!CL61)","v":0},{"$f":"BH30+_xlfn.NORM.INV(randvba(), 0,1)*Vapor_Fluctuation_Magnitude!AC30+((BH29+BI30+BH31+BG30)/4-BH30)/6+((BI29+BI31+BG31+BG29)/4-BH30)/12+1/Parameter!$D$10^2*(Fractuation!BH61-Fractuation!CM61)","v":0},{"$f":"BI30+_xlfn.NORM.INV(randvba(), 0,1)*Vapor_Fluctuation_Magnitude!AD30+((BI29+BI31+BH30)/3-BI30)/6+((BH31+BH29)/2-BI30)/12+1/Parameter!$D$10^2*(Fractuation!BI61-Fractuation!CN61)","v":0},null,0,0,0,0,0,0,0,0,0,0,0,0,0,0,0,0,0,0,0,0,0,0,0,0,0,0,0,0,0,0,null,0,0,0,0,0,0,0,0,0,0,0,0,0,0,0,0,0,0,0,0,0,0,0,0,0,0,0,0,0,0,null,0,0,0,0,0,0,0,0,0,0,0,0,0,0,0,0,0,0,0,0,0,0,0,0,0,0,0,0,0,0]
[{"$f":"AF31+_xlfn.NORM.INV(randvba(), 0,1)*Vapor_Fluctuation_Magnitude!A31+((AF30+AG31)/2-AF31)/6+((AG30)/1-AF31)/12+1/Parameter!$D$10^2*(Fractuation!AF62-Fractuation!BK62)","v":0},{"$f":"AG31+_xlfn.NORM.INV(randvba(), 0,1)*Vapor_Fluctuation_Magnitude!B31+((AG30+AH31+AF31)/4-AG31)/6+((AH30+AF30)/4-AG31)/12+1/Parameter!$D$10^2*(Fractuation!AG62-Fractuation!BL62)","v":0},{"$f":"AH31+_xlfn.NORM.INV(randvba(), 0,1)*Vapor_Fluctuation_Magnitude!C31+((AH30+AI31+AG31)/4-AH31)/6+((AI30+AG30)/4-AH31)/12+1/Parameter!$D$10^2*(Fractuation!AH62-Fractuation!BM62)","v":0},{"$f":"AI31+_xlfn.NORM.INV(randvba(), 0,1)*Vapor_Fluctuation_Magnitude!D31+((AI30+AJ31+AH31)/4-AI31)/6+((AJ30+AH30)/4-AI31)/12+1/Parameter!$D$10^2*(Fractuation!AI62-Fractuation!BN62)","v":0},{"$f":"AJ31+_xlfn.NORM.INV(randvba(), 0,1)*Vapor_Fluctuation_Magnitude!E31+((AJ30+AK31+AI31)/4-AJ31)/6+((AK30+AI30)/4-AJ31)/12+1/Parameter!$D$10^2*(Fractuation!AJ62-Fractuation!BO62)","v":0},{"$f":"AK31+_xlfn.NORM.INV(randvba(), 0,1)*Vapor_Fluctuation_Magnitude!F31+((AK30+AL31+AJ31)/4-AK31)/6+((AL30+AJ30)/4-AK31)/12+1/Parameter!$D$10^2*(Fractuation!AK62-Fractuation!BP62)","v":0},{"$f":"AL31+_xlfn.NORM.INV(randvba(), 0,1)*Vapor_Fluctuation_Magnitude!G31+((AL30+AM31+AK31)/4-AL31)/6+((AM30+AK30)/4-AL31)/12+1/Parameter!$D$10^2*(Fractuation!AL62-Fractuation!BQ62)","v":0},{"$f":"AM31+_xlfn.NORM.INV(randvba(), 0,1)*Vapor_Fluctuation_Magnitude!H31+((AM30+AN31+AL31)/4-AM31)/6+((AN30+AL30)/4-AM31)/12+1/Parameter!$D$10^2*(Fractuation!AM62-Fractuation!BR62)","v":0},{"$f":"AN31+_xlfn.NORM.INV(randvba(), 0,1)*Vapor_Fluctuation_Magnitude!I31+((AN30+AO31+AM31)/4-AN31)/6+((AO30+AM30)/4-AN31)/12+1/Parameter!$D$10^2*(Fractuation!AN62-Fractuation!BS62)","v":0},{"$f":"AO31+_xlfn.NORM.INV(randvba(), 0,1)*Vapor_Fluctuation_Magnitude!J31+((AO30+AP31+AN31)/4-AO31)/6+((AP30+AN30)/4-AO31)/12+1/Parameter!$D$10^2*(Fractuation!AO62-Fractuation!BT62)","v":0},{"$f":"AP31+_xlfn.NORM.INV(randvba(), 0,1)*Vapor_Fluctuation_Magnitude!K31+((AP30+AQ31+AO31)/4-AP31)/6+((AQ30+AO30)/4-AP31)/12+1/Parameter!$D$10^2*(Fractuation!AP62-Fractuation!BU62)","v":0},{"$f":"AQ31+_xlfn.NORM.INV(randvba(), 0,1)*Vapor_Fluctuation_Magnitude!L31+((AQ30+AR31+AP31)/4-AQ31)/6+((AR30+AP30)/4-AQ31)/12+1/Parameter!$D$10^2*(Fractuation!AQ62-Fractuation!BV62)","v":0},{"$f":"AR31+_xlfn.NORM.INV(randvba(), 0,1)*Vapor_Fluctuation_Magnitude!M31+((AR30+AS31+AQ31)/4-AR31)/6+((AS30+AQ30)/4-AR31)/12+1/Parameter!$D$10^2*(Fractuation!AR62-Fractuation!BW62)","v":0},{"$f":"AS31+_xlfn.NORM.INV(randvba(), 0,1)*Vapor_Fluctuation_Magnitude!N31+((AS30+AT31+AR31)/4-AS31)/6+((AT30+AR30)/4-AS31)/12+1/Parameter!$D$10^2*(Fractuation!AS62-Fractuation!BX62)","v":0},{"$f":"AT31+_xlfn.NORM.INV(randvba(), 0,1)*Vapor_Fluctuation_Magnitude!O31+((AT30+AU31+AS31)/4-AT31)/6+((AU30+AS30)/4-AT31)/12+1/Parameter!$D$10^2*(Fractuation!AT62-Fractuation!BY62)","v":0},{"$f":"AU31+_xlfn.NORM.INV(randvba(), 0,1)*Vapor_Fluctuation_Magnitude!P31+((AU30+AV31+AT31)/4-AU31)/6+((AV30+AT30)/4-AU31)/12+1/Parameter!$D$10^2*(Fractuation!AU62-Fractuation!BZ62)","v":0},{"$f":"AV31+_xlfn.NORM.INV(randvba(), 0,1)*Vapor_Fluctuation_Magnitude!Q31+((AV30+AW31+AU31)/4-AV31)/6+((AW30+AU30)/4-AV31)/12+1/Parameter!$D$10^2*(Fractuation!AV62-Fractuation!CA62)","v":0},{"$f":"AW31+_xlfn.NORM.INV(randvba(), 0,1)*Vapor_Fluctuation_Magnitude!R31+((AW30+AX31+AV31)/4-AW31)/6+((AX30+AV30)/4-AW31)/12+1/Parameter!$D$10^2*(Fractuation!AW62-Fractuation!CB62)","v":0},{"$f":"AX31+_xlfn.NORM.INV(randvba(), 0,1)*Vapor_Fluctuation_Magnitude!S31+((AX30+AY31+AW31)/4-AX31)/6+((AY30+AW30)/4-AX31)/12+1/Parameter!$D$10^2*(Fractuation!AX62-Fractuation!CC62)","v":0},{"$f":"AY31+_xlfn.NORM.INV(randvba(), 0,1)*Vapor_Fluctuation_Magnitude!T31+((AY30+AZ31+AX31)/4-AY31)/6+((AZ30+AX30)/4-AY31)/12+1/Parameter!$D$10^2*(Fractuation!AY62-Fractuation!CD62)","v":0},{"$f":"AZ31+_xlfn.NORM.INV(randvba(), 0,1)*Vapor_Fluctuation_Magnitude!U31+((AZ30+BA31+AY31)/4-AZ31)/6+((BA30+AY30)/4-AZ31)/12+1/Parameter!$D$10^2*(Fractuation!AZ62-Fractuation!CE62)","v":0},{"$f":"BA31+_xlfn.NORM.INV(randvba(), 0,1)*Vapor_Fluctuation_Magnitude!V31+((BA30+BB31+AZ31)/4-BA31)/6+((BB30+AZ30)/4-BA31)/12+1/Parameter!$D$10^2*(Fractuation!BA62-Fractuation!CF62)","v":0},{"$f":"BB31+_xlfn.NORM.INV(randvba(), 0,1)*Vapor_Fluctuation_Magnitude!W31+((BB30+BC31+BA31)/4-BB31)/6+((BC30+BA30)/4-BB31)/12+1/Parameter!$D$10^2*(Fractuation!BB62-Fractuation!CG62)","v":0},{"$f":"BC31+_xlfn.NORM.INV(randvba(), 0,1)*Vapor_Fluctuation_Magnitude!X31+((BC30+BD31+BB31)/4-BC31)/6+((BD30+BB30)/4-BC31)/12+1/Parameter!$D$10^2*(Fractuation!BC62-Fractuation!CH62)","v":0},{"$f":"BD31+_xlfn.NORM.INV(randvba(), 0,1)*Vapor_Fluctuation_Magnitude!Y31+((BD30+BE31+BC31)/4-BD31)/6+((BE30+BC30)/4-BD31)/12+1/Parameter!$D$10^2*(Fractuation!BD62-Fractuation!CI62)","v":0},{"$f":"BE31+_xlfn.NORM.INV(randvba(), 0,1)*Vapor_Fluctuation_Magnitude!Z31+((BE30+BF31+BD31)/4-BE31)/6+((BF30+BD30)/4-BE31)/12+1/Parameter!$D$10^2*(Fractuation!BE62-Fractuation!CJ62)","v":0},{"$f":"BF31+_xlfn.NORM.INV(randvba(), 0,1)*Vapor_Fluctuation_Magnitude!AA31+((BF30+BG31+BE31)/4-BF31)/6+((BG30+BE30)/4-BF31)/12+1/Parameter!$D$10^2*(Fractuation!BF62-Fractuation!CK62)","v":0},{"$f":"BG31+_xlfn.NORM.INV(randvba(), 0,1)*Vapor_Fluctuation_Magnitude!AB31+((BG30+BH31+BF31)/4-BG31)/6+((BH30+BF30)/4-BG31)/12+1/Parameter!$D$10^2*(Fractuation!BG62-Fractuation!CL62)","v":0},{"$f":"BH31+_xlfn.NORM.INV(randvba(), 0,1)*Vapor_Fluctuation_Magnitude!AC31+((BH30+BI31+BG31)/4-BH31)/6+((BI30+BG30)/4-BH31)/12+1/Parameter!$D$10^2*(Fractuation!BH62-Fractuation!CM62)","v":0},{"$f":"BI31+_xlfn.NORM.INV(randvba(), 0,1)*Vapor_Fluctuation_Magnitude!AD31+((BI30+BH31)/2-BI31)/6+((BH30)/1-BI31)/12+1/Parameter!$D$10^2*(Fractuation!AF62-Fractuation!BK62)","v":0},null,0,0,0,0,0,0,0,0,0,0,0,0,0,0,0,0,0,0,0,0,0,0,0,0,0,0,0,0,0,0,null,0,0,0,0,0,0,0,0,0,0,0,0,0,0,0,0,0,0,0,0,0,0,0,0,0,0,0,0,0,0,null,0,0,0,0,0,0,0,0,0,0,0,0,0,0,0,0,0,0,0,0,0,0,0,0,0,0,0,0,0,0]
[null,null,null,null,null,null,null,null,null,null,null,null,null,null,null,null,null,null,null,null,null,null,null,null,null,null,null,null,null,null,null,"Step-1 - Step-2",null,null,null,null,null,null,null,null,null,null,null,null,null,null,null,null,null,null,null,null,null,null,null,null,null,null,null,null,null,null,"Step-2 - Step-3"]
[null,null,null,null,null,null,null,null,null,null,null,null,null,null,null,null,null,null,null,null,null,null,null,null,null,null,null,null,null,null,null,{"$f":"BK2-AF2","v":0},{"$f":"BL2-AG2","v":0},0,0,0,0,0,0,0,0,0,0,0,0,0,0,0,0,0,0,0,0,0,0,0,0,0,0,0,0,null,{"$f":"BK2-CP2","v":0},{"$f":"BL2-CQ2","v":0},0,0,0,0,0,0,0,0,0,0,0,0,0,0,0,0,0,0,0,0,0,0,0,0,0,0,0,0]
[null,null,null,null,null,null,null,null,null,null,null,null,null,null,null,null,null,null,null,null,null,null,null,null,null,null,null,null,null,null,null,{"$f":"BK3-AF3","v":0},0,0,0,0,0,0,0,0,0,0,0,0,0,0,0,0,0,0,0,0,0,0,0,0,0,0,0,0,0,null,{"$f":"BK3-CP3","v":0},0,0,0,0,0,0,0,0,0,0,0,0,0,0,0,0,0,0,0,0,0,0,0,0,0,0,0,0,0]
[null,null,null,null,null,null,null,null,null,null,null,null,null,null,null,null,null,null,null,null,null,null,null,null,null,null,null,null,null,null,null,0,0,0,0,0,0,0,0,0,0,0,0,0,0,0,0,0,0,0,0,0,0,0,0,0,0,0,0,0,0,null,0,0,0,0,0,0,0,0,0,0,0,0,0,0,0,0,0,0,0,0,0,0,0,0,0,0,0,0,0,0]
[null,null,null,null,null,null,null,null,null,null,null,null,null,null,null,null,null,null,null,null,null,null,null,null,null,null,null,null,null,null,null,0,0,0,0,0,0,0,0,0,0,0,0,0,0,0,0,0,0,0,0,0,0,0,0,0,0,0,0,0,0,null,0,0,0,0,0,0,0,0,0,0,0,0,0,0,0,0,0,0,0,0,0,0,0,0,0,0,0,0,0,0]
[null,null,null,null,null,null,null,null,null,null,null,null,null,null,null,null,null,null,null,null,null,null,null,null,null,null,null,null,null,null,null,0,0,0,0,0,0,0,0,0,0,0,0,0,0,0,0,0,0,0,0,0,0,0,0,0,0,0,0,0,0,null,0,0,0,0,0,0,0,0,0,0,0,0,0,0,0,0,0,0,0,0,0,0,0,0,0,0,0,0,0,0]
[null,null,null,null,null,null,null,null,null,null,null,null,null,null,null,null,null,null,null,null,null,null,null,null,null,null,null,null,null,null,null,0,0,0,0,0,0,0,0,0,0,0,0,0,0,0,0,0,0,0,0,0,0,0,0,0,0,0,0,0,0,null,0,0,0,0,0,0,0,0,0,0,0,0,0,0,0,0,0,0,0,0,0,0,0,0,0,0,0,0,0,0]
[null,null,null,null,null,null,null,null,null,null,null,null,null,null,null,null,null,null,null,null,null,null,null,null,null,null,null,null,null,null,null,0,0,0,0,0,0,0,0,0,0,0,0,0,0,0,0,0,0,0,0,0,0,0,0,0,0,0,0,0,0,null,0,0,0,0,0,0,0,0,0,0,0,0,0,0,0,0,0,0,0,0,0,0,0,0,0,0,0,0,0,0]
[null,null,null,null,null,null,null,null,null,null,null,null,null,null,null,null,null,null,null,null,null,null,null,null,null,null,null,null,null,null,null,0,0,0,0,0,0,0,0,0,0,0,0,0,0,0,0,0,0,0,0,0,0,0,0,0,0,0,0,0,0,null,0,0,0,0,0,0,0,0,0,0,0,0,0,0,0,0,0,0,0,0,0,0,0,0,0,0,0,0,0,0]
[null,null,null,null,null,null,null,null,null,null,null,null,null,null,null,null,null,null,null,null,null,null,null,null,null,null,null,null,null,null,null,0,0,0,0,0,0,0,0,0,0,0,0,0,0,0,0,0,0,0,0,0,0,0,0,{"$f":"CI10-BD10","v":0},{"$f":"CJ10-BE10","v":0},{"$f":"CK10-BF10","v":0},{"$f":"CL10-BG10","v":0},{"$f":"CM10-BH10","v":0},{"$f":"CN10-BI10","v":0},null,0,0,0,0,0,0,0,0,0,0,0,0,0,0,0,0,0,0,0,0,0,0,0,0,{"$f":"CI10-DN10","v":0},{"$f":"CJ10-DO10","v":0},{"$f":"CK10-DP10","v":0},{"$f":"CL10-DQ10","v":0},{"$f":"CM10-DR10","v":0},{"$f":"CN10-DS10","v":0}]
[null,null,null,null,null,null,null,null,null,null,null,null,null,null,null,null,null,null,null,null,null,null,null,null,null,null,null,null,null,null,null,0,{"$f":"BL11-AG11","v":0},{"$f":"BM11-AH11","v":0},{"$f":"BN11-AI11","v":0},{"$f":"BO11-AJ11","v":0},{"$f":"BP11-AK11","v":0},{"$f":"BQ11-AL11","v":0},{"$f":"BR11-AM11","v":0},{"$f":"BS11-AN11","v":0},{"$f":"BT11-AO11","v":0},{"$f":"BU11-AP11","v":0},{"$f":"BV11-AQ11","v":0},{"$f":"BW11-AR11","v":0},{"$f":"BX11-AS11","v":0},{"$f":"BY11-AT11","v":0},{"$f":"BZ11-AU11","v":0},{"$f":"CA11-AV11","v":0},{"$f":"CB11-AW11","v":0},{"$f":"CC11-AX11","v":0},{"$f":"CD11-AY11","v":0},{"$f":"CE11-AZ11","v":0},{"$f":"CF11-BA11","v":0},{"$f":"CG11-BB11","v":0},{"$f":"CH11-BC11","v":0},0,0,0,0,0,0,null,0,{"$f":"BL11-CQ11","v":0},{"$f":"BM11-CR11","v":0},{"$f":"BN11-CS11","v":0},{"$f":"BO11-CT11","v":0},{"$f":"BP11-CU11","v":0},{"$f":"BQ11-CV11","v":0},{"$f":"BR11-CW11","v":0},{"$f":"BS11-CX11","v":0},{"$f":"BT11-CY11","v":0},{"$f":"BU11-CZ11","v":0},{"$f":"BV11-DA11","v":0},{"$f":"BW11-DB11","v":0},{"$f":"BX11-DC11","v":0},{"$f":"BY11-DD11","v":0},{"$f":"BZ11-DE11","v":0},{"$f":"CA11-DF11","v":0},{"$f":"CB11-DG11","v":0},{"$f":"CC11-DH11","v":0},{"$f":"CD11-DI11","v":0},{"$f":"CE11-DJ11","v":0},{"$f":"CF11-DK11","v":0},{"$f":"CG11-DL11","v":0},{"$f":"CH11-DM11","v":0},0,0,0,0,0,0]
[null,null,null,null,null,null,null,null,null,null,null,null,null,null,null,null,null,null,null,null,null,null,null,null,null,null,null,null,null,null,null,0,0,0,0,0,0,0,0,0,0,0,0,0,0,0,0,0,0,0,0,0,0,0,0,0,0,0,0,0,0,null,0,0,0,0,0,0,0,0,0,0,0,0,0,0,0,0,0,0,0,0,0,0,0,0,0,0,0,0,0,0]
[null,null,null,null,null,null,null,null,null,null,null,null,null,null,null,null,null,null,null,null,null,null,null,null,null,null,null,null,null,null,null,0,0,0,0,0,0,0,0,0,0,0,0,0,0,0,0,0,0,0,0,0,0,0,0,0,0,0,0,0,0,null,0,0,0,0,0,0,0,0,0,0,0,0,0,0,0,0,0,0,0,0,0,0,0,0,0,0,0,0,0,0]
[null,null,null,null,null,null,null,null,null,null,null,null,null,null,null,null,null,null,null,null,null,null,null,null,null,null,null,null,null,null,null,0,0,0,0,0,0,0,0,0,0,0,0,0,0,0,0,0,0,0,0,0,0,0,0,0,0,0,0,0,0,null,0,0,0,0,0,0,0,0,0,0,0,0,0,0,0,0,0,0,0,0,0,0,0,0,0,0,0,0,0,0]
[null,null,null,null,null,null,null,null,null,null,null,null,null,null,null,null,null,null,null,null,null,null,null,null,null,null,null,null,null,null,null,0,0,0,0,0,0,0,0,0,0,0,0,0,0,0,0,0,0,0,0,0,0,0,0,0,0,0,0,0,0,null,0,0,0,0,0,0,0,0,0,0,0,0,0,0,0,0,0,0,0,0,0,0,0,0,0,0,0,0,0,0]
[null,null,null,null,null,null,null,null,null,null,null,null,null,null,null,null,null,null,null,null,null,null,null,null,null,null,null,null,null,null,null,0,0,0,0,0,0,0,0,0,0,0,0,0,0,0,0,0,0,0,0,0,0,0,0,0,0,0,0,0,0,null,0,0,0,0,0,0,0,0,0,0,0,0,0,0,0,0,0,0,0,0,0,0,0,0,0,0,0,0,0,0]
[null,null,null,null,null,null,null,null,null,null,null,null,null,null,null,null,null,null,null,null,null,null,null,null,null,null,null,null,null,null,null,0,0,0,0,0,0,0,0,0,0,0,0,0,0,0,0,0,0,0,0,0,0,0,0,0,0,0,0,0,0,null,0,0,0,0,0,0,0,0,0,0,0,0,0,0,0,0,0,0,0,0,0,0,0,0,0,0,0,0,0,0]
[null,null,null,null,null,null,null,null,null,null,null,null,null,null,null,null,null,null,null,null,null,null,null,null,null,null,null,null,null,null,null,0,0,0,0,0,0,0,0,0,0,0,0,0,0,0,0,0,0,0,0,0,0,0,0,0,0,0,0,0,0,null,0,0,0,0,0,0,0,0,0,0,0,0,0,0,0,0,0,0,0,0,0,0,0,0,0,0,0,0,0,0]
[null,null,null,null,null,null,null,null,null,null,null,null,null,null,null,null,null,null,null,null,null,null,null,null,null,null,null,null,null,null,null,0,0,0,0,0,0,0,0,0,0,0,0,0,0,0,0,0,0,0,0,0,0,0,0,0,0,0,0,0,0,null,0,0,0,0,0,0,0,0,0,0,0,0,0,0,0,0,0,0,0,0,0,0,0,0,0,0,0,0,0,0]
[null,null,null,null,null,null,null,null,null,null,null,null,null,null,null,null,null,null,null,null,null,null,null,null,null,null,null,null,null,null,null,0,0,0,0,0,0,0,0,0,0,0,0,0,0,0,0,0,0,0,0,0,0,0,0,0,0,0,0,0,0,null,0,0,0,0,0,0,0,0,0,0,0,0,0,0,0,0,0,0,0,0,0,0,0,0,0,0,0,0,0,0]
[null,null,null,null,null,null,null,null,null,null,null,null,null,null,null,null,null,null,null,null,null,null,null,null,null,null,null,null,null,null,null,0,0,0,0,0,0,0,0,0,0,0,0,0,0,0,0,0,0,0,0,0,0,0,0,0,0,0,0,0,0,null,0,0,0,0,0,0,0,0,0,0,0,0,0,0,0,0,0,0,0,0,0,0,0,0,0,0,0,0,0,0]
[null,null,null,null,null,null,null,null,null,null,null,null,null,null,null,null,null,null,null,null,null,null,null,null,null,null,null,null,null,null,null,0,0,0,0,0,0,0,0,0,0,0,0,0,0,0,0,0,0,0,0,0,0,0,0,0,0,0,0,0,0,null,0,0,0,0,0,0,0,0,0,0,0,0,0,0,0,0,0,0,0,0,0,0,0,0,0,0,0,0,0,0]
[null,null,null,null,null,null,null,null,null,null,null,null,null,null,null,null,null,null,null,null,null,null,null,null,null,null,null,null,null,null,null,0,0,0,0,0,0,0,0,0,0,0,0,0,0,0,0,0,0,0,0,0,0,0,0,0,0,0,0,0,0,null,0,0,0,0,0,0,0,0,0,0,0,0,0,0,0,0,0,0,0,0,0,0,0,0,0,0,0,0,0,0]
[null,null,null,null,null,null,null,null,null,null,null,null,null,null,null,null,null,null,null,null,null,null,null,null,null,null,null,null,null,null,null,0,0,0,0,0,0,0,0,0,0,0,0,0,0,0,0,0,0,0,0,0,0,0,0,0,0,0,0,0,0,null,0,0,0,0,0,0,0,0,0,0,0,0,0,0,0,0,0,0,0,0,0,0,0,0,0,0,0,0,0,0]
[null,null,null,null,null,null,null,null,null,null,null,null,null,null,null,null,null,null,null,null,null,null,null,null,null,null,null,null,null,null,null,0,0,0,0,0,0,0,0,0,0,0,0,0,0,0,0,0,0,0,0,0,0,0,0,0,0,0,0,0,0,null,0,0,0,0,0,0,0,0,0,0,0,0,0,0,0,0,0,0,0,0,0,0,0,0,0,0,0,0,0,0]
[null,null,null,null,null,null,null,null,null,null,null,null,null,null,null,null,null,null,null,null,null,null,null,null,null,null,null,null,null,null,null,0,0,0,0,0,0,0,0,0,0,0,0,0,0,0,0,0,0,0,0,0,0,0,0,0,0,0,0,0,0,null,0,0,0,0,0,0,0,0,0,0,0,0,0,0,0,0,0,0,0,0,0,0,0,0,0,0,0,0,0,0]
[null,null,null,null,null,null,null,null,null,null,null,null,null,null,null,null,null,null,null,null,null,null,null,null,null,null,null,null,null,null,null,0,0,0,0,0,0,0,0,0,0,0,0,0,0,0,0,0,0,0,0,0,0,0,0,0,0,0,0,0,0,null,0,0,0,0,0,0,0,0,0,0,0,0,0,0,0,0,0,0,0,0,0,0,0,0,0,0,0,0,0,0]
[null,null,null,null,null,null,null,null,null,null,null,null,null,null,null,null,null,null,null,null,null,null,null,null,null,null,null,null,null,null,null,0,0,0,0,0,0,0,0,0,0,0,0,0,0,0,0,0,0,0,0,0,0,0,0,0,0,0,0,0,0,null,0,0,0,0,0,0,0,0,0,0,0,0,0,0,0,0,0,0,0,0,0,0,0,0,0,0,0,0,0,0]
[null,null,null,null,null,null,null,null,null,null,null,null,null,null,null,null,null,null,null,null,null,null,null,null,null,null,null,null,null,null,null,0,0,0,0,0,0,0,0,0,0,0,0,0,0,0,0,0,0,0,0,0,0,0,0,0,0,0,0,0,0,null,0,0,0,0,0,0,0,0,0,0,0,0,0,0,0,0,0,0,0,0,0,0,0,0,0,0,0,0,0,0]
[null,null,null,null,null,null,null,null,null,null,null,null,null,null,null,null,null,null,null,null,null,null,null,null,null,null,null,null,null,null,null,0,0,0,0,0,0,0,0,0,0,0,0,0,0,0,0,0,0,0,0,0,0,0,0,0,0,0,0,0,0,null,0,0,0,0,0,0,0,0,0,0,0,0,0,0,0,0,0,0,0,0,0,0,0,0,0,0,0,0,0,0]
[null,null,null,null,null,null,null,null,null,null,null,null,null,null,null,null,null,null,null,null,null,null,null,null,null,null,null,null,null,null,null,0,{"$f":"BL31-AG31","v":0},0,0,0,0,0,0,0,0,0,0,0,0,0,0,0,0,0,0,0,0,0,0,0,0,0,0,0,0,null,0,0,0,0,0,0,0,0,0,0,0,0,0,0,0,0,0,0,0,0,0,0,0,0,0,0,0,0,0,0]